{"text_format":"1","workbook":"xlsx","n_sheets":14,"sheets":["Menu","RELATÓRIO","A) Entidades Participantes","B) Empresas Aderentes","C) Parcerias com Prefeituras","D) Pontos de ColetaEntregaReceb","E) Coleta Itinerante","F) Centrais de Triagem","G) Certificados de Reciclagem","H) Operadores Logísticos ","I) Destinação","J) Municípios atendidos","VALIDAÇÃO","Listas suspensas"],"not_rendered":{"charts":0,"images":7,"macros":1,"external_links":0,"defined_names":22,"comments":11,"pivot_tables":0},"unopened":[],"bounds":{"document_bytes":16777216,"sheet_cells":100000,"rows_first":2000,"rows_last":500,"rows_between":2000,"halvings":0,"cell_chars":16384,"cell_head_chars":4096},"cells_cut":0,"cells_raw":0,"read":"whole","date_system":"1900"}

{"sheet":"Menu","index":0,"n_rows":0,"n_cols":0,"rows_kept":0,"cut":false,"hidden":false,"merged":[]}

{"sheet":"RELATÓRIO","index":1,"n_rows":93,"n_cols":11,"rows_kept":93,"cut":false,"hidden":false,"merged":[[86,1,86,7],[73,1,73,7],[75,1,75,2],[76,1,76,2],[78,1,78,3],[79,1,79,3],[77,1,77,7],[85,1,85,3],[74,1,74,2],[80,1,80,2],[81,1,81,2],[82,1,82,2],[83,1,83,7],[84,1,84,3],[65,1,65,6],[66,1,66,6],[67,1,67,6],[68,1,68,6],[70,1,70,6],[69,1,69,6],[64,1,64,6],[23,2,23,3],[24,2,24,3],[23,4,23,6],[24,4,24,6],[40,1,40,7],[36,1,36,3],[37,1,37,4],[38,1,38,4],[38,5,38,7],[35,4,35,7],[30,1,30,3],[31,3,31,4],[32,3,32,4],[62,2,62,7],[52,1,52,3],[54,2,54,7],[59,1,59,5],[60,1,60,7],[57,1,57,4],[58,1,58,7],[45,3,45,4],[47,1,47,7],[50,1,50,7],[42,1,42,7],[53,6,53,7],[53,2,53,5],[20,1,20,3],[16,1,16,3],[21,2,21,3],[21,4,21,6],[61,1,61,2],[55,1,55,4],[56,1,56,7],[27,4,27,6],[29,1,29,7],[51,1,51,7],[49,5,49,7],[48,1,48,4],[49,1,49,4],[43,3,43,4],[44,3,44,4],[46,3,46,4],[41,5,41,7],[22,2,22,3],[22,4,22,6],[26,4,26,6],[15,1,15,3],[16,4,16,6],[17,1,17,3],[17,4,17,6],[19,1,19,7],[33,3,33,4],[34,3,34,4],[35,1,35,3],[27,1,27,3],[41,1,41,4],[25,3,25,7],[26,1,26,3],[89,2,89,7],[87,1,87,7],[6,1,6,2],[5,1,5,3],[1,1,2,7],[3,1,3,7],[15,4,15,6],[7,1,7,4],[7,6,7,7],[8,1,8,4],[8,6,8,7],[9,1,9,7],[11,1,11,3],[12,1,12,3],[13,1,13,3],[14,1,14,3]]}
[]
[null,"RELATÓRIO COMPROBATÓRIO\n DO PLANO DE LOGÍSTICA REVERSA (RCPLR)"]
[]
[]
[]
[null,"Relatório referente às empresas aderentes (Conforme item 1.7)"]
[null,"1- DADOS GERAIS - TIPO",null,"< SELECIONAR TIPO >"]
[null,"1.1) Nome do Sistema/Programa de Logística Reversa",null,null,null,"1.2) Resíduo Objeto do Sistema","1.3) Página na Internet"]
[null,null,null,null,null,"Selecione o resíduo pós-consumo"]
[null,"1.4) Entidade ou Empresa Responsável pela Operacionalização do Sistema"]
[null,"Razão Social","/ Código CNAE:",null,"CNPJ\n(Ex. XX.XXX.XXX/0001-XX)","Endereço \n(Logradouro, número, complemento e bairro)","CEP","Município (Sede)"]
[null,null,null,null,null,null,null,null,null,{"$f":"IF(lfValidaCNPJ(E12)=TRUE,\"CNPJ válido\",\"CNPJ inválido\")","v":"CNPJ inválido"},{"$f":"IF(lfValidaCEP(G12)=TRUE,\"CEP válido\",\"CEP inválido\")","v":"CEP inválido"}]
[null,"1.5) Responsável pela declaração das informaçõe sobre o sistema"]
[null,"Nome",null,null,"CPF\n(Ex. 000.000.000-00)","RG","Telefone","E-mail"]
[null,null,null,null,null,null,"(DDD)",null,null,{"$f":"IF(lfValidaCPF(E15)=TRUE,\"CPF válido\",\"CPF inválido\")","v":"CPF inválido"}]
[null,"1.6) Relação de Entidades Participantes do Sistema",null,null,"Anexo A: cadastrar os dados das entidades participantes do sistema de logística reversa"]
[null,"1.7) Relação de Empresas Aderentes e/ou Filiais",null,null,"Anexo B: cadastrar a relação de empresas que fazem parte dos resultados declarados"]
[null,"1.8) Parcerias com Prefeituras",null,null,"Anexo C: cadastrar as informações referentes a parcerias com Prefeituras"]
[]
[null,"2 - DADOS OPERACIONAIS DO SISTEMA DE LOGÍSTICA REVERSA"]
[null,"2.1) Esquema(s) de coleta / recebimento contemplados no Sistema"]
[null,null,"Pontos de Coleta/Entrega/Recebimento",null,"Anexo D: cadastrar os dados referentes aos pontos, caso selecionada esta opção"]
[null,null,"Esquema de Coleta Itinerante",null,"Anexo E: cadastrar os dados referentes à coleta itinerante, caso selecionada esta opção"]
[null,null,"Apoio às Centrais de Triagem de Materiais Recicláveis",null,"Anexo F: cadastrar os dados referentes às ações estruturantes, caso selecionada esta opção"]
[null,null,"Comprovação por meio dos Certificados de Reciclagem",null,"Anexo G: cadastrar os dados referentes à comprovação, caso selecionada esta opção"]
[null,null,"Outros - Descrever:"]
[null,"2.2) Operadores Logísticos",null,null,"Anexo H: cadastrar os dados dos operadores logísticos"]
[null,"2.3) Destinatários utilizadas pelo Sistema",null,null,"Anexo I: cadastrar os dados dos locais de destinação/disposição final"]
[]
[null,"3 - RESULTADOS E ATENDIMENTO ÀS METAS QUANTITATIVAS"]
[null,"3.1) Atendimento às metas quantitativas"]
[null,"Ano base","a. Quantidade de produto/ embalagem colocada no mercado (tonelada/ano)","b. Descrição da meta anual",null,"c. Valor numérico da meta descrita (tonelada/ano)","d. Quantidade coletada\n(tonelada/ano)","e. Percentual de atendimento à meta"]
[null,2021,null,null,null,null,null,{"$f":"IFERROR(G33/F33,\"Preenchimento automático\")","v":"Preenchimento automático"}]
[null,2022,null,null,null,null,null,"Preenchimento automático"]
[null,2023,null,null,null,null,null,{"$f":"IFERROR(G35/F35,\"Preenchimento automático\")","v":"Preenchimento automático"}]
[null,"Caso a quantidade de produto/embalagem colocada no mercado tenha sido estimada, informar a metodologia utilizada para obtenção do resultado:",null,null,"[Descrição da metodologia de cálculo, caso estimada]"]
[null,"3.2) Caso a meta (item 3.1.b) não tenha sido atingida:"]
[null,"a. Justificar",null,null,null,"b. Informar o passivo (toneladas):"]
[]
[]
[null,"4 - RESULTADOS E ATENDIMENTO ÀS METAS GEOGRÁFICAS"]
[null,"4.1) Número de municípios panaraenses atendidos pelo sistema de logística reversa",null,null,null,"Anexo J: cadastrar os municípios atendidos"]
[null,"4.2) Atendimento às metas geográficas"]
[null,"Ano base","a) Número de municípios que receberam produtos/ embalagens","b. Descrição da meta",null,"b. Valor numérico da meta descrita","c. Quantidade instalada","d. Percentual de atendimento à meta"]
[null,2021,null,null,null,null,null,{"$f":"IFERROR(G45/F45,\"Preenchimento automático\")","v":"Preenchimento automático"}]
[null,2022,null,null,null,null,null,{"$f":"IFERROR(G46/F46,\"Preenchimento automático\")","v":"Preenchimento automático"}]
[null,2023,null,null,null,null,null,{"$f":"IFERROR(G47/F47,\"Preenchimento automático\")","v":"Preenchimento automático"}]
[null,"4.3) Caso a meta (item 4.2) não tenha sido atingida, justificar:"]
[null,"a. Justificar",null,null,null,"b. Informar o passivo (toneladas):"]
[]
[]
[null,"5 - OUTROS RESULTADOS\nConforme o Apêndice II das Resoluções Conjuntas nº 20 e n° 22 de junho de 2021, deverão ser encaminhados arquivos de PDF com o seguinte conteúdo:\n\nPDF 1 - Análise dos resultados, Ações realizadas referentes ao Plano de Comunicação, Ações de Suporte e Apoio às Cooperativas/Associações;\nPDF 2 - Documentos comprobatórios das informações declaradas.\n\nNesse sentido, os campos abaixo são de preenchimento opcional, caso se considere relevante a apresentação de observações a respeito dos temas. "]
[null,"Forma de declaração (Apenas uma opção):"]
[null,null,"Declaro que vou encaminhar o PDF 1 via plataforma."]
[null,null,"Vou declarar o conteúdo que deve constar no PDF 1 de forma simplificada nos Itens 5.1, 5.2 e 5.3."]
[null,"5.1) Ações de suporte"]
[]
[null,"5.2) Apoio às Cooperativas/Associações"]
[]
[null,"5.3) Plano de Divulgação"]
[]
[null,"5.4) Documentação comprobatória"]
[null,null,"Declaro que vou encaminhar a documentação comprobatória referente ao PDF 2 via plataforma."]
[]
[null,"6 - INVESTIMENTOS REALIZADOS (Opcional)",null,null,null,null,null,"R$"]
[null,"6.1) Capacitação, apoio técnico e operacional às cooperativas e associações de catadores e catadoras;"]
[null,"6.2) Prestação de serviços às cooperativas e associações de catadoras e catadores;"]
[null,"6.3) Instalação e manutenção de Postos de Entrega Voluntária (PEVs);\t"]
[null,"6.4) Recursos para viabilizar a comercialização e/ou beneficiamento de recicláveis;"]
[null,"6.5) Plano de Comunicação"]
[null,"6.6) Outros investimentos - Descrever"]
[null,null,null,null,null,null,"TOTAL:",{"$f":"SUM(H66:H71)","v":0}]
[]
[null,"7 - VERIFICAÇÃO INDEPENDENTE / AUDITORIA DE TERCEIRA PARTE (Opcional)"]
[null,"7.1) Verificador de Resultados"]
[null,"Razão Social",null,"CNPJ\n(Ex. XX.XXX.XXX/0001-XX)","CEP","Endereço \n(Logradouro, número, complemento e bairro)","Município (Sede)","Estado"]
[]
[null,"Responsável técnico pela verificação"]
[null,"Nome",null,null,"CPF\n(Ex. 000.000.000-00)","RG","Telefone","E-mail"]
[null,null,null,null,null,null,"(DDD)"]
[null,"7.2) Auditoria de Terceira Parte"]
[null,"Razão Social",null,"CNPJ\n(Ex. XX.XXX.XXX/0001-XX)","CEP","Endereço \n(Logradouro, número, complemento e bairro)","Município (Sede)","Estado"]
[]
[null,"Responsável técnico pela auditoria"]
[null,"Nome",null,null,"CPF\n(Ex. 000.000.000-00)","RG","Telefone","E-mail"]
[null,null,null,null,null,null,"(DDD)"]
[]
[null,"DECLARAÇÃO DE VERACIDADE DAS INFORMAÇÕES"]
[]
[null,null,"Declaro que as informações apresentadas são verdadeiras."]
[]
[]
[null,"Versão: Fevereiro/2023"]

{"sheet":"A) Entidades Participantes","index":2,"n_rows":1500,"n_cols":14,"rows_kept":1500,"cut":false,"hidden":false,"merged":[[9,11,9,13],[4,2,4,7],[9,6,10,6],[9,7,9,9],[9,1,10,1],[9,2,10,2],[9,3,10,3],[9,4,10,4],[9,5,10,5],[2,1,3,9],[7,1,7,2],[7,3,7,6],[7,8,7,9],[8,1,8,4],[8,7,8,8],[6,1,6,2],[6,3,6,6],[6,8,6,9]]}
[]
[]
[null,"RELATÓRIO COMPROBATÓRIO\nDO PLANO DE LOGÍSTICA REVERSA (RCPLR)"]
[]
[null,null,{"$f":"RELATÓRIO!$D$7","v":"< SELECIONAR TIPO >"}]
[]
[null,"Entidade ou Empresa Responsável pelo Sistema:",null,{"$f":"RELATÓRIO!B12","v":0}]
[null,"CNPJ:",null,{"$f":"RELATÓRIO!E12","v":0}]
[null,"1.6) Relação de Entidades Participantes "]
[null,"Razão Social","CNPJ\n(Ex. XX.XXX.XXX/0001-XX)","Endereço \n(Ex. Logradouro, número, complemento e bairro)","CEP\n(Ex. XX.XXX-XXX)","Município","UF","Representante da empresa/entidade",null,null,null,"VERIFICAÇÃO"]
[null,null,null,null,null,null,null,"Nome do Interlocutor","Telefone ","E-mail",null,"Preenchimento","CNPJ","CEP"]
[null,null,null,null,null,null,null,null,null,null,null,{"$f":"IF(COUNTA(B12:J12)<>0,IF(AND(B12<>0,C12<>0,D12<>0,E12<>0,F12<>0,G12<>0,H12<>0,I12<>0,J12<>0),\"Completo\",\"Incompleto\"),\"\")","v":""},{"$f":"IF(C12<>0,(IF(lfValidaCNPJ(C12)=TRUE,\"Válido\",\"Inválido\")),\"\")","v":""},{"$f":"IF(E12<>0,(IF(lfValidaCEP(E12)=TRUE,\"Válido\",\"Inválido\")),\"\")","v":""}]
[null,null,null,null,null,null,null,null,null,null,null,{"$f":"IF(COUNTA(B13:J13)<>0,IF(AND(B13<>0,C13<>0,D13<>0,E13<>0,F13<>0,G13<>0,H13<>0,I13<>0,J13<>0),\"Completo\",\"Incompleto\"),\"\")","v":""},{"$f":"IF(C13<>0,(IF(lfValidaCNPJ(C13)=TRUE,\"Válido\",\"Inválido\")),\"\")","v":""},{"$f":"IF(E13<>0,(IF(lfValidaCEP(E13)=TRUE,\"Válido\",\"Inválido\")),\"\")","v":""}]
[null,null,null,null,null,null,null,null,null,null,null,{"$f":"IF(COUNTA(B14:J14)<>0,IF(AND(B14<>0,C14<>0,D14<>0,E14<>0,F14<>0,G14<>0,H14<>0,I14<>0,J14<>0),\"Completo\",\"Incompleto\"),\"\")","v":""},{"$f":"IF(C14<>0,(IF(lfValidaCNPJ(C14)=TRUE,\"Válido\",\"Inválido\")),\"\")","v":""},{"$f":"IF(E14<>0,(IF(lfValidaCEP(E14)=TRUE,\"Válido\",\"Inválido\")),\"\")","v":""}]
[null,null,null,null,null,null,null,null,null,null,null,"",{"$f":"IF(C15<>0,(IF(lfValidaCNPJ(C15)=TRUE,\"Válido\",\"Inválido\")),\"\")","v":""},{"$f":"IF(E15<>0,(IF(lfValidaCEP(E15)=TRUE,\"Válido\",\"Inválido\")),\"\")","v":""}]
[null,null,null,null,null,null,null,null,null,null,null,"",{"$f":"IF(C16<>0,(IF(lfValidaCNPJ(C16)=TRUE,\"Válido\",\"Inválido\")),\"\")","v":""},{"$f":"IF(E16<>0,(IF(lfValidaCEP(E16)=TRUE,\"Válido\",\"Inválido\")),\"\")","v":""}]
[null,null,null,null,null,null,null,null,null,null,null,"",{"$f":"IF(C17<>0,(IF(lfValidaCNPJ(C17)=TRUE,\"Válido\",\"Inválido\")),\"\")","v":""},{"$f":"IF(E17<>0,(IF(lfValidaCEP(E17)=TRUE,\"Válido\",\"Inválido\")),\"\")","v":""}]
[null,null,null,null,null,null,null,null,null,null,null,"",{"$f":"IF(C18<>0,(IF(lfValidaCNPJ(C18)=TRUE,\"Válido\",\"Inválido\")),\"\")","v":""},{"$f":"IF(E18<>0,(IF(lfValidaCEP(E18)=TRUE,\"Válido\",\"Inválido\")),\"\")","v":""}]
[null,null,null,null,null,null,null,null,null,null,null,"",{"$f":"IF(C19<>0,(IF(lfValidaCNPJ(C19)=TRUE,\"Válido\",\"Inválido\")),\"\")","v":""},{"$f":"IF(E19<>0,(IF(lfValidaCEP(E19)=TRUE,\"Válido\",\"Inválido\")),\"\")","v":""}]
[null,null,null,null,null,null,null,null,null,null,null,"",{"$f":"IF(C20<>0,(IF(lfValidaCNPJ(C20)=TRUE,\"Válido\",\"Inválido\")),\"\")","v":""},{"$f":"IF(E20<>0,(IF(lfValidaCEP(E20)=TRUE,\"Válido\",\"Inválido\")),\"\")","v":""}]
[null,null,null,null,null,null,null,null,null,null,null,"",{"$f":"IF(C21<>0,(IF(lfValidaCNPJ(C21)=TRUE,\"Válido\",\"Inválido\")),\"\")","v":""},{"$f":"IF(E21<>0,(IF(lfValidaCEP(E21)=TRUE,\"Válido\",\"Inválido\")),\"\")","v":""}]
[null,null,null,null,null,null,null,null,null,null,null,"",{"$f":"IF(C22<>0,(IF(lfValidaCNPJ(C22)=TRUE,\"Válido\",\"Inválido\")),\"\")","v":""},{"$f":"IF(E22<>0,(IF(lfValidaCEP(E22)=TRUE,\"Válido\",\"Inválido\")),\"\")","v":""}]
[null,null,null,null,null,null,null,null,null,null,null,"",{"$f":"IF(C23<>0,(IF(lfValidaCNPJ(C23)=TRUE,\"Válido\",\"Inválido\")),\"\")","v":""},{"$f":"IF(E23<>0,(IF(lfValidaCEP(E23)=TRUE,\"Válido\",\"Inválido\")),\"\")","v":""}]
[null,null,null,null,null,null,null,null,null,null,null,"",{"$f":"IF(C24<>0,(IF(lfValidaCNPJ(C24)=TRUE,\"Válido\",\"Inválido\")),\"\")","v":""},{"$f":"IF(E24<>0,(IF(lfValidaCEP(E24)=TRUE,\"Válido\",\"Inválido\")),\"\")","v":""}]
[null,null,null,null,null,null,null,null,null,null,null,"",{"$f":"IF(C25<>0,(IF(lfValidaCNPJ(C25)=TRUE,\"Válido\",\"Inválido\")),\"\")","v":""},{"$f":"IF(E25<>0,(IF(lfValidaCEP(E25)=TRUE,\"Válido\",\"Inválido\")),\"\")","v":""}]
[null,null,null,null,null,null,null,null,null,null,null,"",{"$f":"IF(C26<>0,(IF(lfValidaCNPJ(C26)=TRUE,\"Válido\",\"Inválido\")),\"\")","v":""},{"$f":"IF(E26<>0,(IF(lfValidaCEP(E26)=TRUE,\"Válido\",\"Inválido\")),\"\")","v":""}]
[null,null,null,null,null,null,null,null,null,null,null,"",{"$f":"IF(C27<>0,(IF(lfValidaCNPJ(C27)=TRUE,\"Válido\",\"Inválido\")),\"\")","v":""},{"$f":"IF(E27<>0,(IF(lfValidaCEP(E27)=TRUE,\"Válido\",\"Inválido\")),\"\")","v":""}]
[null,null,null,null,null,null,null,null,null,null,null,"",{"$f":"IF(C28<>0,(IF(lfValidaCNPJ(C28)=TRUE,\"Válido\",\"Inválido\")),\"\")","v":""},{"$f":"IF(E28<>0,(IF(lfValidaCEP(E28)=TRUE,\"Válido\",\"Inválido\")),\"\")","v":""}]
[null,null,null,null,null,null,null,null,null,null,null,"",{"$f":"IF(C29<>0,(IF(lfValidaCNPJ(C29)=TRUE,\"Válido\",\"Inválido\")),\"\")","v":""},{"$f":"IF(E29<>0,(IF(lfValidaCEP(E29)=TRUE,\"Válido\",\"Inválido\")),\"\")","v":""}]
[null,null,null,null,null,null,null,null,null,null,null,"",{"$f":"IF(C30<>0,(IF(lfValidaCNPJ(C30)=TRUE,\"Válido\",\"Inválido\")),\"\")","v":""},{"$f":"IF(E30<>0,(IF(lfValidaCEP(E30)=TRUE,\"Válido\",\"Inválido\")),\"\")","v":""}]
[null,null,null,null,null,null,null,null,null,null,null,"",{"$f":"IF(C31<>0,(IF(lfValidaCNPJ(C31)=TRUE,\"Válido\",\"Inválido\")),\"\")","v":""},{"$f":"IF(E31<>0,(IF(lfValidaCEP(E31)=TRUE,\"Válido\",\"Inválido\")),\"\")","v":""}]
[null,null,null,null,null,null,null,null,null,null,null,"",{"$f":"IF(C32<>0,(IF(lfValidaCNPJ(C32)=TRUE,\"Válido\",\"Inválido\")),\"\")","v":""},{"$f":"IF(E32<>0,(IF(lfValidaCEP(E32)=TRUE,\"Válido\",\"Inválido\")),\"\")","v":""}]
[null,null,null,null,null,null,null,null,null,null,null,"",{"$f":"IF(C33<>0,(IF(lfValidaCNPJ(C33)=TRUE,\"Válido\",\"Inválido\")),\"\")","v":""},{"$f":"IF(E33<>0,(IF(lfValidaCEP(E33)=TRUE,\"Válido\",\"Inválido\")),\"\")","v":""}]
[null,null,null,null,null,null,null,null,null,null,null,"",{"$f":"IF(C34<>0,(IF(lfValidaCNPJ(C34)=TRUE,\"Válido\",\"Inválido\")),\"\")","v":""},{"$f":"IF(E34<>0,(IF(lfValidaCEP(E34)=TRUE,\"Válido\",\"Inválido\")),\"\")","v":""}]
[null,null,null,null,null,null,null,null,null,null,null,"",{"$f":"IF(C35<>0,(IF(lfValidaCNPJ(C35)=TRUE,\"Válido\",\"Inválido\")),\"\")","v":""},{"$f":"IF(E35<>0,(IF(lfValidaCEP(E35)=TRUE,\"Válido\",\"Inválido\")),\"\")","v":""}]
[null,null,null,null,null,null,null,null,null,null,null,"",{"$f":"IF(C36<>0,(IF(lfValidaCNPJ(C36)=TRUE,\"Válido\",\"Inválido\")),\"\")","v":""},{"$f":"IF(E36<>0,(IF(lfValidaCEP(E36)=TRUE,\"Válido\",\"Inválido\")),\"\")","v":""}]
[null,null,null,null,null,null,null,null,null,null,null,"",{"$f":"IF(C37<>0,(IF(lfValidaCNPJ(C37)=TRUE,\"Válido\",\"Inválido\")),\"\")","v":""},{"$f":"IF(E37<>0,(IF(lfValidaCEP(E37)=TRUE,\"Válido\",\"Inválido\")),\"\")","v":""}]
[null,null,null,null,null,null,null,null,null,null,null,"",{"$f":"IF(C38<>0,(IF(lfValidaCNPJ(C38)=TRUE,\"Válido\",\"Inválido\")),\"\")","v":""},{"$f":"IF(E38<>0,(IF(lfValidaCEP(E38)=TRUE,\"Válido\",\"Inválido\")),\"\")","v":""}]
[null,null,null,null,null,null,null,null,null,null,null,"",{"$f":"IF(C39<>0,(IF(lfValidaCNPJ(C39)=TRUE,\"Válido\",\"Inválido\")),\"\")","v":""},{"$f":"IF(E39<>0,(IF(lfValidaCEP(E39)=TRUE,\"Válido\",\"Inválido\")),\"\")","v":""}]
[null,null,null,null,null,null,null,null,null,null,null,"",{"$f":"IF(C40<>0,(IF(lfValidaCNPJ(C40)=TRUE,\"Válido\",\"Inválido\")),\"\")","v":""},{"$f":"IF(E40<>0,(IF(lfValidaCEP(E40)=TRUE,\"Válido\",\"Inválido\")),\"\")","v":""}]
[null,null,null,null,null,null,null,null,null,null,null,"",{"$f":"IF(C41<>0,(IF(lfValidaCNPJ(C41)=TRUE,\"Válido\",\"Inválido\")),\"\")","v":""},{"$f":"IF(E41<>0,(IF(lfValidaCEP(E41)=TRUE,\"Válido\",\"Inválido\")),\"\")","v":""}]
[null,null,null,null,null,null,null,null,null,null,null,"",{"$f":"IF(C42<>0,(IF(lfValidaCNPJ(C42)=TRUE,\"Válido\",\"Inválido\")),\"\")","v":""},{"$f":"IF(E42<>0,(IF(lfValidaCEP(E42)=TRUE,\"Válido\",\"Inválido\")),\"\")","v":""}]
[null,null,null,null,null,null,null,null,null,null,null,"",{"$f":"IF(C43<>0,(IF(lfValidaCNPJ(C43)=TRUE,\"Válido\",\"Inválido\")),\"\")","v":""},{"$f":"IF(E43<>0,(IF(lfValidaCEP(E43)=TRUE,\"Válido\",\"Inválido\")),\"\")","v":""}]
[null,null,null,null,null,null,null,null,null,null,null,"",{"$f":"IF(C44<>0,(IF(lfValidaCNPJ(C44)=TRUE,\"Válido\",\"Inválido\")),\"\")","v":""},{"$f":"IF(E44<>0,(IF(lfValidaCEP(E44)=TRUE,\"Válido\",\"Inválido\")),\"\")","v":""}]
[null,null,null,null,null,null,null,null,null,null,null,"",{"$f":"IF(C45<>0,(IF(lfValidaCNPJ(C45)=TRUE,\"Válido\",\"Inválido\")),\"\")","v":""},{"$f":"IF(E45<>0,(IF(lfValidaCEP(E45)=TRUE,\"Válido\",\"Inválido\")),\"\")","v":""}]
[null,null,null,null,null,null,null,null,null,null,null,"",{"$f":"IF(C46<>0,(IF(lfValidaCNPJ(C46)=TRUE,\"Válido\",\"Inválido\")),\"\")","v":""},{"$f":"IF(E46<>0,(IF(lfValidaCEP(E46)=TRUE,\"Válido\",\"Inválido\")),\"\")","v":""}]
[null,null,null,null,null,null,null,null,null,null,null,"",{"$f":"IF(C47<>0,(IF(lfValidaCNPJ(C47)=TRUE,\"Válido\",\"Inválido\")),\"\")","v":""},{"$f":"IF(E47<>0,(IF(lfValidaCEP(E47)=TRUE,\"Válido\",\"Inválido\")),\"\")","v":""}]
[null,null,null,null,null,null,null,null,null,null,null,"",{"$f":"IF(C48<>0,(IF(lfValidaCNPJ(C48)=TRUE,\"Válido\",\"Inválido\")),\"\")","v":""},{"$f":"IF(E48<>0,(IF(lfValidaCEP(E48)=TRUE,\"Válido\",\"Inválido\")),\"\")","v":""}]
[null,null,null,null,null,null,null,null,null,null,null,"",{"$f":"IF(C49<>0,(IF(lfValidaCNPJ(C49)=TRUE,\"Válido\",\"Inválido\")),\"\")","v":""},{"$f":"IF(E49<>0,(IF(lfValidaCEP(E49)=TRUE,\"Válido\",\"Inválido\")),\"\")","v":""}]
[null,null,null,null,null,null,null,null,null,null,null,"",{"$f":"IF(C50<>0,(IF(lfValidaCNPJ(C50)=TRUE,\"Válido\",\"Inválido\")),\"\")","v":""},{"$f":"IF(E50<>0,(IF(lfValidaCEP(E50)=TRUE,\"Válido\",\"Inválido\")),\"\")","v":""}]
[null,null,null,null,null,null,null,null,null,null,null,"",{"$f":"IF(C51<>0,(IF(lfValidaCNPJ(C51)=TRUE,\"Válido\",\"Inválido\")),\"\")","v":""},{"$f":"IF(E51<>0,(IF(lfValidaCEP(E51)=TRUE,\"Válido\",\"Inválido\")),\"\")","v":""}]
[null,null,null,null,null,null,null,null,null,null,null,"",{"$f":"IF(C52<>0,(IF(lfValidaCNPJ(C52)=TRUE,\"Válido\",\"Inválido\")),\"\")","v":""},{"$f":"IF(E52<>0,(IF(lfValidaCEP(E52)=TRUE,\"Válido\",\"Inválido\")),\"\")","v":""}]
[null,null,null,null,null,null,null,null,null,null,null,"",{"$f":"IF(C53<>0,(IF(lfValidaCNPJ(C53)=TRUE,\"Válido\",\"Inválido\")),\"\")","v":""},{"$f":"IF(E53<>0,(IF(lfValidaCEP(E53)=TRUE,\"Válido\",\"Inválido\")),\"\")","v":""}]
[null,null,null,null,null,null,null,null,null,null,null,"",{"$f":"IF(C54<>0,(IF(lfValidaCNPJ(C54)=TRUE,\"Válido\",\"Inválido\")),\"\")","v":""},{"$f":"IF(E54<>0,(IF(lfValidaCEP(E54)=TRUE,\"Válido\",\"Inválido\")),\"\")","v":""}]
[null,null,null,null,null,null,null,null,null,null,null,"",{"$f":"IF(C55<>0,(IF(lfValidaCNPJ(C55)=TRUE,\"Válido\",\"Inválido\")),\"\")","v":""},{"$f":"IF(E55<>0,(IF(lfValidaCEP(E55)=TRUE,\"Válido\",\"Inválido\")),\"\")","v":""}]
[null,null,null,null,null,null,null,null,null,null,null,"",{"$f":"IF(C56<>0,(IF(lfValidaCNPJ(C56)=TRUE,\"Válido\",\"Inválido\")),\"\")","v":""},{"$f":"IF(E56<>0,(IF(lfValidaCEP(E56)=TRUE,\"Válido\",\"Inválido\")),\"\")","v":""}]
[null,null,null,null,null,null,null,null,null,null,null,"",{"$f":"IF(C57<>0,(IF(lfValidaCNPJ(C57)=TRUE,\"Válido\",\"Inválido\")),\"\")","v":""},{"$f":"IF(E57<>0,(IF(lfValidaCEP(E57)=TRUE,\"Válido\",\"Inválido\")),\"\")","v":""}]
[null,null,null,null,null,null,null,null,null,null,null,"",{"$f":"IF(C58<>0,(IF(lfValidaCNPJ(C58)=TRUE,\"Válido\",\"Inválido\")),\"\")","v":""},{"$f":"IF(E58<>0,(IF(lfValidaCEP(E58)=TRUE,\"Válido\",\"Inválido\")),\"\")","v":""}]
[null,null,null,null,null,null,null,null,null,null,null,"",{"$f":"IF(C59<>0,(IF(lfValidaCNPJ(C59)=TRUE,\"Válido\",\"Inválido\")),\"\")","v":""},{"$f":"IF(E59<>0,(IF(lfValidaCEP(E59)=TRUE,\"Válido\",\"Inválido\")),\"\")","v":""}]
[null,null,null,null,null,null,null,null,null,null,null,"",{"$f":"IF(C60<>0,(IF(lfValidaCNPJ(C60)=TRUE,\"Válido\",\"Inválido\")),\"\")","v":""},{"$f":"IF(E60<>0,(IF(lfValidaCEP(E60)=TRUE,\"Válido\",\"Inválido\")),\"\")","v":""}]
[null,null,null,null,null,null,null,null,null,null,null,"",{"$f":"IF(C61<>0,(IF(lfValidaCNPJ(C61)=TRUE,\"Válido\",\"Inválido\")),\"\")","v":""},{"$f":"IF(E61<>0,(IF(lfValidaCEP(E61)=TRUE,\"Válido\",\"Inválido\")),\"\")","v":""}]
[null,null,null,null,null,null,null,null,null,null,null,"",{"$f":"IF(C62<>0,(IF(lfValidaCNPJ(C62)=TRUE,\"Válido\",\"Inválido\")),\"\")","v":""},{"$f":"IF(E62<>0,(IF(lfValidaCEP(E62)=TRUE,\"Válido\",\"Inválido\")),\"\")","v":""}]
[null,null,null,null,null,null,null,null,null,null,null,"",{"$f":"IF(C63<>0,(IF(lfValidaCNPJ(C63)=TRUE,\"Válido\",\"Inválido\")),\"\")","v":""},{"$f":"IF(E63<>0,(IF(lfValidaCEP(E63)=TRUE,\"Válido\",\"Inválido\")),\"\")","v":""}]
[null,null,null,null,null,null,null,null,null,null,null,"",{"$f":"IF(C64<>0,(IF(lfValidaCNPJ(C64)=TRUE,\"Válido\",\"Inválido\")),\"\")","v":""},{"$f":"IF(E64<>0,(IF(lfValidaCEP(E64)=TRUE,\"Válido\",\"Inválido\")),\"\")","v":""}]
[null,null,null,null,null,null,null,null,null,null,null,"",{"$f":"IF(C65<>0,(IF(lfValidaCNPJ(C65)=TRUE,\"Válido\",\"Inválido\")),\"\")","v":""},{"$f":"IF(E65<>0,(IF(lfValidaCEP(E65)=TRUE,\"Válido\",\"Inválido\")),\"\")","v":""}]
[null,null,null,null,null,null,null,null,null,null,null,"",{"$f":"IF(C66<>0,(IF(lfValidaCNPJ(C66)=TRUE,\"Válido\",\"Inválido\")),\"\")","v":""},{"$f":"IF(E66<>0,(IF(lfValidaCEP(E66)=TRUE,\"Válido\",\"Inválido\")),\"\")","v":""}]
[null,null,null,null,null,null,null,null,null,null,null,"",{"$f":"IF(C67<>0,(IF(lfValidaCNPJ(C67)=TRUE,\"Válido\",\"Inválido\")),\"\")","v":""},{"$f":"IF(E67<>0,(IF(lfValidaCEP(E67)=TRUE,\"Válido\",\"Inválido\")),\"\")","v":""}]
[null,null,null,null,null,null,null,null,null,null,null,"",{"$f":"IF(C68<>0,(IF(lfValidaCNPJ(C68)=TRUE,\"Válido\",\"Inválido\")),\"\")","v":""},{"$f":"IF(E68<>0,(IF(lfValidaCEP(E68)=TRUE,\"Válido\",\"Inválido\")),\"\")","v":""}]
[null,null,null,null,null,null,null,null,null,null,null,"",{"$f":"IF(C69<>0,(IF(lfValidaCNPJ(C69)=TRUE,\"Válido\",\"Inválido\")),\"\")","v":""},{"$f":"IF(E69<>0,(IF(lfValidaCEP(E69)=TRUE,\"Válido\",\"Inválido\")),\"\")","v":""}]
[null,null,null,null,null,null,null,null,null,null,null,"",{"$f":"IF(C70<>0,(IF(lfValidaCNPJ(C70)=TRUE,\"Válido\",\"Inválido\")),\"\")","v":""},{"$f":"IF(E70<>0,(IF(lfValidaCEP(E70)=TRUE,\"Válido\",\"Inválido\")),\"\")","v":""}]
[null,null,null,null,null,null,null,null,null,null,null,"",{"$f":"IF(C71<>0,(IF(lfValidaCNPJ(C71)=TRUE,\"Válido\",\"Inválido\")),\"\")","v":""},{"$f":"IF(E71<>0,(IF(lfValidaCEP(E71)=TRUE,\"Válido\",\"Inválido\")),\"\")","v":""}]
[null,null,null,null,null,null,null,null,null,null,null,"",{"$f":"IF(C72<>0,(IF(lfValidaCNPJ(C72)=TRUE,\"Válido\",\"Inválido\")),\"\")","v":""},{"$f":"IF(E72<>0,(IF(lfValidaCEP(E72)=TRUE,\"Válido\",\"Inválido\")),\"\")","v":""}]
[null,null,null,null,null,null,null,null,null,null,null,"",{"$f":"IF(C73<>0,(IF(lfValidaCNPJ(C73)=TRUE,\"Válido\",\"Inválido\")),\"\")","v":""},{"$f":"IF(E73<>0,(IF(lfValidaCEP(E73)=TRUE,\"Válido\",\"Inválido\")),\"\")","v":""}]
[null,null,null,null,null,null,null,null,null,null,null,"",{"$f":"IF(C74<>0,(IF(lfValidaCNPJ(C74)=TRUE,\"Válido\",\"Inválido\")),\"\")","v":""},{"$f":"IF(E74<>0,(IF(lfValidaCEP(E74)=TRUE,\"Válido\",\"Inválido\")),\"\")","v":""}]
[null,null,null,null,null,null,null,null,null,null,null,"",{"$f":"IF(C75<>0,(IF(lfValidaCNPJ(C75)=TRUE,\"Válido\",\"Inválido\")),\"\")","v":""},{"$f":"IF(E75<>0,(IF(lfValidaCEP(E75)=TRUE,\"Válido\",\"Inválido\")),\"\")","v":""}]
[null,null,null,null,null,null,null,null,null,null,null,"",{"$f":"IF(C76<>0,(IF(lfValidaCNPJ(C76)=TRUE,\"Válido\",\"Inválido\")),\"\")","v":""},{"$f":"IF(E76<>0,(IF(lfValidaCEP(E76)=TRUE,\"Válido\",\"Inválido\")),\"\")","v":""}]
[null,null,null,null,null,null,null,null,null,null,null,"",{"$f":"IF(C77<>0,(IF(lfValidaCNPJ(C77)=TRUE,\"Válido\",\"Inválido\")),\"\")","v":""},{"$f":"IF(E77<>0,(IF(lfValidaCEP(E77)=TRUE,\"Válido\",\"Inválido\")),\"\")","v":""}]
[null,null,null,null,null,null,null,null,null,null,null,{"$f":"IF(COUNTA(B78:J78)<>0,IF(AND(B78<>0,C78<>0,D78<>0,E78<>0,F78<>0,G78<>0,H78<>0,I78<>0,J78<>0),\"Completo\",\"Incompleto\"),\"\")","v":""},{"$f":"IF(C78<>0,(IF(lfValidaCNPJ(C78)=TRUE,\"Válido\",\"Inválido\")),\"\")","v":""},{"$f":"IF(E78<>0,(IF(lfValidaCEP(E78)=TRUE,\"Válido\",\"Inválido\")),\"\")","v":""}]
[null,null,null,null,null,null,null,null,null,null,null,"",{"$f":"IF(C79<>0,(IF(lfValidaCNPJ(C79)=TRUE,\"Válido\",\"Inválido\")),\"\")","v":""},{"$f":"IF(E79<>0,(IF(lfValidaCEP(E79)=TRUE,\"Válido\",\"Inválido\")),\"\")","v":""}]
[null,null,null,null,null,null,null,null,null,null,null,"",{"$f":"IF(C80<>0,(IF(lfValidaCNPJ(C80)=TRUE,\"Válido\",\"Inválido\")),\"\")","v":""},{"$f":"IF(E80<>0,(IF(lfValidaCEP(E80)=TRUE,\"Válido\",\"Inválido\")),\"\")","v":""}]
[null,null,null,null,null,null,null,null,null,null,null,"",{"$f":"IF(C81<>0,(IF(lfValidaCNPJ(C81)=TRUE,\"Válido\",\"Inválido\")),\"\")","v":""},{"$f":"IF(E81<>0,(IF(lfValidaCEP(E81)=TRUE,\"Válido\",\"Inválido\")),\"\")","v":""}]
[null,null,null,null,null,null,null,null,null,null,null,"",{"$f":"IF(C82<>0,(IF(lfValidaCNPJ(C82)=TRUE,\"Válido\",\"Inválido\")),\"\")","v":""},{"$f":"IF(E82<>0,(IF(lfValidaCEP(E82)=TRUE,\"Válido\",\"Inválido\")),\"\")","v":""}]
[null,null,null,null,null,null,null,null,null,null,null,"",{"$f":"IF(C83<>0,(IF(lfValidaCNPJ(C83)=TRUE,\"Válido\",\"Inválido\")),\"\")","v":""},{"$f":"IF(E83<>0,(IF(lfValidaCEP(E83)=TRUE,\"Válido\",\"Inválido\")),\"\")","v":""}]
[null,null,null,null,null,null,null,null,null,null,null,"",{"$f":"IF(C84<>0,(IF(lfValidaCNPJ(C84)=TRUE,\"Válido\",\"Inválido\")),\"\")","v":""},{"$f":"IF(E84<>0,(IF(lfValidaCEP(E84)=TRUE,\"Válido\",\"Inválido\")),\"\")","v":""}]
[null,null,null,null,null,null,null,null,null,null,null,"",{"$f":"IF(C85<>0,(IF(lfValidaCNPJ(C85)=TRUE,\"Válido\",\"Inválido\")),\"\")","v":""},{"$f":"IF(E85<>0,(IF(lfValidaCEP(E85)=TRUE,\"Válido\",\"Inválido\")),\"\")","v":""}]
[null,null,null,null,null,null,null,null,null,null,null,"",{"$f":"IF(C86<>0,(IF(lfValidaCNPJ(C86)=TRUE,\"Válido\",\"Inválido\")),\"\")","v":""},{"$f":"IF(E86<>0,(IF(lfValidaCEP(E86)=TRUE,\"Válido\",\"Inválido\")),\"\")","v":""}]
[null,null,null,null,null,null,null,null,null,null,null,"",{"$f":"IF(C87<>0,(IF(lfValidaCNPJ(C87)=TRUE,\"Válido\",\"Inválido\")),\"\")","v":""},{"$f":"IF(E87<>0,(IF(lfValidaCEP(E87)=TRUE,\"Válido\",\"Inválido\")),\"\")","v":""}]
[null,null,null,null,null,null,null,null,null,null,null,"",{"$f":"IF(C88<>0,(IF(lfValidaCNPJ(C88)=TRUE,\"Válido\",\"Inválido\")),\"\")","v":""},{"$f":"IF(E88<>0,(IF(lfValidaCEP(E88)=TRUE,\"Válido\",\"Inválido\")),\"\")","v":""}]
[null,null,null,null,null,null,null,null,null,null,null,"",{"$f":"IF(C89<>0,(IF(lfValidaCNPJ(C89)=TRUE,\"Válido\",\"Inválido\")),\"\")","v":""},{"$f":"IF(E89<>0,(IF(lfValidaCEP(E89)=TRUE,\"Válido\",\"Inválido\")),\"\")","v":""}]
[null,null,null,null,null,null,null,null,null,null,null,"",{"$f":"IF(C90<>0,(IF(lfValidaCNPJ(C90)=TRUE,\"Válido\",\"Inválido\")),\"\")","v":""},{"$f":"IF(E90<>0,(IF(lfValidaCEP(E90)=TRUE,\"Válido\",\"Inválido\")),\"\")","v":""}]
[null,null,null,null,null,null,null,null,null,null,null,"",{"$f":"IF(C91<>0,(IF(lfValidaCNPJ(C91)=TRUE,\"Válido\",\"Inválido\")),\"\")","v":""},{"$f":"IF(E91<>0,(IF(lfValidaCEP(E91)=TRUE,\"Válido\",\"Inválido\")),\"\")","v":""}]
[null,null,null,null,null,null,null,null,null,null,null,"",{"$f":"IF(C92<>0,(IF(lfValidaCNPJ(C92)=TRUE,\"Válido\",\"Inválido\")),\"\")","v":""},{"$f":"IF(E92<>0,(IF(lfValidaCEP(E92)=TRUE,\"Válido\",\"Inválido\")),\"\")","v":""}]
[null,null,null,null,null,null,null,null,null,null,null,"",{"$f":"IF(C93<>0,(IF(lfValidaCNPJ(C93)=TRUE,\"Válido\",\"Inválido\")),\"\")","v":""},{"$f":"IF(E93<>0,(IF(lfValidaCEP(E93)=TRUE,\"Válido\",\"Inválido\")),\"\")","v":""}]
[null,null,null,null,null,null,null,null,null,null,null,"",{"$f":"IF(C94<>0,(IF(lfValidaCNPJ(C94)=TRUE,\"Válido\",\"Inválido\")),\"\")","v":""},{"$f":"IF(E94<>0,(IF(lfValidaCEP(E94)=TRUE,\"Válido\",\"Inválido\")),\"\")","v":""}]
[null,null,null,null,null,null,null,null,null,null,null,"",{"$f":"IF(C95<>0,(IF(lfValidaCNPJ(C95)=TRUE,\"Válido\",\"Inválido\")),\"\")","v":""},{"$f":"IF(E95<>0,(IF(lfValidaCEP(E95)=TRUE,\"Válido\",\"Inválido\")),\"\")","v":""}]
[null,null,null,null,null,null,null,null,null,null,null,"",{"$f":"IF(C96<>0,(IF(lfValidaCNPJ(C96)=TRUE,\"Válido\",\"Inválido\")),\"\")","v":""},{"$f":"IF(E96<>0,(IF(lfValidaCEP(E96)=TRUE,\"Válido\",\"Inválido\")),\"\")","v":""}]
[null,null,null,null,null,null,null,null,null,null,null,"",{"$f":"IF(C97<>0,(IF(lfValidaCNPJ(C97)=TRUE,\"Válido\",\"Inválido\")),\"\")","v":""},{"$f":"IF(E97<>0,(IF(lfValidaCEP(E97)=TRUE,\"Válido\",\"Inválido\")),\"\")","v":""}]
[null,null,null,null,null,null,null,null,null,null,null,"",{"$f":"IF(C98<>0,(IF(lfValidaCNPJ(C98)=TRUE,\"Válido\",\"Inválido\")),\"\")","v":""},{"$f":"IF(E98<>0,(IF(lfValidaCEP(E98)=TRUE,\"Válido\",\"Inválido\")),\"\")","v":""}]
[null,null,null,null,null,null,null,null,null,null,null,"",{"$f":"IF(C99<>0,(IF(lfValidaCNPJ(C99)=TRUE,\"Válido\",\"Inválido\")),\"\")","v":""},{"$f":"IF(E99<>0,(IF(lfValidaCEP(E99)=TRUE,\"Válido\",\"Inválido\")),\"\")","v":""}]
[null,null,null,null,null,null,null,null,null,null,null,"",{"$f":"IF(C100<>0,(IF(lfValidaCNPJ(C100)=TRUE,\"Válido\",\"Inválido\")),\"\")","v":""},{"$f":"IF(E100<>0,(IF(lfValidaCEP(E100)=TRUE,\"Válido\",\"Inválido\")),\"\")","v":""}]
[null,null,null,null,null,null,null,null,null,null,null,"",{"$f":"IF(C101<>0,(IF(lfValidaCNPJ(C101)=TRUE,\"Válido\",\"Inválido\")),\"\")","v":""},{"$f":"IF(E101<>0,(IF(lfValidaCEP(E101)=TRUE,\"Válido\",\"Inválido\")),\"\")","v":""}]
[null,null,null,null,null,null,null,null,null,null,null,"",{"$f":"IF(C102<>0,(IF(lfValidaCNPJ(C102)=TRUE,\"Válido\",\"Inválido\")),\"\")","v":""},{"$f":"IF(E102<>0,(IF(lfValidaCEP(E102)=TRUE,\"Válido\",\"Inválido\")),\"\")","v":""}]
[null,null,null,null,null,null,null,null,null,null,null,"",{"$f":"IF(C103<>0,(IF(lfValidaCNPJ(C103)=TRUE,\"Válido\",\"Inválido\")),\"\")","v":""},{"$f":"IF(E103<>0,(IF(lfValidaCEP(E103)=TRUE,\"Válido\",\"Inválido\")),\"\")","v":""}]
[null,null,null,null,null,null,null,null,null,null,null,"",{"$f":"IF(C104<>0,(IF(lfValidaCNPJ(C104)=TRUE,\"Válido\",\"Inválido\")),\"\")","v":""},{"$f":"IF(E104<>0,(IF(lfValidaCEP(E104)=TRUE,\"Válido\",\"Inválido\")),\"\")","v":""}]
[null,null,null,null,null,null,null,null,null,null,null,"",{"$f":"IF(C105<>0,(IF(lfValidaCNPJ(C105)=TRUE,\"Válido\",\"Inválido\")),\"\")","v":""},{"$f":"IF(E105<>0,(IF(lfValidaCEP(E105)=TRUE,\"Válido\",\"Inválido\")),\"\")","v":""}]
[null,null,null,null,null,null,null,null,null,null,null,"",{"$f":"IF(C106<>0,(IF(lfValidaCNPJ(C106)=TRUE,\"Válido\",\"Inválido\")),\"\")","v":""},{"$f":"IF(E106<>0,(IF(lfValidaCEP(E106)=TRUE,\"Válido\",\"Inválido\")),\"\")","v":""}]
[null,null,null,null,null,null,null,null,null,null,null,"",{"$f":"IF(C107<>0,(IF(lfValidaCNPJ(C107)=TRUE,\"Válido\",\"Inválido\")),\"\")","v":""},{"$f":"IF(E107<>0,(IF(lfValidaCEP(E107)=TRUE,\"Válido\",\"Inválido\")),\"\")","v":""}]
[null,null,null,null,null,null,null,null,null,null,null,"",{"$f":"IF(C108<>0,(IF(lfValidaCNPJ(C108)=TRUE,\"Válido\",\"Inválido\")),\"\")","v":""},{"$f":"IF(E108<>0,(IF(lfValidaCEP(E108)=TRUE,\"Válido\",\"Inválido\")),\"\")","v":""}]
[null,null,null,null,null,null,null,null,null,null,null,"",{"$f":"IF(C109<>0,(IF(lfValidaCNPJ(C109)=TRUE,\"Válido\",\"Inválido\")),\"\")","v":""},{"$f":"IF(E109<>0,(IF(lfValidaCEP(E109)=TRUE,\"Válido\",\"Inválido\")),\"\")","v":""}]
[null,null,null,null,null,null,null,null,null,null,null,"",{"$f":"IF(C110<>0,(IF(lfValidaCNPJ(C110)=TRUE,\"Válido\",\"Inválido\")),\"\")","v":""},{"$f":"IF(E110<>0,(IF(lfValidaCEP(E110)=TRUE,\"Válido\",\"Inválido\")),\"\")","v":""}]
[null,null,null,null,null,null,null,null,null,null,null,"",{"$f":"IF(C111<>0,(IF(lfValidaCNPJ(C111)=TRUE,\"Válido\",\"Inválido\")),\"\")","v":""},{"$f":"IF(E111<>0,(IF(lfValidaCEP(E111)=TRUE,\"Válido\",\"Inválido\")),\"\")","v":""}]
[null,null,null,null,null,null,null,null,null,null,null,"",{"$f":"IF(C112<>0,(IF(lfValidaCNPJ(C112)=TRUE,\"Válido\",\"Inválido\")),\"\")","v":""},{"$f":"IF(E112<>0,(IF(lfValidaCEP(E112)=TRUE,\"Válido\",\"Inválido\")),\"\")","v":""}]
[null,null,null,null,null,null,null,null,null,null,null,"",{"$f":"IF(C113<>0,(IF(lfValidaCNPJ(C113)=TRUE,\"Válido\",\"Inválido\")),\"\")","v":""},{"$f":"IF(E113<>0,(IF(lfValidaCEP(E113)=TRUE,\"Válido\",\"Inválido\")),\"\")","v":""}]
[null,null,null,null,null,null,null,null,null,null,null,"",{"$f":"IF(C114<>0,(IF(lfValidaCNPJ(C114)=TRUE,\"Válido\",\"Inválido\")),\"\")","v":""},{"$f":"IF(E114<>0,(IF(lfValidaCEP(E114)=TRUE,\"Válido\",\"Inválido\")),\"\")","v":""}]
[null,null,null,null,null,null,null,null,null,null,null,"",{"$f":"IF(C115<>0,(IF(lfValidaCNPJ(C115)=TRUE,\"Válido\",\"Inválido\")),\"\")","v":""},{"$f":"IF(E115<>0,(IF(lfValidaCEP(E115)=TRUE,\"Válido\",\"Inválido\")),\"\")","v":""}]
[null,null,null,null,null,null,null,null,null,null,null,"",{"$f":"IF(C116<>0,(IF(lfValidaCNPJ(C116)=TRUE,\"Válido\",\"Inválido\")),\"\")","v":""},{"$f":"IF(E116<>0,(IF(lfValidaCEP(E116)=TRUE,\"Válido\",\"Inválido\")),\"\")","v":""}]
[null,null,null,null,null,null,null,null,null,null,null,"",{"$f":"IF(C117<>0,(IF(lfValidaCNPJ(C117)=TRUE,\"Válido\",\"Inválido\")),\"\")","v":""},{"$f":"IF(E117<>0,(IF(lfValidaCEP(E117)=TRUE,\"Válido\",\"Inválido\")),\"\")","v":""}]
[null,null,null,null,null,null,null,null,null,null,null,"",{"$f":"IF(C118<>0,(IF(lfValidaCNPJ(C118)=TRUE,\"Válido\",\"Inválido\")),\"\")","v":""},{"$f":"IF(E118<>0,(IF(lfValidaCEP(E118)=TRUE,\"Válido\",\"Inválido\")),\"\")","v":""}]
[null,null,null,null,null,null,null,null,null,null,null,"",{"$f":"IF(C119<>0,(IF(lfValidaCNPJ(C119)=TRUE,\"Válido\",\"Inválido\")),\"\")","v":""},{"$f":"IF(E119<>0,(IF(lfValidaCEP(E119)=TRUE,\"Válido\",\"Inválido\")),\"\")","v":""}]
[null,null,null,null,null,null,null,null,null,null,null,"",{"$f":"IF(C120<>0,(IF(lfValidaCNPJ(C120)=TRUE,\"Válido\",\"Inválido\")),\"\")","v":""},{"$f":"IF(E120<>0,(IF(lfValidaCEP(E120)=TRUE,\"Válido\",\"Inválido\")),\"\")","v":""}]
[null,null,null,null,null,null,null,null,null,null,null,"",{"$f":"IF(C121<>0,(IF(lfValidaCNPJ(C121)=TRUE,\"Válido\",\"Inválido\")),\"\")","v":""},{"$f":"IF(E121<>0,(IF(lfValidaCEP(E121)=TRUE,\"Válido\",\"Inválido\")),\"\")","v":""}]
[null,null,null,null,null,null,null,null,null,null,null,"",{"$f":"IF(C122<>0,(IF(lfValidaCNPJ(C122)=TRUE,\"Válido\",\"Inválido\")),\"\")","v":""},{"$f":"IF(E122<>0,(IF(lfValidaCEP(E122)=TRUE,\"Válido\",\"Inválido\")),\"\")","v":""}]
[null,null,null,null,null,null,null,null,null,null,null,"",{"$f":"IF(C123<>0,(IF(lfValidaCNPJ(C123)=TRUE,\"Válido\",\"Inválido\")),\"\")","v":""},{"$f":"IF(E123<>0,(IF(lfValidaCEP(E123)=TRUE,\"Válido\",\"Inválido\")),\"\")","v":""}]
[null,null,null,null,null,null,null,null,null,null,null,"",{"$f":"IF(C124<>0,(IF(lfValidaCNPJ(C124)=TRUE,\"Válido\",\"Inválido\")),\"\")","v":""},{"$f":"IF(E124<>0,(IF(lfValidaCEP(E124)=TRUE,\"Válido\",\"Inválido\")),\"\")","v":""}]
[null,null,null,null,null,null,null,null,null,null,null,"",{"$f":"IF(C125<>0,(IF(lfValidaCNPJ(C125)=TRUE,\"Válido\",\"Inválido\")),\"\")","v":""},{"$f":"IF(E125<>0,(IF(lfValidaCEP(E125)=TRUE,\"Válido\",\"Inválido\")),\"\")","v":""}]
[null,null,null,null,null,null,null,null,null,null,null,"",{"$f":"IF(C126<>0,(IF(lfValidaCNPJ(C126)=TRUE,\"Válido\",\"Inválido\")),\"\")","v":""},{"$f":"IF(E126<>0,(IF(lfValidaCEP(E126)=TRUE,\"Válido\",\"Inválido\")),\"\")","v":""}]
[null,null,null,null,null,null,null,null,null,null,null,"",{"$f":"IF(C127<>0,(IF(lfValidaCNPJ(C127)=TRUE,\"Válido\",\"Inválido\")),\"\")","v":""},{"$f":"IF(E127<>0,(IF(lfValidaCEP(E127)=TRUE,\"Válido\",\"Inválido\")),\"\")","v":""}]
[null,null,null,null,null,null,null,null,null,null,null,"",{"$f":"IF(C128<>0,(IF(lfValidaCNPJ(C128)=TRUE,\"Válido\",\"Inválido\")),\"\")","v":""},{"$f":"IF(E128<>0,(IF(lfValidaCEP(E128)=TRUE,\"Válido\",\"Inválido\")),\"\")","v":""}]
[null,null,null,null,null,null,null,null,null,null,null,"",{"$f":"IF(C129<>0,(IF(lfValidaCNPJ(C129)=TRUE,\"Válido\",\"Inválido\")),\"\")","v":""},{"$f":"IF(E129<>0,(IF(lfValidaCEP(E129)=TRUE,\"Válido\",\"Inválido\")),\"\")","v":""}]
[null,null,null,null,null,null,null,null,null,null,null,"",{"$f":"IF(C130<>0,(IF(lfValidaCNPJ(C130)=TRUE,\"Válido\",\"Inválido\")),\"\")","v":""},{"$f":"IF(E130<>0,(IF(lfValidaCEP(E130)=TRUE,\"Válido\",\"Inválido\")),\"\")","v":""}]
[null,null,null,null,null,null,null,null,null,null,null,"",{"$f":"IF(C131<>0,(IF(lfValidaCNPJ(C131)=TRUE,\"Válido\",\"Inválido\")),\"\")","v":""},{"$f":"IF(E131<>0,(IF(lfValidaCEP(E131)=TRUE,\"Válido\",\"Inválido\")),\"\")","v":""}]
[null,null,null,null,null,null,null,null,null,null,null,"",{"$f":"IF(C132<>0,(IF(lfValidaCNPJ(C132)=TRUE,\"Válido\",\"Inválido\")),\"\")","v":""},{"$f":"IF(E132<>0,(IF(lfValidaCEP(E132)=TRUE,\"Válido\",\"Inválido\")),\"\")","v":""}]
[null,null,null,null,null,null,null,null,null,null,null,"",{"$f":"IF(C133<>0,(IF(lfValidaCNPJ(C133)=TRUE,\"Válido\",\"Inválido\")),\"\")","v":""},{"$f":"IF(E133<>0,(IF(lfValidaCEP(E133)=TRUE,\"Válido\",\"Inválido\")),\"\")","v":""}]
[null,null,null,null,null,null,null,null,null,null,null,"",{"$f":"IF(C134<>0,(IF(lfValidaCNPJ(C134)=TRUE,\"Válido\",\"Inválido\")),\"\")","v":""},{"$f":"IF(E134<>0,(IF(lfValidaCEP(E134)=TRUE,\"Válido\",\"Inválido\")),\"\")","v":""}]
[null,null,null,null,null,null,null,null,null,null,null,"",{"$f":"IF(C135<>0,(IF(lfValidaCNPJ(C135)=TRUE,\"Válido\",\"Inválido\")),\"\")","v":""},{"$f":"IF(E135<>0,(IF(lfValidaCEP(E135)=TRUE,\"Válido\",\"Inválido\")),\"\")","v":""}]
[null,null,null,null,null,null,null,null,null,null,null,"",{"$f":"IF(C136<>0,(IF(lfValidaCNPJ(C136)=TRUE,\"Válido\",\"Inválido\")),\"\")","v":""},{"$f":"IF(E136<>0,(IF(lfValidaCEP(E136)=TRUE,\"Válido\",\"Inválido\")),\"\")","v":""}]
[null,null,null,null,null,null,null,null,null,null,null,"",{"$f":"IF(C137<>0,(IF(lfValidaCNPJ(C137)=TRUE,\"Válido\",\"Inválido\")),\"\")","v":""},{"$f":"IF(E137<>0,(IF(lfValidaCEP(E137)=TRUE,\"Válido\",\"Inválido\")),\"\")","v":""}]
[null,null,null,null,null,null,null,null,null,null,null,"",{"$f":"IF(C138<>0,(IF(lfValidaCNPJ(C138)=TRUE,\"Válido\",\"Inválido\")),\"\")","v":""},{"$f":"IF(E138<>0,(IF(lfValidaCEP(E138)=TRUE,\"Válido\",\"Inválido\")),\"\")","v":""}]
[null,null,null,null,null,null,null,null,null,null,null,"",{"$f":"IF(C139<>0,(IF(lfValidaCNPJ(C139)=TRUE,\"Válido\",\"Inválido\")),\"\")","v":""},{"$f":"IF(E139<>0,(IF(lfValidaCEP(E139)=TRUE,\"Válido\",\"Inválido\")),\"\")","v":""}]
[null,null,null,null,null,null,null,null,null,null,null,"",{"$f":"IF(C140<>0,(IF(lfValidaCNPJ(C140)=TRUE,\"Válido\",\"Inválido\")),\"\")","v":""},{"$f":"IF(E140<>0,(IF(lfValidaCEP(E140)=TRUE,\"Válido\",\"Inválido\")),\"\")","v":""}]
[null,null,null,null,null,null,null,null,null,null,null,"",{"$f":"IF(C141<>0,(IF(lfValidaCNPJ(C141)=TRUE,\"Válido\",\"Inválido\")),\"\")","v":""},{"$f":"IF(E141<>0,(IF(lfValidaCEP(E141)=TRUE,\"Válido\",\"Inválido\")),\"\")","v":""}]
[null,null,null,null,null,null,null,null,null,null,null,{"$f":"IF(COUNTA(B142:J142)<>0,IF(AND(B142<>0,C142<>0,D142<>0,E142<>0,F142<>0,G142<>0,H142<>0,I142<>0,J142<>0),\"Completo\",\"Incompleto\"),\"\")","v":""},{"$f":"IF(C142<>0,(IF(lfValidaCNPJ(C142)=TRUE,\"Válido\",\"Inválido\")),\"\")","v":""},{"$f":"IF(E142<>0,(IF(lfValidaCEP(E142)=TRUE,\"Válido\",\"Inválido\")),\"\")","v":""}]
[null,null,null,null,null,null,null,null,null,null,null,"",{"$f":"IF(C143<>0,(IF(lfValidaCNPJ(C143)=TRUE,\"Válido\",\"Inválido\")),\"\")","v":""},{"$f":"IF(E143<>0,(IF(lfValidaCEP(E143)=TRUE,\"Válido\",\"Inválido\")),\"\")","v":""}]
[null,null,null,null,null,null,null,null,null,null,null,"",{"$f":"IF(C144<>0,(IF(lfValidaCNPJ(C144)=TRUE,\"Válido\",\"Inválido\")),\"\")","v":""},{"$f":"IF(E144<>0,(IF(lfValidaCEP(E144)=TRUE,\"Válido\",\"Inválido\")),\"\")","v":""}]
[null,null,null,null,null,null,null,null,null,null,null,"",{"$f":"IF(C145<>0,(IF(lfValidaCNPJ(C145)=TRUE,\"Válido\",\"Inválido\")),\"\")","v":""},{"$f":"IF(E145<>0,(IF(lfValidaCEP(E145)=TRUE,\"Válido\",\"Inválido\")),\"\")","v":""}]
[null,null,null,null,null,null,null,null,null,null,null,"",{"$f":"IF(C146<>0,(IF(lfValidaCNPJ(C146)=TRUE,\"Válido\",\"Inválido\")),\"\")","v":""},{"$f":"IF(E146<>0,(IF(lfValidaCEP(E146)=TRUE,\"Válido\",\"Inválido\")),\"\")","v":""}]
[null,null,null,null,null,null,null,null,null,null,null,"",{"$f":"IF(C147<>0,(IF(lfValidaCNPJ(C147)=TRUE,\"Válido\",\"Inválido\")),\"\")","v":""},{"$f":"IF(E147<>0,(IF(lfValidaCEP(E147)=TRUE,\"Válido\",\"Inválido\")),\"\")","v":""}]
[null,null,null,null,null,null,null,null,null,null,null,"",{"$f":"IF(C148<>0,(IF(lfValidaCNPJ(C148)=TRUE,\"Válido\",\"Inválido\")),\"\")","v":""},{"$f":"IF(E148<>0,(IF(lfValidaCEP(E148)=TRUE,\"Válido\",\"Inválido\")),\"\")","v":""}]
[null,null,null,null,null,null,null,null,null,null,null,"",{"$f":"IF(C149<>0,(IF(lfValidaCNPJ(C149)=TRUE,\"Válido\",\"Inválido\")),\"\")","v":""},{"$f":"IF(E149<>0,(IF(lfValidaCEP(E149)=TRUE,\"Válido\",\"Inválido\")),\"\")","v":""}]
[null,null,null,null,null,null,null,null,null,null,null,"",{"$f":"IF(C150<>0,(IF(lfValidaCNPJ(C150)=TRUE,\"Válido\",\"Inválido\")),\"\")","v":""},{"$f":"IF(E150<>0,(IF(lfValidaCEP(E150)=TRUE,\"Válido\",\"Inválido\")),\"\")","v":""}]
[null,null,null,null,null,null,null,null,null,null,null,"",{"$f":"IF(C151<>0,(IF(lfValidaCNPJ(C151)=TRUE,\"Válido\",\"Inválido\")),\"\")","v":""},{"$f":"IF(E151<>0,(IF(lfValidaCEP(E151)=TRUE,\"Válido\",\"Inválido\")),\"\")","v":""}]
[null,null,null,null,null,null,null,null,null,null,null,"",{"$f":"IF(C152<>0,(IF(lfValidaCNPJ(C152)=TRUE,\"Válido\",\"Inválido\")),\"\")","v":""},{"$f":"IF(E152<>0,(IF(lfValidaCEP(E152)=TRUE,\"Válido\",\"Inválido\")),\"\")","v":""}]
[null,null,null,null,null,null,null,null,null,null,null,"",{"$f":"IF(C153<>0,(IF(lfValidaCNPJ(C153)=TRUE,\"Válido\",\"Inválido\")),\"\")","v":""},{"$f":"IF(E153<>0,(IF(lfValidaCEP(E153)=TRUE,\"Válido\",\"Inválido\")),\"\")","v":""}]
[null,null,null,null,null,null,null,null,null,null,null,"",{"$f":"IF(C154<>0,(IF(lfValidaCNPJ(C154)=TRUE,\"Válido\",\"Inválido\")),\"\")","v":""},{"$f":"IF(E154<>0,(IF(lfValidaCEP(E154)=TRUE,\"Válido\",\"Inválido\")),\"\")","v":""}]
[null,null,null,null,null,null,null,null,null,null,null,"",{"$f":"IF(C155<>0,(IF(lfValidaCNPJ(C155)=TRUE,\"Válido\",\"Inválido\")),\"\")","v":""},{"$f":"IF(E155<>0,(IF(lfValidaCEP(E155)=TRUE,\"Válido\",\"Inválido\")),\"\")","v":""}]
[null,null,null,null,null,null,null,null,null,null,null,"",{"$f":"IF(C156<>0,(IF(lfValidaCNPJ(C156)=TRUE,\"Válido\",\"Inválido\")),\"\")","v":""},{"$f":"IF(E156<>0,(IF(lfValidaCEP(E156)=TRUE,\"Válido\",\"Inválido\")),\"\")","v":""}]
[null,null,null,null,null,null,null,null,null,null,null,"",{"$f":"IF(C157<>0,(IF(lfValidaCNPJ(C157)=TRUE,\"Válido\",\"Inválido\")),\"\")","v":""},{"$f":"IF(E157<>0,(IF(lfValidaCEP(E157)=TRUE,\"Válido\",\"Inválido\")),\"\")","v":""}]
[null,null,null,null,null,null,null,null,null,null,null,"",{"$f":"IF(C158<>0,(IF(lfValidaCNPJ(C158)=TRUE,\"Válido\",\"Inválido\")),\"\")","v":""},{"$f":"IF(E158<>0,(IF(lfValidaCEP(E158)=TRUE,\"Válido\",\"Inválido\")),\"\")","v":""}]
[null,null,null,null,null,null,null,null,null,null,null,"",{"$f":"IF(C159<>0,(IF(lfValidaCNPJ(C159)=TRUE,\"Válido\",\"Inválido\")),\"\")","v":""},{"$f":"IF(E159<>0,(IF(lfValidaCEP(E159)=TRUE,\"Válido\",\"Inválido\")),\"\")","v":""}]
[null,null,null,null,null,null,null,null,null,null,null,"",{"$f":"IF(C160<>0,(IF(lfValidaCNPJ(C160)=TRUE,\"Válido\",\"Inválido\")),\"\")","v":""},{"$f":"IF(E160<>0,(IF(lfValidaCEP(E160)=TRUE,\"Válido\",\"Inválido\")),\"\")","v":""}]
[null,null,null,null,null,null,null,null,null,null,null,"",{"$f":"IF(C161<>0,(IF(lfValidaCNPJ(C161)=TRUE,\"Válido\",\"Inválido\")),\"\")","v":""},{"$f":"IF(E161<>0,(IF(lfValidaCEP(E161)=TRUE,\"Válido\",\"Inválido\")),\"\")","v":""}]
[null,null,null,null,null,null,null,null,null,null,null,"",{"$f":"IF(C162<>0,(IF(lfValidaCNPJ(C162)=TRUE,\"Válido\",\"Inválido\")),\"\")","v":""},{"$f":"IF(E162<>0,(IF(lfValidaCEP(E162)=TRUE,\"Válido\",\"Inválido\")),\"\")","v":""}]
[null,null,null,null,null,null,null,null,null,null,null,"",{"$f":"IF(C163<>0,(IF(lfValidaCNPJ(C163)=TRUE,\"Válido\",\"Inválido\")),\"\")","v":""},{"$f":"IF(E163<>0,(IF(lfValidaCEP(E163)=TRUE,\"Válido\",\"Inválido\")),\"\")","v":""}]
[null,null,null,null,null,null,null,null,null,null,null,"",{"$f":"IF(C164<>0,(IF(lfValidaCNPJ(C164)=TRUE,\"Válido\",\"Inválido\")),\"\")","v":""},{"$f":"IF(E164<>0,(IF(lfValidaCEP(E164)=TRUE,\"Válido\",\"Inválido\")),\"\")","v":""}]
[null,null,null,null,null,null,null,null,null,null,null,"",{"$f":"IF(C165<>0,(IF(lfValidaCNPJ(C165)=TRUE,\"Válido\",\"Inválido\")),\"\")","v":""},{"$f":"IF(E165<>0,(IF(lfValidaCEP(E165)=TRUE,\"Válido\",\"Inválido\")),\"\")","v":""}]
[null,null,null,null,null,null,null,null,null,null,null,"",{"$f":"IF(C166<>0,(IF(lfValidaCNPJ(C166)=TRUE,\"Válido\",\"Inválido\")),\"\")","v":""},{"$f":"IF(E166<>0,(IF(lfValidaCEP(E166)=TRUE,\"Válido\",\"Inválido\")),\"\")","v":""}]
[null,null,null,null,null,null,null,null,null,null,null,"",{"$f":"IF(C167<>0,(IF(lfValidaCNPJ(C167)=TRUE,\"Válido\",\"Inválido\")),\"\")","v":""},{"$f":"IF(E167<>0,(IF(lfValidaCEP(E167)=TRUE,\"Válido\",\"Inválido\")),\"\")","v":""}]
[null,null,null,null,null,null,null,null,null,null,null,"",{"$f":"IF(C168<>0,(IF(lfValidaCNPJ(C168)=TRUE,\"Válido\",\"Inválido\")),\"\")","v":""},{"$f":"IF(E168<>0,(IF(lfValidaCEP(E168)=TRUE,\"Válido\",\"Inválido\")),\"\")","v":""}]
[null,null,null,null,null,null,null,null,null,null,null,"",{"$f":"IF(C169<>0,(IF(lfValidaCNPJ(C169)=TRUE,\"Válido\",\"Inválido\")),\"\")","v":""},{"$f":"IF(E169<>0,(IF(lfValidaCEP(E169)=TRUE,\"Válido\",\"Inválido\")),\"\")","v":""}]
[null,null,null,null,null,null,null,null,null,null,null,"",{"$f":"IF(C170<>0,(IF(lfValidaCNPJ(C170)=TRUE,\"Válido\",\"Inválido\")),\"\")","v":""},{"$f":"IF(E170<>0,(IF(lfValidaCEP(E170)=TRUE,\"Válido\",\"Inválido\")),\"\")","v":""}]
[null,null,null,null,null,null,null,null,null,null,null,"",{"$f":"IF(C171<>0,(IF(lfValidaCNPJ(C171)=TRUE,\"Válido\",\"Inválido\")),\"\")","v":""},{"$f":"IF(E171<>0,(IF(lfValidaCEP(E171)=TRUE,\"Válido\",\"Inválido\")),\"\")","v":""}]
[null,null,null,null,null,null,null,null,null,null,null,"",{"$f":"IF(C172<>0,(IF(lfValidaCNPJ(C172)=TRUE,\"Válido\",\"Inválido\")),\"\")","v":""},{"$f":"IF(E172<>0,(IF(lfValidaCEP(E172)=TRUE,\"Válido\",\"Inválido\")),\"\")","v":""}]
[null,null,null,null,null,null,null,null,null,null,null,"",{"$f":"IF(C173<>0,(IF(lfValidaCNPJ(C173)=TRUE,\"Válido\",\"Inválido\")),\"\")","v":""},{"$f":"IF(E173<>0,(IF(lfValidaCEP(E173)=TRUE,\"Válido\",\"Inválido\")),\"\")","v":""}]
[null,null,null,null,null,null,null,null,null,null,null,"",{"$f":"IF(C174<>0,(IF(lfValidaCNPJ(C174)=TRUE,\"Válido\",\"Inválido\")),\"\")","v":""},{"$f":"IF(E174<>0,(IF(lfValidaCEP(E174)=TRUE,\"Válido\",\"Inválido\")),\"\")","v":""}]
[null,null,null,null,null,null,null,null,null,null,null,"",{"$f":"IF(C175<>0,(IF(lfValidaCNPJ(C175)=TRUE,\"Válido\",\"Inválido\")),\"\")","v":""},{"$f":"IF(E175<>0,(IF(lfValidaCEP(E175)=TRUE,\"Válido\",\"Inválido\")),\"\")","v":""}]
[null,null,null,null,null,null,null,null,null,null,null,"",{"$f":"IF(C176<>0,(IF(lfValidaCNPJ(C176)=TRUE,\"Válido\",\"Inválido\")),\"\")","v":""},{"$f":"IF(E176<>0,(IF(lfValidaCEP(E176)=TRUE,\"Válido\",\"Inválido\")),\"\")","v":""}]
[null,null,null,null,null,null,null,null,null,null,null,"",{"$f":"IF(C177<>0,(IF(lfValidaCNPJ(C177)=TRUE,\"Válido\",\"Inválido\")),\"\")","v":""},{"$f":"IF(E177<>0,(IF(lfValidaCEP(E177)=TRUE,\"Válido\",\"Inválido\")),\"\")","v":""}]
[null,null,null,null,null,null,null,null,null,null,null,"",{"$f":"IF(C178<>0,(IF(lfValidaCNPJ(C178)=TRUE,\"Válido\",\"Inválido\")),\"\")","v":""},{"$f":"IF(E178<>0,(IF(lfValidaCEP(E178)=TRUE,\"Válido\",\"Inválido\")),\"\")","v":""}]
[null,null,null,null,null,null,null,null,null,null,null,"",{"$f":"IF(C179<>0,(IF(lfValidaCNPJ(C179)=TRUE,\"Válido\",\"Inválido\")),\"\")","v":""},{"$f":"IF(E179<>0,(IF(lfValidaCEP(E179)=TRUE,\"Válido\",\"Inválido\")),\"\")","v":""}]
[null,null,null,null,null,null,null,null,null,null,null,"",{"$f":"IF(C180<>0,(IF(lfValidaCNPJ(C180)=TRUE,\"Válido\",\"Inválido\")),\"\")","v":""},{"$f":"IF(E180<>0,(IF(lfValidaCEP(E180)=TRUE,\"Válido\",\"Inválido\")),\"\")","v":""}]
[null,null,null,null,null,null,null,null,null,null,null,"",{"$f":"IF(C181<>0,(IF(lfValidaCNPJ(C181)=TRUE,\"Válido\",\"Inválido\")),\"\")","v":""},{"$f":"IF(E181<>0,(IF(lfValidaCEP(E181)=TRUE,\"Válido\",\"Inválido\")),\"\")","v":""}]
[null,null,null,null,null,null,null,null,null,null,null,"",{"$f":"IF(C182<>0,(IF(lfValidaCNPJ(C182)=TRUE,\"Válido\",\"Inválido\")),\"\")","v":""},{"$f":"IF(E182<>0,(IF(lfValidaCEP(E182)=TRUE,\"Válido\",\"Inválido\")),\"\")","v":""}]
[null,null,null,null,null,null,null,null,null,null,null,"",{"$f":"IF(C183<>0,(IF(lfValidaCNPJ(C183)=TRUE,\"Válido\",\"Inválido\")),\"\")","v":""},{"$f":"IF(E183<>0,(IF(lfValidaCEP(E183)=TRUE,\"Válido\",\"Inválido\")),\"\")","v":""}]
[null,null,null,null,null,null,null,null,null,null,null,"",{"$f":"IF(C184<>0,(IF(lfValidaCNPJ(C184)=TRUE,\"Válido\",\"Inválido\")),\"\")","v":""},{"$f":"IF(E184<>0,(IF(lfValidaCEP(E184)=TRUE,\"Válido\",\"Inválido\")),\"\")","v":""}]
[null,null,null,null,null,null,null,null,null,null,null,"",{"$f":"IF(C185<>0,(IF(lfValidaCNPJ(C185)=TRUE,\"Válido\",\"Inválido\")),\"\")","v":""},{"$f":"IF(E185<>0,(IF(lfValidaCEP(E185)=TRUE,\"Válido\",\"Inválido\")),\"\")","v":""}]
[null,null,null,null,null,null,null,null,null,null,null,"",{"$f":"IF(C186<>0,(IF(lfValidaCNPJ(C186)=TRUE,\"Válido\",\"Inválido\")),\"\")","v":""},{"$f":"IF(E186<>0,(IF(lfValidaCEP(E186)=TRUE,\"Válido\",\"Inválido\")),\"\")","v":""}]
[null,null,null,null,null,null,null,null,null,null,null,"",{"$f":"IF(C187<>0,(IF(lfValidaCNPJ(C187)=TRUE,\"Válido\",\"Inválido\")),\"\")","v":""},{"$f":"IF(E187<>0,(IF(lfValidaCEP(E187)=TRUE,\"Válido\",\"Inválido\")),\"\")","v":""}]
[null,null,null,null,null,null,null,null,null,null,null,"",{"$f":"IF(C188<>0,(IF(lfValidaCNPJ(C188)=TRUE,\"Válido\",\"Inválido\")),\"\")","v":""},{"$f":"IF(E188<>0,(IF(lfValidaCEP(E188)=TRUE,\"Válido\",\"Inválido\")),\"\")","v":""}]
[null,null,null,null,null,null,null,null,null,null,null,"",{"$f":"IF(C189<>0,(IF(lfValidaCNPJ(C189)=TRUE,\"Válido\",\"Inválido\")),\"\")","v":""},{"$f":"IF(E189<>0,(IF(lfValidaCEP(E189)=TRUE,\"Válido\",\"Inválido\")),\"\")","v":""}]
[null,null,null,null,null,null,null,null,null,null,null,"",{"$f":"IF(C190<>0,(IF(lfValidaCNPJ(C190)=TRUE,\"Válido\",\"Inválido\")),\"\")","v":""},{"$f":"IF(E190<>0,(IF(lfValidaCEP(E190)=TRUE,\"Válido\",\"Inválido\")),\"\")","v":""}]
[null,null,null,null,null,null,null,null,null,null,null,"",{"$f":"IF(C191<>0,(IF(lfValidaCNPJ(C191)=TRUE,\"Válido\",\"Inválido\")),\"\")","v":""},{"$f":"IF(E191<>0,(IF(lfValidaCEP(E191)=TRUE,\"Válido\",\"Inválido\")),\"\")","v":""}]
[null,null,null,null,null,null,null,null,null,null,null,"",{"$f":"IF(C192<>0,(IF(lfValidaCNPJ(C192)=TRUE,\"Válido\",\"Inválido\")),\"\")","v":""},{"$f":"IF(E192<>0,(IF(lfValidaCEP(E192)=TRUE,\"Válido\",\"Inválido\")),\"\")","v":""}]
[null,null,null,null,null,null,null,null,null,null,null,"",{"$f":"IF(C193<>0,(IF(lfValidaCNPJ(C193)=TRUE,\"Válido\",\"Inválido\")),\"\")","v":""},{"$f":"IF(E193<>0,(IF(lfValidaCEP(E193)=TRUE,\"Válido\",\"Inválido\")),\"\")","v":""}]
[null,null,null,null,null,null,null,null,null,null,null,"",{"$f":"IF(C194<>0,(IF(lfValidaCNPJ(C194)=TRUE,\"Válido\",\"Inválido\")),\"\")","v":""},{"$f":"IF(E194<>0,(IF(lfValidaCEP(E194)=TRUE,\"Válido\",\"Inválido\")),\"\")","v":""}]
[null,null,null,null,null,null,null,null,null,null,null,"",{"$f":"IF(C195<>0,(IF(lfValidaCNPJ(C195)=TRUE,\"Válido\",\"Inválido\")),\"\")","v":""},{"$f":"IF(E195<>0,(IF(lfValidaCEP(E195)=TRUE,\"Válido\",\"Inválido\")),\"\")","v":""}]
[null,null,null,null,null,null,null,null,null,null,null,"",{"$f":"IF(C196<>0,(IF(lfValidaCNPJ(C196)=TRUE,\"Válido\",\"Inválido\")),\"\")","v":""},{"$f":"IF(E196<>0,(IF(lfValidaCEP(E196)=TRUE,\"Válido\",\"Inválido\")),\"\")","v":""}]
[null,null,null,null,null,null,null,null,null,null,null,"",{"$f":"IF(C197<>0,(IF(lfValidaCNPJ(C197)=TRUE,\"Válido\",\"Inválido\")),\"\")","v":""},{"$f":"IF(E197<>0,(IF(lfValidaCEP(E197)=TRUE,\"Válido\",\"Inválido\")),\"\")","v":""}]
[null,null,null,null,null,null,null,null,null,null,null,"",{"$f":"IF(C198<>0,(IF(lfValidaCNPJ(C198)=TRUE,\"Válido\",\"Inválido\")),\"\")","v":""},{"$f":"IF(E198<>0,(IF(lfValidaCEP(E198)=TRUE,\"Válido\",\"Inválido\")),\"\")","v":""}]
[null,null,null,null,null,null,null,null,null,null,null,"",{"$f":"IF(C199<>0,(IF(lfValidaCNPJ(C199)=TRUE,\"Válido\",\"Inválido\")),\"\")","v":""},{"$f":"IF(E199<>0,(IF(lfValidaCEP(E199)=TRUE,\"Válido\",\"Inválido\")),\"\")","v":""}]
[null,null,null,null,null,null,null,null,null,null,null,"",{"$f":"IF(C200<>0,(IF(lfValidaCNPJ(C200)=TRUE,\"Válido\",\"Inválido\")),\"\")","v":""},{"$f":"IF(E200<>0,(IF(lfValidaCEP(E200)=TRUE,\"Válido\",\"Inválido\")),\"\")","v":""}]
[null,null,null,null,null,null,null,null,null,null,null,"",{"$f":"IF(C201<>0,(IF(lfValidaCNPJ(C201)=TRUE,\"Válido\",\"Inválido\")),\"\")","v":""},{"$f":"IF(E201<>0,(IF(lfValidaCEP(E201)=TRUE,\"Válido\",\"Inválido\")),\"\")","v":""}]
[null,null,null,null,null,null,null,null,null,null,null,"",{"$f":"IF(C202<>0,(IF(lfValidaCNPJ(C202)=TRUE,\"Válido\",\"Inválido\")),\"\")","v":""},{"$f":"IF(E202<>0,(IF(lfValidaCEP(E202)=TRUE,\"Válido\",\"Inválido\")),\"\")","v":""}]
[null,null,null,null,null,null,null,null,null,null,null,"",{"$f":"IF(C203<>0,(IF(lfValidaCNPJ(C203)=TRUE,\"Válido\",\"Inválido\")),\"\")","v":""},{"$f":"IF(E203<>0,(IF(lfValidaCEP(E203)=TRUE,\"Válido\",\"Inválido\")),\"\")","v":""}]
[null,null,null,null,null,null,null,null,null,null,null,"",{"$f":"IF(C204<>0,(IF(lfValidaCNPJ(C204)=TRUE,\"Válido\",\"Inválido\")),\"\")","v":""},{"$f":"IF(E204<>0,(IF(lfValidaCEP(E204)=TRUE,\"Válido\",\"Inválido\")),\"\")","v":""}]
[null,null,null,null,null,null,null,null,null,null,null,"",{"$f":"IF(C205<>0,(IF(lfValidaCNPJ(C205)=TRUE,\"Válido\",\"Inválido\")),\"\")","v":""},{"$f":"IF(E205<>0,(IF(lfValidaCEP(E205)=TRUE,\"Válido\",\"Inválido\")),\"\")","v":""}]
[null,null,null,null,null,null,null,null,null,null,null,{"$f":"IF(COUNTA(B206:J206)<>0,IF(AND(B206<>0,C206<>0,D206<>0,E206<>0,F206<>0,G206<>0,H206<>0,I206<>0,J206<>0),\"Completo\",\"Incompleto\"),\"\")","v":""},{"$f":"IF(C206<>0,(IF(lfValidaCNPJ(C206)=TRUE,\"Válido\",\"Inválido\")),\"\")","v":""},{"$f":"IF(E206<>0,(IF(lfValidaCEP(E206)=TRUE,\"Válido\",\"Inválido\")),\"\")","v":""}]
[null,null,null,null,null,null,null,null,null,null,null,"",{"$f":"IF(C207<>0,(IF(lfValidaCNPJ(C207)=TRUE,\"Válido\",\"Inválido\")),\"\")","v":""},{"$f":"IF(E207<>0,(IF(lfValidaCEP(E207)=TRUE,\"Válido\",\"Inválido\")),\"\")","v":""}]
[null,null,null,null,null,null,null,null,null,null,null,"",{"$f":"IF(C208<>0,(IF(lfValidaCNPJ(C208)=TRUE,\"Válido\",\"Inválido\")),\"\")","v":""},{"$f":"IF(E208<>0,(IF(lfValidaCEP(E208)=TRUE,\"Válido\",\"Inválido\")),\"\")","v":""}]
[null,null,null,null,null,null,null,null,null,null,null,"",{"$f":"IF(C209<>0,(IF(lfValidaCNPJ(C209)=TRUE,\"Válido\",\"Inválido\")),\"\")","v":""},{"$f":"IF(E209<>0,(IF(lfValidaCEP(E209)=TRUE,\"Válido\",\"Inválido\")),\"\")","v":""}]
[null,null,null,null,null,null,null,null,null,null,null,"",{"$f":"IF(C210<>0,(IF(lfValidaCNPJ(C210)=TRUE,\"Válido\",\"Inválido\")),\"\")","v":""},{"$f":"IF(E210<>0,(IF(lfValidaCEP(E210)=TRUE,\"Válido\",\"Inválido\")),\"\")","v":""}]
[null,null,null,null,null,null,null,null,null,null,null,"",{"$f":"IF(C211<>0,(IF(lfValidaCNPJ(C211)=TRUE,\"Válido\",\"Inválido\")),\"\")","v":""},{"$f":"IF(E211<>0,(IF(lfValidaCEP(E211)=TRUE,\"Válido\",\"Inválido\")),\"\")","v":""}]
[null,null,null,null,null,null,null,null,null,null,null,"",{"$f":"IF(C212<>0,(IF(lfValidaCNPJ(C212)=TRUE,\"Válido\",\"Inválido\")),\"\")","v":""},{"$f":"IF(E212<>0,(IF(lfValidaCEP(E212)=TRUE,\"Válido\",\"Inválido\")),\"\")","v":""}]
[null,null,null,null,null,null,null,null,null,null,null,"",{"$f":"IF(C213<>0,(IF(lfValidaCNPJ(C213)=TRUE,\"Válido\",\"Inválido\")),\"\")","v":""},{"$f":"IF(E213<>0,(IF(lfValidaCEP(E213)=TRUE,\"Válido\",\"Inválido\")),\"\")","v":""}]
[null,null,null,null,null,null,null,null,null,null,null,"",{"$f":"IF(C214<>0,(IF(lfValidaCNPJ(C214)=TRUE,\"Válido\",\"Inválido\")),\"\")","v":""},{"$f":"IF(E214<>0,(IF(lfValidaCEP(E214)=TRUE,\"Válido\",\"Inválido\")),\"\")","v":""}]
[null,null,null,null,null,null,null,null,null,null,null,"",{"$f":"IF(C215<>0,(IF(lfValidaCNPJ(C215)=TRUE,\"Válido\",\"Inválido\")),\"\")","v":""},{"$f":"IF(E215<>0,(IF(lfValidaCEP(E215)=TRUE,\"Válido\",\"Inválido\")),\"\")","v":""}]
[null,null,null,null,null,null,null,null,null,null,null,"",{"$f":"IF(C216<>0,(IF(lfValidaCNPJ(C216)=TRUE,\"Válido\",\"Inválido\")),\"\")","v":""},{"$f":"IF(E216<>0,(IF(lfValidaCEP(E216)=TRUE,\"Válido\",\"Inválido\")),\"\")","v":""}]
[null,null,null,null,null,null,null,null,null,null,null,"",{"$f":"IF(C217<>0,(IF(lfValidaCNPJ(C217)=TRUE,\"Válido\",\"Inválido\")),\"\")","v":""},{"$f":"IF(E217<>0,(IF(lfValidaCEP(E217)=TRUE,\"Válido\",\"Inválido\")),\"\")","v":""}]
[null,null,null,null,null,null,null,null,null,null,null,"",{"$f":"IF(C218<>0,(IF(lfValidaCNPJ(C218)=TRUE,\"Válido\",\"Inválido\")),\"\")","v":""},{"$f":"IF(E218<>0,(IF(lfValidaCEP(E218)=TRUE,\"Válido\",\"Inválido\")),\"\")","v":""}]
[null,null,null,null,null,null,null,null,null,null,null,"",{"$f":"IF(C219<>0,(IF(lfValidaCNPJ(C219)=TRUE,\"Válido\",\"Inválido\")),\"\")","v":""},{"$f":"IF(E219<>0,(IF(lfValidaCEP(E219)=TRUE,\"Válido\",\"Inválido\")),\"\")","v":""}]
[null,null,null,null,null,null,null,null,null,null,null,"",{"$f":"IF(C220<>0,(IF(lfValidaCNPJ(C220)=TRUE,\"Válido\",\"Inválido\")),\"\")","v":""},{"$f":"IF(E220<>0,(IF(lfValidaCEP(E220)=TRUE,\"Válido\",\"Inválido\")),\"\")","v":""}]
[null,null,null,null,null,null,null,null,null,null,null,"",{"$f":"IF(C221<>0,(IF(lfValidaCNPJ(C221)=TRUE,\"Válido\",\"Inválido\")),\"\")","v":""},{"$f":"IF(E221<>0,(IF(lfValidaCEP(E221)=TRUE,\"Válido\",\"Inválido\")),\"\")","v":""}]
[null,null,null,null,null,null,null,null,null,null,null,"",{"$f":"IF(C222<>0,(IF(lfValidaCNPJ(C222)=TRUE,\"Válido\",\"Inválido\")),\"\")","v":""},{"$f":"IF(E222<>0,(IF(lfValidaCEP(E222)=TRUE,\"Válido\",\"Inválido\")),\"\")","v":""}]
[null,null,null,null,null,null,null,null,null,null,null,"",{"$f":"IF(C223<>0,(IF(lfValidaCNPJ(C223)=TRUE,\"Válido\",\"Inválido\")),\"\")","v":""},{"$f":"IF(E223<>0,(IF(lfValidaCEP(E223)=TRUE,\"Válido\",\"Inválido\")),\"\")","v":""}]
[null,null,null,null,null,null,null,null,null,null,null,"",{"$f":"IF(C224<>0,(IF(lfValidaCNPJ(C224)=TRUE,\"Válido\",\"Inválido\")),\"\")","v":""},{"$f":"IF(E224<>0,(IF(lfValidaCEP(E224)=TRUE,\"Válido\",\"Inválido\")),\"\")","v":""}]
[null,null,null,null,null,null,null,null,null,null,null,"",{"$f":"IF(C225<>0,(IF(lfValidaCNPJ(C225)=TRUE,\"Válido\",\"Inválido\")),\"\")","v":""},{"$f":"IF(E225<>0,(IF(lfValidaCEP(E225)=TRUE,\"Válido\",\"Inválido\")),\"\")","v":""}]
[null,null,null,null,null,null,null,null,null,null,null,"",{"$f":"IF(C226<>0,(IF(lfValidaCNPJ(C226)=TRUE,\"Válido\",\"Inválido\")),\"\")","v":""},{"$f":"IF(E226<>0,(IF(lfValidaCEP(E226)=TRUE,\"Válido\",\"Inválido\")),\"\")","v":""}]
[null,null,null,null,null,null,null,null,null,null,null,"",{"$f":"IF(C227<>0,(IF(lfValidaCNPJ(C227)=TRUE,\"Válido\",\"Inválido\")),\"\")","v":""},{"$f":"IF(E227<>0,(IF(lfValidaCEP(E227)=TRUE,\"Válido\",\"Inválido\")),\"\")","v":""}]
[null,null,null,null,null,null,null,null,null,null,null,"",{"$f":"IF(C228<>0,(IF(lfValidaCNPJ(C228)=TRUE,\"Válido\",\"Inválido\")),\"\")","v":""},{"$f":"IF(E228<>0,(IF(lfValidaCEP(E228)=TRUE,\"Válido\",\"Inválido\")),\"\")","v":""}]
[null,null,null,null,null,null,null,null,null,null,null,"",{"$f":"IF(C229<>0,(IF(lfValidaCNPJ(C229)=TRUE,\"Válido\",\"Inválido\")),\"\")","v":""},{"$f":"IF(E229<>0,(IF(lfValidaCEP(E229)=TRUE,\"Válido\",\"Inválido\")),\"\")","v":""}]
[null,null,null,null,null,null,null,null,null,null,null,"",{"$f":"IF(C230<>0,(IF(lfValidaCNPJ(C230)=TRUE,\"Válido\",\"Inválido\")),\"\")","v":""},{"$f":"IF(E230<>0,(IF(lfValidaCEP(E230)=TRUE,\"Válido\",\"Inválido\")),\"\")","v":""}]
[null,null,null,null,null,null,null,null,null,null,null,"",{"$f":"IF(C231<>0,(IF(lfValidaCNPJ(C231)=TRUE,\"Válido\",\"Inválido\")),\"\")","v":""},{"$f":"IF(E231<>0,(IF(lfValidaCEP(E231)=TRUE,\"Válido\",\"Inválido\")),\"\")","v":""}]
[null,null,null,null,null,null,null,null,null,null,null,"",{"$f":"IF(C232<>0,(IF(lfValidaCNPJ(C232)=TRUE,\"Válido\",\"Inválido\")),\"\")","v":""},{"$f":"IF(E232<>0,(IF(lfValidaCEP(E232)=TRUE,\"Válido\",\"Inválido\")),\"\")","v":""}]
[null,null,null,null,null,null,null,null,null,null,null,"",{"$f":"IF(C233<>0,(IF(lfValidaCNPJ(C233)=TRUE,\"Válido\",\"Inválido\")),\"\")","v":""},{"$f":"IF(E233<>0,(IF(lfValidaCEP(E233)=TRUE,\"Válido\",\"Inválido\")),\"\")","v":""}]
[null,null,null,null,null,null,null,null,null,null,null,"",{"$f":"IF(C234<>0,(IF(lfValidaCNPJ(C234)=TRUE,\"Válido\",\"Inválido\")),\"\")","v":""},{"$f":"IF(E234<>0,(IF(lfValidaCEP(E234)=TRUE,\"Válido\",\"Inválido\")),\"\")","v":""}]
[null,null,null,null,null,null,null,null,null,null,null,"",{"$f":"IF(C235<>0,(IF(lfValidaCNPJ(C235)=TRUE,\"Válido\",\"Inválido\")),\"\")","v":""},{"$f":"IF(E235<>0,(IF(lfValidaCEP(E235)=TRUE,\"Válido\",\"Inválido\")),\"\")","v":""}]
[null,null,null,null,null,null,null,null,null,null,null,"",{"$f":"IF(C236<>0,(IF(lfValidaCNPJ(C236)=TRUE,\"Válido\",\"Inválido\")),\"\")","v":""},{"$f":"IF(E236<>0,(IF(lfValidaCEP(E236)=TRUE,\"Válido\",\"Inválido\")),\"\")","v":""}]
[null,null,null,null,null,null,null,null,null,null,null,"",{"$f":"IF(C237<>0,(IF(lfValidaCNPJ(C237)=TRUE,\"Válido\",\"Inválido\")),\"\")","v":""},{"$f":"IF(E237<>0,(IF(lfValidaCEP(E237)=TRUE,\"Válido\",\"Inválido\")),\"\")","v":""}]
[null,null,null,null,null,null,null,null,null,null,null,"",{"$f":"IF(C238<>0,(IF(lfValidaCNPJ(C238)=TRUE,\"Válido\",\"Inválido\")),\"\")","v":""},{"$f":"IF(E238<>0,(IF(lfValidaCEP(E238)=TRUE,\"Válido\",\"Inválido\")),\"\")","v":""}]
[null,null,null,null,null,null,null,null,null,null,null,"",{"$f":"IF(C239<>0,(IF(lfValidaCNPJ(C239)=TRUE,\"Válido\",\"Inválido\")),\"\")","v":""},{"$f":"IF(E239<>0,(IF(lfValidaCEP(E239)=TRUE,\"Válido\",\"Inválido\")),\"\")","v":""}]
[null,null,null,null,null,null,null,null,null,null,null,"",{"$f":"IF(C240<>0,(IF(lfValidaCNPJ(C240)=TRUE,\"Válido\",\"Inválido\")),\"\")","v":""},{"$f":"IF(E240<>0,(IF(lfValidaCEP(E240)=TRUE,\"Válido\",\"Inválido\")),\"\")","v":""}]
[null,null,null,null,null,null,null,null,null,null,null,"",{"$f":"IF(C241<>0,(IF(lfValidaCNPJ(C241)=TRUE,\"Válido\",\"Inválido\")),\"\")","v":""},{"$f":"IF(E241<>0,(IF(lfValidaCEP(E241)=TRUE,\"Válido\",\"Inválido\")),\"\")","v":""}]
[null,null,null,null,null,null,null,null,null,null,null,"",{"$f":"IF(C242<>0,(IF(lfValidaCNPJ(C242)=TRUE,\"Válido\",\"Inválido\")),\"\")","v":""},{"$f":"IF(E242<>0,(IF(lfValidaCEP(E242)=TRUE,\"Válido\",\"Inválido\")),\"\")","v":""}]
[null,null,null,null,null,null,null,null,null,null,null,"",{"$f":"IF(C243<>0,(IF(lfValidaCNPJ(C243)=TRUE,\"Válido\",\"Inválido\")),\"\")","v":""},{"$f":"IF(E243<>0,(IF(lfValidaCEP(E243)=TRUE,\"Válido\",\"Inválido\")),\"\")","v":""}]
[null,null,null,null,null,null,null,null,null,null,null,"",{"$f":"IF(C244<>0,(IF(lfValidaCNPJ(C244)=TRUE,\"Válido\",\"Inválido\")),\"\")","v":""},{"$f":"IF(E244<>0,(IF(lfValidaCEP(E244)=TRUE,\"Válido\",\"Inválido\")),\"\")","v":""}]
[null,null,null,null,null,null,null,null,null,null,null,"",{"$f":"IF(C245<>0,(IF(lfValidaCNPJ(C245)=TRUE,\"Válido\",\"Inválido\")),\"\")","v":""},{"$f":"IF(E245<>0,(IF(lfValidaCEP(E245)=TRUE,\"Válido\",\"Inválido\")),\"\")","v":""}]
[null,null,null,null,null,null,null,null,null,null,null,"",{"$f":"IF(C246<>0,(IF(lfValidaCNPJ(C246)=TRUE,\"Válido\",\"Inválido\")),\"\")","v":""},{"$f":"IF(E246<>0,(IF(lfValidaCEP(E246)=TRUE,\"Válido\",\"Inválido\")),\"\")","v":""}]
[null,null,null,null,null,null,null,null,null,null,null,"",{"$f":"IF(C247<>0,(IF(lfValidaCNPJ(C247)=TRUE,\"Válido\",\"Inválido\")),\"\")","v":""},{"$f":"IF(E247<>0,(IF(lfValidaCEP(E247)=TRUE,\"Válido\",\"Inválido\")),\"\")","v":""}]
[null,null,null,null,null,null,null,null,null,null,null,"",{"$f":"IF(C248<>0,(IF(lfValidaCNPJ(C248)=TRUE,\"Válido\",\"Inválido\")),\"\")","v":""},{"$f":"IF(E248<>0,(IF(lfValidaCEP(E248)=TRUE,\"Válido\",\"Inválido\")),\"\")","v":""}]
[null,null,null,null,null,null,null,null,null,null,null,"",{"$f":"IF(C249<>0,(IF(lfValidaCNPJ(C249)=TRUE,\"Válido\",\"Inválido\")),\"\")","v":""},{"$f":"IF(E249<>0,(IF(lfValidaCEP(E249)=TRUE,\"Válido\",\"Inválido\")),\"\")","v":""}]
[null,null,null,null,null,null,null,null,null,null,null,"",{"$f":"IF(C250<>0,(IF(lfValidaCNPJ(C250)=TRUE,\"Válido\",\"Inválido\")),\"\")","v":""},{"$f":"IF(E250<>0,(IF(lfValidaCEP(E250)=TRUE,\"Válido\",\"Inválido\")),\"\")","v":""}]
[null,null,null,null,null,null,null,null,null,null,null,"",{"$f":"IF(C251<>0,(IF(lfValidaCNPJ(C251)=TRUE,\"Válido\",\"Inválido\")),\"\")","v":""},{"$f":"IF(E251<>0,(IF(lfValidaCEP(E251)=TRUE,\"Válido\",\"Inválido\")),\"\")","v":""}]
[null,null,null,null,null,null,null,null,null,null,null,"",{"$f":"IF(C252<>0,(IF(lfValidaCNPJ(C252)=TRUE,\"Válido\",\"Inválido\")),\"\")","v":""},{"$f":"IF(E252<>0,(IF(lfValidaCEP(E252)=TRUE,\"Válido\",\"Inválido\")),\"\")","v":""}]
[null,null,null,null,null,null,null,null,null,null,null,"",{"$f":"IF(C253<>0,(IF(lfValidaCNPJ(C253)=TRUE,\"Válido\",\"Inválido\")),\"\")","v":""},{"$f":"IF(E253<>0,(IF(lfValidaCEP(E253)=TRUE,\"Válido\",\"Inválido\")),\"\")","v":""}]
[null,null,null,null,null,null,null,null,null,null,null,"",{"$f":"IF(C254<>0,(IF(lfValidaCNPJ(C254)=TRUE,\"Válido\",\"Inválido\")),\"\")","v":""},{"$f":"IF(E254<>0,(IF(lfValidaCEP(E254)=TRUE,\"Válido\",\"Inválido\")),\"\")","v":""}]
[null,null,null,null,null,null,null,null,null,null,null,"",{"$f":"IF(C255<>0,(IF(lfValidaCNPJ(C255)=TRUE,\"Válido\",\"Inválido\")),\"\")","v":""},{"$f":"IF(E255<>0,(IF(lfValidaCEP(E255)=TRUE,\"Válido\",\"Inválido\")),\"\")","v":""}]
[null,null,null,null,null,null,null,null,null,null,null,"",{"$f":"IF(C256<>0,(IF(lfValidaCNPJ(C256)=TRUE,\"Válido\",\"Inválido\")),\"\")","v":""},{"$f":"IF(E256<>0,(IF(lfValidaCEP(E256)=TRUE,\"Válido\",\"Inválido\")),\"\")","v":""}]
[null,null,null,null,null,null,null,null,null,null,null,"",{"$f":"IF(C257<>0,(IF(lfValidaCNPJ(C257)=TRUE,\"Válido\",\"Inválido\")),\"\")","v":""},{"$f":"IF(E257<>0,(IF(lfValidaCEP(E257)=TRUE,\"Válido\",\"Inválido\")),\"\")","v":""}]
[null,null,null,null,null,null,null,null,null,null,null,"",{"$f":"IF(C258<>0,(IF(lfValidaCNPJ(C258)=TRUE,\"Válido\",\"Inválido\")),\"\")","v":""},{"$f":"IF(E258<>0,(IF(lfValidaCEP(E258)=TRUE,\"Válido\",\"Inválido\")),\"\")","v":""}]
[null,null,null,null,null,null,null,null,null,null,null,"",{"$f":"IF(C259<>0,(IF(lfValidaCNPJ(C259)=TRUE,\"Válido\",\"Inválido\")),\"\")","v":""},{"$f":"IF(E259<>0,(IF(lfValidaCEP(E259)=TRUE,\"Válido\",\"Inválido\")),\"\")","v":""}]
[null,null,null,null,null,null,null,null,null,null,null,"",{"$f":"IF(C260<>0,(IF(lfValidaCNPJ(C260)=TRUE,\"Válido\",\"Inválido\")),\"\")","v":""},{"$f":"IF(E260<>0,(IF(lfValidaCEP(E260)=TRUE,\"Válido\",\"Inválido\")),\"\")","v":""}]
[null,null,null,null,null,null,null,null,null,null,null,"",{"$f":"IF(C261<>0,(IF(lfValidaCNPJ(C261)=TRUE,\"Válido\",\"Inválido\")),\"\")","v":""},{"$f":"IF(E261<>0,(IF(lfValidaCEP(E261)=TRUE,\"Válido\",\"Inválido\")),\"\")","v":""}]
[null,null,null,null,null,null,null,null,null,null,null,"",{"$f":"IF(C262<>0,(IF(lfValidaCNPJ(C262)=TRUE,\"Válido\",\"Inválido\")),\"\")","v":""},{"$f":"IF(E262<>0,(IF(lfValidaCEP(E262)=TRUE,\"Válido\",\"Inválido\")),\"\")","v":""}]
[null,null,null,null,null,null,null,null,null,null,null,"",{"$f":"IF(C263<>0,(IF(lfValidaCNPJ(C263)=TRUE,\"Válido\",\"Inválido\")),\"\")","v":""},{"$f":"IF(E263<>0,(IF(lfValidaCEP(E263)=TRUE,\"Válido\",\"Inválido\")),\"\")","v":""}]
[null,null,null,null,null,null,null,null,null,null,null,"",{"$f":"IF(C264<>0,(IF(lfValidaCNPJ(C264)=TRUE,\"Válido\",\"Inválido\")),\"\")","v":""},{"$f":"IF(E264<>0,(IF(lfValidaCEP(E264)=TRUE,\"Válido\",\"Inválido\")),\"\")","v":""}]
[null,null,null,null,null,null,null,null,null,null,null,"",{"$f":"IF(C265<>0,(IF(lfValidaCNPJ(C265)=TRUE,\"Válido\",\"Inválido\")),\"\")","v":""},{"$f":"IF(E265<>0,(IF(lfValidaCEP(E265)=TRUE,\"Válido\",\"Inválido\")),\"\")","v":""}]
[null,null,null,null,null,null,null,null,null,null,null,"",{"$f":"IF(C266<>0,(IF(lfValidaCNPJ(C266)=TRUE,\"Válido\",\"Inválido\")),\"\")","v":""},{"$f":"IF(E266<>0,(IF(lfValidaCEP(E266)=TRUE,\"Válido\",\"Inválido\")),\"\")","v":""}]
[null,null,null,null,null,null,null,null,null,null,null,"",{"$f":"IF(C267<>0,(IF(lfValidaCNPJ(C267)=TRUE,\"Válido\",\"Inválido\")),\"\")","v":""},{"$f":"IF(E267<>0,(IF(lfValidaCEP(E267)=TRUE,\"Válido\",\"Inválido\")),\"\")","v":""}]
[null,null,null,null,null,null,null,null,null,null,null,"",{"$f":"IF(C268<>0,(IF(lfValidaCNPJ(C268)=TRUE,\"Válido\",\"Inválido\")),\"\")","v":""},{"$f":"IF(E268<>0,(IF(lfValidaCEP(E268)=TRUE,\"Válido\",\"Inválido\")),\"\")","v":""}]
[null,null,null,null,null,null,null,null,null,null,null,"",{"$f":"IF(C269<>0,(IF(lfValidaCNPJ(C269)=TRUE,\"Válido\",\"Inválido\")),\"\")","v":""},{"$f":"IF(E269<>0,(IF(lfValidaCEP(E269)=TRUE,\"Válido\",\"Inválido\")),\"\")","v":""}]
[null,null,null,null,null,null,null,null,null,null,null,{"$f":"IF(COUNTA(B270:J270)<>0,IF(AND(B270<>0,C270<>0,D270<>0,E270<>0,F270<>0,G270<>0,H270<>0,I270<>0,J270<>0),\"Completo\",\"Incompleto\"),\"\")","v":""},{"$f":"IF(C270<>0,(IF(lfValidaCNPJ(C270)=TRUE,\"Válido\",\"Inválido\")),\"\")","v":""},{"$f":"IF(E270<>0,(IF(lfValidaCEP(E270)=TRUE,\"Válido\",\"Inválido\")),\"\")","v":""}]
[null,null,null,null,null,null,null,null,null,null,null,"",{"$f":"IF(C271<>0,(IF(lfValidaCNPJ(C271)=TRUE,\"Válido\",\"Inválido\")),\"\")","v":""},{"$f":"IF(E271<>0,(IF(lfValidaCEP(E271)=TRUE,\"Válido\",\"Inválido\")),\"\")","v":""}]
[null,null,null,null,null,null,null,null,null,null,null,"",{"$f":"IF(C272<>0,(IF(lfValidaCNPJ(C272)=TRUE,\"Válido\",\"Inválido\")),\"\")","v":""},{"$f":"IF(E272<>0,(IF(lfValidaCEP(E272)=TRUE,\"Válido\",\"Inválido\")),\"\")","v":""}]
[null,null,null,null,null,null,null,null,null,null,null,"",{"$f":"IF(C273<>0,(IF(lfValidaCNPJ(C273)=TRUE,\"Válido\",\"Inválido\")),\"\")","v":""},{"$f":"IF(E273<>0,(IF(lfValidaCEP(E273)=TRUE,\"Válido\",\"Inválido\")),\"\")","v":""}]
[null,null,null,null,null,null,null,null,null,null,null,"",{"$f":"IF(C274<>0,(IF(lfValidaCNPJ(C274)=TRUE,\"Válido\",\"Inválido\")),\"\")","v":""},{"$f":"IF(E274<>0,(IF(lfValidaCEP(E274)=TRUE,\"Válido\",\"Inválido\")),\"\")","v":""}]
[null,null,null,null,null,null,null,null,null,null,null,"",{"$f":"IF(C275<>0,(IF(lfValidaCNPJ(C275)=TRUE,\"Válido\",\"Inválido\")),\"\")","v":""},{"$f":"IF(E275<>0,(IF(lfValidaCEP(E275)=TRUE,\"Válido\",\"Inválido\")),\"\")","v":""}]
[null,null,null,null,null,null,null,null,null,null,null,"",{"$f":"IF(C276<>0,(IF(lfValidaCNPJ(C276)=TRUE,\"Válido\",\"Inválido\")),\"\")","v":""},{"$f":"IF(E276<>0,(IF(lfValidaCEP(E276)=TRUE,\"Válido\",\"Inválido\")),\"\")","v":""}]
[null,null,null,null,null,null,null,null,null,null,null,"",{"$f":"IF(C277<>0,(IF(lfValidaCNPJ(C277)=TRUE,\"Válido\",\"Inválido\")),\"\")","v":""},{"$f":"IF(E277<>0,(IF(lfValidaCEP(E277)=TRUE,\"Válido\",\"Inválido\")),\"\")","v":""}]
[null,null,null,null,null,null,null,null,null,null,null,"",{"$f":"IF(C278<>0,(IF(lfValidaCNPJ(C278)=TRUE,\"Válido\",\"Inválido\")),\"\")","v":""},{"$f":"IF(E278<>0,(IF(lfValidaCEP(E278)=TRUE,\"Válido\",\"Inválido\")),\"\")","v":""}]
[null,null,null,null,null,null,null,null,null,null,null,"",{"$f":"IF(C279<>0,(IF(lfValidaCNPJ(C279)=TRUE,\"Válido\",\"Inválido\")),\"\")","v":""},{"$f":"IF(E279<>0,(IF(lfValidaCEP(E279)=TRUE,\"Válido\",\"Inválido\")),\"\")","v":""}]
[null,null,null,null,null,null,null,null,null,null,null,"",{"$f":"IF(C280<>0,(IF(lfValidaCNPJ(C280)=TRUE,\"Válido\",\"Inválido\")),\"\")","v":""},{"$f":"IF(E280<>0,(IF(lfValidaCEP(E280)=TRUE,\"Válido\",\"Inválido\")),\"\")","v":""}]
[null,null,null,null,null,null,null,null,null,null,null,"",{"$f":"IF(C281<>0,(IF(lfValidaCNPJ(C281)=TRUE,\"Válido\",\"Inválido\")),\"\")","v":""},{"$f":"IF(E281<>0,(IF(lfValidaCEP(E281)=TRUE,\"Válido\",\"Inválido\")),\"\")","v":""}]
[null,null,null,null,null,null,null,null,null,null,null,"",{"$f":"IF(C282<>0,(IF(lfValidaCNPJ(C282)=TRUE,\"Válido\",\"Inválido\")),\"\")","v":""},{"$f":"IF(E282<>0,(IF(lfValidaCEP(E282)=TRUE,\"Válido\",\"Inválido\")),\"\")","v":""}]
[null,null,null,null,null,null,null,null,null,null,null,"",{"$f":"IF(C283<>0,(IF(lfValidaCNPJ(C283)=TRUE,\"Válido\",\"Inválido\")),\"\")","v":""},{"$f":"IF(E283<>0,(IF(lfValidaCEP(E283)=TRUE,\"Válido\",\"Inválido\")),\"\")","v":""}]
[null,null,null,null,null,null,null,null,null,null,null,"",{"$f":"IF(C284<>0,(IF(lfValidaCNPJ(C284)=TRUE,\"Válido\",\"Inválido\")),\"\")","v":""},{"$f":"IF(E284<>0,(IF(lfValidaCEP(E284)=TRUE,\"Válido\",\"Inválido\")),\"\")","v":""}]
[null,null,null,null,null,null,null,null,null,null,null,"",{"$f":"IF(C285<>0,(IF(lfValidaCNPJ(C285)=TRUE,\"Válido\",\"Inválido\")),\"\")","v":""},{"$f":"IF(E285<>0,(IF(lfValidaCEP(E285)=TRUE,\"Válido\",\"Inválido\")),\"\")","v":""}]
[null,null,null,null,null,null,null,null,null,null,null,"",{"$f":"IF(C286<>0,(IF(lfValidaCNPJ(C286)=TRUE,\"Válido\",\"Inválido\")),\"\")","v":""},{"$f":"IF(E286<>0,(IF(lfValidaCEP(E286)=TRUE,\"Válido\",\"Inválido\")),\"\")","v":""}]
[null,null,null,null,null,null,null,null,null,null,null,"",{"$f":"IF(C287<>0,(IF(lfValidaCNPJ(C287)=TRUE,\"Válido\",\"Inválido\")),\"\")","v":""},{"$f":"IF(E287<>0,(IF(lfValidaCEP(E287)=TRUE,\"Válido\",\"Inválido\")),\"\")","v":""}]
[null,null,null,null,null,null,null,null,null,null,null,"",{"$f":"IF(C288<>0,(IF(lfValidaCNPJ(C288)=TRUE,\"Válido\",\"Inválido\")),\"\")","v":""},{"$f":"IF(E288<>0,(IF(lfValidaCEP(E288)=TRUE,\"Válido\",\"Inválido\")),\"\")","v":""}]
[null,null,null,null,null,null,null,null,null,null,null,"",{"$f":"IF(C289<>0,(IF(lfValidaCNPJ(C289)=TRUE,\"Válido\",\"Inválido\")),\"\")","v":""},{"$f":"IF(E289<>0,(IF(lfValidaCEP(E289)=TRUE,\"Válido\",\"Inválido\")),\"\")","v":""}]
[null,null,null,null,null,null,null,null,null,null,null,"",{"$f":"IF(C290<>0,(IF(lfValidaCNPJ(C290)=TRUE,\"Válido\",\"Inválido\")),\"\")","v":""},{"$f":"IF(E290<>0,(IF(lfValidaCEP(E290)=TRUE,\"Válido\",\"Inválido\")),\"\")","v":""}]
[null,null,null,null,null,null,null,null,null,null,null,"",{"$f":"IF(C291<>0,(IF(lfValidaCNPJ(C291)=TRUE,\"Válido\",\"Inválido\")),\"\")","v":""},{"$f":"IF(E291<>0,(IF(lfValidaCEP(E291)=TRUE,\"Válido\",\"Inválido\")),\"\")","v":""}]
[null,null,null,null,null,null,null,null,null,null,null,"",{"$f":"IF(C292<>0,(IF(lfValidaCNPJ(C292)=TRUE,\"Válido\",\"Inválido\")),\"\")","v":""},{"$f":"IF(E292<>0,(IF(lfValidaCEP(E292)=TRUE,\"Válido\",\"Inválido\")),\"\")","v":""}]
[null,null,null,null,null,null,null,null,null,null,null,"",{"$f":"IF(C293<>0,(IF(lfValidaCNPJ(C293)=TRUE,\"Válido\",\"Inválido\")),\"\")","v":""},{"$f":"IF(E293<>0,(IF(lfValidaCEP(E293)=TRUE,\"Válido\",\"Inválido\")),\"\")","v":""}]
[null,null,null,null,null,null,null,null,null,null,null,"",{"$f":"IF(C294<>0,(IF(lfValidaCNPJ(C294)=TRUE,\"Válido\",\"Inválido\")),\"\")","v":""},{"$f":"IF(E294<>0,(IF(lfValidaCEP(E294)=TRUE,\"Válido\",\"Inválido\")),\"\")","v":""}]
[null,null,null,null,null,null,null,null,null,null,null,"",{"$f":"IF(C295<>0,(IF(lfValidaCNPJ(C295)=TRUE,\"Válido\",\"Inválido\")),\"\")","v":""},{"$f":"IF(E295<>0,(IF(lfValidaCEP(E295)=TRUE,\"Válido\",\"Inválido\")),\"\")","v":""}]
[null,null,null,null,null,null,null,null,null,null,null,"",{"$f":"IF(C296<>0,(IF(lfValidaCNPJ(C296)=TRUE,\"Válido\",\"Inválido\")),\"\")","v":""},{"$f":"IF(E296<>0,(IF(lfValidaCEP(E296)=TRUE,\"Válido\",\"Inválido\")),\"\")","v":""}]
[null,null,null,null,null,null,null,null,null,null,null,"",{"$f":"IF(C297<>0,(IF(lfValidaCNPJ(C297)=TRUE,\"Válido\",\"Inválido\")),\"\")","v":""},{"$f":"IF(E297<>0,(IF(lfValidaCEP(E297)=TRUE,\"Válido\",\"Inválido\")),\"\")","v":""}]
[null,null,null,null,null,null,null,null,null,null,null,"",{"$f":"IF(C298<>0,(IF(lfValidaCNPJ(C298)=TRUE,\"Válido\",\"Inválido\")),\"\")","v":""},{"$f":"IF(E298<>0,(IF(lfValidaCEP(E298)=TRUE,\"Válido\",\"Inválido\")),\"\")","v":""}]
[null,null,null,null,null,null,null,null,null,null,null,"",{"$f":"IF(C299<>0,(IF(lfValidaCNPJ(C299)=TRUE,\"Válido\",\"Inválido\")),\"\")","v":""},{"$f":"IF(E299<>0,(IF(lfValidaCEP(E299)=TRUE,\"Válido\",\"Inválido\")),\"\")","v":""}]
[null,null,null,null,null,null,null,null,null,null,null,"",{"$f":"IF(C300<>0,(IF(lfValidaCNPJ(C300)=TRUE,\"Válido\",\"Inválido\")),\"\")","v":""},{"$f":"IF(E300<>0,(IF(lfValidaCEP(E300)=TRUE,\"Válido\",\"Inválido\")),\"\")","v":""}]
[null,null,null,null,null,null,null,null,null,null,null,"",{"$f":"IF(C301<>0,(IF(lfValidaCNPJ(C301)=TRUE,\"Válido\",\"Inválido\")),\"\")","v":""},{"$f":"IF(E301<>0,(IF(lfValidaCEP(E301)=TRUE,\"Válido\",\"Inválido\")),\"\")","v":""}]
[null,null,null,null,null,null,null,null,null,null,null,"",{"$f":"IF(C302<>0,(IF(lfValidaCNPJ(C302)=TRUE,\"Válido\",\"Inválido\")),\"\")","v":""},{"$f":"IF(E302<>0,(IF(lfValidaCEP(E302)=TRUE,\"Válido\",\"Inválido\")),\"\")","v":""}]
[null,null,null,null,null,null,null,null,null,null,null,"",{"$f":"IF(C303<>0,(IF(lfValidaCNPJ(C303)=TRUE,\"Válido\",\"Inválido\")),\"\")","v":""},{"$f":"IF(E303<>0,(IF(lfValidaCEP(E303)=TRUE,\"Válido\",\"Inválido\")),\"\")","v":""}]
[null,null,null,null,null,null,null,null,null,null,null,"",{"$f":"IF(C304<>0,(IF(lfValidaCNPJ(C304)=TRUE,\"Válido\",\"Inválido\")),\"\")","v":""},{"$f":"IF(E304<>0,(IF(lfValidaCEP(E304)=TRUE,\"Válido\",\"Inválido\")),\"\")","v":""}]
[null,null,null,null,null,null,null,null,null,null,null,"",{"$f":"IF(C305<>0,(IF(lfValidaCNPJ(C305)=TRUE,\"Válido\",\"Inválido\")),\"\")","v":""},{"$f":"IF(E305<>0,(IF(lfValidaCEP(E305)=TRUE,\"Válido\",\"Inválido\")),\"\")","v":""}]
[null,null,null,null,null,null,null,null,null,null,null,"",{"$f":"IF(C306<>0,(IF(lfValidaCNPJ(C306)=TRUE,\"Válido\",\"Inválido\")),\"\")","v":""},{"$f":"IF(E306<>0,(IF(lfValidaCEP(E306)=TRUE,\"Válido\",\"Inválido\")),\"\")","v":""}]
[null,null,null,null,null,null,null,null,null,null,null,"",{"$f":"IF(C307<>0,(IF(lfValidaCNPJ(C307)=TRUE,\"Válido\",\"Inválido\")),\"\")","v":""},{"$f":"IF(E307<>0,(IF(lfValidaCEP(E307)=TRUE,\"Válido\",\"Inválido\")),\"\")","v":""}]
[null,null,null,null,null,null,null,null,null,null,null,"",{"$f":"IF(C308<>0,(IF(lfValidaCNPJ(C308)=TRUE,\"Válido\",\"Inválido\")),\"\")","v":""},{"$f":"IF(E308<>0,(IF(lfValidaCEP(E308)=TRUE,\"Válido\",\"Inválido\")),\"\")","v":""}]
[null,null,null,null,null,null,null,null,null,null,null,"",{"$f":"IF(C309<>0,(IF(lfValidaCNPJ(C309)=TRUE,\"Válido\",\"Inválido\")),\"\")","v":""},{"$f":"IF(E309<>0,(IF(lfValidaCEP(E309)=TRUE,\"Válido\",\"Inválido\")),\"\")","v":""}]
[null,null,null,null,null,null,null,null,null,null,null,"",{"$f":"IF(C310<>0,(IF(lfValidaCNPJ(C310)=TRUE,\"Válido\",\"Inválido\")),\"\")","v":""},{"$f":"IF(E310<>0,(IF(lfValidaCEP(E310)=TRUE,\"Válido\",\"Inválido\")),\"\")","v":""}]
[null,null,null,null,null,null,null,null,null,null,null,"",{"$f":"IF(C311<>0,(IF(lfValidaCNPJ(C311)=TRUE,\"Válido\",\"Inválido\")),\"\")","v":""},{"$f":"IF(E311<>0,(IF(lfValidaCEP(E311)=TRUE,\"Válido\",\"Inválido\")),\"\")","v":""}]
[null,null,null,null,null,null,null,null,null,null,null,"",{"$f":"IF(C312<>0,(IF(lfValidaCNPJ(C312)=TRUE,\"Válido\",\"Inválido\")),\"\")","v":""},{"$f":"IF(E312<>0,(IF(lfValidaCEP(E312)=TRUE,\"Válido\",\"Inválido\")),\"\")","v":""}]
[null,null,null,null,null,null,null,null,null,null,null,"",{"$f":"IF(C313<>0,(IF(lfValidaCNPJ(C313)=TRUE,\"Válido\",\"Inválido\")),\"\")","v":""},{"$f":"IF(E313<>0,(IF(lfValidaCEP(E313)=TRUE,\"Válido\",\"Inválido\")),\"\")","v":""}]
[null,null,null,null,null,null,null,null,null,null,null,"",{"$f":"IF(C314<>0,(IF(lfValidaCNPJ(C314)=TRUE,\"Válido\",\"Inválido\")),\"\")","v":""},{"$f":"IF(E314<>0,(IF(lfValidaCEP(E314)=TRUE,\"Válido\",\"Inválido\")),\"\")","v":""}]
[null,null,null,null,null,null,null,null,null,null,null,"",{"$f":"IF(C315<>0,(IF(lfValidaCNPJ(C315)=TRUE,\"Válido\",\"Inválido\")),\"\")","v":""},{"$f":"IF(E315<>0,(IF(lfValidaCEP(E315)=TRUE,\"Válido\",\"Inválido\")),\"\")","v":""}]
[null,null,null,null,null,null,null,null,null,null,null,"",{"$f":"IF(C316<>0,(IF(lfValidaCNPJ(C316)=TRUE,\"Válido\",\"Inválido\")),\"\")","v":""},{"$f":"IF(E316<>0,(IF(lfValidaCEP(E316)=TRUE,\"Válido\",\"Inválido\")),\"\")","v":""}]
[null,null,null,null,null,null,null,null,null,null,null,"",{"$f":"IF(C317<>0,(IF(lfValidaCNPJ(C317)=TRUE,\"Válido\",\"Inválido\")),\"\")","v":""},{"$f":"IF(E317<>0,(IF(lfValidaCEP(E317)=TRUE,\"Válido\",\"Inválido\")),\"\")","v":""}]
[null,null,null,null,null,null,null,null,null,null,null,"",{"$f":"IF(C318<>0,(IF(lfValidaCNPJ(C318)=TRUE,\"Válido\",\"Inválido\")),\"\")","v":""},{"$f":"IF(E318<>0,(IF(lfValidaCEP(E318)=TRUE,\"Válido\",\"Inválido\")),\"\")","v":""}]
[null,null,null,null,null,null,null,null,null,null,null,"",{"$f":"IF(C319<>0,(IF(lfValidaCNPJ(C319)=TRUE,\"Válido\",\"Inválido\")),\"\")","v":""},{"$f":"IF(E319<>0,(IF(lfValidaCEP(E319)=TRUE,\"Válido\",\"Inválido\")),\"\")","v":""}]
[null,null,null,null,null,null,null,null,null,null,null,"",{"$f":"IF(C320<>0,(IF(lfValidaCNPJ(C320)=TRUE,\"Válido\",\"Inválido\")),\"\")","v":""},{"$f":"IF(E320<>0,(IF(lfValidaCEP(E320)=TRUE,\"Válido\",\"Inválido\")),\"\")","v":""}]
[null,null,null,null,null,null,null,null,null,null,null,"",{"$f":"IF(C321<>0,(IF(lfValidaCNPJ(C321)=TRUE,\"Válido\",\"Inválido\")),\"\")","v":""},{"$f":"IF(E321<>0,(IF(lfValidaCEP(E321)=TRUE,\"Válido\",\"Inválido\")),\"\")","v":""}]
[null,null,null,null,null,null,null,null,null,null,null,"",{"$f":"IF(C322<>0,(IF(lfValidaCNPJ(C322)=TRUE,\"Válido\",\"Inválido\")),\"\")","v":""},{"$f":"IF(E322<>0,(IF(lfValidaCEP(E322)=TRUE,\"Válido\",\"Inválido\")),\"\")","v":""}]
[null,null,null,null,null,null,null,null,null,null,null,"",{"$f":"IF(C323<>0,(IF(lfValidaCNPJ(C323)=TRUE,\"Válido\",\"Inválido\")),\"\")","v":""},{"$f":"IF(E323<>0,(IF(lfValidaCEP(E323)=TRUE,\"Válido\",\"Inválido\")),\"\")","v":""}]
[null,null,null,null,null,null,null,null,null,null,null,"",{"$f":"IF(C324<>0,(IF(lfValidaCNPJ(C324)=TRUE,\"Válido\",\"Inválido\")),\"\")","v":""},{"$f":"IF(E324<>0,(IF(lfValidaCEP(E324)=TRUE,\"Válido\",\"Inválido\")),\"\")","v":""}]
[null,null,null,null,null,null,null,null,null,null,null,"",{"$f":"IF(C325<>0,(IF(lfValidaCNPJ(C325)=TRUE,\"Válido\",\"Inválido\")),\"\")","v":""},{"$f":"IF(E325<>0,(IF(lfValidaCEP(E325)=TRUE,\"Válido\",\"Inválido\")),\"\")","v":""}]
[null,null,null,null,null,null,null,null,null,null,null,"",{"$f":"IF(C326<>0,(IF(lfValidaCNPJ(C326)=TRUE,\"Válido\",\"Inválido\")),\"\")","v":""},{"$f":"IF(E326<>0,(IF(lfValidaCEP(E326)=TRUE,\"Válido\",\"Inválido\")),\"\")","v":""}]
[null,null,null,null,null,null,null,null,null,null,null,"",{"$f":"IF(C327<>0,(IF(lfValidaCNPJ(C327)=TRUE,\"Válido\",\"Inválido\")),\"\")","v":""},{"$f":"IF(E327<>0,(IF(lfValidaCEP(E327)=TRUE,\"Válido\",\"Inválido\")),\"\")","v":""}]
[null,null,null,null,null,null,null,null,null,null,null,"",{"$f":"IF(C328<>0,(IF(lfValidaCNPJ(C328)=TRUE,\"Válido\",\"Inválido\")),\"\")","v":""},{"$f":"IF(E328<>0,(IF(lfValidaCEP(E328)=TRUE,\"Válido\",\"Inválido\")),\"\")","v":""}]
[null,null,null,null,null,null,null,null,null,null,null,"",{"$f":"IF(C329<>0,(IF(lfValidaCNPJ(C329)=TRUE,\"Válido\",\"Inválido\")),\"\")","v":""},{"$f":"IF(E329<>0,(IF(lfValidaCEP(E329)=TRUE,\"Válido\",\"Inválido\")),\"\")","v":""}]
[null,null,null,null,null,null,null,null,null,null,null,"",{"$f":"IF(C330<>0,(IF(lfValidaCNPJ(C330)=TRUE,\"Válido\",\"Inválido\")),\"\")","v":""},{"$f":"IF(E330<>0,(IF(lfValidaCEP(E330)=TRUE,\"Válido\",\"Inválido\")),\"\")","v":""}]
[null,null,null,null,null,null,null,null,null,null,null,"",{"$f":"IF(C331<>0,(IF(lfValidaCNPJ(C331)=TRUE,\"Válido\",\"Inválido\")),\"\")","v":""},{"$f":"IF(E331<>0,(IF(lfValidaCEP(E331)=TRUE,\"Válido\",\"Inválido\")),\"\")","v":""}]
[null,null,null,null,null,null,null,null,null,null,null,"",{"$f":"IF(C332<>0,(IF(lfValidaCNPJ(C332)=TRUE,\"Válido\",\"Inválido\")),\"\")","v":""},{"$f":"IF(E332<>0,(IF(lfValidaCEP(E332)=TRUE,\"Válido\",\"Inválido\")),\"\")","v":""}]
[null,null,null,null,null,null,null,null,null,null,null,"",{"$f":"IF(C333<>0,(IF(lfValidaCNPJ(C333)=TRUE,\"Válido\",\"Inválido\")),\"\")","v":""},{"$f":"IF(E333<>0,(IF(lfValidaCEP(E333)=TRUE,\"Válido\",\"Inválido\")),\"\")","v":""}]
[null,null,null,null,null,null,null,null,null,null,null,{"$f":"IF(COUNTA(B334:J334)<>0,IF(AND(B334<>0,C334<>0,D334<>0,E334<>0,F334<>0,G334<>0,H334<>0,I334<>0,J334<>0),\"Completo\",\"Incompleto\"),\"\")","v":""},{"$f":"IF(C334<>0,(IF(lfValidaCNPJ(C334)=TRUE,\"Válido\",\"Inválido\")),\"\")","v":""},{"$f":"IF(E334<>0,(IF(lfValidaCEP(E334)=TRUE,\"Válido\",\"Inválido\")),\"\")","v":""}]
[null,null,null,null,null,null,null,null,null,null,null,"",{"$f":"IF(C335<>0,(IF(lfValidaCNPJ(C335)=TRUE,\"Válido\",\"Inválido\")),\"\")","v":""},{"$f":"IF(E335<>0,(IF(lfValidaCEP(E335)=TRUE,\"Válido\",\"Inválido\")),\"\")","v":""}]
[null,null,null,null,null,null,null,null,null,null,null,"",{"$f":"IF(C336<>0,(IF(lfValidaCNPJ(C336)=TRUE,\"Válido\",\"Inválido\")),\"\")","v":""},{"$f":"IF(E336<>0,(IF(lfValidaCEP(E336)=TRUE,\"Válido\",\"Inválido\")),\"\")","v":""}]
[null,null,null,null,null,null,null,null,null,null,null,"",{"$f":"IF(C337<>0,(IF(lfValidaCNPJ(C337)=TRUE,\"Válido\",\"Inválido\")),\"\")","v":""},{"$f":"IF(E337<>0,(IF(lfValidaCEP(E337)=TRUE,\"Válido\",\"Inválido\")),\"\")","v":""}]
[null,null,null,null,null,null,null,null,null,null,null,"",{"$f":"IF(C338<>0,(IF(lfValidaCNPJ(C338)=TRUE,\"Válido\",\"Inválido\")),\"\")","v":""},{"$f":"IF(E338<>0,(IF(lfValidaCEP(E338)=TRUE,\"Válido\",\"Inválido\")),\"\")","v":""}]
[null,null,null,null,null,null,null,null,null,null,null,"",{"$f":"IF(C339<>0,(IF(lfValidaCNPJ(C339)=TRUE,\"Válido\",\"Inválido\")),\"\")","v":""},{"$f":"IF(E339<>0,(IF(lfValidaCEP(E339)=TRUE,\"Válido\",\"Inválido\")),\"\")","v":""}]
[null,null,null,null,null,null,null,null,null,null,null,"",{"$f":"IF(C340<>0,(IF(lfValidaCNPJ(C340)=TRUE,\"Válido\",\"Inválido\")),\"\")","v":""},{"$f":"IF(E340<>0,(IF(lfValidaCEP(E340)=TRUE,\"Válido\",\"Inválido\")),\"\")","v":""}]
[null,null,null,null,null,null,null,null,null,null,null,"",{"$f":"IF(C341<>0,(IF(lfValidaCNPJ(C341)=TRUE,\"Válido\",\"Inválido\")),\"\")","v":""},{"$f":"IF(E341<>0,(IF(lfValidaCEP(E341)=TRUE,\"Válido\",\"Inválido\")),\"\")","v":""}]
[null,null,null,null,null,null,null,null,null,null,null,"",{"$f":"IF(C342<>0,(IF(lfValidaCNPJ(C342)=TRUE,\"Válido\",\"Inválido\")),\"\")","v":""},{"$f":"IF(E342<>0,(IF(lfValidaCEP(E342)=TRUE,\"Válido\",\"Inválido\")),\"\")","v":""}]
[null,null,null,null,null,null,null,null,null,null,null,"",{"$f":"IF(C343<>0,(IF(lfValidaCNPJ(C343)=TRUE,\"Válido\",\"Inválido\")),\"\")","v":""},{"$f":"IF(E343<>0,(IF(lfValidaCEP(E343)=TRUE,\"Válido\",\"Inválido\")),\"\")","v":""}]
[null,null,null,null,null,null,null,null,null,null,null,"",{"$f":"IF(C344<>0,(IF(lfValidaCNPJ(C344)=TRUE,\"Válido\",\"Inválido\")),\"\")","v":""},{"$f":"IF(E344<>0,(IF(lfValidaCEP(E344)=TRUE,\"Válido\",\"Inválido\")),\"\")","v":""}]
[null,null,null,null,null,null,null,null,null,null,null,"",{"$f":"IF(C345<>0,(IF(lfValidaCNPJ(C345)=TRUE,\"Válido\",\"Inválido\")),\"\")","v":""},{"$f":"IF(E345<>0,(IF(lfValidaCEP(E345)=TRUE,\"Válido\",\"Inválido\")),\"\")","v":""}]
[null,null,null,null,null,null,null,null,null,null,null,"",{"$f":"IF(C346<>0,(IF(lfValidaCNPJ(C346)=TRUE,\"Válido\",\"Inválido\")),\"\")","v":""},{"$f":"IF(E346<>0,(IF(lfValidaCEP(E346)=TRUE,\"Válido\",\"Inválido\")),\"\")","v":""}]
[null,null,null,null,null,null,null,null,null,null,null,"",{"$f":"IF(C347<>0,(IF(lfValidaCNPJ(C347)=TRUE,\"Válido\",\"Inválido\")),\"\")","v":""},{"$f":"IF(E347<>0,(IF(lfValidaCEP(E347)=TRUE,\"Válido\",\"Inválido\")),\"\")","v":""}]
[null,null,null,null,null,null,null,null,null,null,null,"",{"$f":"IF(C348<>0,(IF(lfValidaCNPJ(C348)=TRUE,\"Válido\",\"Inválido\")),\"\")","v":""},{"$f":"IF(E348<>0,(IF(lfValidaCEP(E348)=TRUE,\"Válido\",\"Inválido\")),\"\")","v":""}]
[null,null,null,null,null,null,null,null,null,null,null,"",{"$f":"IF(C349<>0,(IF(lfValidaCNPJ(C349)=TRUE,\"Válido\",\"Inválido\")),\"\")","v":""},{"$f":"IF(E349<>0,(IF(lfValidaCEP(E349)=TRUE,\"Válido\",\"Inválido\")),\"\")","v":""}]
[null,null,null,null,null,null,null,null,null,null,null,"",{"$f":"IF(C350<>0,(IF(lfValidaCNPJ(C350)=TRUE,\"Válido\",\"Inválido\")),\"\")","v":""},{"$f":"IF(E350<>0,(IF(lfValidaCEP(E350)=TRUE,\"Válido\",\"Inválido\")),\"\")","v":""}]
[null,null,null,null,null,null,null,null,null,null,null,"",{"$f":"IF(C351<>0,(IF(lfValidaCNPJ(C351)=TRUE,\"Válido\",\"Inválido\")),\"\")","v":""},{"$f":"IF(E351<>0,(IF(lfValidaCEP(E351)=TRUE,\"Válido\",\"Inválido\")),\"\")","v":""}]
[null,null,null,null,null,null,null,null,null,null,null,"",{"$f":"IF(C352<>0,(IF(lfValidaCNPJ(C352)=TRUE,\"Válido\",\"Inválido\")),\"\")","v":""},{"$f":"IF(E352<>0,(IF(lfValidaCEP(E352)=TRUE,\"Válido\",\"Inválido\")),\"\")","v":""}]
[null,null,null,null,null,null,null,null,null,null,null,"",{"$f":"IF(C353<>0,(IF(lfValidaCNPJ(C353)=TRUE,\"Válido\",\"Inválido\")),\"\")","v":""},{"$f":"IF(E353<>0,(IF(lfValidaCEP(E353)=TRUE,\"Válido\",\"Inválido\")),\"\")","v":""}]
[null,null,null,null,null,null,null,null,null,null,null,"",{"$f":"IF(C354<>0,(IF(lfValidaCNPJ(C354)=TRUE,\"Válido\",\"Inválido\")),\"\")","v":""},{"$f":"IF(E354<>0,(IF(lfValidaCEP(E354)=TRUE,\"Válido\",\"Inválido\")),\"\")","v":""}]
[null,null,null,null,null,null,null,null,null,null,null,"",{"$f":"IF(C355<>0,(IF(lfValidaCNPJ(C355)=TRUE,\"Válido\",\"Inválido\")),\"\")","v":""},{"$f":"IF(E355<>0,(IF(lfValidaCEP(E355)=TRUE,\"Válido\",\"Inválido\")),\"\")","v":""}]
[null,null,null,null,null,null,null,null,null,null,null,"",{"$f":"IF(C356<>0,(IF(lfValidaCNPJ(C356)=TRUE,\"Válido\",\"Inválido\")),\"\")","v":""},{"$f":"IF(E356<>0,(IF(lfValidaCEP(E356)=TRUE,\"Válido\",\"Inválido\")),\"\")","v":""}]
[null,null,null,null,null,null,null,null,null,null,null,"",{"$f":"IF(C357<>0,(IF(lfValidaCNPJ(C357)=TRUE,\"Válido\",\"Inválido\")),\"\")","v":""},{"$f":"IF(E357<>0,(IF(lfValidaCEP(E357)=TRUE,\"Válido\",\"Inválido\")),\"\")","v":""}]
[null,null,null,null,null,null,null,null,null,null,null,"",{"$f":"IF(C358<>0,(IF(lfValidaCNPJ(C358)=TRUE,\"Válido\",\"Inválido\")),\"\")","v":""},{"$f":"IF(E358<>0,(IF(lfValidaCEP(E358)=TRUE,\"Válido\",\"Inválido\")),\"\")","v":""}]
[null,null,null,null,null,null,null,null,null,null,null,"",{"$f":"IF(C359<>0,(IF(lfValidaCNPJ(C359)=TRUE,\"Válido\",\"Inválido\")),\"\")","v":""},{"$f":"IF(E359<>0,(IF(lfValidaCEP(E359)=TRUE,\"Válido\",\"Inválido\")),\"\")","v":""}]
[null,null,null,null,null,null,null,null,null,null,null,"",{"$f":"IF(C360<>0,(IF(lfValidaCNPJ(C360)=TRUE,\"Válido\",\"Inválido\")),\"\")","v":""},{"$f":"IF(E360<>0,(IF(lfValidaCEP(E360)=TRUE,\"Válido\",\"Inválido\")),\"\")","v":""}]
[null,null,null,null,null,null,null,null,null,null,null,"",{"$f":"IF(C361<>0,(IF(lfValidaCNPJ(C361)=TRUE,\"Válido\",\"Inválido\")),\"\")","v":""},{"$f":"IF(E361<>0,(IF(lfValidaCEP(E361)=TRUE,\"Válido\",\"Inválido\")),\"\")","v":""}]
[null,null,null,null,null,null,null,null,null,null,null,"",{"$f":"IF(C362<>0,(IF(lfValidaCNPJ(C362)=TRUE,\"Válido\",\"Inválido\")),\"\")","v":""},{"$f":"IF(E362<>0,(IF(lfValidaCEP(E362)=TRUE,\"Válido\",\"Inválido\")),\"\")","v":""}]
[null,null,null,null,null,null,null,null,null,null,null,"",{"$f":"IF(C363<>0,(IF(lfValidaCNPJ(C363)=TRUE,\"Válido\",\"Inválido\")),\"\")","v":""},{"$f":"IF(E363<>0,(IF(lfValidaCEP(E363)=TRUE,\"Válido\",\"Inválido\")),\"\")","v":""}]
[null,null,null,null,null,null,null,null,null,null,null,"",{"$f":"IF(C364<>0,(IF(lfValidaCNPJ(C364)=TRUE,\"Válido\",\"Inválido\")),\"\")","v":""},{"$f":"IF(E364<>0,(IF(lfValidaCEP(E364)=TRUE,\"Válido\",\"Inválido\")),\"\")","v":""}]
[null,null,null,null,null,null,null,null,null,null,null,"",{"$f":"IF(C365<>0,(IF(lfValidaCNPJ(C365)=TRUE,\"Válido\",\"Inválido\")),\"\")","v":""},{"$f":"IF(E365<>0,(IF(lfValidaCEP(E365)=TRUE,\"Válido\",\"Inválido\")),\"\")","v":""}]
[null,null,null,null,null,null,null,null,null,null,null,"",{"$f":"IF(C366<>0,(IF(lfValidaCNPJ(C366)=TRUE,\"Válido\",\"Inválido\")),\"\")","v":""},{"$f":"IF(E366<>0,(IF(lfValidaCEP(E366)=TRUE,\"Válido\",\"Inválido\")),\"\")","v":""}]
[null,null,null,null,null,null,null,null,null,null,null,"",{"$f":"IF(C367<>0,(IF(lfValidaCNPJ(C367)=TRUE,\"Válido\",\"Inválido\")),\"\")","v":""},{"$f":"IF(E367<>0,(IF(lfValidaCEP(E367)=TRUE,\"Válido\",\"Inválido\")),\"\")","v":""}]
[null,null,null,null,null,null,null,null,null,null,null,"",{"$f":"IF(C368<>0,(IF(lfValidaCNPJ(C368)=TRUE,\"Válido\",\"Inválido\")),\"\")","v":""},{"$f":"IF(E368<>0,(IF(lfValidaCEP(E368)=TRUE,\"Válido\",\"Inválido\")),\"\")","v":""}]
[null,null,null,null,null,null,null,null,null,null,null,"",{"$f":"IF(C369<>0,(IF(lfValidaCNPJ(C369)=TRUE,\"Válido\",\"Inválido\")),\"\")","v":""},{"$f":"IF(E369<>0,(IF(lfValidaCEP(E369)=TRUE,\"Válido\",\"Inválido\")),\"\")","v":""}]
[null,null,null,null,null,null,null,null,null,null,null,"",{"$f":"IF(C370<>0,(IF(lfValidaCNPJ(C370)=TRUE,\"Válido\",\"Inválido\")),\"\")","v":""},{"$f":"IF(E370<>0,(IF(lfValidaCEP(E370)=TRUE,\"Válido\",\"Inválido\")),\"\")","v":""}]
[null,null,null,null,null,null,null,null,null,null,null,"",{"$f":"IF(C371<>0,(IF(lfValidaCNPJ(C371)=TRUE,\"Válido\",\"Inválido\")),\"\")","v":""},{"$f":"IF(E371<>0,(IF(lfValidaCEP(E371)=TRUE,\"Válido\",\"Inválido\")),\"\")","v":""}]
[null,null,null,null,null,null,null,null,null,null,null,"",{"$f":"IF(C372<>0,(IF(lfValidaCNPJ(C372)=TRUE,\"Válido\",\"Inválido\")),\"\")","v":""},{"$f":"IF(E372<>0,(IF(lfValidaCEP(E372)=TRUE,\"Válido\",\"Inválido\")),\"\")","v":""}]
[null,null,null,null,null,null,null,null,null,null,null,"",{"$f":"IF(C373<>0,(IF(lfValidaCNPJ(C373)=TRUE,\"Válido\",\"Inválido\")),\"\")","v":""},{"$f":"IF(E373<>0,(IF(lfValidaCEP(E373)=TRUE,\"Válido\",\"Inválido\")),\"\")","v":""}]
[null,null,null,null,null,null,null,null,null,null,null,"",{"$f":"IF(C374<>0,(IF(lfValidaCNPJ(C374)=TRUE,\"Válido\",\"Inválido\")),\"\")","v":""},{"$f":"IF(E374<>0,(IF(lfValidaCEP(E374)=TRUE,\"Válido\",\"Inválido\")),\"\")","v":""}]
[null,null,null,null,null,null,null,null,null,null,null,"",{"$f":"IF(C375<>0,(IF(lfValidaCNPJ(C375)=TRUE,\"Válido\",\"Inválido\")),\"\")","v":""},{"$f":"IF(E375<>0,(IF(lfValidaCEP(E375)=TRUE,\"Válido\",\"Inválido\")),\"\")","v":""}]
[null,null,null,null,null,null,null,null,null,null,null,"",{"$f":"IF(C376<>0,(IF(lfValidaCNPJ(C376)=TRUE,\"Válido\",\"Inválido\")),\"\")","v":""},{"$f":"IF(E376<>0,(IF(lfValidaCEP(E376)=TRUE,\"Válido\",\"Inválido\")),\"\")","v":""}]
[null,null,null,null,null,null,null,null,null,null,null,"",{"$f":"IF(C377<>0,(IF(lfValidaCNPJ(C377)=TRUE,\"Válido\",\"Inválido\")),\"\")","v":""},{"$f":"IF(E377<>0,(IF(lfValidaCEP(E377)=TRUE,\"Válido\",\"Inválido\")),\"\")","v":""}]
[null,null,null,null,null,null,null,null,null,null,null,"",{"$f":"IF(C378<>0,(IF(lfValidaCNPJ(C378)=TRUE,\"Válido\",\"Inválido\")),\"\")","v":""},{"$f":"IF(E378<>0,(IF(lfValidaCEP(E378)=TRUE,\"Válido\",\"Inválido\")),\"\")","v":""}]
[null,null,null,null,null,null,null,null,null,null,null,"",{"$f":"IF(C379<>0,(IF(lfValidaCNPJ(C379)=TRUE,\"Válido\",\"Inválido\")),\"\")","v":""},{"$f":"IF(E379<>0,(IF(lfValidaCEP(E379)=TRUE,\"Válido\",\"Inválido\")),\"\")","v":""}]
[null,null,null,null,null,null,null,null,null,null,null,"",{"$f":"IF(C380<>0,(IF(lfValidaCNPJ(C380)=TRUE,\"Válido\",\"Inválido\")),\"\")","v":""},{"$f":"IF(E380<>0,(IF(lfValidaCEP(E380)=TRUE,\"Válido\",\"Inválido\")),\"\")","v":""}]
[null,null,null,null,null,null,null,null,null,null,null,"",{"$f":"IF(C381<>0,(IF(lfValidaCNPJ(C381)=TRUE,\"Válido\",\"Inválido\")),\"\")","v":""},{"$f":"IF(E381<>0,(IF(lfValidaCEP(E381)=TRUE,\"Válido\",\"Inválido\")),\"\")","v":""}]
[null,null,null,null,null,null,null,null,null,null,null,"",{"$f":"IF(C382<>0,(IF(lfValidaCNPJ(C382)=TRUE,\"Válido\",\"Inválido\")),\"\")","v":""},{"$f":"IF(E382<>0,(IF(lfValidaCEP(E382)=TRUE,\"Válido\",\"Inválido\")),\"\")","v":""}]
[null,null,null,null,null,null,null,null,null,null,null,"",{"$f":"IF(C383<>0,(IF(lfValidaCNPJ(C383)=TRUE,\"Válido\",\"Inválido\")),\"\")","v":""},{"$f":"IF(E383<>0,(IF(lfValidaCEP(E383)=TRUE,\"Válido\",\"Inválido\")),\"\")","v":""}]
[null,null,null,null,null,null,null,null,null,null,null,"",{"$f":"IF(C384<>0,(IF(lfValidaCNPJ(C384)=TRUE,\"Válido\",\"Inválido\")),\"\")","v":""},{"$f":"IF(E384<>0,(IF(lfValidaCEP(E384)=TRUE,\"Válido\",\"Inválido\")),\"\")","v":""}]
[null,null,null,null,null,null,null,null,null,null,null,"",{"$f":"IF(C385<>0,(IF(lfValidaCNPJ(C385)=TRUE,\"Válido\",\"Inválido\")),\"\")","v":""},{"$f":"IF(E385<>0,(IF(lfValidaCEP(E385)=TRUE,\"Válido\",\"Inválido\")),\"\")","v":""}]
[null,null,null,null,null,null,null,null,null,null,null,"",{"$f":"IF(C386<>0,(IF(lfValidaCNPJ(C386)=TRUE,\"Válido\",\"Inválido\")),\"\")","v":""},{"$f":"IF(E386<>0,(IF(lfValidaCEP(E386)=TRUE,\"Válido\",\"Inválido\")),\"\")","v":""}]
[null,null,null,null,null,null,null,null,null,null,null,"",{"$f":"IF(C387<>0,(IF(lfValidaCNPJ(C387)=TRUE,\"Válido\",\"Inválido\")),\"\")","v":""},{"$f":"IF(E387<>0,(IF(lfValidaCEP(E387)=TRUE,\"Válido\",\"Inválido\")),\"\")","v":""}]
[null,null,null,null,null,null,null,null,null,null,null,"",{"$f":"IF(C388<>0,(IF(lfValidaCNPJ(C388)=TRUE,\"Válido\",\"Inválido\")),\"\")","v":""},{"$f":"IF(E388<>0,(IF(lfValidaCEP(E388)=TRUE,\"Válido\",\"Inválido\")),\"\")","v":""}]
[null,null,null,null,null,null,null,null,null,null,null,"",{"$f":"IF(C389<>0,(IF(lfValidaCNPJ(C389)=TRUE,\"Válido\",\"Inválido\")),\"\")","v":""},{"$f":"IF(E389<>0,(IF(lfValidaCEP(E389)=TRUE,\"Válido\",\"Inválido\")),\"\")","v":""}]
[null,null,null,null,null,null,null,null,null,null,null,"",{"$f":"IF(C390<>0,(IF(lfValidaCNPJ(C390)=TRUE,\"Válido\",\"Inválido\")),\"\")","v":""},{"$f":"IF(E390<>0,(IF(lfValidaCEP(E390)=TRUE,\"Válido\",\"Inválido\")),\"\")","v":""}]
[null,null,null,null,null,null,null,null,null,null,null,"",{"$f":"IF(C391<>0,(IF(lfValidaCNPJ(C391)=TRUE,\"Válido\",\"Inválido\")),\"\")","v":""},{"$f":"IF(E391<>0,(IF(lfValidaCEP(E391)=TRUE,\"Válido\",\"Inválido\")),\"\")","v":""}]
[null,null,null,null,null,null,null,null,null,null,null,"",{"$f":"IF(C392<>0,(IF(lfValidaCNPJ(C392)=TRUE,\"Válido\",\"Inválido\")),\"\")","v":""},{"$f":"IF(E392<>0,(IF(lfValidaCEP(E392)=TRUE,\"Válido\",\"Inválido\")),\"\")","v":""}]
[null,null,null,null,null,null,null,null,null,null,null,"",{"$f":"IF(C393<>0,(IF(lfValidaCNPJ(C393)=TRUE,\"Válido\",\"Inválido\")),\"\")","v":""},{"$f":"IF(E393<>0,(IF(lfValidaCEP(E393)=TRUE,\"Válido\",\"Inválido\")),\"\")","v":""}]
[null,null,null,null,null,null,null,null,null,null,null,"",{"$f":"IF(C394<>0,(IF(lfValidaCNPJ(C394)=TRUE,\"Válido\",\"Inválido\")),\"\")","v":""},{"$f":"IF(E394<>0,(IF(lfValidaCEP(E394)=TRUE,\"Válido\",\"Inválido\")),\"\")","v":""}]
[null,null,null,null,null,null,null,null,null,null,null,"",{"$f":"IF(C395<>0,(IF(lfValidaCNPJ(C395)=TRUE,\"Válido\",\"Inválido\")),\"\")","v":""},{"$f":"IF(E395<>0,(IF(lfValidaCEP(E395)=TRUE,\"Válido\",\"Inválido\")),\"\")","v":""}]
[null,null,null,null,null,null,null,null,null,null,null,"",{"$f":"IF(C396<>0,(IF(lfValidaCNPJ(C396)=TRUE,\"Válido\",\"Inválido\")),\"\")","v":""},{"$f":"IF(E396<>0,(IF(lfValidaCEP(E396)=TRUE,\"Válido\",\"Inválido\")),\"\")","v":""}]
[null,null,null,null,null,null,null,null,null,null,null,"",{"$f":"IF(C397<>0,(IF(lfValidaCNPJ(C397)=TRUE,\"Válido\",\"Inválido\")),\"\")","v":""},{"$f":"IF(E397<>0,(IF(lfValidaCEP(E397)=TRUE,\"Válido\",\"Inválido\")),\"\")","v":""}]
[null,null,null,null,null,null,null,null,null,null,null,{"$f":"IF(COUNTA(B398:J398)<>0,IF(AND(B398<>0,C398<>0,D398<>0,E398<>0,F398<>0,G398<>0,H398<>0,I398<>0,J398<>0),\"Completo\",\"Incompleto\"),\"\")","v":""},{"$f":"IF(C398<>0,(IF(lfValidaCNPJ(C398)=TRUE,\"Válido\",\"Inválido\")),\"\")","v":""},{"$f":"IF(E398<>0,(IF(lfValidaCEP(E398)=TRUE,\"Válido\",\"Inválido\")),\"\")","v":""}]
[null,null,null,null,null,null,null,null,null,null,null,"",{"$f":"IF(C399<>0,(IF(lfValidaCNPJ(C399)=TRUE,\"Válido\",\"Inválido\")),\"\")","v":""},{"$f":"IF(E399<>0,(IF(lfValidaCEP(E399)=TRUE,\"Válido\",\"Inválido\")),\"\")","v":""}]
[null,null,null,null,null,null,null,null,null,null,null,"",{"$f":"IF(C400<>0,(IF(lfValidaCNPJ(C400)=TRUE,\"Válido\",\"Inválido\")),\"\")","v":""},{"$f":"IF(E400<>0,(IF(lfValidaCEP(E400)=TRUE,\"Válido\",\"Inválido\")),\"\")","v":""}]
[null,null,null,null,null,null,null,null,null,null,null,"",{"$f":"IF(C401<>0,(IF(lfValidaCNPJ(C401)=TRUE,\"Válido\",\"Inválido\")),\"\")","v":""},{"$f":"IF(E401<>0,(IF(lfValidaCEP(E401)=TRUE,\"Válido\",\"Inválido\")),\"\")","v":""}]
[null,null,null,null,null,null,null,null,null,null,null,"",{"$f":"IF(C402<>0,(IF(lfValidaCNPJ(C402)=TRUE,\"Válido\",\"Inválido\")),\"\")","v":""},{"$f":"IF(E402<>0,(IF(lfValidaCEP(E402)=TRUE,\"Válido\",\"Inválido\")),\"\")","v":""}]
[null,null,null,null,null,null,null,null,null,null,null,"",{"$f":"IF(C403<>0,(IF(lfValidaCNPJ(C403)=TRUE,\"Válido\",\"Inválido\")),\"\")","v":""},{"$f":"IF(E403<>0,(IF(lfValidaCEP(E403)=TRUE,\"Válido\",\"Inválido\")),\"\")","v":""}]
[null,null,null,null,null,null,null,null,null,null,null,"",{"$f":"IF(C404<>0,(IF(lfValidaCNPJ(C404)=TRUE,\"Válido\",\"Inválido\")),\"\")","v":""},{"$f":"IF(E404<>0,(IF(lfValidaCEP(E404)=TRUE,\"Válido\",\"Inválido\")),\"\")","v":""}]
[null,null,null,null,null,null,null,null,null,null,null,"",{"$f":"IF(C405<>0,(IF(lfValidaCNPJ(C405)=TRUE,\"Válido\",\"Inválido\")),\"\")","v":""},{"$f":"IF(E405<>0,(IF(lfValidaCEP(E405)=TRUE,\"Válido\",\"Inválido\")),\"\")","v":""}]
[null,null,null,null,null,null,null,null,null,null,null,"",{"$f":"IF(C406<>0,(IF(lfValidaCNPJ(C406)=TRUE,\"Válido\",\"Inválido\")),\"\")","v":""},{"$f":"IF(E406<>0,(IF(lfValidaCEP(E406)=TRUE,\"Válido\",\"Inválido\")),\"\")","v":""}]
[null,null,null,null,null,null,null,null,null,null,null,"",{"$f":"IF(C407<>0,(IF(lfValidaCNPJ(C407)=TRUE,\"Válido\",\"Inválido\")),\"\")","v":""},{"$f":"IF(E407<>0,(IF(lfValidaCEP(E407)=TRUE,\"Válido\",\"Inválido\")),\"\")","v":""}]
[null,null,null,null,null,null,null,null,null,null,null,"",{"$f":"IF(C408<>0,(IF(lfValidaCNPJ(C408)=TRUE,\"Válido\",\"Inválido\")),\"\")","v":""},{"$f":"IF(E408<>0,(IF(lfValidaCEP(E408)=TRUE,\"Válido\",\"Inválido\")),\"\")","v":""}]
[null,null,null,null,null,null,null,null,null,null,null,"",{"$f":"IF(C409<>0,(IF(lfValidaCNPJ(C409)=TRUE,\"Válido\",\"Inválido\")),\"\")","v":""},{"$f":"IF(E409<>0,(IF(lfValidaCEP(E409)=TRUE,\"Válido\",\"Inválido\")),\"\")","v":""}]
[null,null,null,null,null,null,null,null,null,null,null,"",{"$f":"IF(C410<>0,(IF(lfValidaCNPJ(C410)=TRUE,\"Válido\",\"Inválido\")),\"\")","v":""},{"$f":"IF(E410<>0,(IF(lfValidaCEP(E410)=TRUE,\"Válido\",\"Inválido\")),\"\")","v":""}]
[null,null,null,null,null,null,null,null,null,null,null,"",{"$f":"IF(C411<>0,(IF(lfValidaCNPJ(C411)=TRUE,\"Válido\",\"Inválido\")),\"\")","v":""},{"$f":"IF(E411<>0,(IF(lfValidaCEP(E411)=TRUE,\"Válido\",\"Inválido\")),\"\")","v":""}]
[null,null,null,null,null,null,null,null,null,null,null,"",{"$f":"IF(C412<>0,(IF(lfValidaCNPJ(C412)=TRUE,\"Válido\",\"Inválido\")),\"\")","v":""},{"$f":"IF(E412<>0,(IF(lfValidaCEP(E412)=TRUE,\"Válido\",\"Inválido\")),\"\")","v":""}]
[null,null,null,null,null,null,null,null,null,null,null,"",{"$f":"IF(C413<>0,(IF(lfValidaCNPJ(C413)=TRUE,\"Válido\",\"Inválido\")),\"\")","v":""},{"$f":"IF(E413<>0,(IF(lfValidaCEP(E413)=TRUE,\"Válido\",\"Inválido\")),\"\")","v":""}]
[null,null,null,null,null,null,null,null,null,null,null,"",{"$f":"IF(C414<>0,(IF(lfValidaCNPJ(C414)=TRUE,\"Válido\",\"Inválido\")),\"\")","v":""},{"$f":"IF(E414<>0,(IF(lfValidaCEP(E414)=TRUE,\"Válido\",\"Inválido\")),\"\")","v":""}]
[null,null,null,null,null,null,null,null,null,null,null,"",{"$f":"IF(C415<>0,(IF(lfValidaCNPJ(C415)=TRUE,\"Válido\",\"Inválido\")),\"\")","v":""},{"$f":"IF(E415<>0,(IF(lfValidaCEP(E415)=TRUE,\"Válido\",\"Inválido\")),\"\")","v":""}]
[null,null,null,null,null,null,null,null,null,null,null,"",{"$f":"IF(C416<>0,(IF(lfValidaCNPJ(C416)=TRUE,\"Válido\",\"Inválido\")),\"\")","v":""},{"$f":"IF(E416<>0,(IF(lfValidaCEP(E416)=TRUE,\"Válido\",\"Inválido\")),\"\")","v":""}]
[null,null,null,null,null,null,null,null,null,null,null,"",{"$f":"IF(C417<>0,(IF(lfValidaCNPJ(C417)=TRUE,\"Válido\",\"Inválido\")),\"\")","v":""},{"$f":"IF(E417<>0,(IF(lfValidaCEP(E417)=TRUE,\"Válido\",\"Inválido\")),\"\")","v":""}]
[null,null,null,null,null,null,null,null,null,null,null,"",{"$f":"IF(C418<>0,(IF(lfValidaCNPJ(C418)=TRUE,\"Válido\",\"Inválido\")),\"\")","v":""},{"$f":"IF(E418<>0,(IF(lfValidaCEP(E418)=TRUE,\"Válido\",\"Inválido\")),\"\")","v":""}]
[null,null,null,null,null,null,null,null,null,null,null,"",{"$f":"IF(C419<>0,(IF(lfValidaCNPJ(C419)=TRUE,\"Válido\",\"Inválido\")),\"\")","v":""},{"$f":"IF(E419<>0,(IF(lfValidaCEP(E419)=TRUE,\"Válido\",\"Inválido\")),\"\")","v":""}]
[null,null,null,null,null,null,null,null,null,null,null,"",{"$f":"IF(C420<>0,(IF(lfValidaCNPJ(C420)=TRUE,\"Válido\",\"Inválido\")),\"\")","v":""},{"$f":"IF(E420<>0,(IF(lfValidaCEP(E420)=TRUE,\"Válido\",\"Inválido\")),\"\")","v":""}]
[null,null,null,null,null,null,null,null,null,null,null,"",{"$f":"IF(C421<>0,(IF(lfValidaCNPJ(C421)=TRUE,\"Válido\",\"Inválido\")),\"\")","v":""},{"$f":"IF(E421<>0,(IF(lfValidaCEP(E421)=TRUE,\"Válido\",\"Inválido\")),\"\")","v":""}]
[null,null,null,null,null,null,null,null,null,null,null,"",{"$f":"IF(C422<>0,(IF(lfValidaCNPJ(C422)=TRUE,\"Válido\",\"Inválido\")),\"\")","v":""},{"$f":"IF(E422<>0,(IF(lfValidaCEP(E422)=TRUE,\"Válido\",\"Inválido\")),\"\")","v":""}]
[null,null,null,null,null,null,null,null,null,null,null,"",{"$f":"IF(C423<>0,(IF(lfValidaCNPJ(C423)=TRUE,\"Válido\",\"Inválido\")),\"\")","v":""},{"$f":"IF(E423<>0,(IF(lfValidaCEP(E423)=TRUE,\"Válido\",\"Inválido\")),\"\")","v":""}]
[null,null,null,null,null,null,null,null,null,null,null,"",{"$f":"IF(C424<>0,(IF(lfValidaCNPJ(C424)=TRUE,\"Válido\",\"Inválido\")),\"\")","v":""},{"$f":"IF(E424<>0,(IF(lfValidaCEP(E424)=TRUE,\"Válido\",\"Inválido\")),\"\")","v":""}]
[null,null,null,null,null,null,null,null,null,null,null,"",{"$f":"IF(C425<>0,(IF(lfValidaCNPJ(C425)=TRUE,\"Válido\",\"Inválido\")),\"\")","v":""},{"$f":"IF(E425<>0,(IF(lfValidaCEP(E425)=TRUE,\"Válido\",\"Inválido\")),\"\")","v":""}]
[null,null,null,null,null,null,null,null,null,null,null,"",{"$f":"IF(C426<>0,(IF(lfValidaCNPJ(C426)=TRUE,\"Válido\",\"Inválido\")),\"\")","v":""},{"$f":"IF(E426<>0,(IF(lfValidaCEP(E426)=TRUE,\"Válido\",\"Inválido\")),\"\")","v":""}]
[null,null,null,null,null,null,null,null,null,null,null,"",{"$f":"IF(C427<>0,(IF(lfValidaCNPJ(C427)=TRUE,\"Válido\",\"Inválido\")),\"\")","v":""},{"$f":"IF(E427<>0,(IF(lfValidaCEP(E427)=TRUE,\"Válido\",\"Inválido\")),\"\")","v":""}]
[null,null,null,null,null,null,null,null,null,null,null,"",{"$f":"IF(C428<>0,(IF(lfValidaCNPJ(C428)=TRUE,\"Válido\",\"Inválido\")),\"\")","v":""},{"$f":"IF(E428<>0,(IF(lfValidaCEP(E428)=TRUE,\"Válido\",\"Inválido\")),\"\")","v":""}]
[null,null,null,null,null,null,null,null,null,null,null,"",{"$f":"IF(C429<>0,(IF(lfValidaCNPJ(C429)=TRUE,\"Válido\",\"Inválido\")),\"\")","v":""},{"$f":"IF(E429<>0,(IF(lfValidaCEP(E429)=TRUE,\"Válido\",\"Inválido\")),\"\")","v":""}]
[null,null,null,null,null,null,null,null,null,null,null,"",{"$f":"IF(C430<>0,(IF(lfValidaCNPJ(C430)=TRUE,\"Válido\",\"Inválido\")),\"\")","v":""},{"$f":"IF(E430<>0,(IF(lfValidaCEP(E430)=TRUE,\"Válido\",\"Inválido\")),\"\")","v":""}]
[null,null,null,null,null,null,null,null,null,null,null,"",{"$f":"IF(C431<>0,(IF(lfValidaCNPJ(C431)=TRUE,\"Válido\",\"Inválido\")),\"\")","v":""},{"$f":"IF(E431<>0,(IF(lfValidaCEP(E431)=TRUE,\"Válido\",\"Inválido\")),\"\")","v":""}]
[null,null,null,null,null,null,null,null,null,null,null,"",{"$f":"IF(C432<>0,(IF(lfValidaCNPJ(C432)=TRUE,\"Válido\",\"Inválido\")),\"\")","v":""},{"$f":"IF(E432<>0,(IF(lfValidaCEP(E432)=TRUE,\"Válido\",\"Inválido\")),\"\")","v":""}]
[null,null,null,null,null,null,null,null,null,null,null,"",{"$f":"IF(C433<>0,(IF(lfValidaCNPJ(C433)=TRUE,\"Válido\",\"Inválido\")),\"\")","v":""},{"$f":"IF(E433<>0,(IF(lfValidaCEP(E433)=TRUE,\"Válido\",\"Inválido\")),\"\")","v":""}]
[null,null,null,null,null,null,null,null,null,null,null,"",{"$f":"IF(C434<>0,(IF(lfValidaCNPJ(C434)=TRUE,\"Válido\",\"Inválido\")),\"\")","v":""},{"$f":"IF(E434<>0,(IF(lfValidaCEP(E434)=TRUE,\"Válido\",\"Inválido\")),\"\")","v":""}]
[null,null,null,null,null,null,null,null,null,null,null,"",{"$f":"IF(C435<>0,(IF(lfValidaCNPJ(C435)=TRUE,\"Válido\",\"Inválido\")),\"\")","v":""},{"$f":"IF(E435<>0,(IF(lfValidaCEP(E435)=TRUE,\"Válido\",\"Inválido\")),\"\")","v":""}]
[null,null,null,null,null,null,null,null,null,null,null,"",{"$f":"IF(C436<>0,(IF(lfValidaCNPJ(C436)=TRUE,\"Válido\",\"Inválido\")),\"\")","v":""},{"$f":"IF(E436<>0,(IF(lfValidaCEP(E436)=TRUE,\"Válido\",\"Inválido\")),\"\")","v":""}]
[null,null,null,null,null,null,null,null,null,null,null,"",{"$f":"IF(C437<>0,(IF(lfValidaCNPJ(C437)=TRUE,\"Válido\",\"Inválido\")),\"\")","v":""},{"$f":"IF(E437<>0,(IF(lfValidaCEP(E437)=TRUE,\"Válido\",\"Inválido\")),\"\")","v":""}]
[null,null,null,null,null,null,null,null,null,null,null,"",{"$f":"IF(C438<>0,(IF(lfValidaCNPJ(C438)=TRUE,\"Válido\",\"Inválido\")),\"\")","v":""},{"$f":"IF(E438<>0,(IF(lfValidaCEP(E438)=TRUE,\"Válido\",\"Inválido\")),\"\")","v":""}]
[null,null,null,null,null,null,null,null,null,null,null,"",{"$f":"IF(C439<>0,(IF(lfValidaCNPJ(C439)=TRUE,\"Válido\",\"Inválido\")),\"\")","v":""},{"$f":"IF(E439<>0,(IF(lfValidaCEP(E439)=TRUE,\"Válido\",\"Inválido\")),\"\")","v":""}]
[null,null,null,null,null,null,null,null,null,null,null,"",{"$f":"IF(C440<>0,(IF(lfValidaCNPJ(C440)=TRUE,\"Válido\",\"Inválido\")),\"\")","v":""},{"$f":"IF(E440<>0,(IF(lfValidaCEP(E440)=TRUE,\"Válido\",\"Inválido\")),\"\")","v":""}]
[null,null,null,null,null,null,null,null,null,null,null,"",{"$f":"IF(C441<>0,(IF(lfValidaCNPJ(C441)=TRUE,\"Válido\",\"Inválido\")),\"\")","v":""},{"$f":"IF(E441<>0,(IF(lfValidaCEP(E441)=TRUE,\"Válido\",\"Inválido\")),\"\")","v":""}]
[null,null,null,null,null,null,null,null,null,null,null,"",{"$f":"IF(C442<>0,(IF(lfValidaCNPJ(C442)=TRUE,\"Válido\",\"Inválido\")),\"\")","v":""},{"$f":"IF(E442<>0,(IF(lfValidaCEP(E442)=TRUE,\"Válido\",\"Inválido\")),\"\")","v":""}]
[null,null,null,null,null,null,null,null,null,null,null,"",{"$f":"IF(C443<>0,(IF(lfValidaCNPJ(C443)=TRUE,\"Válido\",\"Inválido\")),\"\")","v":""},{"$f":"IF(E443<>0,(IF(lfValidaCEP(E443)=TRUE,\"Válido\",\"Inválido\")),\"\")","v":""}]
[null,null,null,null,null,null,null,null,null,null,null,"",{"$f":"IF(C444<>0,(IF(lfValidaCNPJ(C444)=TRUE,\"Válido\",\"Inválido\")),\"\")","v":""},{"$f":"IF(E444<>0,(IF(lfValidaCEP(E444)=TRUE,\"Válido\",\"Inválido\")),\"\")","v":""}]
[null,null,null,null,null,null,null,null,null,null,null,"",{"$f":"IF(C445<>0,(IF(lfValidaCNPJ(C445)=TRUE,\"Válido\",\"Inválido\")),\"\")","v":""},{"$f":"IF(E445<>0,(IF(lfValidaCEP(E445)=TRUE,\"Válido\",\"Inválido\")),\"\")","v":""}]
[null,null,null,null,null,null,null,null,null,null,null,"",{"$f":"IF(C446<>0,(IF(lfValidaCNPJ(C446)=TRUE,\"Válido\",\"Inválido\")),\"\")","v":""},{"$f":"IF(E446<>0,(IF(lfValidaCEP(E446)=TRUE,\"Válido\",\"Inválido\")),\"\")","v":""}]
[null,null,null,null,null,null,null,null,null,null,null,"",{"$f":"IF(C447<>0,(IF(lfValidaCNPJ(C447)=TRUE,\"Válido\",\"Inválido\")),\"\")","v":""},{"$f":"IF(E447<>0,(IF(lfValidaCEP(E447)=TRUE,\"Válido\",\"Inválido\")),\"\")","v":""}]
[null,null,null,null,null,null,null,null,null,null,null,"",{"$f":"IF(C448<>0,(IF(lfValidaCNPJ(C448)=TRUE,\"Válido\",\"Inválido\")),\"\")","v":""},{"$f":"IF(E448<>0,(IF(lfValidaCEP(E448)=TRUE,\"Válido\",\"Inválido\")),\"\")","v":""}]
[null,null,null,null,null,null,null,null,null,null,null,"",{"$f":"IF(C449<>0,(IF(lfValidaCNPJ(C449)=TRUE,\"Válido\",\"Inválido\")),\"\")","v":""},{"$f":"IF(E449<>0,(IF(lfValidaCEP(E449)=TRUE,\"Válido\",\"Inválido\")),\"\")","v":""}]
[null,null,null,null,null,null,null,null,null,null,null,"",{"$f":"IF(C450<>0,(IF(lfValidaCNPJ(C450)=TRUE,\"Válido\",\"Inválido\")),\"\")","v":""},{"$f":"IF(E450<>0,(IF(lfValidaCEP(E450)=TRUE,\"Válido\",\"Inválido\")),\"\")","v":""}]
[null,null,null,null,null,null,null,null,null,null,null,"",{"$f":"IF(C451<>0,(IF(lfValidaCNPJ(C451)=TRUE,\"Válido\",\"Inválido\")),\"\")","v":""},{"$f":"IF(E451<>0,(IF(lfValidaCEP(E451)=TRUE,\"Válido\",\"Inválido\")),\"\")","v":""}]
[null,null,null,null,null,null,null,null,null,null,null,"",{"$f":"IF(C452<>0,(IF(lfValidaCNPJ(C452)=TRUE,\"Válido\",\"Inválido\")),\"\")","v":""},{"$f":"IF(E452<>0,(IF(lfValidaCEP(E452)=TRUE,\"Válido\",\"Inválido\")),\"\")","v":""}]
[null,null,null,null,null,null,null,null,null,null,null,"",{"$f":"IF(C453<>0,(IF(lfValidaCNPJ(C453)=TRUE,\"Válido\",\"Inválido\")),\"\")","v":""},{"$f":"IF(E453<>0,(IF(lfValidaCEP(E453)=TRUE,\"Válido\",\"Inválido\")),\"\")","v":""}]
[null,null,null,null,null,null,null,null,null,null,null,"",{"$f":"IF(C454<>0,(IF(lfValidaCNPJ(C454)=TRUE,\"Válido\",\"Inválido\")),\"\")","v":""},{"$f":"IF(E454<>0,(IF(lfValidaCEP(E454)=TRUE,\"Válido\",\"Inválido\")),\"\")","v":""}]
[null,null,null,null,null,null,null,null,null,null,null,"",{"$f":"IF(C455<>0,(IF(lfValidaCNPJ(C455)=TRUE,\"Válido\",\"Inválido\")),\"\")","v":""},{"$f":"IF(E455<>0,(IF(lfValidaCEP(E455)=TRUE,\"Válido\",\"Inválido\")),\"\")","v":""}]
[null,null,null,null,null,null,null,null,null,null,null,"",{"$f":"IF(C456<>0,(IF(lfValidaCNPJ(C456)=TRUE,\"Válido\",\"Inválido\")),\"\")","v":""},{"$f":"IF(E456<>0,(IF(lfValidaCEP(E456)=TRUE,\"Válido\",\"Inválido\")),\"\")","v":""}]
[null,null,null,null,null,null,null,null,null,null,null,"",{"$f":"IF(C457<>0,(IF(lfValidaCNPJ(C457)=TRUE,\"Válido\",\"Inválido\")),\"\")","v":""},{"$f":"IF(E457<>0,(IF(lfValidaCEP(E457)=TRUE,\"Válido\",\"Inválido\")),\"\")","v":""}]
[null,null,null,null,null,null,null,null,null,null,null,"",{"$f":"IF(C458<>0,(IF(lfValidaCNPJ(C458)=TRUE,\"Válido\",\"Inválido\")),\"\")","v":""},{"$f":"IF(E458<>0,(IF(lfValidaCEP(E458)=TRUE,\"Válido\",\"Inválido\")),\"\")","v":""}]
[null,null,null,null,null,null,null,null,null,null,null,"",{"$f":"IF(C459<>0,(IF(lfValidaCNPJ(C459)=TRUE,\"Válido\",\"Inválido\")),\"\")","v":""},{"$f":"IF(E459<>0,(IF(lfValidaCEP(E459)=TRUE,\"Válido\",\"Inválido\")),\"\")","v":""}]
[null,null,null,null,null,null,null,null,null,null,null,"",{"$f":"IF(C460<>0,(IF(lfValidaCNPJ(C460)=TRUE,\"Válido\",\"Inválido\")),\"\")","v":""},{"$f":"IF(E460<>0,(IF(lfValidaCEP(E460)=TRUE,\"Válido\",\"Inválido\")),\"\")","v":""}]
[null,null,null,null,null,null,null,null,null,null,null,"",{"$f":"IF(C461<>0,(IF(lfValidaCNPJ(C461)=TRUE,\"Válido\",\"Inválido\")),\"\")","v":""},{"$f":"IF(E461<>0,(IF(lfValidaCEP(E461)=TRUE,\"Válido\",\"Inválido\")),\"\")","v":""}]
[null,null,null,null,null,null,null,null,null,null,null,{"$f":"IF(COUNTA(B462:J462)<>0,IF(AND(B462<>0,C462<>0,D462<>0,E462<>0,F462<>0,G462<>0,H462<>0,I462<>0,J462<>0),\"Completo\",\"Incompleto\"),\"\")","v":""},{"$f":"IF(C462<>0,(IF(lfValidaCNPJ(C462)=TRUE,\"Válido\",\"Inválido\")),\"\")","v":""},{"$f":"IF(E462<>0,(IF(lfValidaCEP(E462)=TRUE,\"Válido\",\"Inválido\")),\"\")","v":""}]
[null,null,null,null,null,null,null,null,null,null,null,"",{"$f":"IF(C463<>0,(IF(lfValidaCNPJ(C463)=TRUE,\"Válido\",\"Inválido\")),\"\")","v":""},{"$f":"IF(E463<>0,(IF(lfValidaCEP(E463)=TRUE,\"Válido\",\"Inválido\")),\"\")","v":""}]
[null,null,null,null,null,null,null,null,null,null,null,"",{"$f":"IF(C464<>0,(IF(lfValidaCNPJ(C464)=TRUE,\"Válido\",\"Inválido\")),\"\")","v":""},{"$f":"IF(E464<>0,(IF(lfValidaCEP(E464)=TRUE,\"Válido\",\"Inválido\")),\"\")","v":""}]
[null,null,null,null,null,null,null,null,null,null,null,"",{"$f":"IF(C465<>0,(IF(lfValidaCNPJ(C465)=TRUE,\"Válido\",\"Inválido\")),\"\")","v":""},{"$f":"IF(E465<>0,(IF(lfValidaCEP(E465)=TRUE,\"Válido\",\"Inválido\")),\"\")","v":""}]
[null,null,null,null,null,null,null,null,null,null,null,"",{"$f":"IF(C466<>0,(IF(lfValidaCNPJ(C466)=TRUE,\"Válido\",\"Inválido\")),\"\")","v":""},{"$f":"IF(E466<>0,(IF(lfValidaCEP(E466)=TRUE,\"Válido\",\"Inválido\")),\"\")","v":""}]
[null,null,null,null,null,null,null,null,null,null,null,"",{"$f":"IF(C467<>0,(IF(lfValidaCNPJ(C467)=TRUE,\"Válido\",\"Inválido\")),\"\")","v":""},{"$f":"IF(E467<>0,(IF(lfValidaCEP(E467)=TRUE,\"Válido\",\"Inválido\")),\"\")","v":""}]
[null,null,null,null,null,null,null,null,null,null,null,"",{"$f":"IF(C468<>0,(IF(lfValidaCNPJ(C468)=TRUE,\"Válido\",\"Inválido\")),\"\")","v":""},{"$f":"IF(E468<>0,(IF(lfValidaCEP(E468)=TRUE,\"Válido\",\"Inválido\")),\"\")","v":""}]
[null,null,null,null,null,null,null,null,null,null,null,"",{"$f":"IF(C469<>0,(IF(lfValidaCNPJ(C469)=TRUE,\"Válido\",\"Inválido\")),\"\")","v":""},{"$f":"IF(E469<>0,(IF(lfValidaCEP(E469)=TRUE,\"Válido\",\"Inválido\")),\"\")","v":""}]
[null,null,null,null,null,null,null,null,null,null,null,"",{"$f":"IF(C470<>0,(IF(lfValidaCNPJ(C470)=TRUE,\"Válido\",\"Inválido\")),\"\")","v":""},{"$f":"IF(E470<>0,(IF(lfValidaCEP(E470)=TRUE,\"Válido\",\"Inválido\")),\"\")","v":""}]
[null,null,null,null,null,null,null,null,null,null,null,"",{"$f":"IF(C471<>0,(IF(lfValidaCNPJ(C471)=TRUE,\"Válido\",\"Inválido\")),\"\")","v":""},{"$f":"IF(E471<>0,(IF(lfValidaCEP(E471)=TRUE,\"Válido\",\"Inválido\")),\"\")","v":""}]
[null,null,null,null,null,null,null,null,null,null,null,"",{"$f":"IF(C472<>0,(IF(lfValidaCNPJ(C472)=TRUE,\"Válido\",\"Inválido\")),\"\")","v":""},{"$f":"IF(E472<>0,(IF(lfValidaCEP(E472)=TRUE,\"Válido\",\"Inválido\")),\"\")","v":""}]
[null,null,null,null,null,null,null,null,null,null,null,"",{"$f":"IF(C473<>0,(IF(lfValidaCNPJ(C473)=TRUE,\"Válido\",\"Inválido\")),\"\")","v":""},{"$f":"IF(E473<>0,(IF(lfValidaCEP(E473)=TRUE,\"Válido\",\"Inválido\")),\"\")","v":""}]
[null,null,null,null,null,null,null,null,null,null,null,"",{"$f":"IF(C474<>0,(IF(lfValidaCNPJ(C474)=TRUE,\"Válido\",\"Inválido\")),\"\")","v":""},{"$f":"IF(E474<>0,(IF(lfValidaCEP(E474)=TRUE,\"Válido\",\"Inválido\")),\"\")","v":""}]
[null,null,null,null,null,null,null,null,null,null,null,"",{"$f":"IF(C475<>0,(IF(lfValidaCNPJ(C475)=TRUE,\"Válido\",\"Inválido\")),\"\")","v":""},{"$f":"IF(E475<>0,(IF(lfValidaCEP(E475)=TRUE,\"Válido\",\"Inválido\")),\"\")","v":""}]
[null,null,null,null,null,null,null,null,null,null,null,"",{"$f":"IF(C476<>0,(IF(lfValidaCNPJ(C476)=TRUE,\"Válido\",\"Inválido\")),\"\")","v":""},{"$f":"IF(E476<>0,(IF(lfValidaCEP(E476)=TRUE,\"Válido\",\"Inválido\")),\"\")","v":""}]
[null,null,null,null,null,null,null,null,null,null,null,"",{"$f":"IF(C477<>0,(IF(lfValidaCNPJ(C477)=TRUE,\"Válido\",\"Inválido\")),\"\")","v":""},{"$f":"IF(E477<>0,(IF(lfValidaCEP(E477)=TRUE,\"Válido\",\"Inválido\")),\"\")","v":""}]
[null,null,null,null,null,null,null,null,null,null,null,"",{"$f":"IF(C478<>0,(IF(lfValidaCNPJ(C478)=TRUE,\"Válido\",\"Inválido\")),\"\")","v":""},{"$f":"IF(E478<>0,(IF(lfValidaCEP(E478)=TRUE,\"Válido\",\"Inválido\")),\"\")","v":""}]
[null,null,null,null,null,null,null,null,null,null,null,"",{"$f":"IF(C479<>0,(IF(lfValidaCNPJ(C479)=TRUE,\"Válido\",\"Inválido\")),\"\")","v":""},{"$f":"IF(E479<>0,(IF(lfValidaCEP(E479)=TRUE,\"Válido\",\"Inválido\")),\"\")","v":""}]
[null,null,null,null,null,null,null,null,null,null,null,"",{"$f":"IF(C480<>0,(IF(lfValidaCNPJ(C480)=TRUE,\"Válido\",\"Inválido\")),\"\")","v":""},{"$f":"IF(E480<>0,(IF(lfValidaCEP(E480)=TRUE,\"Válido\",\"Inválido\")),\"\")","v":""}]
[null,null,null,null,null,null,null,null,null,null,null,"",{"$f":"IF(C481<>0,(IF(lfValidaCNPJ(C481)=TRUE,\"Válido\",\"Inválido\")),\"\")","v":""},{"$f":"IF(E481<>0,(IF(lfValidaCEP(E481)=TRUE,\"Válido\",\"Inválido\")),\"\")","v":""}]
[null,null,null,null,null,null,null,null,null,null,null,"",{"$f":"IF(C482<>0,(IF(lfValidaCNPJ(C482)=TRUE,\"Válido\",\"Inválido\")),\"\")","v":""},{"$f":"IF(E482<>0,(IF(lfValidaCEP(E482)=TRUE,\"Válido\",\"Inválido\")),\"\")","v":""}]
[null,null,null,null,null,null,null,null,null,null,null,"",{"$f":"IF(C483<>0,(IF(lfValidaCNPJ(C483)=TRUE,\"Válido\",\"Inválido\")),\"\")","v":""},{"$f":"IF(E483<>0,(IF(lfValidaCEP(E483)=TRUE,\"Válido\",\"Inválido\")),\"\")","v":""}]
[null,null,null,null,null,null,null,null,null,null,null,"",{"$f":"IF(C484<>0,(IF(lfValidaCNPJ(C484)=TRUE,\"Válido\",\"Inválido\")),\"\")","v":""},{"$f":"IF(E484<>0,(IF(lfValidaCEP(E484)=TRUE,\"Válido\",\"Inválido\")),\"\")","v":""}]
[null,null,null,null,null,null,null,null,null,null,null,"",{"$f":"IF(C485<>0,(IF(lfValidaCNPJ(C485)=TRUE,\"Válido\",\"Inválido\")),\"\")","v":""},{"$f":"IF(E485<>0,(IF(lfValidaCEP(E485)=TRUE,\"Válido\",\"Inválido\")),\"\")","v":""}]
[null,null,null,null,null,null,null,null,null,null,null,"",{"$f":"IF(C486<>0,(IF(lfValidaCNPJ(C486)=TRUE,\"Válido\",\"Inválido\")),\"\")","v":""},{"$f":"IF(E486<>0,(IF(lfValidaCEP(E486)=TRUE,\"Válido\",\"Inválido\")),\"\")","v":""}]
[null,null,null,null,null,null,null,null,null,null,null,"",{"$f":"IF(C487<>0,(IF(lfValidaCNPJ(C487)=TRUE,\"Válido\",\"Inválido\")),\"\")","v":""},{"$f":"IF(E487<>0,(IF(lfValidaCEP(E487)=TRUE,\"Válido\",\"Inválido\")),\"\")","v":""}]
[null,null,null,null,null,null,null,null,null,null,null,"",{"$f":"IF(C488<>0,(IF(lfValidaCNPJ(C488)=TRUE,\"Válido\",\"Inválido\")),\"\")","v":""},{"$f":"IF(E488<>0,(IF(lfValidaCEP(E488)=TRUE,\"Válido\",\"Inválido\")),\"\")","v":""}]
[null,null,null,null,null,null,null,null,null,null,null,"",{"$f":"IF(C489<>0,(IF(lfValidaCNPJ(C489)=TRUE,\"Válido\",\"Inválido\")),\"\")","v":""},{"$f":"IF(E489<>0,(IF(lfValidaCEP(E489)=TRUE,\"Válido\",\"Inválido\")),\"\")","v":""}]
[null,null,null,null,null,null,null,null,null,null,null,"",{"$f":"IF(C490<>0,(IF(lfValidaCNPJ(C490)=TRUE,\"Válido\",\"Inválido\")),\"\")","v":""},{"$f":"IF(E490<>0,(IF(lfValidaCEP(E490)=TRUE,\"Válido\",\"Inválido\")),\"\")","v":""}]
[null,null,null,null,null,null,null,null,null,null,null,"",{"$f":"IF(C491<>0,(IF(lfValidaCNPJ(C491)=TRUE,\"Válido\",\"Inválido\")),\"\")","v":""},{"$f":"IF(E491<>0,(IF(lfValidaCEP(E491)=TRUE,\"Válido\",\"Inválido\")),\"\")","v":""}]
[null,null,null,null,null,null,null,null,null,null,null,"",{"$f":"IF(C492<>0,(IF(lfValidaCNPJ(C492)=TRUE,\"Válido\",\"Inválido\")),\"\")","v":""},{"$f":"IF(E492<>0,(IF(lfValidaCEP(E492)=TRUE,\"Válido\",\"Inválido\")),\"\")","v":""}]
[null,null,null,null,null,null,null,null,null,null,null,"",{"$f":"IF(C493<>0,(IF(lfValidaCNPJ(C493)=TRUE,\"Válido\",\"Inválido\")),\"\")","v":""},{"$f":"IF(E493<>0,(IF(lfValidaCEP(E493)=TRUE,\"Válido\",\"Inválido\")),\"\")","v":""}]
[null,null,null,null,null,null,null,null,null,null,null,"",{"$f":"IF(C494<>0,(IF(lfValidaCNPJ(C494)=TRUE,\"Válido\",\"Inválido\")),\"\")","v":""},{"$f":"IF(E494<>0,(IF(lfValidaCEP(E494)=TRUE,\"Válido\",\"Inválido\")),\"\")","v":""}]
[null,null,null,null,null,null,null,null,null,null,null,"",{"$f":"IF(C495<>0,(IF(lfValidaCNPJ(C495)=TRUE,\"Válido\",\"Inválido\")),\"\")","v":""},{"$f":"IF(E495<>0,(IF(lfValidaCEP(E495)=TRUE,\"Válido\",\"Inválido\")),\"\")","v":""}]
[null,null,null,null,null,null,null,null,null,null,null,"",{"$f":"IF(C496<>0,(IF(lfValidaCNPJ(C496)=TRUE,\"Válido\",\"Inválido\")),\"\")","v":""},{"$f":"IF(E496<>0,(IF(lfValidaCEP(E496)=TRUE,\"Válido\",\"Inválido\")),\"\")","v":""}]
[null,null,null,null,null,null,null,null,null,null,null,"",{"$f":"IF(C497<>0,(IF(lfValidaCNPJ(C497)=TRUE,\"Válido\",\"Inválido\")),\"\")","v":""},{"$f":"IF(E497<>0,(IF(lfValidaCEP(E497)=TRUE,\"Válido\",\"Inválido\")),\"\")","v":""}]
[null,null,null,null,null,null,null,null,null,null,null,"",{"$f":"IF(C498<>0,(IF(lfValidaCNPJ(C498)=TRUE,\"Válido\",\"Inválido\")),\"\")","v":""},{"$f":"IF(E498<>0,(IF(lfValidaCEP(E498)=TRUE,\"Válido\",\"Inválido\")),\"\")","v":""}]
[null,null,null,null,null,null,null,null,null,null,null,"",{"$f":"IF(C499<>0,(IF(lfValidaCNPJ(C499)=TRUE,\"Válido\",\"Inválido\")),\"\")","v":""},{"$f":"IF(E499<>0,(IF(lfValidaCEP(E499)=TRUE,\"Válido\",\"Inválido\")),\"\")","v":""}]
[null,null,null,null,null,null,null,null,null,null,null,"",{"$f":"IF(C500<>0,(IF(lfValidaCNPJ(C500)=TRUE,\"Válido\",\"Inválido\")),\"\")","v":""},{"$f":"IF(E500<>0,(IF(lfValidaCEP(E500)=TRUE,\"Válido\",\"Inválido\")),\"\")","v":""}]
[null,null,null,null,null,null,null,null,null,null,null,"",{"$f":"IF(C501<>0,(IF(lfValidaCNPJ(C501)=TRUE,\"Válido\",\"Inválido\")),\"\")","v":""},{"$f":"IF(E501<>0,(IF(lfValidaCEP(E501)=TRUE,\"Válido\",\"Inválido\")),\"\")","v":""}]
[null,null,null,null,null,null,null,null,null,null,null,"",{"$f":"IF(C502<>0,(IF(lfValidaCNPJ(C502)=TRUE,\"Válido\",\"Inválido\")),\"\")","v":""},{"$f":"IF(E502<>0,(IF(lfValidaCEP(E502)=TRUE,\"Válido\",\"Inválido\")),\"\")","v":""}]
[null,null,null,null,null,null,null,null,null,null,null,"",{"$f":"IF(C503<>0,(IF(lfValidaCNPJ(C503)=TRUE,\"Válido\",\"Inválido\")),\"\")","v":""},{"$f":"IF(E503<>0,(IF(lfValidaCEP(E503)=TRUE,\"Válido\",\"Inválido\")),\"\")","v":""}]
[null,null,null,null,null,null,null,null,null,null,null,"",{"$f":"IF(C504<>0,(IF(lfValidaCNPJ(C504)=TRUE,\"Válido\",\"Inválido\")),\"\")","v":""},{"$f":"IF(E504<>0,(IF(lfValidaCEP(E504)=TRUE,\"Válido\",\"Inválido\")),\"\")","v":""}]
[null,null,null,null,null,null,null,null,null,null,null,"",{"$f":"IF(C505<>0,(IF(lfValidaCNPJ(C505)=TRUE,\"Válido\",\"Inválido\")),\"\")","v":""},{"$f":"IF(E505<>0,(IF(lfValidaCEP(E505)=TRUE,\"Válido\",\"Inválido\")),\"\")","v":""}]
[null,null,null,null,null,null,null,null,null,null,null,"",{"$f":"IF(C506<>0,(IF(lfValidaCNPJ(C506)=TRUE,\"Válido\",\"Inválido\")),\"\")","v":""},{"$f":"IF(E506<>0,(IF(lfValidaCEP(E506)=TRUE,\"Válido\",\"Inválido\")),\"\")","v":""}]
[null,null,null,null,null,null,null,null,null,null,null,"",{"$f":"IF(C507<>0,(IF(lfValidaCNPJ(C507)=TRUE,\"Válido\",\"Inválido\")),\"\")","v":""},{"$f":"IF(E507<>0,(IF(lfValidaCEP(E507)=TRUE,\"Válido\",\"Inválido\")),\"\")","v":""}]
[null,null,null,null,null,null,null,null,null,null,null,"",{"$f":"IF(C508<>0,(IF(lfValidaCNPJ(C508)=TRUE,\"Válido\",\"Inválido\")),\"\")","v":""},{"$f":"IF(E508<>0,(IF(lfValidaCEP(E508)=TRUE,\"Válido\",\"Inválido\")),\"\")","v":""}]
[null,null,null,null,null,null,null,null,null,null,null,"",{"$f":"IF(C509<>0,(IF(lfValidaCNPJ(C509)=TRUE,\"Válido\",\"Inválido\")),\"\")","v":""},{"$f":"IF(E509<>0,(IF(lfValidaCEP(E509)=TRUE,\"Válido\",\"Inválido\")),\"\")","v":""}]
[null,null,null,null,null,null,null,null,null,null,null,"",{"$f":"IF(C510<>0,(IF(lfValidaCNPJ(C510)=TRUE,\"Válido\",\"Inválido\")),\"\")","v":""},{"$f":"IF(E510<>0,(IF(lfValidaCEP(E510)=TRUE,\"Válido\",\"Inválido\")),\"\")","v":""}]
[null,null,null,null,null,null,null,null,null,null,null,"",{"$f":"IF(C511<>0,(IF(lfValidaCNPJ(C511)=TRUE,\"Válido\",\"Inválido\")),\"\")","v":""},{"$f":"IF(E511<>0,(IF(lfValidaCEP(E511)=TRUE,\"Válido\",\"Inválido\")),\"\")","v":""}]
[null,null,null,null,null,null,null,null,null,null,null,"",{"$f":"IF(C512<>0,(IF(lfValidaCNPJ(C512)=TRUE,\"Válido\",\"Inválido\")),\"\")","v":""},{"$f":"IF(E512<>0,(IF(lfValidaCEP(E512)=TRUE,\"Válido\",\"Inválido\")),\"\")","v":""}]
[null,null,null,null,null,null,null,null,null,null,null,"",{"$f":"IF(C513<>0,(IF(lfValidaCNPJ(C513)=TRUE,\"Válido\",\"Inválido\")),\"\")","v":""},{"$f":"IF(E513<>0,(IF(lfValidaCEP(E513)=TRUE,\"Válido\",\"Inválido\")),\"\")","v":""}]
[null,null,null,null,null,null,null,null,null,null,null,"",{"$f":"IF(C514<>0,(IF(lfValidaCNPJ(C514)=TRUE,\"Válido\",\"Inválido\")),\"\")","v":""},{"$f":"IF(E514<>0,(IF(lfValidaCEP(E514)=TRUE,\"Válido\",\"Inválido\")),\"\")","v":""}]
[null,null,null,null,null,null,null,null,null,null,null,"",{"$f":"IF(C515<>0,(IF(lfValidaCNPJ(C515)=TRUE,\"Válido\",\"Inválido\")),\"\")","v":""},{"$f":"IF(E515<>0,(IF(lfValidaCEP(E515)=TRUE,\"Válido\",\"Inválido\")),\"\")","v":""}]
[null,null,null,null,null,null,null,null,null,null,null,"",{"$f":"IF(C516<>0,(IF(lfValidaCNPJ(C516)=TRUE,\"Válido\",\"Inválido\")),\"\")","v":""},{"$f":"IF(E516<>0,(IF(lfValidaCEP(E516)=TRUE,\"Válido\",\"Inválido\")),\"\")","v":""}]
[null,null,null,null,null,null,null,null,null,null,null,"",{"$f":"IF(C517<>0,(IF(lfValidaCNPJ(C517)=TRUE,\"Válido\",\"Inválido\")),\"\")","v":""},{"$f":"IF(E517<>0,(IF(lfValidaCEP(E517)=TRUE,\"Válido\",\"Inválido\")),\"\")","v":""}]
[null,null,null,null,null,null,null,null,null,null,null,"",{"$f":"IF(C518<>0,(IF(lfValidaCNPJ(C518)=TRUE,\"Válido\",\"Inválido\")),\"\")","v":""},{"$f":"IF(E518<>0,(IF(lfValidaCEP(E518)=TRUE,\"Válido\",\"Inválido\")),\"\")","v":""}]
[null,null,null,null,null,null,null,null,null,null,null,"",{"$f":"IF(C519<>0,(IF(lfValidaCNPJ(C519)=TRUE,\"Válido\",\"Inválido\")),\"\")","v":""},{"$f":"IF(E519<>0,(IF(lfValidaCEP(E519)=TRUE,\"Válido\",\"Inválido\")),\"\")","v":""}]
[null,null,null,null,null,null,null,null,null,null,null,"",{"$f":"IF(C520<>0,(IF(lfValidaCNPJ(C520)=TRUE,\"Válido\",\"Inválido\")),\"\")","v":""},{"$f":"IF(E520<>0,(IF(lfValidaCEP(E520)=TRUE,\"Válido\",\"Inválido\")),\"\")","v":""}]
[null,null,null,null,null,null,null,null,null,null,null,"",{"$f":"IF(C521<>0,(IF(lfValidaCNPJ(C521)=TRUE,\"Válido\",\"Inválido\")),\"\")","v":""},{"$f":"IF(E521<>0,(IF(lfValidaCEP(E521)=TRUE,\"Válido\",\"Inválido\")),\"\")","v":""}]
[null,null,null,null,null,null,null,null,null,null,null,"",{"$f":"IF(C522<>0,(IF(lfValidaCNPJ(C522)=TRUE,\"Válido\",\"Inválido\")),\"\")","v":""},{"$f":"IF(E522<>0,(IF(lfValidaCEP(E522)=TRUE,\"Válido\",\"Inválido\")),\"\")","v":""}]
[null,null,null,null,null,null,null,null,null,null,null,"",{"$f":"IF(C523<>0,(IF(lfValidaCNPJ(C523)=TRUE,\"Válido\",\"Inválido\")),\"\")","v":""},{"$f":"IF(E523<>0,(IF(lfValidaCEP(E523)=TRUE,\"Válido\",\"Inválido\")),\"\")","v":""}]
[null,null,null,null,null,null,null,null,null,null,null,"",{"$f":"IF(C524<>0,(IF(lfValidaCNPJ(C524)=TRUE,\"Válido\",\"Inválido\")),\"\")","v":""},{"$f":"IF(E524<>0,(IF(lfValidaCEP(E524)=TRUE,\"Válido\",\"Inválido\")),\"\")","v":""}]
[null,null,null,null,null,null,null,null,null,null,null,"",{"$f":"IF(C525<>0,(IF(lfValidaCNPJ(C525)=TRUE,\"Válido\",\"Inválido\")),\"\")","v":""},{"$f":"IF(E525<>0,(IF(lfValidaCEP(E525)=TRUE,\"Válido\",\"Inválido\")),\"\")","v":""}]
[null,null,null,null,null,null,null,null,null,null,null,{"$f":"IF(COUNTA(B526:J526)<>0,IF(AND(B526<>0,C526<>0,D526<>0,E526<>0,F526<>0,G526<>0,H526<>0,I526<>0,J526<>0),\"Completo\",\"Incompleto\"),\"\")","v":""},{"$f":"IF(C526<>0,(IF(lfValidaCNPJ(C526)=TRUE,\"Válido\",\"Inválido\")),\"\")","v":""},{"$f":"IF(E526<>0,(IF(lfValidaCEP(E526)=TRUE,\"Válido\",\"Inválido\")),\"\")","v":""}]
[null,null,null,null,null,null,null,null,null,null,null,"",{"$f":"IF(C527<>0,(IF(lfValidaCNPJ(C527)=TRUE,\"Válido\",\"Inválido\")),\"\")","v":""},{"$f":"IF(E527<>0,(IF(lfValidaCEP(E527)=TRUE,\"Válido\",\"Inválido\")),\"\")","v":""}]
[null,null,null,null,null,null,null,null,null,null,null,"",{"$f":"IF(C528<>0,(IF(lfValidaCNPJ(C528)=TRUE,\"Válido\",\"Inválido\")),\"\")","v":""},{"$f":"IF(E528<>0,(IF(lfValidaCEP(E528)=TRUE,\"Válido\",\"Inválido\")),\"\")","v":""}]
[null,null,null,null,null,null,null,null,null,null,null,"",{"$f":"IF(C529<>0,(IF(lfValidaCNPJ(C529)=TRUE,\"Válido\",\"Inválido\")),\"\")","v":""},{"$f":"IF(E529<>0,(IF(lfValidaCEP(E529)=TRUE,\"Válido\",\"Inválido\")),\"\")","v":""}]
[null,null,null,null,null,null,null,null,null,null,null,"",{"$f":"IF(C530<>0,(IF(lfValidaCNPJ(C530)=TRUE,\"Válido\",\"Inválido\")),\"\")","v":""},{"$f":"IF(E530<>0,(IF(lfValidaCEP(E530)=TRUE,\"Válido\",\"Inválido\")),\"\")","v":""}]
[null,null,null,null,null,null,null,null,null,null,null,"",{"$f":"IF(C531<>0,(IF(lfValidaCNPJ(C531)=TRUE,\"Válido\",\"Inválido\")),\"\")","v":""},{"$f":"IF(E531<>0,(IF(lfValidaCEP(E531)=TRUE,\"Válido\",\"Inválido\")),\"\")","v":""}]
[null,null,null,null,null,null,null,null,null,null,null,"",{"$f":"IF(C532<>0,(IF(lfValidaCNPJ(C532)=TRUE,\"Válido\",\"Inválido\")),\"\")","v":""},{"$f":"IF(E532<>0,(IF(lfValidaCEP(E532)=TRUE,\"Válido\",\"Inválido\")),\"\")","v":""}]
[null,null,null,null,null,null,null,null,null,null,null,"",{"$f":"IF(C533<>0,(IF(lfValidaCNPJ(C533)=TRUE,\"Válido\",\"Inválido\")),\"\")","v":""},{"$f":"IF(E533<>0,(IF(lfValidaCEP(E533)=TRUE,\"Válido\",\"Inválido\")),\"\")","v":""}]
[null,null,null,null,null,null,null,null,null,null,null,"",{"$f":"IF(C534<>0,(IF(lfValidaCNPJ(C534)=TRUE,\"Válido\",\"Inválido\")),\"\")","v":""},{"$f":"IF(E534<>0,(IF(lfValidaCEP(E534)=TRUE,\"Válido\",\"Inválido\")),\"\")","v":""}]
[null,null,null,null,null,null,null,null,null,null,null,"",{"$f":"IF(C535<>0,(IF(lfValidaCNPJ(C535)=TRUE,\"Válido\",\"Inválido\")),\"\")","v":""},{"$f":"IF(E535<>0,(IF(lfValidaCEP(E535)=TRUE,\"Válido\",\"Inválido\")),\"\")","v":""}]
[null,null,null,null,null,null,null,null,null,null,null,"",{"$f":"IF(C536<>0,(IF(lfValidaCNPJ(C536)=TRUE,\"Válido\",\"Inválido\")),\"\")","v":""},{"$f":"IF(E536<>0,(IF(lfValidaCEP(E536)=TRUE,\"Válido\",\"Inválido\")),\"\")","v":""}]
[null,null,null,null,null,null,null,null,null,null,null,"",{"$f":"IF(C537<>0,(IF(lfValidaCNPJ(C537)=TRUE,\"Válido\",\"Inválido\")),\"\")","v":""},{"$f":"IF(E537<>0,(IF(lfValidaCEP(E537)=TRUE,\"Válido\",\"Inválido\")),\"\")","v":""}]
[null,null,null,null,null,null,null,null,null,null,null,"",{"$f":"IF(C538<>0,(IF(lfValidaCNPJ(C538)=TRUE,\"Válido\",\"Inválido\")),\"\")","v":""},{"$f":"IF(E538<>0,(IF(lfValidaCEP(E538)=TRUE,\"Válido\",\"Inválido\")),\"\")","v":""}]
[null,null,null,null,null,null,null,null,null,null,null,"",{"$f":"IF(C539<>0,(IF(lfValidaCNPJ(C539)=TRUE,\"Válido\",\"Inválido\")),\"\")","v":""},{"$f":"IF(E539<>0,(IF(lfValidaCEP(E539)=TRUE,\"Válido\",\"Inválido\")),\"\")","v":""}]
[null,null,null,null,null,null,null,null,null,null,null,"",{"$f":"IF(C540<>0,(IF(lfValidaCNPJ(C540)=TRUE,\"Válido\",\"Inválido\")),\"\")","v":""},{"$f":"IF(E540<>0,(IF(lfValidaCEP(E540)=TRUE,\"Válido\",\"Inválido\")),\"\")","v":""}]
[null,null,null,null,null,null,null,null,null,null,null,"",{"$f":"IF(C541<>0,(IF(lfValidaCNPJ(C541)=TRUE,\"Válido\",\"Inválido\")),\"\")","v":""},{"$f":"IF(E541<>0,(IF(lfValidaCEP(E541)=TRUE,\"Válido\",\"Inválido\")),\"\")","v":""}]
[null,null,null,null,null,null,null,null,null,null,null,"",{"$f":"IF(C542<>0,(IF(lfValidaCNPJ(C542)=TRUE,\"Válido\",\"Inválido\")),\"\")","v":""},{"$f":"IF(E542<>0,(IF(lfValidaCEP(E542)=TRUE,\"Válido\",\"Inválido\")),\"\")","v":""}]
[null,null,null,null,null,null,null,null,null,null,null,"",{"$f":"IF(C543<>0,(IF(lfValidaCNPJ(C543)=TRUE,\"Válido\",\"Inválido\")),\"\")","v":""},{"$f":"IF(E543<>0,(IF(lfValidaCEP(E543)=TRUE,\"Válido\",\"Inválido\")),\"\")","v":""}]
[null,null,null,null,null,null,null,null,null,null,null,"",{"$f":"IF(C544<>0,(IF(lfValidaCNPJ(C544)=TRUE,\"Válido\",\"Inválido\")),\"\")","v":""},{"$f":"IF(E544<>0,(IF(lfValidaCEP(E544)=TRUE,\"Válido\",\"Inválido\")),\"\")","v":""}]
[null,null,null,null,null,null,null,null,null,null,null,"",{"$f":"IF(C545<>0,(IF(lfValidaCNPJ(C545)=TRUE,\"Válido\",\"Inválido\")),\"\")","v":""},{"$f":"IF(E545<>0,(IF(lfValidaCEP(E545)=TRUE,\"Válido\",\"Inválido\")),\"\")","v":""}]
[null,null,null,null,null,null,null,null,null,null,null,"",{"$f":"IF(C546<>0,(IF(lfValidaCNPJ(C546)=TRUE,\"Válido\",\"Inválido\")),\"\")","v":""},{"$f":"IF(E546<>0,(IF(lfValidaCEP(E546)=TRUE,\"Válido\",\"Inválido\")),\"\")","v":""}]
[null,null,null,null,null,null,null,null,null,null,null,"",{"$f":"IF(C547<>0,(IF(lfValidaCNPJ(C547)=TRUE,\"Válido\",\"Inválido\")),\"\")","v":""},{"$f":"IF(E547<>0,(IF(lfValidaCEP(E547)=TRUE,\"Válido\",\"Inválido\")),\"\")","v":""}]
[null,null,null,null,null,null,null,null,null,null,null,"",{"$f":"IF(C548<>0,(IF(lfValidaCNPJ(C548)=TRUE,\"Válido\",\"Inválido\")),\"\")","v":""},{"$f":"IF(E548<>0,(IF(lfValidaCEP(E548)=TRUE,\"Válido\",\"Inválido\")),\"\")","v":""}]
[null,null,null,null,null,null,null,null,null,null,null,"",{"$f":"IF(C549<>0,(IF(lfValidaCNPJ(C549)=TRUE,\"Válido\",\"Inválido\")),\"\")","v":""},{"$f":"IF(E549<>0,(IF(lfValidaCEP(E549)=TRUE,\"Válido\",\"Inválido\")),\"\")","v":""}]
[null,null,null,null,null,null,null,null,null,null,null,"",{"$f":"IF(C550<>0,(IF(lfValidaCNPJ(C550)=TRUE,\"Válido\",\"Inválido\")),\"\")","v":""},{"$f":"IF(E550<>0,(IF(lfValidaCEP(E550)=TRUE,\"Válido\",\"Inválido\")),\"\")","v":""}]
[null,null,null,null,null,null,null,null,null,null,null,"",{"$f":"IF(C551<>0,(IF(lfValidaCNPJ(C551)=TRUE,\"Válido\",\"Inválido\")),\"\")","v":""},{"$f":"IF(E551<>0,(IF(lfValidaCEP(E551)=TRUE,\"Válido\",\"Inválido\")),\"\")","v":""}]
[null,null,null,null,null,null,null,null,null,null,null,"",{"$f":"IF(C552<>0,(IF(lfValidaCNPJ(C552)=TRUE,\"Válido\",\"Inválido\")),\"\")","v":""},{"$f":"IF(E552<>0,(IF(lfValidaCEP(E552)=TRUE,\"Válido\",\"Inválido\")),\"\")","v":""}]
[null,null,null,null,null,null,null,null,null,null,null,"",{"$f":"IF(C553<>0,(IF(lfValidaCNPJ(C553)=TRUE,\"Válido\",\"Inválido\")),\"\")","v":""},{"$f":"IF(E553<>0,(IF(lfValidaCEP(E553)=TRUE,\"Válido\",\"Inválido\")),\"\")","v":""}]
[null,null,null,null,null,null,null,null,null,null,null,"",{"$f":"IF(C554<>0,(IF(lfValidaCNPJ(C554)=TRUE,\"Válido\",\"Inválido\")),\"\")","v":""},{"$f":"IF(E554<>0,(IF(lfValidaCEP(E554)=TRUE,\"Válido\",\"Inválido\")),\"\")","v":""}]
[null,null,null,null,null,null,null,null,null,null,null,"",{"$f":"IF(C555<>0,(IF(lfValidaCNPJ(C555)=TRUE,\"Válido\",\"Inválido\")),\"\")","v":""},{"$f":"IF(E555<>0,(IF(lfValidaCEP(E555)=TRUE,\"Válido\",\"Inválido\")),\"\")","v":""}]
[null,null,null,null,null,null,null,null,null,null,null,"",{"$f":"IF(C556<>0,(IF(lfValidaCNPJ(C556)=TRUE,\"Válido\",\"Inválido\")),\"\")","v":""},{"$f":"IF(E556<>0,(IF(lfValidaCEP(E556)=TRUE,\"Válido\",\"Inválido\")),\"\")","v":""}]
[null,null,null,null,null,null,null,null,null,null,null,"",{"$f":"IF(C557<>0,(IF(lfValidaCNPJ(C557)=TRUE,\"Válido\",\"Inválido\")),\"\")","v":""},{"$f":"IF(E557<>0,(IF(lfValidaCEP(E557)=TRUE,\"Válido\",\"Inválido\")),\"\")","v":""}]
[null,null,null,null,null,null,null,null,null,null,null,"",{"$f":"IF(C558<>0,(IF(lfValidaCNPJ(C558)=TRUE,\"Válido\",\"Inválido\")),\"\")","v":""},{"$f":"IF(E558<>0,(IF(lfValidaCEP(E558)=TRUE,\"Válido\",\"Inválido\")),\"\")","v":""}]
[null,null,null,null,null,null,null,null,null,null,null,"",{"$f":"IF(C559<>0,(IF(lfValidaCNPJ(C559)=TRUE,\"Válido\",\"Inválido\")),\"\")","v":""},{"$f":"IF(E559<>0,(IF(lfValidaCEP(E559)=TRUE,\"Válido\",\"Inválido\")),\"\")","v":""}]
[null,null,null,null,null,null,null,null,null,null,null,"",{"$f":"IF(C560<>0,(IF(lfValidaCNPJ(C560)=TRUE,\"Válido\",\"Inválido\")),\"\")","v":""},{"$f":"IF(E560<>0,(IF(lfValidaCEP(E560)=TRUE,\"Válido\",\"Inválido\")),\"\")","v":""}]
[null,null,null,null,null,null,null,null,null,null,null,"",{"$f":"IF(C561<>0,(IF(lfValidaCNPJ(C561)=TRUE,\"Válido\",\"Inválido\")),\"\")","v":""},{"$f":"IF(E561<>0,(IF(lfValidaCEP(E561)=TRUE,\"Válido\",\"Inválido\")),\"\")","v":""}]
[null,null,null,null,null,null,null,null,null,null,null,"",{"$f":"IF(C562<>0,(IF(lfValidaCNPJ(C562)=TRUE,\"Válido\",\"Inválido\")),\"\")","v":""},{"$f":"IF(E562<>0,(IF(lfValidaCEP(E562)=TRUE,\"Válido\",\"Inválido\")),\"\")","v":""}]
[null,null,null,null,null,null,null,null,null,null,null,"",{"$f":"IF(C563<>0,(IF(lfValidaCNPJ(C563)=TRUE,\"Válido\",\"Inválido\")),\"\")","v":""},{"$f":"IF(E563<>0,(IF(lfValidaCEP(E563)=TRUE,\"Válido\",\"Inválido\")),\"\")","v":""}]
[null,null,null,null,null,null,null,null,null,null,null,"",{"$f":"IF(C564<>0,(IF(lfValidaCNPJ(C564)=TRUE,\"Válido\",\"Inválido\")),\"\")","v":""},{"$f":"IF(E564<>0,(IF(lfValidaCEP(E564)=TRUE,\"Válido\",\"Inválido\")),\"\")","v":""}]
[null,null,null,null,null,null,null,null,null,null,null,"",{"$f":"IF(C565<>0,(IF(lfValidaCNPJ(C565)=TRUE,\"Válido\",\"Inválido\")),\"\")","v":""},{"$f":"IF(E565<>0,(IF(lfValidaCEP(E565)=TRUE,\"Válido\",\"Inválido\")),\"\")","v":""}]
[null,null,null,null,null,null,null,null,null,null,null,"",{"$f":"IF(C566<>0,(IF(lfValidaCNPJ(C566)=TRUE,\"Válido\",\"Inválido\")),\"\")","v":""},{"$f":"IF(E566<>0,(IF(lfValidaCEP(E566)=TRUE,\"Válido\",\"Inválido\")),\"\")","v":""}]
[null,null,null,null,null,null,null,null,null,null,null,"",{"$f":"IF(C567<>0,(IF(lfValidaCNPJ(C567)=TRUE,\"Válido\",\"Inválido\")),\"\")","v":""},{"$f":"IF(E567<>0,(IF(lfValidaCEP(E567)=TRUE,\"Válido\",\"Inválido\")),\"\")","v":""}]
[null,null,null,null,null,null,null,null,null,null,null,"",{"$f":"IF(C568<>0,(IF(lfValidaCNPJ(C568)=TRUE,\"Válido\",\"Inválido\")),\"\")","v":""},{"$f":"IF(E568<>0,(IF(lfValidaCEP(E568)=TRUE,\"Válido\",\"Inválido\")),\"\")","v":""}]
[null,null,null,null,null,null,null,null,null,null,null,"",{"$f":"IF(C569<>0,(IF(lfValidaCNPJ(C569)=TRUE,\"Válido\",\"Inválido\")),\"\")","v":""},{"$f":"IF(E569<>0,(IF(lfValidaCEP(E569)=TRUE,\"Válido\",\"Inválido\")),\"\")","v":""}]
[null,null,null,null,null,null,null,null,null,null,null,"",{"$f":"IF(C570<>0,(IF(lfValidaCNPJ(C570)=TRUE,\"Válido\",\"Inválido\")),\"\")","v":""},{"$f":"IF(E570<>0,(IF(lfValidaCEP(E570)=TRUE,\"Válido\",\"Inválido\")),\"\")","v":""}]
[null,null,null,null,null,null,null,null,null,null,null,"",{"$f":"IF(C571<>0,(IF(lfValidaCNPJ(C571)=TRUE,\"Válido\",\"Inválido\")),\"\")","v":""},{"$f":"IF(E571<>0,(IF(lfValidaCEP(E571)=TRUE,\"Válido\",\"Inválido\")),\"\")","v":""}]
[null,null,null,null,null,null,null,null,null,null,null,"",{"$f":"IF(C572<>0,(IF(lfValidaCNPJ(C572)=TRUE,\"Válido\",\"Inválido\")),\"\")","v":""},{"$f":"IF(E572<>0,(IF(lfValidaCEP(E572)=TRUE,\"Válido\",\"Inválido\")),\"\")","v":""}]
[null,null,null,null,null,null,null,null,null,null,null,"",{"$f":"IF(C573<>0,(IF(lfValidaCNPJ(C573)=TRUE,\"Válido\",\"Inválido\")),\"\")","v":""},{"$f":"IF(E573<>0,(IF(lfValidaCEP(E573)=TRUE,\"Válido\",\"Inválido\")),\"\")","v":""}]
[null,null,null,null,null,null,null,null,null,null,null,"",{"$f":"IF(C574<>0,(IF(lfValidaCNPJ(C574)=TRUE,\"Válido\",\"Inválido\")),\"\")","v":""},{"$f":"IF(E574<>0,(IF(lfValidaCEP(E574)=TRUE,\"Válido\",\"Inválido\")),\"\")","v":""}]
[null,null,null,null,null,null,null,null,null,null,null,"",{"$f":"IF(C575<>0,(IF(lfValidaCNPJ(C575)=TRUE,\"Válido\",\"Inválido\")),\"\")","v":""},{"$f":"IF(E575<>0,(IF(lfValidaCEP(E575)=TRUE,\"Válido\",\"Inválido\")),\"\")","v":""}]
[null,null,null,null,null,null,null,null,null,null,null,"",{"$f":"IF(C576<>0,(IF(lfValidaCNPJ(C576)=TRUE,\"Válido\",\"Inválido\")),\"\")","v":""},{"$f":"IF(E576<>0,(IF(lfValidaCEP(E576)=TRUE,\"Válido\",\"Inválido\")),\"\")","v":""}]
[null,null,null,null,null,null,null,null,null,null,null,"",{"$f":"IF(C577<>0,(IF(lfValidaCNPJ(C577)=TRUE,\"Válido\",\"Inválido\")),\"\")","v":""},{"$f":"IF(E577<>0,(IF(lfValidaCEP(E577)=TRUE,\"Válido\",\"Inválido\")),\"\")","v":""}]
[null,null,null,null,null,null,null,null,null,null,null,"",{"$f":"IF(C578<>0,(IF(lfValidaCNPJ(C578)=TRUE,\"Válido\",\"Inválido\")),\"\")","v":""},{"$f":"IF(E578<>0,(IF(lfValidaCEP(E578)=TRUE,\"Válido\",\"Inválido\")),\"\")","v":""}]
[null,null,null,null,null,null,null,null,null,null,null,"",{"$f":"IF(C579<>0,(IF(lfValidaCNPJ(C579)=TRUE,\"Válido\",\"Inválido\")),\"\")","v":""},{"$f":"IF(E579<>0,(IF(lfValidaCEP(E579)=TRUE,\"Válido\",\"Inválido\")),\"\")","v":""}]
[null,null,null,null,null,null,null,null,null,null,null,"",{"$f":"IF(C580<>0,(IF(lfValidaCNPJ(C580)=TRUE,\"Válido\",\"Inválido\")),\"\")","v":""},{"$f":"IF(E580<>0,(IF(lfValidaCEP(E580)=TRUE,\"Válido\",\"Inválido\")),\"\")","v":""}]
[null,null,null,null,null,null,null,null,null,null,null,"",{"$f":"IF(C581<>0,(IF(lfValidaCNPJ(C581)=TRUE,\"Válido\",\"Inválido\")),\"\")","v":""},{"$f":"IF(E581<>0,(IF(lfValidaCEP(E581)=TRUE,\"Válido\",\"Inválido\")),\"\")","v":""}]
[null,null,null,null,null,null,null,null,null,null,null,"",{"$f":"IF(C582<>0,(IF(lfValidaCNPJ(C582)=TRUE,\"Válido\",\"Inválido\")),\"\")","v":""},{"$f":"IF(E582<>0,(IF(lfValidaCEP(E582)=TRUE,\"Válido\",\"Inválido\")),\"\")","v":""}]
[null,null,null,null,null,null,null,null,null,null,null,"",{"$f":"IF(C583<>0,(IF(lfValidaCNPJ(C583)=TRUE,\"Válido\",\"Inválido\")),\"\")","v":""},{"$f":"IF(E583<>0,(IF(lfValidaCEP(E583)=TRUE,\"Válido\",\"Inválido\")),\"\")","v":""}]
[null,null,null,null,null,null,null,null,null,null,null,"",{"$f":"IF(C584<>0,(IF(lfValidaCNPJ(C584)=TRUE,\"Válido\",\"Inválido\")),\"\")","v":""},{"$f":"IF(E584<>0,(IF(lfValidaCEP(E584)=TRUE,\"Válido\",\"Inválido\")),\"\")","v":""}]
[null,null,null,null,null,null,null,null,null,null,null,"",{"$f":"IF(C585<>0,(IF(lfValidaCNPJ(C585)=TRUE,\"Válido\",\"Inválido\")),\"\")","v":""},{"$f":"IF(E585<>0,(IF(lfValidaCEP(E585)=TRUE,\"Válido\",\"Inválido\")),\"\")","v":""}]
[null,null,null,null,null,null,null,null,null,null,null,"",{"$f":"IF(C586<>0,(IF(lfValidaCNPJ(C586)=TRUE,\"Válido\",\"Inválido\")),\"\")","v":""},{"$f":"IF(E586<>0,(IF(lfValidaCEP(E586)=TRUE,\"Válido\",\"Inválido\")),\"\")","v":""}]
[null,null,null,null,null,null,null,null,null,null,null,"",{"$f":"IF(C587<>0,(IF(lfValidaCNPJ(C587)=TRUE,\"Válido\",\"Inválido\")),\"\")","v":""},{"$f":"IF(E587<>0,(IF(lfValidaCEP(E587)=TRUE,\"Válido\",\"Inválido\")),\"\")","v":""}]
[null,null,null,null,null,null,null,null,null,null,null,"",{"$f":"IF(C588<>0,(IF(lfValidaCNPJ(C588)=TRUE,\"Válido\",\"Inválido\")),\"\")","v":""},{"$f":"IF(E588<>0,(IF(lfValidaCEP(E588)=TRUE,\"Válido\",\"Inválido\")),\"\")","v":""}]
[null,null,null,null,null,null,null,null,null,null,null,"",{"$f":"IF(C589<>0,(IF(lfValidaCNPJ(C589)=TRUE,\"Válido\",\"Inválido\")),\"\")","v":""},{"$f":"IF(E589<>0,(IF(lfValidaCEP(E589)=TRUE,\"Válido\",\"Inválido\")),\"\")","v":""}]
[null,null,null,null,null,null,null,null,null,null,null,{"$f":"IF(COUNTA(B590:J590)<>0,IF(AND(B590<>0,C590<>0,D590<>0,E590<>0,F590<>0,G590<>0,H590<>0,I590<>0,J590<>0),\"Completo\",\"Incompleto\"),\"\")","v":""},{"$f":"IF(C590<>0,(IF(lfValidaCNPJ(C590)=TRUE,\"Válido\",\"Inválido\")),\"\")","v":""},{"$f":"IF(E590<>0,(IF(lfValidaCEP(E590)=TRUE,\"Válido\",\"Inválido\")),\"\")","v":""}]
[null,null,null,null,null,null,null,null,null,null,null,"",{"$f":"IF(C591<>0,(IF(lfValidaCNPJ(C591)=TRUE,\"Válido\",\"Inválido\")),\"\")","v":""},{"$f":"IF(E591<>0,(IF(lfValidaCEP(E591)=TRUE,\"Válido\",\"Inválido\")),\"\")","v":""}]
[null,null,null,null,null,null,null,null,null,null,null,"",{"$f":"IF(C592<>0,(IF(lfValidaCNPJ(C592)=TRUE,\"Válido\",\"Inválido\")),\"\")","v":""},{"$f":"IF(E592<>0,(IF(lfValidaCEP(E592)=TRUE,\"Válido\",\"Inválido\")),\"\")","v":""}]
[null,null,null,null,null,null,null,null,null,null,null,"",{"$f":"IF(C593<>0,(IF(lfValidaCNPJ(C593)=TRUE,\"Válido\",\"Inválido\")),\"\")","v":""},{"$f":"IF(E593<>0,(IF(lfValidaCEP(E593)=TRUE,\"Válido\",\"Inválido\")),\"\")","v":""}]
[null,null,null,null,null,null,null,null,null,null,null,"",{"$f":"IF(C594<>0,(IF(lfValidaCNPJ(C594)=TRUE,\"Válido\",\"Inválido\")),\"\")","v":""},{"$f":"IF(E594<>0,(IF(lfValidaCEP(E594)=TRUE,\"Válido\",\"Inválido\")),\"\")","v":""}]
[null,null,null,null,null,null,null,null,null,null,null,"",{"$f":"IF(C595<>0,(IF(lfValidaCNPJ(C595)=TRUE,\"Válido\",\"Inválido\")),\"\")","v":""},{"$f":"IF(E595<>0,(IF(lfValidaCEP(E595)=TRUE,\"Válido\",\"Inválido\")),\"\")","v":""}]
[null,null,null,null,null,null,null,null,null,null,null,"",{"$f":"IF(C596<>0,(IF(lfValidaCNPJ(C596)=TRUE,\"Válido\",\"Inválido\")),\"\")","v":""},{"$f":"IF(E596<>0,(IF(lfValidaCEP(E596)=TRUE,\"Válido\",\"Inválido\")),\"\")","v":""}]
[null,null,null,null,null,null,null,null,null,null,null,"",{"$f":"IF(C597<>0,(IF(lfValidaCNPJ(C597)=TRUE,\"Válido\",\"Inválido\")),\"\")","v":""},{"$f":"IF(E597<>0,(IF(lfValidaCEP(E597)=TRUE,\"Válido\",\"Inválido\")),\"\")","v":""}]
[null,null,null,null,null,null,null,null,null,null,null,"",{"$f":"IF(C598<>0,(IF(lfValidaCNPJ(C598)=TRUE,\"Válido\",\"Inválido\")),\"\")","v":""},{"$f":"IF(E598<>0,(IF(lfValidaCEP(E598)=TRUE,\"Válido\",\"Inválido\")),\"\")","v":""}]
[null,null,null,null,null,null,null,null,null,null,null,"",{"$f":"IF(C599<>0,(IF(lfValidaCNPJ(C599)=TRUE,\"Válido\",\"Inválido\")),\"\")","v":""},{"$f":"IF(E599<>0,(IF(lfValidaCEP(E599)=TRUE,\"Válido\",\"Inválido\")),\"\")","v":""}]
[null,null,null,null,null,null,null,null,null,null,null,"",{"$f":"IF(C600<>0,(IF(lfValidaCNPJ(C600)=TRUE,\"Válido\",\"Inválido\")),\"\")","v":""},{"$f":"IF(E600<>0,(IF(lfValidaCEP(E600)=TRUE,\"Válido\",\"Inválido\")),\"\")","v":""}]
[null,null,null,null,null,null,null,null,null,null,null,"",{"$f":"IF(C601<>0,(IF(lfValidaCNPJ(C601)=TRUE,\"Válido\",\"Inválido\")),\"\")","v":""},{"$f":"IF(E601<>0,(IF(lfValidaCEP(E601)=TRUE,\"Válido\",\"Inválido\")),\"\")","v":""}]
[null,null,null,null,null,null,null,null,null,null,null,"",{"$f":"IF(C602<>0,(IF(lfValidaCNPJ(C602)=TRUE,\"Válido\",\"Inválido\")),\"\")","v":""},{"$f":"IF(E602<>0,(IF(lfValidaCEP(E602)=TRUE,\"Válido\",\"Inválido\")),\"\")","v":""}]
[null,null,null,null,null,null,null,null,null,null,null,"",{"$f":"IF(C603<>0,(IF(lfValidaCNPJ(C603)=TRUE,\"Válido\",\"Inválido\")),\"\")","v":""},{"$f":"IF(E603<>0,(IF(lfValidaCEP(E603)=TRUE,\"Válido\",\"Inválido\")),\"\")","v":""}]
[null,null,null,null,null,null,null,null,null,null,null,"",{"$f":"IF(C604<>0,(IF(lfValidaCNPJ(C604)=TRUE,\"Válido\",\"Inválido\")),\"\")","v":""},{"$f":"IF(E604<>0,(IF(lfValidaCEP(E604)=TRUE,\"Válido\",\"Inválido\")),\"\")","v":""}]
[null,null,null,null,null,null,null,null,null,null,null,"",{"$f":"IF(C605<>0,(IF(lfValidaCNPJ(C605)=TRUE,\"Válido\",\"Inválido\")),\"\")","v":""},{"$f":"IF(E605<>0,(IF(lfValidaCEP(E605)=TRUE,\"Válido\",\"Inválido\")),\"\")","v":""}]
[null,null,null,null,null,null,null,null,null,null,null,"",{"$f":"IF(C606<>0,(IF(lfValidaCNPJ(C606)=TRUE,\"Válido\",\"Inválido\")),\"\")","v":""},{"$f":"IF(E606<>0,(IF(lfValidaCEP(E606)=TRUE,\"Válido\",\"Inválido\")),\"\")","v":""}]
[null,null,null,null,null,null,null,null,null,null,null,"",{"$f":"IF(C607<>0,(IF(lfValidaCNPJ(C607)=TRUE,\"Válido\",\"Inválido\")),\"\")","v":""},{"$f":"IF(E607<>0,(IF(lfValidaCEP(E607)=TRUE,\"Válido\",\"Inválido\")),\"\")","v":""}]
[null,null,null,null,null,null,null,null,null,null,null,"",{"$f":"IF(C608<>0,(IF(lfValidaCNPJ(C608)=TRUE,\"Válido\",\"Inválido\")),\"\")","v":""},{"$f":"IF(E608<>0,(IF(lfValidaCEP(E608)=TRUE,\"Válido\",\"Inválido\")),\"\")","v":""}]
[null,null,null,null,null,null,null,null,null,null,null,"",{"$f":"IF(C609<>0,(IF(lfValidaCNPJ(C609)=TRUE,\"Válido\",\"Inválido\")),\"\")","v":""},{"$f":"IF(E609<>0,(IF(lfValidaCEP(E609)=TRUE,\"Válido\",\"Inválido\")),\"\")","v":""}]
[null,null,null,null,null,null,null,null,null,null,null,"",{"$f":"IF(C610<>0,(IF(lfValidaCNPJ(C610)=TRUE,\"Válido\",\"Inválido\")),\"\")","v":""},{"$f":"IF(E610<>0,(IF(lfValidaCEP(E610)=TRUE,\"Válido\",\"Inválido\")),\"\")","v":""}]
[null,null,null,null,null,null,null,null,null,null,null,"",{"$f":"IF(C611<>0,(IF(lfValidaCNPJ(C611)=TRUE,\"Válido\",\"Inválido\")),\"\")","v":""},{"$f":"IF(E611<>0,(IF(lfValidaCEP(E611)=TRUE,\"Válido\",\"Inválido\")),\"\")","v":""}]
[null,null,null,null,null,null,null,null,null,null,null,"",{"$f":"IF(C612<>0,(IF(lfValidaCNPJ(C612)=TRUE,\"Válido\",\"Inválido\")),\"\")","v":""},{"$f":"IF(E612<>0,(IF(lfValidaCEP(E612)=TRUE,\"Válido\",\"Inválido\")),\"\")","v":""}]
[null,null,null,null,null,null,null,null,null,null,null,"",{"$f":"IF(C613<>0,(IF(lfValidaCNPJ(C613)=TRUE,\"Válido\",\"Inválido\")),\"\")","v":""},{"$f":"IF(E613<>0,(IF(lfValidaCEP(E613)=TRUE,\"Válido\",\"Inválido\")),\"\")","v":""}]
[null,null,null,null,null,null,null,null,null,null,null,"",{"$f":"IF(C614<>0,(IF(lfValidaCNPJ(C614)=TRUE,\"Válido\",\"Inválido\")),\"\")","v":""},{"$f":"IF(E614<>0,(IF(lfValidaCEP(E614)=TRUE,\"Válido\",\"Inválido\")),\"\")","v":""}]
[null,null,null,null,null,null,null,null,null,null,null,"",{"$f":"IF(C615<>0,(IF(lfValidaCNPJ(C615)=TRUE,\"Válido\",\"Inválido\")),\"\")","v":""},{"$f":"IF(E615<>0,(IF(lfValidaCEP(E615)=TRUE,\"Válido\",\"Inválido\")),\"\")","v":""}]
[null,null,null,null,null,null,null,null,null,null,null,"",{"$f":"IF(C616<>0,(IF(lfValidaCNPJ(C616)=TRUE,\"Válido\",\"Inválido\")),\"\")","v":""},{"$f":"IF(E616<>0,(IF(lfValidaCEP(E616)=TRUE,\"Válido\",\"Inválido\")),\"\")","v":""}]
[null,null,null,null,null,null,null,null,null,null,null,"",{"$f":"IF(C617<>0,(IF(lfValidaCNPJ(C617)=TRUE,\"Válido\",\"Inválido\")),\"\")","v":""},{"$f":"IF(E617<>0,(IF(lfValidaCEP(E617)=TRUE,\"Válido\",\"Inválido\")),\"\")","v":""}]
[null,null,null,null,null,null,null,null,null,null,null,"",{"$f":"IF(C618<>0,(IF(lfValidaCNPJ(C618)=TRUE,\"Válido\",\"Inválido\")),\"\")","v":""},{"$f":"IF(E618<>0,(IF(lfValidaCEP(E618)=TRUE,\"Válido\",\"Inválido\")),\"\")","v":""}]
[null,null,null,null,null,null,null,null,null,null,null,"",{"$f":"IF(C619<>0,(IF(lfValidaCNPJ(C619)=TRUE,\"Válido\",\"Inválido\")),\"\")","v":""},{"$f":"IF(E619<>0,(IF(lfValidaCEP(E619)=TRUE,\"Válido\",\"Inválido\")),\"\")","v":""}]
[null,null,null,null,null,null,null,null,null,null,null,"",{"$f":"IF(C620<>0,(IF(lfValidaCNPJ(C620)=TRUE,\"Válido\",\"Inválido\")),\"\")","v":""},{"$f":"IF(E620<>0,(IF(lfValidaCEP(E620)=TRUE,\"Válido\",\"Inválido\")),\"\")","v":""}]
[null,null,null,null,null,null,null,null,null,null,null,"",{"$f":"IF(C621<>0,(IF(lfValidaCNPJ(C621)=TRUE,\"Válido\",\"Inválido\")),\"\")","v":""},{"$f":"IF(E621<>0,(IF(lfValidaCEP(E621)=TRUE,\"Válido\",\"Inválido\")),\"\")","v":""}]
[null,null,null,null,null,null,null,null,null,null,null,"",{"$f":"IF(C622<>0,(IF(lfValidaCNPJ(C622)=TRUE,\"Válido\",\"Inválido\")),\"\")","v":""},{"$f":"IF(E622<>0,(IF(lfValidaCEP(E622)=TRUE,\"Válido\",\"Inválido\")),\"\")","v":""}]
[null,null,null,null,null,null,null,null,null,null,null,"",{"$f":"IF(C623<>0,(IF(lfValidaCNPJ(C623)=TRUE,\"Válido\",\"Inválido\")),\"\")","v":""},{"$f":"IF(E623<>0,(IF(lfValidaCEP(E623)=TRUE,\"Válido\",\"Inválido\")),\"\")","v":""}]
[null,null,null,null,null,null,null,null,null,null,null,"",{"$f":"IF(C624<>0,(IF(lfValidaCNPJ(C624)=TRUE,\"Válido\",\"Inválido\")),\"\")","v":""},{"$f":"IF(E624<>0,(IF(lfValidaCEP(E624)=TRUE,\"Válido\",\"Inválido\")),\"\")","v":""}]
[null,null,null,null,null,null,null,null,null,null,null,"",{"$f":"IF(C625<>0,(IF(lfValidaCNPJ(C625)=TRUE,\"Válido\",\"Inválido\")),\"\")","v":""},{"$f":"IF(E625<>0,(IF(lfValidaCEP(E625)=TRUE,\"Válido\",\"Inválido\")),\"\")","v":""}]
[null,null,null,null,null,null,null,null,null,null,null,"",{"$f":"IF(C626<>0,(IF(lfValidaCNPJ(C626)=TRUE,\"Válido\",\"Inválido\")),\"\")","v":""},{"$f":"IF(E626<>0,(IF(lfValidaCEP(E626)=TRUE,\"Válido\",\"Inválido\")),\"\")","v":""}]
[null,null,null,null,null,null,null,null,null,null,null,"",{"$f":"IF(C627<>0,(IF(lfValidaCNPJ(C627)=TRUE,\"Válido\",\"Inválido\")),\"\")","v":""},{"$f":"IF(E627<>0,(IF(lfValidaCEP(E627)=TRUE,\"Válido\",\"Inválido\")),\"\")","v":""}]
[null,null,null,null,null,null,null,null,null,null,null,"",{"$f":"IF(C628<>0,(IF(lfValidaCNPJ(C628)=TRUE,\"Válido\",\"Inválido\")),\"\")","v":""},{"$f":"IF(E628<>0,(IF(lfValidaCEP(E628)=TRUE,\"Válido\",\"Inválido\")),\"\")","v":""}]
[null,null,null,null,null,null,null,null,null,null,null,"",{"$f":"IF(C629<>0,(IF(lfValidaCNPJ(C629)=TRUE,\"Válido\",\"Inválido\")),\"\")","v":""},{"$f":"IF(E629<>0,(IF(lfValidaCEP(E629)=TRUE,\"Válido\",\"Inválido\")),\"\")","v":""}]
[null,null,null,null,null,null,null,null,null,null,null,"",{"$f":"IF(C630<>0,(IF(lfValidaCNPJ(C630)=TRUE,\"Válido\",\"Inválido\")),\"\")","v":""},{"$f":"IF(E630<>0,(IF(lfValidaCEP(E630)=TRUE,\"Válido\",\"Inválido\")),\"\")","v":""}]
[null,null,null,null,null,null,null,null,null,null,null,"",{"$f":"IF(C631<>0,(IF(lfValidaCNPJ(C631)=TRUE,\"Válido\",\"Inválido\")),\"\")","v":""},{"$f":"IF(E631<>0,(IF(lfValidaCEP(E631)=TRUE,\"Válido\",\"Inválido\")),\"\")","v":""}]
[null,null,null,null,null,null,null,null,null,null,null,"",{"$f":"IF(C632<>0,(IF(lfValidaCNPJ(C632)=TRUE,\"Válido\",\"Inválido\")),\"\")","v":""},{"$f":"IF(E632<>0,(IF(lfValidaCEP(E632)=TRUE,\"Válido\",\"Inválido\")),\"\")","v":""}]
[null,null,null,null,null,null,null,null,null,null,null,"",{"$f":"IF(C633<>0,(IF(lfValidaCNPJ(C633)=TRUE,\"Válido\",\"Inválido\")),\"\")","v":""},{"$f":"IF(E633<>0,(IF(lfValidaCEP(E633)=TRUE,\"Válido\",\"Inválido\")),\"\")","v":""}]
[null,null,null,null,null,null,null,null,null,null,null,"",{"$f":"IF(C634<>0,(IF(lfValidaCNPJ(C634)=TRUE,\"Válido\",\"Inválido\")),\"\")","v":""},{"$f":"IF(E634<>0,(IF(lfValidaCEP(E634)=TRUE,\"Válido\",\"Inválido\")),\"\")","v":""}]
[null,null,null,null,null,null,null,null,null,null,null,"",{"$f":"IF(C635<>0,(IF(lfValidaCNPJ(C635)=TRUE,\"Válido\",\"Inválido\")),\"\")","v":""},{"$f":"IF(E635<>0,(IF(lfValidaCEP(E635)=TRUE,\"Válido\",\"Inválido\")),\"\")","v":""}]
[null,null,null,null,null,null,null,null,null,null,null,"",{"$f":"IF(C636<>0,(IF(lfValidaCNPJ(C636)=TRUE,\"Válido\",\"Inválido\")),\"\")","v":""},{"$f":"IF(E636<>0,(IF(lfValidaCEP(E636)=TRUE,\"Válido\",\"Inválido\")),\"\")","v":""}]
[null,null,null,null,null,null,null,null,null,null,null,"",{"$f":"IF(C637<>0,(IF(lfValidaCNPJ(C637)=TRUE,\"Válido\",\"Inválido\")),\"\")","v":""},{"$f":"IF(E637<>0,(IF(lfValidaCEP(E637)=TRUE,\"Válido\",\"Inválido\")),\"\")","v":""}]
[null,null,null,null,null,null,null,null,null,null,null,"",{"$f":"IF(C638<>0,(IF(lfValidaCNPJ(C638)=TRUE,\"Válido\",\"Inválido\")),\"\")","v":""},{"$f":"IF(E638<>0,(IF(lfValidaCEP(E638)=TRUE,\"Válido\",\"Inválido\")),\"\")","v":""}]
[null,null,null,null,null,null,null,null,null,null,null,"",{"$f":"IF(C639<>0,(IF(lfValidaCNPJ(C639)=TRUE,\"Válido\",\"Inválido\")),\"\")","v":""},{"$f":"IF(E639<>0,(IF(lfValidaCEP(E639)=TRUE,\"Válido\",\"Inválido\")),\"\")","v":""}]
[null,null,null,null,null,null,null,null,null,null,null,"",{"$f":"IF(C640<>0,(IF(lfValidaCNPJ(C640)=TRUE,\"Válido\",\"Inválido\")),\"\")","v":""},{"$f":"IF(E640<>0,(IF(lfValidaCEP(E640)=TRUE,\"Válido\",\"Inválido\")),\"\")","v":""}]
[null,null,null,null,null,null,null,null,null,null,null,"",{"$f":"IF(C641<>0,(IF(lfValidaCNPJ(C641)=TRUE,\"Válido\",\"Inválido\")),\"\")","v":""},{"$f":"IF(E641<>0,(IF(lfValidaCEP(E641)=TRUE,\"Válido\",\"Inválido\")),\"\")","v":""}]
[null,null,null,null,null,null,null,null,null,null,null,"",{"$f":"IF(C642<>0,(IF(lfValidaCNPJ(C642)=TRUE,\"Válido\",\"Inválido\")),\"\")","v":""},{"$f":"IF(E642<>0,(IF(lfValidaCEP(E642)=TRUE,\"Válido\",\"Inválido\")),\"\")","v":""}]
[null,null,null,null,null,null,null,null,null,null,null,"",{"$f":"IF(C643<>0,(IF(lfValidaCNPJ(C643)=TRUE,\"Válido\",\"Inválido\")),\"\")","v":""},{"$f":"IF(E643<>0,(IF(lfValidaCEP(E643)=TRUE,\"Válido\",\"Inválido\")),\"\")","v":""}]
[null,null,null,null,null,null,null,null,null,null,null,"",{"$f":"IF(C644<>0,(IF(lfValidaCNPJ(C644)=TRUE,\"Válido\",\"Inválido\")),\"\")","v":""},{"$f":"IF(E644<>0,(IF(lfValidaCEP(E644)=TRUE,\"Válido\",\"Inválido\")),\"\")","v":""}]
[null,null,null,null,null,null,null,null,null,null,null,"",{"$f":"IF(C645<>0,(IF(lfValidaCNPJ(C645)=TRUE,\"Válido\",\"Inválido\")),\"\")","v":""},{"$f":"IF(E645<>0,(IF(lfValidaCEP(E645)=TRUE,\"Válido\",\"Inválido\")),\"\")","v":""}]
[null,null,null,null,null,null,null,null,null,null,null,"",{"$f":"IF(C646<>0,(IF(lfValidaCNPJ(C646)=TRUE,\"Válido\",\"Inválido\")),\"\")","v":""},{"$f":"IF(E646<>0,(IF(lfValidaCEP(E646)=TRUE,\"Válido\",\"Inválido\")),\"\")","v":""}]
[null,null,null,null,null,null,null,null,null,null,null,"",{"$f":"IF(C647<>0,(IF(lfValidaCNPJ(C647)=TRUE,\"Válido\",\"Inválido\")),\"\")","v":""},{"$f":"IF(E647<>0,(IF(lfValidaCEP(E647)=TRUE,\"Válido\",\"Inválido\")),\"\")","v":""}]
[null,null,null,null,null,null,null,null,null,null,null,"",{"$f":"IF(C648<>0,(IF(lfValidaCNPJ(C648)=TRUE,\"Válido\",\"Inválido\")),\"\")","v":""},{"$f":"IF(E648<>0,(IF(lfValidaCEP(E648)=TRUE,\"Válido\",\"Inválido\")),\"\")","v":""}]
[null,null,null,null,null,null,null,null,null,null,null,"",{"$f":"IF(C649<>0,(IF(lfValidaCNPJ(C649)=TRUE,\"Válido\",\"Inválido\")),\"\")","v":""},{"$f":"IF(E649<>0,(IF(lfValidaCEP(E649)=TRUE,\"Válido\",\"Inválido\")),\"\")","v":""}]
[null,null,null,null,null,null,null,null,null,null,null,"",{"$f":"IF(C650<>0,(IF(lfValidaCNPJ(C650)=TRUE,\"Válido\",\"Inválido\")),\"\")","v":""},{"$f":"IF(E650<>0,(IF(lfValidaCEP(E650)=TRUE,\"Válido\",\"Inválido\")),\"\")","v":""}]
[null,null,null,null,null,null,null,null,null,null,null,"",{"$f":"IF(C651<>0,(IF(lfValidaCNPJ(C651)=TRUE,\"Válido\",\"Inválido\")),\"\")","v":""},{"$f":"IF(E651<>0,(IF(lfValidaCEP(E651)=TRUE,\"Válido\",\"Inválido\")),\"\")","v":""}]
[null,null,null,null,null,null,null,null,null,null,null,"",{"$f":"IF(C652<>0,(IF(lfValidaCNPJ(C652)=TRUE,\"Válido\",\"Inválido\")),\"\")","v":""},{"$f":"IF(E652<>0,(IF(lfValidaCEP(E652)=TRUE,\"Válido\",\"Inválido\")),\"\")","v":""}]
[null,null,null,null,null,null,null,null,null,null,null,"",{"$f":"IF(C653<>0,(IF(lfValidaCNPJ(C653)=TRUE,\"Válido\",\"Inválido\")),\"\")","v":""},{"$f":"IF(E653<>0,(IF(lfValidaCEP(E653)=TRUE,\"Válido\",\"Inválido\")),\"\")","v":""}]
[null,null,null,null,null,null,null,null,null,null,null,{"$f":"IF(COUNTA(B654:J654)<>0,IF(AND(B654<>0,C654<>0,D654<>0,E654<>0,F654<>0,G654<>0,H654<>0,I654<>0,J654<>0),\"Completo\",\"Incompleto\"),\"\")","v":""},{"$f":"IF(C654<>0,(IF(lfValidaCNPJ(C654)=TRUE,\"Válido\",\"Inválido\")),\"\")","v":""},{"$f":"IF(E654<>0,(IF(lfValidaCEP(E654)=TRUE,\"Válido\",\"Inválido\")),\"\")","v":""}]
[null,null,null,null,null,null,null,null,null,null,null,"",{"$f":"IF(C655<>0,(IF(lfValidaCNPJ(C655)=TRUE,\"Válido\",\"Inválido\")),\"\")","v":""},{"$f":"IF(E655<>0,(IF(lfValidaCEP(E655)=TRUE,\"Válido\",\"Inválido\")),\"\")","v":""}]
[null,null,null,null,null,null,null,null,null,null,null,"",{"$f":"IF(C656<>0,(IF(lfValidaCNPJ(C656)=TRUE,\"Válido\",\"Inválido\")),\"\")","v":""},{"$f":"IF(E656<>0,(IF(lfValidaCEP(E656)=TRUE,\"Válido\",\"Inválido\")),\"\")","v":""}]
[null,null,null,null,null,null,null,null,null,null,null,"",{"$f":"IF(C657<>0,(IF(lfValidaCNPJ(C657)=TRUE,\"Válido\",\"Inválido\")),\"\")","v":""},{"$f":"IF(E657<>0,(IF(lfValidaCEP(E657)=TRUE,\"Válido\",\"Inválido\")),\"\")","v":""}]
[null,null,null,null,null,null,null,null,null,null,null,"",{"$f":"IF(C658<>0,(IF(lfValidaCNPJ(C658)=TRUE,\"Válido\",\"Inválido\")),\"\")","v":""},{"$f":"IF(E658<>0,(IF(lfValidaCEP(E658)=TRUE,\"Válido\",\"Inválido\")),\"\")","v":""}]
[null,null,null,null,null,null,null,null,null,null,null,"",{"$f":"IF(C659<>0,(IF(lfValidaCNPJ(C659)=TRUE,\"Válido\",\"Inválido\")),\"\")","v":""},{"$f":"IF(E659<>0,(IF(lfValidaCEP(E659)=TRUE,\"Válido\",\"Inválido\")),\"\")","v":""}]
[null,null,null,null,null,null,null,null,null,null,null,"",{"$f":"IF(C660<>0,(IF(lfValidaCNPJ(C660)=TRUE,\"Válido\",\"Inválido\")),\"\")","v":""},{"$f":"IF(E660<>0,(IF(lfValidaCEP(E660)=TRUE,\"Válido\",\"Inválido\")),\"\")","v":""}]
[null,null,null,null,null,null,null,null,null,null,null,"",{"$f":"IF(C661<>0,(IF(lfValidaCNPJ(C661)=TRUE,\"Válido\",\"Inválido\")),\"\")","v":""},{"$f":"IF(E661<>0,(IF(lfValidaCEP(E661)=TRUE,\"Válido\",\"Inválido\")),\"\")","v":""}]
[null,null,null,null,null,null,null,null,null,null,null,"",{"$f":"IF(C662<>0,(IF(lfValidaCNPJ(C662)=TRUE,\"Válido\",\"Inválido\")),\"\")","v":""},{"$f":"IF(E662<>0,(IF(lfValidaCEP(E662)=TRUE,\"Válido\",\"Inválido\")),\"\")","v":""}]
[null,null,null,null,null,null,null,null,null,null,null,"",{"$f":"IF(C663<>0,(IF(lfValidaCNPJ(C663)=TRUE,\"Válido\",\"Inválido\")),\"\")","v":""},{"$f":"IF(E663<>0,(IF(lfValidaCEP(E663)=TRUE,\"Válido\",\"Inválido\")),\"\")","v":""}]
[null,null,null,null,null,null,null,null,null,null,null,"",{"$f":"IF(C664<>0,(IF(lfValidaCNPJ(C664)=TRUE,\"Válido\",\"Inválido\")),\"\")","v":""},{"$f":"IF(E664<>0,(IF(lfValidaCEP(E664)=TRUE,\"Válido\",\"Inválido\")),\"\")","v":""}]
[null,null,null,null,null,null,null,null,null,null,null,"",{"$f":"IF(C665<>0,(IF(lfValidaCNPJ(C665)=TRUE,\"Válido\",\"Inválido\")),\"\")","v":""},{"$f":"IF(E665<>0,(IF(lfValidaCEP(E665)=TRUE,\"Válido\",\"Inválido\")),\"\")","v":""}]
[null,null,null,null,null,null,null,null,null,null,null,"",{"$f":"IF(C666<>0,(IF(lfValidaCNPJ(C666)=TRUE,\"Válido\",\"Inválido\")),\"\")","v":""},{"$f":"IF(E666<>0,(IF(lfValidaCEP(E666)=TRUE,\"Válido\",\"Inválido\")),\"\")","v":""}]
[null,null,null,null,null,null,null,null,null,null,null,"",{"$f":"IF(C667<>0,(IF(lfValidaCNPJ(C667)=TRUE,\"Válido\",\"Inválido\")),\"\")","v":""},{"$f":"IF(E667<>0,(IF(lfValidaCEP(E667)=TRUE,\"Válido\",\"Inválido\")),\"\")","v":""}]
[null,null,null,null,null,null,null,null,null,null,null,"",{"$f":"IF(C668<>0,(IF(lfValidaCNPJ(C668)=TRUE,\"Válido\",\"Inválido\")),\"\")","v":""},{"$f":"IF(E668<>0,(IF(lfValidaCEP(E668)=TRUE,\"Válido\",\"Inválido\")),\"\")","v":""}]
[null,null,null,null,null,null,null,null,null,null,null,"",{"$f":"IF(C669<>0,(IF(lfValidaCNPJ(C669)=TRUE,\"Válido\",\"Inválido\")),\"\")","v":""},{"$f":"IF(E669<>0,(IF(lfValidaCEP(E669)=TRUE,\"Válido\",\"Inválido\")),\"\")","v":""}]
[null,null,null,null,null,null,null,null,null,null,null,"",{"$f":"IF(C670<>0,(IF(lfValidaCNPJ(C670)=TRUE,\"Válido\",\"Inválido\")),\"\")","v":""},{"$f":"IF(E670<>0,(IF(lfValidaCEP(E670)=TRUE,\"Válido\",\"Inválido\")),\"\")","v":""}]
[null,null,null,null,null,null,null,null,null,null,null,"",{"$f":"IF(C671<>0,(IF(lfValidaCNPJ(C671)=TRUE,\"Válido\",\"Inválido\")),\"\")","v":""},{"$f":"IF(E671<>0,(IF(lfValidaCEP(E671)=TRUE,\"Válido\",\"Inválido\")),\"\")","v":""}]
[null,null,null,null,null,null,null,null,null,null,null,"",{"$f":"IF(C672<>0,(IF(lfValidaCNPJ(C672)=TRUE,\"Válido\",\"Inválido\")),\"\")","v":""},{"$f":"IF(E672<>0,(IF(lfValidaCEP(E672)=TRUE,\"Válido\",\"Inválido\")),\"\")","v":""}]
[null,null,null,null,null,null,null,null,null,null,null,"",{"$f":"IF(C673<>0,(IF(lfValidaCNPJ(C673)=TRUE,\"Válido\",\"Inválido\")),\"\")","v":""},{"$f":"IF(E673<>0,(IF(lfValidaCEP(E673)=TRUE,\"Válido\",\"Inválido\")),\"\")","v":""}]
[null,null,null,null,null,null,null,null,null,null,null,"",{"$f":"IF(C674<>0,(IF(lfValidaCNPJ(C674)=TRUE,\"Válido\",\"Inválido\")),\"\")","v":""},{"$f":"IF(E674<>0,(IF(lfValidaCEP(E674)=TRUE,\"Válido\",\"Inválido\")),\"\")","v":""}]
[null,null,null,null,null,null,null,null,null,null,null,"",{"$f":"IF(C675<>0,(IF(lfValidaCNPJ(C675)=TRUE,\"Válido\",\"Inválido\")),\"\")","v":""},{"$f":"IF(E675<>0,(IF(lfValidaCEP(E675)=TRUE,\"Válido\",\"Inválido\")),\"\")","v":""}]
[null,null,null,null,null,null,null,null,null,null,null,"",{"$f":"IF(C676<>0,(IF(lfValidaCNPJ(C676)=TRUE,\"Válido\",\"Inválido\")),\"\")","v":""},{"$f":"IF(E676<>0,(IF(lfValidaCEP(E676)=TRUE,\"Válido\",\"Inválido\")),\"\")","v":""}]
[null,null,null,null,null,null,null,null,null,null,null,"",{"$f":"IF(C677<>0,(IF(lfValidaCNPJ(C677)=TRUE,\"Válido\",\"Inválido\")),\"\")","v":""},{"$f":"IF(E677<>0,(IF(lfValidaCEP(E677)=TRUE,\"Válido\",\"Inválido\")),\"\")","v":""}]
[null,null,null,null,null,null,null,null,null,null,null,"",{"$f":"IF(C678<>0,(IF(lfValidaCNPJ(C678)=TRUE,\"Válido\",\"Inválido\")),\"\")","v":""},{"$f":"IF(E678<>0,(IF(lfValidaCEP(E678)=TRUE,\"Válido\",\"Inválido\")),\"\")","v":""}]
[null,null,null,null,null,null,null,null,null,null,null,"",{"$f":"IF(C679<>0,(IF(lfValidaCNPJ(C679)=TRUE,\"Válido\",\"Inválido\")),\"\")","v":""},{"$f":"IF(E679<>0,(IF(lfValidaCEP(E679)=TRUE,\"Válido\",\"Inválido\")),\"\")","v":""}]
[null,null,null,null,null,null,null,null,null,null,null,"",{"$f":"IF(C680<>0,(IF(lfValidaCNPJ(C680)=TRUE,\"Válido\",\"Inválido\")),\"\")","v":""},{"$f":"IF(E680<>0,(IF(lfValidaCEP(E680)=TRUE,\"Válido\",\"Inválido\")),\"\")","v":""}]
[null,null,null,null,null,null,null,null,null,null,null,"",{"$f":"IF(C681<>0,(IF(lfValidaCNPJ(C681)=TRUE,\"Válido\",\"Inválido\")),\"\")","v":""},{"$f":"IF(E681<>0,(IF(lfValidaCEP(E681)=TRUE,\"Válido\",\"Inválido\")),\"\")","v":""}]
[null,null,null,null,null,null,null,null,null,null,null,"",{"$f":"IF(C682<>0,(IF(lfValidaCNPJ(C682)=TRUE,\"Válido\",\"Inválido\")),\"\")","v":""},{"$f":"IF(E682<>0,(IF(lfValidaCEP(E682)=TRUE,\"Válido\",\"Inválido\")),\"\")","v":""}]
[null,null,null,null,null,null,null,null,null,null,null,"",{"$f":"IF(C683<>0,(IF(lfValidaCNPJ(C683)=TRUE,\"Válido\",\"Inválido\")),\"\")","v":""},{"$f":"IF(E683<>0,(IF(lfValidaCEP(E683)=TRUE,\"Válido\",\"Inválido\")),\"\")","v":""}]
[null,null,null,null,null,null,null,null,null,null,null,"",{"$f":"IF(C684<>0,(IF(lfValidaCNPJ(C684)=TRUE,\"Válido\",\"Inválido\")),\"\")","v":""},{"$f":"IF(E684<>0,(IF(lfValidaCEP(E684)=TRUE,\"Válido\",\"Inválido\")),\"\")","v":""}]
[null,null,null,null,null,null,null,null,null,null,null,"",{"$f":"IF(C685<>0,(IF(lfValidaCNPJ(C685)=TRUE,\"Válido\",\"Inválido\")),\"\")","v":""},{"$f":"IF(E685<>0,(IF(lfValidaCEP(E685)=TRUE,\"Válido\",\"Inválido\")),\"\")","v":""}]
[null,null,null,null,null,null,null,null,null,null,null,"",{"$f":"IF(C686<>0,(IF(lfValidaCNPJ(C686)=TRUE,\"Válido\",\"Inválido\")),\"\")","v":""},{"$f":"IF(E686<>0,(IF(lfValidaCEP(E686)=TRUE,\"Válido\",\"Inválido\")),\"\")","v":""}]
[null,null,null,null,null,null,null,null,null,null,null,"",{"$f":"IF(C687<>0,(IF(lfValidaCNPJ(C687)=TRUE,\"Válido\",\"Inválido\")),\"\")","v":""},{"$f":"IF(E687<>0,(IF(lfValidaCEP(E687)=TRUE,\"Válido\",\"Inválido\")),\"\")","v":""}]
[null,null,null,null,null,null,null,null,null,null,null,"",{"$f":"IF(C688<>0,(IF(lfValidaCNPJ(C688)=TRUE,\"Válido\",\"Inválido\")),\"\")","v":""},{"$f":"IF(E688<>0,(IF(lfValidaCEP(E688)=TRUE,\"Válido\",\"Inválido\")),\"\")","v":""}]
[null,null,null,null,null,null,null,null,null,null,null,"",{"$f":"IF(C689<>0,(IF(lfValidaCNPJ(C689)=TRUE,\"Válido\",\"Inválido\")),\"\")","v":""},{"$f":"IF(E689<>0,(IF(lfValidaCEP(E689)=TRUE,\"Válido\",\"Inválido\")),\"\")","v":""}]
[null,null,null,null,null,null,null,null,null,null,null,"",{"$f":"IF(C690<>0,(IF(lfValidaCNPJ(C690)=TRUE,\"Válido\",\"Inválido\")),\"\")","v":""},{"$f":"IF(E690<>0,(IF(lfValidaCEP(E690)=TRUE,\"Válido\",\"Inválido\")),\"\")","v":""}]
[null,null,null,null,null,null,null,null,null,null,null,"",{"$f":"IF(C691<>0,(IF(lfValidaCNPJ(C691)=TRUE,\"Válido\",\"Inválido\")),\"\")","v":""},{"$f":"IF(E691<>0,(IF(lfValidaCEP(E691)=TRUE,\"Válido\",\"Inválido\")),\"\")","v":""}]
[null,null,null,null,null,null,null,null,null,null,null,"",{"$f":"IF(C692<>0,(IF(lfValidaCNPJ(C692)=TRUE,\"Válido\",\"Inválido\")),\"\")","v":""},{"$f":"IF(E692<>0,(IF(lfValidaCEP(E692)=TRUE,\"Válido\",\"Inválido\")),\"\")","v":""}]
[null,null,null,null,null,null,null,null,null,null,null,"",{"$f":"IF(C693<>0,(IF(lfValidaCNPJ(C693)=TRUE,\"Válido\",\"Inválido\")),\"\")","v":""},{"$f":"IF(E693<>0,(IF(lfValidaCEP(E693)=TRUE,\"Válido\",\"Inválido\")),\"\")","v":""}]
[null,null,null,null,null,null,null,null,null,null,null,"",{"$f":"IF(C694<>0,(IF(lfValidaCNPJ(C694)=TRUE,\"Válido\",\"Inválido\")),\"\")","v":""},{"$f":"IF(E694<>0,(IF(lfValidaCEP(E694)=TRUE,\"Válido\",\"Inválido\")),\"\")","v":""}]
[null,null,null,null,null,null,null,null,null,null,null,"",{"$f":"IF(C695<>0,(IF(lfValidaCNPJ(C695)=TRUE,\"Válido\",\"Inválido\")),\"\")","v":""},{"$f":"IF(E695<>0,(IF(lfValidaCEP(E695)=TRUE,\"Válido\",\"Inválido\")),\"\")","v":""}]
[null,null,null,null,null,null,null,null,null,null,null,"",{"$f":"IF(C696<>0,(IF(lfValidaCNPJ(C696)=TRUE,\"Válido\",\"Inválido\")),\"\")","v":""},{"$f":"IF(E696<>0,(IF(lfValidaCEP(E696)=TRUE,\"Válido\",\"Inválido\")),\"\")","v":""}]
[null,null,null,null,null,null,null,null,null,null,null,"",{"$f":"IF(C697<>0,(IF(lfValidaCNPJ(C697)=TRUE,\"Válido\",\"Inválido\")),\"\")","v":""},{"$f":"IF(E697<>0,(IF(lfValidaCEP(E697)=TRUE,\"Válido\",\"Inválido\")),\"\")","v":""}]
[null,null,null,null,null,null,null,null,null,null,null,"",{"$f":"IF(C698<>0,(IF(lfValidaCNPJ(C698)=TRUE,\"Válido\",\"Inválido\")),\"\")","v":""},{"$f":"IF(E698<>0,(IF(lfValidaCEP(E698)=TRUE,\"Válido\",\"Inválido\")),\"\")","v":""}]
[null,null,null,null,null,null,null,null,null,null,null,"",{"$f":"IF(C699<>0,(IF(lfValidaCNPJ(C699)=TRUE,\"Válido\",\"Inválido\")),\"\")","v":""},{"$f":"IF(E699<>0,(IF(lfValidaCEP(E699)=TRUE,\"Válido\",\"Inválido\")),\"\")","v":""}]
[null,null,null,null,null,null,null,null,null,null,null,"",{"$f":"IF(C700<>0,(IF(lfValidaCNPJ(C700)=TRUE,\"Válido\",\"Inválido\")),\"\")","v":""},{"$f":"IF(E700<>0,(IF(lfValidaCEP(E700)=TRUE,\"Válido\",\"Inválido\")),\"\")","v":""}]
[null,null,null,null,null,null,null,null,null,null,null,"",{"$f":"IF(C701<>0,(IF(lfValidaCNPJ(C701)=TRUE,\"Válido\",\"Inválido\")),\"\")","v":""},{"$f":"IF(E701<>0,(IF(lfValidaCEP(E701)=TRUE,\"Válido\",\"Inválido\")),\"\")","v":""}]
[null,null,null,null,null,null,null,null,null,null,null,"",{"$f":"IF(C702<>0,(IF(lfValidaCNPJ(C702)=TRUE,\"Válido\",\"Inválido\")),\"\")","v":""},{"$f":"IF(E702<>0,(IF(lfValidaCEP(E702)=TRUE,\"Válido\",\"Inválido\")),\"\")","v":""}]
[null,null,null,null,null,null,null,null,null,null,null,"",{"$f":"IF(C703<>0,(IF(lfValidaCNPJ(C703)=TRUE,\"Válido\",\"Inválido\")),\"\")","v":""},{"$f":"IF(E703<>0,(IF(lfValidaCEP(E703)=TRUE,\"Válido\",\"Inválido\")),\"\")","v":""}]
[null,null,null,null,null,null,null,null,null,null,null,"",{"$f":"IF(C704<>0,(IF(lfValidaCNPJ(C704)=TRUE,\"Válido\",\"Inválido\")),\"\")","v":""},{"$f":"IF(E704<>0,(IF(lfValidaCEP(E704)=TRUE,\"Válido\",\"Inválido\")),\"\")","v":""}]
[null,null,null,null,null,null,null,null,null,null,null,"",{"$f":"IF(C705<>0,(IF(lfValidaCNPJ(C705)=TRUE,\"Válido\",\"Inválido\")),\"\")","v":""},{"$f":"IF(E705<>0,(IF(lfValidaCEP(E705)=TRUE,\"Válido\",\"Inválido\")),\"\")","v":""}]
[null,null,null,null,null,null,null,null,null,null,null,"",{"$f":"IF(C706<>0,(IF(lfValidaCNPJ(C706)=TRUE,\"Válido\",\"Inválido\")),\"\")","v":""},{"$f":"IF(E706<>0,(IF(lfValidaCEP(E706)=TRUE,\"Válido\",\"Inválido\")),\"\")","v":""}]
[null,null,null,null,null,null,null,null,null,null,null,"",{"$f":"IF(C707<>0,(IF(lfValidaCNPJ(C707)=TRUE,\"Válido\",\"Inválido\")),\"\")","v":""},{"$f":"IF(E707<>0,(IF(lfValidaCEP(E707)=TRUE,\"Válido\",\"Inválido\")),\"\")","v":""}]
[null,null,null,null,null,null,null,null,null,null,null,"",{"$f":"IF(C708<>0,(IF(lfValidaCNPJ(C708)=TRUE,\"Válido\",\"Inválido\")),\"\")","v":""},{"$f":"IF(E708<>0,(IF(lfValidaCEP(E708)=TRUE,\"Válido\",\"Inválido\")),\"\")","v":""}]
[null,null,null,null,null,null,null,null,null,null,null,"",{"$f":"IF(C709<>0,(IF(lfValidaCNPJ(C709)=TRUE,\"Válido\",\"Inválido\")),\"\")","v":""},{"$f":"IF(E709<>0,(IF(lfValidaCEP(E709)=TRUE,\"Válido\",\"Inválido\")),\"\")","v":""}]
[null,null,null,null,null,null,null,null,null,null,null,"",{"$f":"IF(C710<>0,(IF(lfValidaCNPJ(C710)=TRUE,\"Válido\",\"Inválido\")),\"\")","v":""},{"$f":"IF(E710<>0,(IF(lfValidaCEP(E710)=TRUE,\"Válido\",\"Inválido\")),\"\")","v":""}]
[null,null,null,null,null,null,null,null,null,null,null,"",{"$f":"IF(C711<>0,(IF(lfValidaCNPJ(C711)=TRUE,\"Válido\",\"Inválido\")),\"\")","v":""},{"$f":"IF(E711<>0,(IF(lfValidaCEP(E711)=TRUE,\"Válido\",\"Inválido\")),\"\")","v":""}]
[null,null,null,null,null,null,null,null,null,null,null,"",{"$f":"IF(C712<>0,(IF(lfValidaCNPJ(C712)=TRUE,\"Válido\",\"Inválido\")),\"\")","v":""},{"$f":"IF(E712<>0,(IF(lfValidaCEP(E712)=TRUE,\"Válido\",\"Inválido\")),\"\")","v":""}]
[null,null,null,null,null,null,null,null,null,null,null,"",{"$f":"IF(C713<>0,(IF(lfValidaCNPJ(C713)=TRUE,\"Válido\",\"Inválido\")),\"\")","v":""},{"$f":"IF(E713<>0,(IF(lfValidaCEP(E713)=TRUE,\"Válido\",\"Inválido\")),\"\")","v":""}]
[null,null,null,null,null,null,null,null,null,null,null,"",{"$f":"IF(C714<>0,(IF(lfValidaCNPJ(C714)=TRUE,\"Válido\",\"Inválido\")),\"\")","v":""},{"$f":"IF(E714<>0,(IF(lfValidaCEP(E714)=TRUE,\"Válido\",\"Inválido\")),\"\")","v":""}]
[null,null,null,null,null,null,null,null,null,null,null,"",{"$f":"IF(C715<>0,(IF(lfValidaCNPJ(C715)=TRUE,\"Válido\",\"Inválido\")),\"\")","v":""},{"$f":"IF(E715<>0,(IF(lfValidaCEP(E715)=TRUE,\"Válido\",\"Inválido\")),\"\")","v":""}]
[null,null,null,null,null,null,null,null,null,null,null,"",{"$f":"IF(C716<>0,(IF(lfValidaCNPJ(C716)=TRUE,\"Válido\",\"Inválido\")),\"\")","v":""},{"$f":"IF(E716<>0,(IF(lfValidaCEP(E716)=TRUE,\"Válido\",\"Inválido\")),\"\")","v":""}]
[null,null,null,null,null,null,null,null,null,null,null,"",{"$f":"IF(C717<>0,(IF(lfValidaCNPJ(C717)=TRUE,\"Válido\",\"Inválido\")),\"\")","v":""},{"$f":"IF(E717<>0,(IF(lfValidaCEP(E717)=TRUE,\"Válido\",\"Inválido\")),\"\")","v":""}]
[null,null,null,null,null,null,null,null,null,null,null,{"$f":"IF(COUNTA(B718:J718)<>0,IF(AND(B718<>0,C718<>0,D718<>0,E718<>0,F718<>0,G718<>0,H718<>0,I718<>0,J718<>0),\"Completo\",\"Incompleto\"),\"\")","v":""},{"$f":"IF(C718<>0,(IF(lfValidaCNPJ(C718)=TRUE,\"Válido\",\"Inválido\")),\"\")","v":""},{"$f":"IF(E718<>0,(IF(lfValidaCEP(E718)=TRUE,\"Válido\",\"Inválido\")),\"\")","v":""}]
[null,null,null,null,null,null,null,null,null,null,null,"",{"$f":"IF(C719<>0,(IF(lfValidaCNPJ(C719)=TRUE,\"Válido\",\"Inválido\")),\"\")","v":""},{"$f":"IF(E719<>0,(IF(lfValidaCEP(E719)=TRUE,\"Válido\",\"Inválido\")),\"\")","v":""}]
[null,null,null,null,null,null,null,null,null,null,null,"",{"$f":"IF(C720<>0,(IF(lfValidaCNPJ(C720)=TRUE,\"Válido\",\"Inválido\")),\"\")","v":""},{"$f":"IF(E720<>0,(IF(lfValidaCEP(E720)=TRUE,\"Válido\",\"Inválido\")),\"\")","v":""}]
[null,null,null,null,null,null,null,null,null,null,null,"",{"$f":"IF(C721<>0,(IF(lfValidaCNPJ(C721)=TRUE,\"Válido\",\"Inválido\")),\"\")","v":""},{"$f":"IF(E721<>0,(IF(lfValidaCEP(E721)=TRUE,\"Válido\",\"Inválido\")),\"\")","v":""}]
[null,null,null,null,null,null,null,null,null,null,null,"",{"$f":"IF(C722<>0,(IF(lfValidaCNPJ(C722)=TRUE,\"Válido\",\"Inválido\")),\"\")","v":""},{"$f":"IF(E722<>0,(IF(lfValidaCEP(E722)=TRUE,\"Válido\",\"Inválido\")),\"\")","v":""}]
[null,null,null,null,null,null,null,null,null,null,null,"",{"$f":"IF(C723<>0,(IF(lfValidaCNPJ(C723)=TRUE,\"Válido\",\"Inválido\")),\"\")","v":""},{"$f":"IF(E723<>0,(IF(lfValidaCEP(E723)=TRUE,\"Válido\",\"Inválido\")),\"\")","v":""}]
[null,null,null,null,null,null,null,null,null,null,null,"",{"$f":"IF(C724<>0,(IF(lfValidaCNPJ(C724)=TRUE,\"Válido\",\"Inválido\")),\"\")","v":""},{"$f":"IF(E724<>0,(IF(lfValidaCEP(E724)=TRUE,\"Válido\",\"Inválido\")),\"\")","v":""}]
[null,null,null,null,null,null,null,null,null,null,null,"",{"$f":"IF(C725<>0,(IF(lfValidaCNPJ(C725)=TRUE,\"Válido\",\"Inválido\")),\"\")","v":""},{"$f":"IF(E725<>0,(IF(lfValidaCEP(E725)=TRUE,\"Válido\",\"Inválido\")),\"\")","v":""}]
[null,null,null,null,null,null,null,null,null,null,null,"",{"$f":"IF(C726<>0,(IF(lfValidaCNPJ(C726)=TRUE,\"Válido\",\"Inválido\")),\"\")","v":""},{"$f":"IF(E726<>0,(IF(lfValidaCEP(E726)=TRUE,\"Válido\",\"Inválido\")),\"\")","v":""}]
[null,null,null,null,null,null,null,null,null,null,null,"",{"$f":"IF(C727<>0,(IF(lfValidaCNPJ(C727)=TRUE,\"Válido\",\"Inválido\")),\"\")","v":""},{"$f":"IF(E727<>0,(IF(lfValidaCEP(E727)=TRUE,\"Válido\",\"Inválido\")),\"\")","v":""}]
[null,null,null,null,null,null,null,null,null,null,null,"",{"$f":"IF(C728<>0,(IF(lfValidaCNPJ(C728)=TRUE,\"Válido\",\"Inválido\")),\"\")","v":""},{"$f":"IF(E728<>0,(IF(lfValidaCEP(E728)=TRUE,\"Válido\",\"Inválido\")),\"\")","v":""}]
[null,null,null,null,null,null,null,null,null,null,null,"",{"$f":"IF(C729<>0,(IF(lfValidaCNPJ(C729)=TRUE,\"Válido\",\"Inválido\")),\"\")","v":""},{"$f":"IF(E729<>0,(IF(lfValidaCEP(E729)=TRUE,\"Válido\",\"Inválido\")),\"\")","v":""}]
[null,null,null,null,null,null,null,null,null,null,null,"",{"$f":"IF(C730<>0,(IF(lfValidaCNPJ(C730)=TRUE,\"Válido\",\"Inválido\")),\"\")","v":""},{"$f":"IF(E730<>0,(IF(lfValidaCEP(E730)=TRUE,\"Válido\",\"Inválido\")),\"\")","v":""}]
[null,null,null,null,null,null,null,null,null,null,null,"",{"$f":"IF(C731<>0,(IF(lfValidaCNPJ(C731)=TRUE,\"Válido\",\"Inválido\")),\"\")","v":""},{"$f":"IF(E731<>0,(IF(lfValidaCEP(E731)=TRUE,\"Válido\",\"Inválido\")),\"\")","v":""}]
[null,null,null,null,null,null,null,null,null,null,null,"",{"$f":"IF(C732<>0,(IF(lfValidaCNPJ(C732)=TRUE,\"Válido\",\"Inválido\")),\"\")","v":""},{"$f":"IF(E732<>0,(IF(lfValidaCEP(E732)=TRUE,\"Válido\",\"Inválido\")),\"\")","v":""}]
[null,null,null,null,null,null,null,null,null,null,null,"",{"$f":"IF(C733<>0,(IF(lfValidaCNPJ(C733)=TRUE,\"Válido\",\"Inválido\")),\"\")","v":""},{"$f":"IF(E733<>0,(IF(lfValidaCEP(E733)=TRUE,\"Válido\",\"Inválido\")),\"\")","v":""}]
[null,null,null,null,null,null,null,null,null,null,null,"",{"$f":"IF(C734<>0,(IF(lfValidaCNPJ(C734)=TRUE,\"Válido\",\"Inválido\")),\"\")","v":""},{"$f":"IF(E734<>0,(IF(lfValidaCEP(E734)=TRUE,\"Válido\",\"Inválido\")),\"\")","v":""}]
[null,null,null,null,null,null,null,null,null,null,null,"",{"$f":"IF(C735<>0,(IF(lfValidaCNPJ(C735)=TRUE,\"Válido\",\"Inválido\")),\"\")","v":""},{"$f":"IF(E735<>0,(IF(lfValidaCEP(E735)=TRUE,\"Válido\",\"Inválido\")),\"\")","v":""}]
[null,null,null,null,null,null,null,null,null,null,null,"",{"$f":"IF(C736<>0,(IF(lfValidaCNPJ(C736)=TRUE,\"Válido\",\"Inválido\")),\"\")","v":""},{"$f":"IF(E736<>0,(IF(lfValidaCEP(E736)=TRUE,\"Válido\",\"Inválido\")),\"\")","v":""}]
[null,null,null,null,null,null,null,null,null,null,null,"",{"$f":"IF(C737<>0,(IF(lfValidaCNPJ(C737)=TRUE,\"Válido\",\"Inválido\")),\"\")","v":""},{"$f":"IF(E737<>0,(IF(lfValidaCEP(E737)=TRUE,\"Válido\",\"Inválido\")),\"\")","v":""}]
[null,null,null,null,null,null,null,null,null,null,null,"",{"$f":"IF(C738<>0,(IF(lfValidaCNPJ(C738)=TRUE,\"Válido\",\"Inválido\")),\"\")","v":""},{"$f":"IF(E738<>0,(IF(lfValidaCEP(E738)=TRUE,\"Válido\",\"Inválido\")),\"\")","v":""}]
[null,null,null,null,null,null,null,null,null,null,null,"",{"$f":"IF(C739<>0,(IF(lfValidaCNPJ(C739)=TRUE,\"Válido\",\"Inválido\")),\"\")","v":""},{"$f":"IF(E739<>0,(IF(lfValidaCEP(E739)=TRUE,\"Válido\",\"Inválido\")),\"\")","v":""}]
[null,null,null,null,null,null,null,null,null,null,null,"",{"$f":"IF(C740<>0,(IF(lfValidaCNPJ(C740)=TRUE,\"Válido\",\"Inválido\")),\"\")","v":""},{"$f":"IF(E740<>0,(IF(lfValidaCEP(E740)=TRUE,\"Válido\",\"Inválido\")),\"\")","v":""}]
[null,null,null,null,null,null,null,null,null,null,null,"",{"$f":"IF(C741<>0,(IF(lfValidaCNPJ(C741)=TRUE,\"Válido\",\"Inválido\")),\"\")","v":""},{"$f":"IF(E741<>0,(IF(lfValidaCEP(E741)=TRUE,\"Válido\",\"Inválido\")),\"\")","v":""}]
[null,null,null,null,null,null,null,null,null,null,null,"",{"$f":"IF(C742<>0,(IF(lfValidaCNPJ(C742)=TRUE,\"Válido\",\"Inválido\")),\"\")","v":""},{"$f":"IF(E742<>0,(IF(lfValidaCEP(E742)=TRUE,\"Válido\",\"Inválido\")),\"\")","v":""}]
[null,null,null,null,null,null,null,null,null,null,null,"",{"$f":"IF(C743<>0,(IF(lfValidaCNPJ(C743)=TRUE,\"Válido\",\"Inválido\")),\"\")","v":""},{"$f":"IF(E743<>0,(IF(lfValidaCEP(E743)=TRUE,\"Válido\",\"Inválido\")),\"\")","v":""}]
[null,null,null,null,null,null,null,null,null,null,null,"",{"$f":"IF(C744<>0,(IF(lfValidaCNPJ(C744)=TRUE,\"Válido\",\"Inválido\")),\"\")","v":""},{"$f":"IF(E744<>0,(IF(lfValidaCEP(E744)=TRUE,\"Válido\",\"Inválido\")),\"\")","v":""}]
[null,null,null,null,null,null,null,null,null,null,null,"",{"$f":"IF(C745<>0,(IF(lfValidaCNPJ(C745)=TRUE,\"Válido\",\"Inválido\")),\"\")","v":""},{"$f":"IF(E745<>0,(IF(lfValidaCEP(E745)=TRUE,\"Válido\",\"Inválido\")),\"\")","v":""}]
[null,null,null,null,null,null,null,null,null,null,null,"",{"$f":"IF(C746<>0,(IF(lfValidaCNPJ(C746)=TRUE,\"Válido\",\"Inválido\")),\"\")","v":""},{"$f":"IF(E746<>0,(IF(lfValidaCEP(E746)=TRUE,\"Válido\",\"Inválido\")),\"\")","v":""}]
[null,null,null,null,null,null,null,null,null,null,null,"",{"$f":"IF(C747<>0,(IF(lfValidaCNPJ(C747)=TRUE,\"Válido\",\"Inválido\")),\"\")","v":""},{"$f":"IF(E747<>0,(IF(lfValidaCEP(E747)=TRUE,\"Válido\",\"Inválido\")),\"\")","v":""}]
[null,null,null,null,null,null,null,null,null,null,null,"",{"$f":"IF(C748<>0,(IF(lfValidaCNPJ(C748)=TRUE,\"Válido\",\"Inválido\")),\"\")","v":""},{"$f":"IF(E748<>0,(IF(lfValidaCEP(E748)=TRUE,\"Válido\",\"Inválido\")),\"\")","v":""}]
[null,null,null,null,null,null,null,null,null,null,null,"",{"$f":"IF(C749<>0,(IF(lfValidaCNPJ(C749)=TRUE,\"Válido\",\"Inválido\")),\"\")","v":""},{"$f":"IF(E749<>0,(IF(lfValidaCEP(E749)=TRUE,\"Válido\",\"Inválido\")),\"\")","v":""}]
[null,null,null,null,null,null,null,null,null,null,null,"",{"$f":"IF(C750<>0,(IF(lfValidaCNPJ(C750)=TRUE,\"Válido\",\"Inválido\")),\"\")","v":""},{"$f":"IF(E750<>0,(IF(lfValidaCEP(E750)=TRUE,\"Válido\",\"Inválido\")),\"\")","v":""}]
[null,null,null,null,null,null,null,null,null,null,null,"",{"$f":"IF(C751<>0,(IF(lfValidaCNPJ(C751)=TRUE,\"Válido\",\"Inválido\")),\"\")","v":""},{"$f":"IF(E751<>0,(IF(lfValidaCEP(E751)=TRUE,\"Válido\",\"Inválido\")),\"\")","v":""}]
[null,null,null,null,null,null,null,null,null,null,null,"",{"$f":"IF(C752<>0,(IF(lfValidaCNPJ(C752)=TRUE,\"Válido\",\"Inválido\")),\"\")","v":""},{"$f":"IF(E752<>0,(IF(lfValidaCEP(E752)=TRUE,\"Válido\",\"Inválido\")),\"\")","v":""}]
[null,null,null,null,null,null,null,null,null,null,null,"",{"$f":"IF(C753<>0,(IF(lfValidaCNPJ(C753)=TRUE,\"Válido\",\"Inválido\")),\"\")","v":""},{"$f":"IF(E753<>0,(IF(lfValidaCEP(E753)=TRUE,\"Válido\",\"Inválido\")),\"\")","v":""}]
[null,null,null,null,null,null,null,null,null,null,null,"",{"$f":"IF(C754<>0,(IF(lfValidaCNPJ(C754)=TRUE,\"Válido\",\"Inválido\")),\"\")","v":""},{"$f":"IF(E754<>0,(IF(lfValidaCEP(E754)=TRUE,\"Válido\",\"Inválido\")),\"\")","v":""}]
[null,null,null,null,null,null,null,null,null,null,null,"",{"$f":"IF(C755<>0,(IF(lfValidaCNPJ(C755)=TRUE,\"Válido\",\"Inválido\")),\"\")","v":""},{"$f":"IF(E755<>0,(IF(lfValidaCEP(E755)=TRUE,\"Válido\",\"Inválido\")),\"\")","v":""}]
[null,null,null,null,null,null,null,null,null,null,null,"",{"$f":"IF(C756<>0,(IF(lfValidaCNPJ(C756)=TRUE,\"Válido\",\"Inválido\")),\"\")","v":""},{"$f":"IF(E756<>0,(IF(lfValidaCEP(E756)=TRUE,\"Válido\",\"Inválido\")),\"\")","v":""}]
[null,null,null,null,null,null,null,null,null,null,null,"",{"$f":"IF(C757<>0,(IF(lfValidaCNPJ(C757)=TRUE,\"Válido\",\"Inválido\")),\"\")","v":""},{"$f":"IF(E757<>0,(IF(lfValidaCEP(E757)=TRUE,\"Válido\",\"Inválido\")),\"\")","v":""}]
[null,null,null,null,null,null,null,null,null,null,null,"",{"$f":"IF(C758<>0,(IF(lfValidaCNPJ(C758)=TRUE,\"Válido\",\"Inválido\")),\"\")","v":""},{"$f":"IF(E758<>0,(IF(lfValidaCEP(E758)=TRUE,\"Válido\",\"Inválido\")),\"\")","v":""}]
[null,null,null,null,null,null,null,null,null,null,null,"",{"$f":"IF(C759<>0,(IF(lfValidaCNPJ(C759)=TRUE,\"Válido\",\"Inválido\")),\"\")","v":""},{"$f":"IF(E759<>0,(IF(lfValidaCEP(E759)=TRUE,\"Válido\",\"Inválido\")),\"\")","v":""}]
[null,null,null,null,null,null,null,null,null,null,null,"",{"$f":"IF(C760<>0,(IF(lfValidaCNPJ(C760)=TRUE,\"Válido\",\"Inválido\")),\"\")","v":""},{"$f":"IF(E760<>0,(IF(lfValidaCEP(E760)=TRUE,\"Válido\",\"Inválido\")),\"\")","v":""}]
[null,null,null,null,null,null,null,null,null,null,null,"",{"$f":"IF(C761<>0,(IF(lfValidaCNPJ(C761)=TRUE,\"Válido\",\"Inválido\")),\"\")","v":""},{"$f":"IF(E761<>0,(IF(lfValidaCEP(E761)=TRUE,\"Válido\",\"Inválido\")),\"\")","v":""}]
[null,null,null,null,null,null,null,null,null,null,null,"",{"$f":"IF(C762<>0,(IF(lfValidaCNPJ(C762)=TRUE,\"Válido\",\"Inválido\")),\"\")","v":""},{"$f":"IF(E762<>0,(IF(lfValidaCEP(E762)=TRUE,\"Válido\",\"Inválido\")),\"\")","v":""}]
[null,null,null,null,null,null,null,null,null,null,null,"",{"$f":"IF(C763<>0,(IF(lfValidaCNPJ(C763)=TRUE,\"Válido\",\"Inválido\")),\"\")","v":""},{"$f":"IF(E763<>0,(IF(lfValidaCEP(E763)=TRUE,\"Válido\",\"Inválido\")),\"\")","v":""}]
[null,null,null,null,null,null,null,null,null,null,null,"",{"$f":"IF(C764<>0,(IF(lfValidaCNPJ(C764)=TRUE,\"Válido\",\"Inválido\")),\"\")","v":""},{"$f":"IF(E764<>0,(IF(lfValidaCEP(E764)=TRUE,\"Válido\",\"Inválido\")),\"\")","v":""}]
[null,null,null,null,null,null,null,null,null,null,null,"",{"$f":"IF(C765<>0,(IF(lfValidaCNPJ(C765)=TRUE,\"Válido\",\"Inválido\")),\"\")","v":""},{"$f":"IF(E765<>0,(IF(lfValidaCEP(E765)=TRUE,\"Válido\",\"Inválido\")),\"\")","v":""}]
[null,null,null,null,null,null,null,null,null,null,null,"",{"$f":"IF(C766<>0,(IF(lfValidaCNPJ(C766)=TRUE,\"Válido\",\"Inválido\")),\"\")","v":""},{"$f":"IF(E766<>0,(IF(lfValidaCEP(E766)=TRUE,\"Válido\",\"Inválido\")),\"\")","v":""}]
[null,null,null,null,null,null,null,null,null,null,null,"",{"$f":"IF(C767<>0,(IF(lfValidaCNPJ(C767)=TRUE,\"Válido\",\"Inválido\")),\"\")","v":""},{"$f":"IF(E767<>0,(IF(lfValidaCEP(E767)=TRUE,\"Válido\",\"Inválido\")),\"\")","v":""}]
[null,null,null,null,null,null,null,null,null,null,null,"",{"$f":"IF(C768<>0,(IF(lfValidaCNPJ(C768)=TRUE,\"Válido\",\"Inválido\")),\"\")","v":""},{"$f":"IF(E768<>0,(IF(lfValidaCEP(E768)=TRUE,\"Válido\",\"Inválido\")),\"\")","v":""}]
[null,null,null,null,null,null,null,null,null,null,null,"",{"$f":"IF(C769<>0,(IF(lfValidaCNPJ(C769)=TRUE,\"Válido\",\"Inválido\")),\"\")","v":""},{"$f":"IF(E769<>0,(IF(lfValidaCEP(E769)=TRUE,\"Válido\",\"Inválido\")),\"\")","v":""}]
[null,null,null,null,null,null,null,null,null,null,null,"",{"$f":"IF(C770<>0,(IF(lfValidaCNPJ(C770)=TRUE,\"Válido\",\"Inválido\")),\"\")","v":""},{"$f":"IF(E770<>0,(IF(lfValidaCEP(E770)=TRUE,\"Válido\",\"Inválido\")),\"\")","v":""}]
[null,null,null,null,null,null,null,null,null,null,null,"",{"$f":"IF(C771<>0,(IF(lfValidaCNPJ(C771)=TRUE,\"Válido\",\"Inválido\")),\"\")","v":""},{"$f":"IF(E771<>0,(IF(lfValidaCEP(E771)=TRUE,\"Válido\",\"Inválido\")),\"\")","v":""}]
[null,null,null,null,null,null,null,null,null,null,null,"",{"$f":"IF(C772<>0,(IF(lfValidaCNPJ(C772)=TRUE,\"Válido\",\"Inválido\")),\"\")","v":""},{"$f":"IF(E772<>0,(IF(lfValidaCEP(E772)=TRUE,\"Válido\",\"Inválido\")),\"\")","v":""}]
[null,null,null,null,null,null,null,null,null,null,null,"",{"$f":"IF(C773<>0,(IF(lfValidaCNPJ(C773)=TRUE,\"Válido\",\"Inválido\")),\"\")","v":""},{"$f":"IF(E773<>0,(IF(lfValidaCEP(E773)=TRUE,\"Válido\",\"Inválido\")),\"\")","v":""}]
[null,null,null,null,null,null,null,null,null,null,null,"",{"$f":"IF(C774<>0,(IF(lfValidaCNPJ(C774)=TRUE,\"Válido\",\"Inválido\")),\"\")","v":""},{"$f":"IF(E774<>0,(IF(lfValidaCEP(E774)=TRUE,\"Válido\",\"Inválido\")),\"\")","v":""}]
[null,null,null,null,null,null,null,null,null,null,null,"",{"$f":"IF(C775<>0,(IF(lfValidaCNPJ(C775)=TRUE,\"Válido\",\"Inválido\")),\"\")","v":""},{"$f":"IF(E775<>0,(IF(lfValidaCEP(E775)=TRUE,\"Válido\",\"Inválido\")),\"\")","v":""}]
[null,null,null,null,null,null,null,null,null,null,null,"",{"$f":"IF(C776<>0,(IF(lfValidaCNPJ(C776)=TRUE,\"Válido\",\"Inválido\")),\"\")","v":""},{"$f":"IF(E776<>0,(IF(lfValidaCEP(E776)=TRUE,\"Válido\",\"Inválido\")),\"\")","v":""}]
[null,null,null,null,null,null,null,null,null,null,null,"",{"$f":"IF(C777<>0,(IF(lfValidaCNPJ(C777)=TRUE,\"Válido\",\"Inválido\")),\"\")","v":""},{"$f":"IF(E777<>0,(IF(lfValidaCEP(E777)=TRUE,\"Válido\",\"Inválido\")),\"\")","v":""}]
[null,null,null,null,null,null,null,null,null,null,null,"",{"$f":"IF(C778<>0,(IF(lfValidaCNPJ(C778)=TRUE,\"Válido\",\"Inválido\")),\"\")","v":""},{"$f":"IF(E778<>0,(IF(lfValidaCEP(E778)=TRUE,\"Válido\",\"Inválido\")),\"\")","v":""}]
[null,null,null,null,null,null,null,null,null,null,null,"",{"$f":"IF(C779<>0,(IF(lfValidaCNPJ(C779)=TRUE,\"Válido\",\"Inválido\")),\"\")","v":""},{"$f":"IF(E779<>0,(IF(lfValidaCEP(E779)=TRUE,\"Válido\",\"Inválido\")),\"\")","v":""}]
[null,null,null,null,null,null,null,null,null,null,null,"",{"$f":"IF(C780<>0,(IF(lfValidaCNPJ(C780)=TRUE,\"Válido\",\"Inválido\")),\"\")","v":""},{"$f":"IF(E780<>0,(IF(lfValidaCEP(E780)=TRUE,\"Válido\",\"Inválido\")),\"\")","v":""}]
[null,null,null,null,null,null,null,null,null,null,null,"",{"$f":"IF(C781<>0,(IF(lfValidaCNPJ(C781)=TRUE,\"Válido\",\"Inválido\")),\"\")","v":""},{"$f":"IF(E781<>0,(IF(lfValidaCEP(E781)=TRUE,\"Válido\",\"Inválido\")),\"\")","v":""}]
[null,null,null,null,null,null,null,null,null,null,null,{"$f":"IF(COUNTA(B782:J782)<>0,IF(AND(B782<>0,C782<>0,D782<>0,E782<>0,F782<>0,G782<>0,H782<>0,I782<>0,J782<>0),\"Completo\",\"Incompleto\"),\"\")","v":""},{"$f":"IF(C782<>0,(IF(lfValidaCNPJ(C782)=TRUE,\"Válido\",\"Inválido\")),\"\")","v":""},{"$f":"IF(E782<>0,(IF(lfValidaCEP(E782)=TRUE,\"Válido\",\"Inválido\")),\"\")","v":""}]
[null,null,null,null,null,null,null,null,null,null,null,"",{"$f":"IF(C783<>0,(IF(lfValidaCNPJ(C783)=TRUE,\"Válido\",\"Inválido\")),\"\")","v":""},{"$f":"IF(E783<>0,(IF(lfValidaCEP(E783)=TRUE,\"Válido\",\"Inválido\")),\"\")","v":""}]
[null,null,null,null,null,null,null,null,null,null,null,"",{"$f":"IF(C784<>0,(IF(lfValidaCNPJ(C784)=TRUE,\"Válido\",\"Inválido\")),\"\")","v":""},{"$f":"IF(E784<>0,(IF(lfValidaCEP(E784)=TRUE,\"Válido\",\"Inválido\")),\"\")","v":""}]
[null,null,null,null,null,null,null,null,null,null,null,"",{"$f":"IF(C785<>0,(IF(lfValidaCNPJ(C785)=TRUE,\"Válido\",\"Inválido\")),\"\")","v":""},{"$f":"IF(E785<>0,(IF(lfValidaCEP(E785)=TRUE,\"Válido\",\"Inválido\")),\"\")","v":""}]
[null,null,null,null,null,null,null,null,null,null,null,"",{"$f":"IF(C786<>0,(IF(lfValidaCNPJ(C786)=TRUE,\"Válido\",\"Inválido\")),\"\")","v":""},{"$f":"IF(E786<>0,(IF(lfValidaCEP(E786)=TRUE,\"Válido\",\"Inválido\")),\"\")","v":""}]
[null,null,null,null,null,null,null,null,null,null,null,"",{"$f":"IF(C787<>0,(IF(lfValidaCNPJ(C787)=TRUE,\"Válido\",\"Inválido\")),\"\")","v":""},{"$f":"IF(E787<>0,(IF(lfValidaCEP(E787)=TRUE,\"Válido\",\"Inválido\")),\"\")","v":""}]
[null,null,null,null,null,null,null,null,null,null,null,"",{"$f":"IF(C788<>0,(IF(lfValidaCNPJ(C788)=TRUE,\"Válido\",\"Inválido\")),\"\")","v":""},{"$f":"IF(E788<>0,(IF(lfValidaCEP(E788)=TRUE,\"Válido\",\"Inválido\")),\"\")","v":""}]
[null,null,null,null,null,null,null,null,null,null,null,"",{"$f":"IF(C789<>0,(IF(lfValidaCNPJ(C789)=TRUE,\"Válido\",\"Inválido\")),\"\")","v":""},{"$f":"IF(E789<>0,(IF(lfValidaCEP(E789)=TRUE,\"Válido\",\"Inválido\")),\"\")","v":""}]
[null,null,null,null,null,null,null,null,null,null,null,"",{"$f":"IF(C790<>0,(IF(lfValidaCNPJ(C790)=TRUE,\"Válido\",\"Inválido\")),\"\")","v":""},{"$f":"IF(E790<>0,(IF(lfValidaCEP(E790)=TRUE,\"Válido\",\"Inválido\")),\"\")","v":""}]
[null,null,null,null,null,null,null,null,null,null,null,"",{"$f":"IF(C791<>0,(IF(lfValidaCNPJ(C791)=TRUE,\"Válido\",\"Inválido\")),\"\")","v":""},{"$f":"IF(E791<>0,(IF(lfValidaCEP(E791)=TRUE,\"Válido\",\"Inválido\")),\"\")","v":""}]
[null,null,null,null,null,null,null,null,null,null,null,"",{"$f":"IF(C792<>0,(IF(lfValidaCNPJ(C792)=TRUE,\"Válido\",\"Inválido\")),\"\")","v":""},{"$f":"IF(E792<>0,(IF(lfValidaCEP(E792)=TRUE,\"Válido\",\"Inválido\")),\"\")","v":""}]
[null,null,null,null,null,null,null,null,null,null,null,"",{"$f":"IF(C793<>0,(IF(lfValidaCNPJ(C793)=TRUE,\"Válido\",\"Inválido\")),\"\")","v":""},{"$f":"IF(E793<>0,(IF(lfValidaCEP(E793)=TRUE,\"Válido\",\"Inválido\")),\"\")","v":""}]
[null,null,null,null,null,null,null,null,null,null,null,"",{"$f":"IF(C794<>0,(IF(lfValidaCNPJ(C794)=TRUE,\"Válido\",\"Inválido\")),\"\")","v":""},{"$f":"IF(E794<>0,(IF(lfValidaCEP(E794)=TRUE,\"Válido\",\"Inválido\")),\"\")","v":""}]
[null,null,null,null,null,null,null,null,null,null,null,"",{"$f":"IF(C795<>0,(IF(lfValidaCNPJ(C795)=TRUE,\"Válido\",\"Inválido\")),\"\")","v":""},{"$f":"IF(E795<>0,(IF(lfValidaCEP(E795)=TRUE,\"Válido\",\"Inválido\")),\"\")","v":""}]
[null,null,null,null,null,null,null,null,null,null,null,"",{"$f":"IF(C796<>0,(IF(lfValidaCNPJ(C796)=TRUE,\"Válido\",\"Inválido\")),\"\")","v":""},{"$f":"IF(E796<>0,(IF(lfValidaCEP(E796)=TRUE,\"Válido\",\"Inválido\")),\"\")","v":""}]
[null,null,null,null,null,null,null,null,null,null,null,"",{"$f":"IF(C797<>0,(IF(lfValidaCNPJ(C797)=TRUE,\"Válido\",\"Inválido\")),\"\")","v":""},{"$f":"IF(E797<>0,(IF(lfValidaCEP(E797)=TRUE,\"Válido\",\"Inválido\")),\"\")","v":""}]
[null,null,null,null,null,null,null,null,null,null,null,"",{"$f":"IF(C798<>0,(IF(lfValidaCNPJ(C798)=TRUE,\"Válido\",\"Inválido\")),\"\")","v":""},{"$f":"IF(E798<>0,(IF(lfValidaCEP(E798)=TRUE,\"Válido\",\"Inválido\")),\"\")","v":""}]
[null,null,null,null,null,null,null,null,null,null,null,"",{"$f":"IF(C799<>0,(IF(lfValidaCNPJ(C799)=TRUE,\"Válido\",\"Inválido\")),\"\")","v":""},{"$f":"IF(E799<>0,(IF(lfValidaCEP(E799)=TRUE,\"Válido\",\"Inválido\")),\"\")","v":""}]
[null,null,null,null,null,null,null,null,null,null,null,"",{"$f":"IF(C800<>0,(IF(lfValidaCNPJ(C800)=TRUE,\"Válido\",\"Inválido\")),\"\")","v":""},{"$f":"IF(E800<>0,(IF(lfValidaCEP(E800)=TRUE,\"Válido\",\"Inválido\")),\"\")","v":""}]
[null,null,null,null,null,null,null,null,null,null,null,"",{"$f":"IF(C801<>0,(IF(lfValidaCNPJ(C801)=TRUE,\"Válido\",\"Inválido\")),\"\")","v":""},{"$f":"IF(E801<>0,(IF(lfValidaCEP(E801)=TRUE,\"Válido\",\"Inválido\")),\"\")","v":""}]
[null,null,null,null,null,null,null,null,null,null,null,"",{"$f":"IF(C802<>0,(IF(lfValidaCNPJ(C802)=TRUE,\"Válido\",\"Inválido\")),\"\")","v":""},{"$f":"IF(E802<>0,(IF(lfValidaCEP(E802)=TRUE,\"Válido\",\"Inválido\")),\"\")","v":""}]
[null,null,null,null,null,null,null,null,null,null,null,"",{"$f":"IF(C803<>0,(IF(lfValidaCNPJ(C803)=TRUE,\"Válido\",\"Inválido\")),\"\")","v":""},{"$f":"IF(E803<>0,(IF(lfValidaCEP(E803)=TRUE,\"Válido\",\"Inválido\")),\"\")","v":""}]
[null,null,null,null,null,null,null,null,null,null,null,"",{"$f":"IF(C804<>0,(IF(lfValidaCNPJ(C804)=TRUE,\"Válido\",\"Inválido\")),\"\")","v":""},{"$f":"IF(E804<>0,(IF(lfValidaCEP(E804)=TRUE,\"Válido\",\"Inválido\")),\"\")","v":""}]
[null,null,null,null,null,null,null,null,null,null,null,"",{"$f":"IF(C805<>0,(IF(lfValidaCNPJ(C805)=TRUE,\"Válido\",\"Inválido\")),\"\")","v":""},{"$f":"IF(E805<>0,(IF(lfValidaCEP(E805)=TRUE,\"Válido\",\"Inválido\")),\"\")","v":""}]
[null,null,null,null,null,null,null,null,null,null,null,"",{"$f":"IF(C806<>0,(IF(lfValidaCNPJ(C806)=TRUE,\"Válido\",\"Inválido\")),\"\")","v":""},{"$f":"IF(E806<>0,(IF(lfValidaCEP(E806)=TRUE,\"Válido\",\"Inválido\")),\"\")","v":""}]
[null,null,null,null,null,null,null,null,null,null,null,"",{"$f":"IF(C807<>0,(IF(lfValidaCNPJ(C807)=TRUE,\"Válido\",\"Inválido\")),\"\")","v":""},{"$f":"IF(E807<>0,(IF(lfValidaCEP(E807)=TRUE,\"Válido\",\"Inválido\")),\"\")","v":""}]
[null,null,null,null,null,null,null,null,null,null,null,"",{"$f":"IF(C808<>0,(IF(lfValidaCNPJ(C808)=TRUE,\"Válido\",\"Inválido\")),\"\")","v":""},{"$f":"IF(E808<>0,(IF(lfValidaCEP(E808)=TRUE,\"Válido\",\"Inválido\")),\"\")","v":""}]
[null,null,null,null,null,null,null,null,null,null,null,"",{"$f":"IF(C809<>0,(IF(lfValidaCNPJ(C809)=TRUE,\"Válido\",\"Inválido\")),\"\")","v":""},{"$f":"IF(E809<>0,(IF(lfValidaCEP(E809)=TRUE,\"Válido\",\"Inválido\")),\"\")","v":""}]
[null,null,null,null,null,null,null,null,null,null,null,"",{"$f":"IF(C810<>0,(IF(lfValidaCNPJ(C810)=TRUE,\"Válido\",\"Inválido\")),\"\")","v":""},{"$f":"IF(E810<>0,(IF(lfValidaCEP(E810)=TRUE,\"Válido\",\"Inválido\")),\"\")","v":""}]
[null,null,null,null,null,null,null,null,null,null,null,"",{"$f":"IF(C811<>0,(IF(lfValidaCNPJ(C811)=TRUE,\"Válido\",\"Inválido\")),\"\")","v":""},{"$f":"IF(E811<>0,(IF(lfValidaCEP(E811)=TRUE,\"Válido\",\"Inválido\")),\"\")","v":""}]
[null,null,null,null,null,null,null,null,null,null,null,"",{"$f":"IF(C812<>0,(IF(lfValidaCNPJ(C812)=TRUE,\"Válido\",\"Inválido\")),\"\")","v":""},{"$f":"IF(E812<>0,(IF(lfValidaCEP(E812)=TRUE,\"Válido\",\"Inválido\")),\"\")","v":""}]
[null,null,null,null,null,null,null,null,null,null,null,"",{"$f":"IF(C813<>0,(IF(lfValidaCNPJ(C813)=TRUE,\"Válido\",\"Inválido\")),\"\")","v":""},{"$f":"IF(E813<>0,(IF(lfValidaCEP(E813)=TRUE,\"Válido\",\"Inválido\")),\"\")","v":""}]
[null,null,null,null,null,null,null,null,null,null,null,"",{"$f":"IF(C814<>0,(IF(lfValidaCNPJ(C814)=TRUE,\"Válido\",\"Inválido\")),\"\")","v":""},{"$f":"IF(E814<>0,(IF(lfValidaCEP(E814)=TRUE,\"Válido\",\"Inválido\")),\"\")","v":""}]
[null,null,null,null,null,null,null,null,null,null,null,"",{"$f":"IF(C815<>0,(IF(lfValidaCNPJ(C815)=TRUE,\"Válido\",\"Inválido\")),\"\")","v":""},{"$f":"IF(E815<>0,(IF(lfValidaCEP(E815)=TRUE,\"Válido\",\"Inválido\")),\"\")","v":""}]
[null,null,null,null,null,null,null,null,null,null,null,"",{"$f":"IF(C816<>0,(IF(lfValidaCNPJ(C816)=TRUE,\"Válido\",\"Inválido\")),\"\")","v":""},{"$f":"IF(E816<>0,(IF(lfValidaCEP(E816)=TRUE,\"Válido\",\"Inválido\")),\"\")","v":""}]
[null,null,null,null,null,null,null,null,null,null,null,"",{"$f":"IF(C817<>0,(IF(lfValidaCNPJ(C817)=TRUE,\"Válido\",\"Inválido\")),\"\")","v":""},{"$f":"IF(E817<>0,(IF(lfValidaCEP(E817)=TRUE,\"Válido\",\"Inválido\")),\"\")","v":""}]
[null,null,null,null,null,null,null,null,null,null,null,"",{"$f":"IF(C818<>0,(IF(lfValidaCNPJ(C818)=TRUE,\"Válido\",\"Inválido\")),\"\")","v":""},{"$f":"IF(E818<>0,(IF(lfValidaCEP(E818)=TRUE,\"Válido\",\"Inválido\")),\"\")","v":""}]
[null,null,null,null,null,null,null,null,null,null,null,"",{"$f":"IF(C819<>0,(IF(lfValidaCNPJ(C819)=TRUE,\"Válido\",\"Inválido\")),\"\")","v":""},{"$f":"IF(E819<>0,(IF(lfValidaCEP(E819)=TRUE,\"Válido\",\"Inválido\")),\"\")","v":""}]
[null,null,null,null,null,null,null,null,null,null,null,"",{"$f":"IF(C820<>0,(IF(lfValidaCNPJ(C820)=TRUE,\"Válido\",\"Inválido\")),\"\")","v":""},{"$f":"IF(E820<>0,(IF(lfValidaCEP(E820)=TRUE,\"Válido\",\"Inválido\")),\"\")","v":""}]
[null,null,null,null,null,null,null,null,null,null,null,"",{"$f":"IF(C821<>0,(IF(lfValidaCNPJ(C821)=TRUE,\"Válido\",\"Inválido\")),\"\")","v":""},{"$f":"IF(E821<>0,(IF(lfValidaCEP(E821)=TRUE,\"Válido\",\"Inválido\")),\"\")","v":""}]
[null,null,null,null,null,null,null,null,null,null,null,"",{"$f":"IF(C822<>0,(IF(lfValidaCNPJ(C822)=TRUE,\"Válido\",\"Inválido\")),\"\")","v":""},{"$f":"IF(E822<>0,(IF(lfValidaCEP(E822)=TRUE,\"Válido\",\"Inválido\")),\"\")","v":""}]
[null,null,null,null,null,null,null,null,null,null,null,"",{"$f":"IF(C823<>0,(IF(lfValidaCNPJ(C823)=TRUE,\"Válido\",\"Inválido\")),\"\")","v":""},{"$f":"IF(E823<>0,(IF(lfValidaCEP(E823)=TRUE,\"Válido\",\"Inválido\")),\"\")","v":""}]
[null,null,null,null,null,null,null,null,null,null,null,"",{"$f":"IF(C824<>0,(IF(lfValidaCNPJ(C824)=TRUE,\"Válido\",\"Inválido\")),\"\")","v":""},{"$f":"IF(E824<>0,(IF(lfValidaCEP(E824)=TRUE,\"Válido\",\"Inválido\")),\"\")","v":""}]
[null,null,null,null,null,null,null,null,null,null,null,"",{"$f":"IF(C825<>0,(IF(lfValidaCNPJ(C825)=TRUE,\"Válido\",\"Inválido\")),\"\")","v":""},{"$f":"IF(E825<>0,(IF(lfValidaCEP(E825)=TRUE,\"Válido\",\"Inválido\")),\"\")","v":""}]
[null,null,null,null,null,null,null,null,null,null,null,"",{"$f":"IF(C826<>0,(IF(lfValidaCNPJ(C826)=TRUE,\"Válido\",\"Inválido\")),\"\")","v":""},{"$f":"IF(E826<>0,(IF(lfValidaCEP(E826)=TRUE,\"Válido\",\"Inválido\")),\"\")","v":""}]
[null,null,null,null,null,null,null,null,null,null,null,"",{"$f":"IF(C827<>0,(IF(lfValidaCNPJ(C827)=TRUE,\"Válido\",\"Inválido\")),\"\")","v":""},{"$f":"IF(E827<>0,(IF(lfValidaCEP(E827)=TRUE,\"Válido\",\"Inválido\")),\"\")","v":""}]
[null,null,null,null,null,null,null,null,null,null,null,"",{"$f":"IF(C828<>0,(IF(lfValidaCNPJ(C828)=TRUE,\"Válido\",\"Inválido\")),\"\")","v":""},{"$f":"IF(E828<>0,(IF(lfValidaCEP(E828)=TRUE,\"Válido\",\"Inválido\")),\"\")","v":""}]
[null,null,null,null,null,null,null,null,null,null,null,"",{"$f":"IF(C829<>0,(IF(lfValidaCNPJ(C829)=TRUE,\"Válido\",\"Inválido\")),\"\")","v":""},{"$f":"IF(E829<>0,(IF(lfValidaCEP(E829)=TRUE,\"Válido\",\"Inválido\")),\"\")","v":""}]
[null,null,null,null,null,null,null,null,null,null,null,"",{"$f":"IF(C830<>0,(IF(lfValidaCNPJ(C830)=TRUE,\"Válido\",\"Inválido\")),\"\")","v":""},{"$f":"IF(E830<>0,(IF(lfValidaCEP(E830)=TRUE,\"Válido\",\"Inválido\")),\"\")","v":""}]
[null,null,null,null,null,null,null,null,null,null,null,"",{"$f":"IF(C831<>0,(IF(lfValidaCNPJ(C831)=TRUE,\"Válido\",\"Inválido\")),\"\")","v":""},{"$f":"IF(E831<>0,(IF(lfValidaCEP(E831)=TRUE,\"Válido\",\"Inválido\")),\"\")","v":""}]
[null,null,null,null,null,null,null,null,null,null,null,"",{"$f":"IF(C832<>0,(IF(lfValidaCNPJ(C832)=TRUE,\"Válido\",\"Inválido\")),\"\")","v":""},{"$f":"IF(E832<>0,(IF(lfValidaCEP(E832)=TRUE,\"Válido\",\"Inválido\")),\"\")","v":""}]
[null,null,null,null,null,null,null,null,null,null,null,"",{"$f":"IF(C833<>0,(IF(lfValidaCNPJ(C833)=TRUE,\"Válido\",\"Inválido\")),\"\")","v":""},{"$f":"IF(E833<>0,(IF(lfValidaCEP(E833)=TRUE,\"Válido\",\"Inválido\")),\"\")","v":""}]
[null,null,null,null,null,null,null,null,null,null,null,"",{"$f":"IF(C834<>0,(IF(lfValidaCNPJ(C834)=TRUE,\"Válido\",\"Inválido\")),\"\")","v":""},{"$f":"IF(E834<>0,(IF(lfValidaCEP(E834)=TRUE,\"Válido\",\"Inválido\")),\"\")","v":""}]
[null,null,null,null,null,null,null,null,null,null,null,"",{"$f":"IF(C835<>0,(IF(lfValidaCNPJ(C835)=TRUE,\"Válido\",\"Inválido\")),\"\")","v":""},{"$f":"IF(E835<>0,(IF(lfValidaCEP(E835)=TRUE,\"Válido\",\"Inválido\")),\"\")","v":""}]
[null,null,null,null,null,null,null,null,null,null,null,"",{"$f":"IF(C836<>0,(IF(lfValidaCNPJ(C836)=TRUE,\"Válido\",\"Inválido\")),\"\")","v":""},{"$f":"IF(E836<>0,(IF(lfValidaCEP(E836)=TRUE,\"Válido\",\"Inválido\")),\"\")","v":""}]
[null,null,null,null,null,null,null,null,null,null,null,"",{"$f":"IF(C837<>0,(IF(lfValidaCNPJ(C837)=TRUE,\"Válido\",\"Inválido\")),\"\")","v":""},{"$f":"IF(E837<>0,(IF(lfValidaCEP(E837)=TRUE,\"Válido\",\"Inválido\")),\"\")","v":""}]
[null,null,null,null,null,null,null,null,null,null,null,"",{"$f":"IF(C838<>0,(IF(lfValidaCNPJ(C838)=TRUE,\"Válido\",\"Inválido\")),\"\")","v":""},{"$f":"IF(E838<>0,(IF(lfValidaCEP(E838)=TRUE,\"Válido\",\"Inválido\")),\"\")","v":""}]
[null,null,null,null,null,null,null,null,null,null,null,"",{"$f":"IF(C839<>0,(IF(lfValidaCNPJ(C839)=TRUE,\"Válido\",\"Inválido\")),\"\")","v":""},{"$f":"IF(E839<>0,(IF(lfValidaCEP(E839)=TRUE,\"Válido\",\"Inválido\")),\"\")","v":""}]
[null,null,null,null,null,null,null,null,null,null,null,"",{"$f":"IF(C840<>0,(IF(lfValidaCNPJ(C840)=TRUE,\"Válido\",\"Inválido\")),\"\")","v":""},{"$f":"IF(E840<>0,(IF(lfValidaCEP(E840)=TRUE,\"Válido\",\"Inválido\")),\"\")","v":""}]
[null,null,null,null,null,null,null,null,null,null,null,"",{"$f":"IF(C841<>0,(IF(lfValidaCNPJ(C841)=TRUE,\"Válido\",\"Inválido\")),\"\")","v":""},{"$f":"IF(E841<>0,(IF(lfValidaCEP(E841)=TRUE,\"Válido\",\"Inválido\")),\"\")","v":""}]
[null,null,null,null,null,null,null,null,null,null,null,"",{"$f":"IF(C842<>0,(IF(lfValidaCNPJ(C842)=TRUE,\"Válido\",\"Inválido\")),\"\")","v":""},{"$f":"IF(E842<>0,(IF(lfValidaCEP(E842)=TRUE,\"Válido\",\"Inválido\")),\"\")","v":""}]
[null,null,null,null,null,null,null,null,null,null,null,"",{"$f":"IF(C843<>0,(IF(lfValidaCNPJ(C843)=TRUE,\"Válido\",\"Inválido\")),\"\")","v":""},{"$f":"IF(E843<>0,(IF(lfValidaCEP(E843)=TRUE,\"Válido\",\"Inválido\")),\"\")","v":""}]
[null,null,null,null,null,null,null,null,null,null,null,"",{"$f":"IF(C844<>0,(IF(lfValidaCNPJ(C844)=TRUE,\"Válido\",\"Inválido\")),\"\")","v":""},{"$f":"IF(E844<>0,(IF(lfValidaCEP(E844)=TRUE,\"Válido\",\"Inválido\")),\"\")","v":""}]
[null,null,null,null,null,null,null,null,null,null,null,"",{"$f":"IF(C845<>0,(IF(lfValidaCNPJ(C845)=TRUE,\"Válido\",\"Inválido\")),\"\")","v":""},{"$f":"IF(E845<>0,(IF(lfValidaCEP(E845)=TRUE,\"Válido\",\"Inválido\")),\"\")","v":""}]
[null,null,null,null,null,null,null,null,null,null,null,{"$f":"IF(COUNTA(B846:J846)<>0,IF(AND(B846<>0,C846<>0,D846<>0,E846<>0,F846<>0,G846<>0,H846<>0,I846<>0,J846<>0),\"Completo\",\"Incompleto\"),\"\")","v":""},{"$f":"IF(C846<>0,(IF(lfValidaCNPJ(C846)=TRUE,\"Válido\",\"Inválido\")),\"\")","v":""},{"$f":"IF(E846<>0,(IF(lfValidaCEP(E846)=TRUE,\"Válido\",\"Inválido\")),\"\")","v":""}]
[null,null,null,null,null,null,null,null,null,null,null,"",{"$f":"IF(C847<>0,(IF(lfValidaCNPJ(C847)=TRUE,\"Válido\",\"Inválido\")),\"\")","v":""},{"$f":"IF(E847<>0,(IF(lfValidaCEP(E847)=TRUE,\"Válido\",\"Inválido\")),\"\")","v":""}]
[null,null,null,null,null,null,null,null,null,null,null,"",{"$f":"IF(C848<>0,(IF(lfValidaCNPJ(C848)=TRUE,\"Válido\",\"Inválido\")),\"\")","v":""},{"$f":"IF(E848<>0,(IF(lfValidaCEP(E848)=TRUE,\"Válido\",\"Inválido\")),\"\")","v":""}]
[null,null,null,null,null,null,null,null,null,null,null,"",{"$f":"IF(C849<>0,(IF(lfValidaCNPJ(C849)=TRUE,\"Válido\",\"Inválido\")),\"\")","v":""},{"$f":"IF(E849<>0,(IF(lfValidaCEP(E849)=TRUE,\"Válido\",\"Inválido\")),\"\")","v":""}]
[null,null,null,null,null,null,null,null,null,null,null,"",{"$f":"IF(C850<>0,(IF(lfValidaCNPJ(C850)=TRUE,\"Válido\",\"Inválido\")),\"\")","v":""},{"$f":"IF(E850<>0,(IF(lfValidaCEP(E850)=TRUE,\"Válido\",\"Inválido\")),\"\")","v":""}]
[null,null,null,null,null,null,null,null,null,null,null,"",{"$f":"IF(C851<>0,(IF(lfValidaCNPJ(C851)=TRUE,\"Válido\",\"Inválido\")),\"\")","v":""},{"$f":"IF(E851<>0,(IF(lfValidaCEP(E851)=TRUE,\"Válido\",\"Inválido\")),\"\")","v":""}]
[null,null,null,null,null,null,null,null,null,null,null,"",{"$f":"IF(C852<>0,(IF(lfValidaCNPJ(C852)=TRUE,\"Válido\",\"Inválido\")),\"\")","v":""},{"$f":"IF(E852<>0,(IF(lfValidaCEP(E852)=TRUE,\"Válido\",\"Inválido\")),\"\")","v":""}]
[null,null,null,null,null,null,null,null,null,null,null,"",{"$f":"IF(C853<>0,(IF(lfValidaCNPJ(C853)=TRUE,\"Válido\",\"Inválido\")),\"\")","v":""},{"$f":"IF(E853<>0,(IF(lfValidaCEP(E853)=TRUE,\"Válido\",\"Inválido\")),\"\")","v":""}]
[null,null,null,null,null,null,null,null,null,null,null,"",{"$f":"IF(C854<>0,(IF(lfValidaCNPJ(C854)=TRUE,\"Válido\",\"Inválido\")),\"\")","v":""},{"$f":"IF(E854<>0,(IF(lfValidaCEP(E854)=TRUE,\"Válido\",\"Inválido\")),\"\")","v":""}]
[null,null,null,null,null,null,null,null,null,null,null,"",{"$f":"IF(C855<>0,(IF(lfValidaCNPJ(C855)=TRUE,\"Válido\",\"Inválido\")),\"\")","v":""},{"$f":"IF(E855<>0,(IF(lfValidaCEP(E855)=TRUE,\"Válido\",\"Inválido\")),\"\")","v":""}]
[null,null,null,null,null,null,null,null,null,null,null,"",{"$f":"IF(C856<>0,(IF(lfValidaCNPJ(C856)=TRUE,\"Válido\",\"Inválido\")),\"\")","v":""},{"$f":"IF(E856<>0,(IF(lfValidaCEP(E856)=TRUE,\"Válido\",\"Inválido\")),\"\")","v":""}]
[null,null,null,null,null,null,null,null,null,null,null,"",{"$f":"IF(C857<>0,(IF(lfValidaCNPJ(C857)=TRUE,\"Válido\",\"Inválido\")),\"\")","v":""},{"$f":"IF(E857<>0,(IF(lfValidaCEP(E857)=TRUE,\"Válido\",\"Inválido\")),\"\")","v":""}]
[null,null,null,null,null,null,null,null,null,null,null,"",{"$f":"IF(C858<>0,(IF(lfValidaCNPJ(C858)=TRUE,\"Válido\",\"Inválido\")),\"\")","v":""},{"$f":"IF(E858<>0,(IF(lfValidaCEP(E858)=TRUE,\"Válido\",\"Inválido\")),\"\")","v":""}]
[null,null,null,null,null,null,null,null,null,null,null,"",{"$f":"IF(C859<>0,(IF(lfValidaCNPJ(C859)=TRUE,\"Válido\",\"Inválido\")),\"\")","v":""},{"$f":"IF(E859<>0,(IF(lfValidaCEP(E859)=TRUE,\"Válido\",\"Inválido\")),\"\")","v":""}]
[null,null,null,null,null,null,null,null,null,null,null,"",{"$f":"IF(C860<>0,(IF(lfValidaCNPJ(C860)=TRUE,\"Válido\",\"Inválido\")),\"\")","v":""},{"$f":"IF(E860<>0,(IF(lfValidaCEP(E860)=TRUE,\"Válido\",\"Inválido\")),\"\")","v":""}]
[null,null,null,null,null,null,null,null,null,null,null,"",{"$f":"IF(C861<>0,(IF(lfValidaCNPJ(C861)=TRUE,\"Válido\",\"Inválido\")),\"\")","v":""},{"$f":"IF(E861<>0,(IF(lfValidaCEP(E861)=TRUE,\"Válido\",\"Inválido\")),\"\")","v":""}]
[null,null,null,null,null,null,null,null,null,null,null,"",{"$f":"IF(C862<>0,(IF(lfValidaCNPJ(C862)=TRUE,\"Válido\",\"Inválido\")),\"\")","v":""},{"$f":"IF(E862<>0,(IF(lfValidaCEP(E862)=TRUE,\"Válido\",\"Inválido\")),\"\")","v":""}]
[null,null,null,null,null,null,null,null,null,null,null,"",{"$f":"IF(C863<>0,(IF(lfValidaCNPJ(C863)=TRUE,\"Válido\",\"Inválido\")),\"\")","v":""},{"$f":"IF(E863<>0,(IF(lfValidaCEP(E863)=TRUE,\"Válido\",\"Inválido\")),\"\")","v":""}]
[null,null,null,null,null,null,null,null,null,null,null,"",{"$f":"IF(C864<>0,(IF(lfValidaCNPJ(C864)=TRUE,\"Válido\",\"Inválido\")),\"\")","v":""},{"$f":"IF(E864<>0,(IF(lfValidaCEP(E864)=TRUE,\"Válido\",\"Inválido\")),\"\")","v":""}]
[null,null,null,null,null,null,null,null,null,null,null,"",{"$f":"IF(C865<>0,(IF(lfValidaCNPJ(C865)=TRUE,\"Válido\",\"Inválido\")),\"\")","v":""},{"$f":"IF(E865<>0,(IF(lfValidaCEP(E865)=TRUE,\"Válido\",\"Inválido\")),\"\")","v":""}]
[null,null,null,null,null,null,null,null,null,null,null,"",{"$f":"IF(C866<>0,(IF(lfValidaCNPJ(C866)=TRUE,\"Válido\",\"Inválido\")),\"\")","v":""},{"$f":"IF(E866<>0,(IF(lfValidaCEP(E866)=TRUE,\"Válido\",\"Inválido\")),\"\")","v":""}]
[null,null,null,null,null,null,null,null,null,null,null,"",{"$f":"IF(C867<>0,(IF(lfValidaCNPJ(C867)=TRUE,\"Válido\",\"Inválido\")),\"\")","v":""},{"$f":"IF(E867<>0,(IF(lfValidaCEP(E867)=TRUE,\"Válido\",\"Inválido\")),\"\")","v":""}]
[null,null,null,null,null,null,null,null,null,null,null,"",{"$f":"IF(C868<>0,(IF(lfValidaCNPJ(C868)=TRUE,\"Válido\",\"Inválido\")),\"\")","v":""},{"$f":"IF(E868<>0,(IF(lfValidaCEP(E868)=TRUE,\"Válido\",\"Inválido\")),\"\")","v":""}]
[null,null,null,null,null,null,null,null,null,null,null,"",{"$f":"IF(C869<>0,(IF(lfValidaCNPJ(C869)=TRUE,\"Válido\",\"Inválido\")),\"\")","v":""},{"$f":"IF(E869<>0,(IF(lfValidaCEP(E869)=TRUE,\"Válido\",\"Inválido\")),\"\")","v":""}]
[null,null,null,null,null,null,null,null,null,null,null,"",{"$f":"IF(C870<>0,(IF(lfValidaCNPJ(C870)=TRUE,\"Válido\",\"Inválido\")),\"\")","v":""},{"$f":"IF(E870<>0,(IF(lfValidaCEP(E870)=TRUE,\"Válido\",\"Inválido\")),\"\")","v":""}]
[null,null,null,null,null,null,null,null,null,null,null,"",{"$f":"IF(C871<>0,(IF(lfValidaCNPJ(C871)=TRUE,\"Válido\",\"Inválido\")),\"\")","v":""},{"$f":"IF(E871<>0,(IF(lfValidaCEP(E871)=TRUE,\"Válido\",\"Inválido\")),\"\")","v":""}]
[null,null,null,null,null,null,null,null,null,null,null,"",{"$f":"IF(C872<>0,(IF(lfValidaCNPJ(C872)=TRUE,\"Válido\",\"Inválido\")),\"\")","v":""},{"$f":"IF(E872<>0,(IF(lfValidaCEP(E872)=TRUE,\"Válido\",\"Inválido\")),\"\")","v":""}]
[null,null,null,null,null,null,null,null,null,null,null,"",{"$f":"IF(C873<>0,(IF(lfValidaCNPJ(C873)=TRUE,\"Válido\",\"Inválido\")),\"\")","v":""},{"$f":"IF(E873<>0,(IF(lfValidaCEP(E873)=TRUE,\"Válido\",\"Inválido\")),\"\")","v":""}]
[null,null,null,null,null,null,null,null,null,null,null,"",{"$f":"IF(C874<>0,(IF(lfValidaCNPJ(C874)=TRUE,\"Válido\",\"Inválido\")),\"\")","v":""},{"$f":"IF(E874<>0,(IF(lfValidaCEP(E874)=TRUE,\"Válido\",\"Inválido\")),\"\")","v":""}]
[null,null,null,null,null,null,null,null,null,null,null,"",{"$f":"IF(C875<>0,(IF(lfValidaCNPJ(C875)=TRUE,\"Válido\",\"Inválido\")),\"\")","v":""},{"$f":"IF(E875<>0,(IF(lfValidaCEP(E875)=TRUE,\"Válido\",\"Inválido\")),\"\")","v":""}]
[null,null,null,null,null,null,null,null,null,null,null,"",{"$f":"IF(C876<>0,(IF(lfValidaCNPJ(C876)=TRUE,\"Válido\",\"Inválido\")),\"\")","v":""},{"$f":"IF(E876<>0,(IF(lfValidaCEP(E876)=TRUE,\"Válido\",\"Inválido\")),\"\")","v":""}]
[null,null,null,null,null,null,null,null,null,null,null,"",{"$f":"IF(C877<>0,(IF(lfValidaCNPJ(C877)=TRUE,\"Válido\",\"Inválido\")),\"\")","v":""},{"$f":"IF(E877<>0,(IF(lfValidaCEP(E877)=TRUE,\"Válido\",\"Inválido\")),\"\")","v":""}]
[null,null,null,null,null,null,null,null,null,null,null,"",{"$f":"IF(C878<>0,(IF(lfValidaCNPJ(C878)=TRUE,\"Válido\",\"Inválido\")),\"\")","v":""},{"$f":"IF(E878<>0,(IF(lfValidaCEP(E878)=TRUE,\"Válido\",\"Inválido\")),\"\")","v":""}]
[null,null,null,null,null,null,null,null,null,null,null,"",{"$f":"IF(C879<>0,(IF(lfValidaCNPJ(C879)=TRUE,\"Válido\",\"Inválido\")),\"\")","v":""},{"$f":"IF(E879<>0,(IF(lfValidaCEP(E879)=TRUE,\"Válido\",\"Inválido\")),\"\")","v":""}]
[null,null,null,null,null,null,null,null,null,null,null,"",{"$f":"IF(C880<>0,(IF(lfValidaCNPJ(C880)=TRUE,\"Válido\",\"Inválido\")),\"\")","v":""},{"$f":"IF(E880<>0,(IF(lfValidaCEP(E880)=TRUE,\"Válido\",\"Inválido\")),\"\")","v":""}]
[null,null,null,null,null,null,null,null,null,null,null,"",{"$f":"IF(C881<>0,(IF(lfValidaCNPJ(C881)=TRUE,\"Válido\",\"Inválido\")),\"\")","v":""},{"$f":"IF(E881<>0,(IF(lfValidaCEP(E881)=TRUE,\"Válido\",\"Inválido\")),\"\")","v":""}]
[null,null,null,null,null,null,null,null,null,null,null,"",{"$f":"IF(C882<>0,(IF(lfValidaCNPJ(C882)=TRUE,\"Válido\",\"Inválido\")),\"\")","v":""},{"$f":"IF(E882<>0,(IF(lfValidaCEP(E882)=TRUE,\"Válido\",\"Inválido\")),\"\")","v":""}]
[null,null,null,null,null,null,null,null,null,null,null,"",{"$f":"IF(C883<>0,(IF(lfValidaCNPJ(C883)=TRUE,\"Válido\",\"Inválido\")),\"\")","v":""},{"$f":"IF(E883<>0,(IF(lfValidaCEP(E883)=TRUE,\"Válido\",\"Inválido\")),\"\")","v":""}]
[null,null,null,null,null,null,null,null,null,null,null,"",{"$f":"IF(C884<>0,(IF(lfValidaCNPJ(C884)=TRUE,\"Válido\",\"Inválido\")),\"\")","v":""},{"$f":"IF(E884<>0,(IF(lfValidaCEP(E884)=TRUE,\"Válido\",\"Inválido\")),\"\")","v":""}]
[null,null,null,null,null,null,null,null,null,null,null,"",{"$f":"IF(C885<>0,(IF(lfValidaCNPJ(C885)=TRUE,\"Válido\",\"Inválido\")),\"\")","v":""},{"$f":"IF(E885<>0,(IF(lfValidaCEP(E885)=TRUE,\"Válido\",\"Inválido\")),\"\")","v":""}]
[null,null,null,null,null,null,null,null,null,null,null,"",{"$f":"IF(C886<>0,(IF(lfValidaCNPJ(C886)=TRUE,\"Válido\",\"Inválido\")),\"\")","v":""},{"$f":"IF(E886<>0,(IF(lfValidaCEP(E886)=TRUE,\"Válido\",\"Inválido\")),\"\")","v":""}]
[null,null,null,null,null,null,null,null,null,null,null,"",{"$f":"IF(C887<>0,(IF(lfValidaCNPJ(C887)=TRUE,\"Válido\",\"Inválido\")),\"\")","v":""},{"$f":"IF(E887<>0,(IF(lfValidaCEP(E887)=TRUE,\"Válido\",\"Inválido\")),\"\")","v":""}]
[null,null,null,null,null,null,null,null,null,null,null,"",{"$f":"IF(C888<>0,(IF(lfValidaCNPJ(C888)=TRUE,\"Válido\",\"Inválido\")),\"\")","v":""},{"$f":"IF(E888<>0,(IF(lfValidaCEP(E888)=TRUE,\"Válido\",\"Inválido\")),\"\")","v":""}]
[null,null,null,null,null,null,null,null,null,null,null,"",{"$f":"IF(C889<>0,(IF(lfValidaCNPJ(C889)=TRUE,\"Válido\",\"Inválido\")),\"\")","v":""},{"$f":"IF(E889<>0,(IF(lfValidaCEP(E889)=TRUE,\"Válido\",\"Inválido\")),\"\")","v":""}]
[null,null,null,null,null,null,null,null,null,null,null,"",{"$f":"IF(C890<>0,(IF(lfValidaCNPJ(C890)=TRUE,\"Válido\",\"Inválido\")),\"\")","v":""},{"$f":"IF(E890<>0,(IF(lfValidaCEP(E890)=TRUE,\"Válido\",\"Inválido\")),\"\")","v":""}]
[null,null,null,null,null,null,null,null,null,null,null,"",{"$f":"IF(C891<>0,(IF(lfValidaCNPJ(C891)=TRUE,\"Válido\",\"Inválido\")),\"\")","v":""},{"$f":"IF(E891<>0,(IF(lfValidaCEP(E891)=TRUE,\"Válido\",\"Inválido\")),\"\")","v":""}]
[null,null,null,null,null,null,null,null,null,null,null,"",{"$f":"IF(C892<>0,(IF(lfValidaCNPJ(C892)=TRUE,\"Válido\",\"Inválido\")),\"\")","v":""},{"$f":"IF(E892<>0,(IF(lfValidaCEP(E892)=TRUE,\"Válido\",\"Inválido\")),\"\")","v":""}]
[null,null,null,null,null,null,null,null,null,null,null,"",{"$f":"IF(C893<>0,(IF(lfValidaCNPJ(C893)=TRUE,\"Válido\",\"Inválido\")),\"\")","v":""},{"$f":"IF(E893<>0,(IF(lfValidaCEP(E893)=TRUE,\"Válido\",\"Inválido\")),\"\")","v":""}]
[null,null,null,null,null,null,null,null,null,null,null,"",{"$f":"IF(C894<>0,(IF(lfValidaCNPJ(C894)=TRUE,\"Válido\",\"Inválido\")),\"\")","v":""},{"$f":"IF(E894<>0,(IF(lfValidaCEP(E894)=TRUE,\"Válido\",\"Inválido\")),\"\")","v":""}]
[null,null,null,null,null,null,null,null,null,null,null,"",{"$f":"IF(C895<>0,(IF(lfValidaCNPJ(C895)=TRUE,\"Válido\",\"Inválido\")),\"\")","v":""},{"$f":"IF(E895<>0,(IF(lfValidaCEP(E895)=TRUE,\"Válido\",\"Inválido\")),\"\")","v":""}]
[null,null,null,null,null,null,null,null,null,null,null,"",{"$f":"IF(C896<>0,(IF(lfValidaCNPJ(C896)=TRUE,\"Válido\",\"Inválido\")),\"\")","v":""},{"$f":"IF(E896<>0,(IF(lfValidaCEP(E896)=TRUE,\"Válido\",\"Inválido\")),\"\")","v":""}]
[null,null,null,null,null,null,null,null,null,null,null,"",{"$f":"IF(C897<>0,(IF(lfValidaCNPJ(C897)=TRUE,\"Válido\",\"Inválido\")),\"\")","v":""},{"$f":"IF(E897<>0,(IF(lfValidaCEP(E897)=TRUE,\"Válido\",\"Inválido\")),\"\")","v":""}]
[null,null,null,null,null,null,null,null,null,null,null,"",{"$f":"IF(C898<>0,(IF(lfValidaCNPJ(C898)=TRUE,\"Válido\",\"Inválido\")),\"\")","v":""},{"$f":"IF(E898<>0,(IF(lfValidaCEP(E898)=TRUE,\"Válido\",\"Inválido\")),\"\")","v":""}]
[null,null,null,null,null,null,null,null,null,null,null,"",{"$f":"IF(C899<>0,(IF(lfValidaCNPJ(C899)=TRUE,\"Válido\",\"Inválido\")),\"\")","v":""},{"$f":"IF(E899<>0,(IF(lfValidaCEP(E899)=TRUE,\"Válido\",\"Inválido\")),\"\")","v":""}]
[null,null,null,null,null,null,null,null,null,null,null,"",{"$f":"IF(C900<>0,(IF(lfValidaCNPJ(C900)=TRUE,\"Válido\",\"Inválido\")),\"\")","v":""},{"$f":"IF(E900<>0,(IF(lfValidaCEP(E900)=TRUE,\"Válido\",\"Inválido\")),\"\")","v":""}]
[null,null,null,null,null,null,null,null,null,null,null,"",{"$f":"IF(C901<>0,(IF(lfValidaCNPJ(C901)=TRUE,\"Válido\",\"Inválido\")),\"\")","v":""},{"$f":"IF(E901<>0,(IF(lfValidaCEP(E901)=TRUE,\"Válido\",\"Inválido\")),\"\")","v":""}]
[null,null,null,null,null,null,null,null,null,null,null,"",{"$f":"IF(C902<>0,(IF(lfValidaCNPJ(C902)=TRUE,\"Válido\",\"Inválido\")),\"\")","v":""},{"$f":"IF(E902<>0,(IF(lfValidaCEP(E902)=TRUE,\"Válido\",\"Inválido\")),\"\")","v":""}]
[null,null,null,null,null,null,null,null,null,null,null,"",{"$f":"IF(C903<>0,(IF(lfValidaCNPJ(C903)=TRUE,\"Válido\",\"Inválido\")),\"\")","v":""},{"$f":"IF(E903<>0,(IF(lfValidaCEP(E903)=TRUE,\"Válido\",\"Inválido\")),\"\")","v":""}]
[null,null,null,null,null,null,null,null,null,null,null,"",{"$f":"IF(C904<>0,(IF(lfValidaCNPJ(C904)=TRUE,\"Válido\",\"Inválido\")),\"\")","v":""},{"$f":"IF(E904<>0,(IF(lfValidaCEP(E904)=TRUE,\"Válido\",\"Inválido\")),\"\")","v":""}]
[null,null,null,null,null,null,null,null,null,null,null,"",{"$f":"IF(C905<>0,(IF(lfValidaCNPJ(C905)=TRUE,\"Válido\",\"Inválido\")),\"\")","v":""},{"$f":"IF(E905<>0,(IF(lfValidaCEP(E905)=TRUE,\"Válido\",\"Inválido\")),\"\")","v":""}]
[null,null,null,null,null,null,null,null,null,null,null,"",{"$f":"IF(C906<>0,(IF(lfValidaCNPJ(C906)=TRUE,\"Válido\",\"Inválido\")),\"\")","v":""},{"$f":"IF(E906<>0,(IF(lfValidaCEP(E906)=TRUE,\"Válido\",\"Inválido\")),\"\")","v":""}]
[null,null,null,null,null,null,null,null,null,null,null,"",{"$f":"IF(C907<>0,(IF(lfValidaCNPJ(C907)=TRUE,\"Válido\",\"Inválido\")),\"\")","v":""},{"$f":"IF(E907<>0,(IF(lfValidaCEP(E907)=TRUE,\"Válido\",\"Inválido\")),\"\")","v":""}]
[null,null,null,null,null,null,null,null,null,null,null,"",{"$f":"IF(C908<>0,(IF(lfValidaCNPJ(C908)=TRUE,\"Válido\",\"Inválido\")),\"\")","v":""},{"$f":"IF(E908<>0,(IF(lfValidaCEP(E908)=TRUE,\"Válido\",\"Inválido\")),\"\")","v":""}]
[null,null,null,null,null,null,null,null,null,null,null,"",{"$f":"IF(C909<>0,(IF(lfValidaCNPJ(C909)=TRUE,\"Válido\",\"Inválido\")),\"\")","v":""},{"$f":"IF(E909<>0,(IF(lfValidaCEP(E909)=TRUE,\"Válido\",\"Inválido\")),\"\")","v":""}]
[null,null,null,null,null,null,null,null,null,null,null,{"$f":"IF(COUNTA(B910:J910)<>0,IF(AND(B910<>0,C910<>0,D910<>0,E910<>0,F910<>0,G910<>0,H910<>0,I910<>0,J910<>0),\"Completo\",\"Incompleto\"),\"\")","v":""},{"$f":"IF(C910<>0,(IF(lfValidaCNPJ(C910)=TRUE,\"Válido\",\"Inválido\")),\"\")","v":""},{"$f":"IF(E910<>0,(IF(lfValidaCEP(E910)=TRUE,\"Válido\",\"Inválido\")),\"\")","v":""}]
[null,null,null,null,null,null,null,null,null,null,null,"",{"$f":"IF(C911<>0,(IF(lfValidaCNPJ(C911)=TRUE,\"Válido\",\"Inválido\")),\"\")","v":""},{"$f":"IF(E911<>0,(IF(lfValidaCEP(E911)=TRUE,\"Válido\",\"Inválido\")),\"\")","v":""}]
[null,null,null,null,null,null,null,null,null,null,null,"",{"$f":"IF(C912<>0,(IF(lfValidaCNPJ(C912)=TRUE,\"Válido\",\"Inválido\")),\"\")","v":""},{"$f":"IF(E912<>0,(IF(lfValidaCEP(E912)=TRUE,\"Válido\",\"Inválido\")),\"\")","v":""}]
[null,null,null,null,null,null,null,null,null,null,null,"",{"$f":"IF(C913<>0,(IF(lfValidaCNPJ(C913)=TRUE,\"Válido\",\"Inválido\")),\"\")","v":""},{"$f":"IF(E913<>0,(IF(lfValidaCEP(E913)=TRUE,\"Válido\",\"Inválido\")),\"\")","v":""}]
[null,null,null,null,null,null,null,null,null,null,null,"",{"$f":"IF(C914<>0,(IF(lfValidaCNPJ(C914)=TRUE,\"Válido\",\"Inválido\")),\"\")","v":""},{"$f":"IF(E914<>0,(IF(lfValidaCEP(E914)=TRUE,\"Válido\",\"Inválido\")),\"\")","v":""}]
[null,null,null,null,null,null,null,null,null,null,null,"",{"$f":"IF(C915<>0,(IF(lfValidaCNPJ(C915)=TRUE,\"Válido\",\"Inválido\")),\"\")","v":""},{"$f":"IF(E915<>0,(IF(lfValidaCEP(E915)=TRUE,\"Válido\",\"Inválido\")),\"\")","v":""}]
[null,null,null,null,null,null,null,null,null,null,null,"",{"$f":"IF(C916<>0,(IF(lfValidaCNPJ(C916)=TRUE,\"Válido\",\"Inválido\")),\"\")","v":""},{"$f":"IF(E916<>0,(IF(lfValidaCEP(E916)=TRUE,\"Válido\",\"Inválido\")),\"\")","v":""}]
[null,null,null,null,null,null,null,null,null,null,null,"",{"$f":"IF(C917<>0,(IF(lfValidaCNPJ(C917)=TRUE,\"Válido\",\"Inválido\")),\"\")","v":""},{"$f":"IF(E917<>0,(IF(lfValidaCEP(E917)=TRUE,\"Válido\",\"Inválido\")),\"\")","v":""}]
[null,null,null,null,null,null,null,null,null,null,null,"",{"$f":"IF(C918<>0,(IF(lfValidaCNPJ(C918)=TRUE,\"Válido\",\"Inválido\")),\"\")","v":""},{"$f":"IF(E918<>0,(IF(lfValidaCEP(E918)=TRUE,\"Válido\",\"Inválido\")),\"\")","v":""}]
[null,null,null,null,null,null,null,null,null,null,null,"",{"$f":"IF(C919<>0,(IF(lfValidaCNPJ(C919)=TRUE,\"Válido\",\"Inválido\")),\"\")","v":""},{"$f":"IF(E919<>0,(IF(lfValidaCEP(E919)=TRUE,\"Válido\",\"Inválido\")),\"\")","v":""}]
[null,null,null,null,null,null,null,null,null,null,null,"",{"$f":"IF(C920<>0,(IF(lfValidaCNPJ(C920)=TRUE,\"Válido\",\"Inválido\")),\"\")","v":""},{"$f":"IF(E920<>0,(IF(lfValidaCEP(E920)=TRUE,\"Válido\",\"Inválido\")),\"\")","v":""}]
[null,null,null,null,null,null,null,null,null,null,null,"",{"$f":"IF(C921<>0,(IF(lfValidaCNPJ(C921)=TRUE,\"Válido\",\"Inválido\")),\"\")","v":""},{"$f":"IF(E921<>0,(IF(lfValidaCEP(E921)=TRUE,\"Válido\",\"Inválido\")),\"\")","v":""}]
[null,null,null,null,null,null,null,null,null,null,null,"",{"$f":"IF(C922<>0,(IF(lfValidaCNPJ(C922)=TRUE,\"Válido\",\"Inválido\")),\"\")","v":""},{"$f":"IF(E922<>0,(IF(lfValidaCEP(E922)=TRUE,\"Válido\",\"Inválido\")),\"\")","v":""}]
[null,null,null,null,null,null,null,null,null,null,null,"",{"$f":"IF(C923<>0,(IF(lfValidaCNPJ(C923)=TRUE,\"Válido\",\"Inválido\")),\"\")","v":""},{"$f":"IF(E923<>0,(IF(lfValidaCEP(E923)=TRUE,\"Válido\",\"Inválido\")),\"\")","v":""}]
[null,null,null,null,null,null,null,null,null,null,null,"",{"$f":"IF(C924<>0,(IF(lfValidaCNPJ(C924)=TRUE,\"Válido\",\"Inválido\")),\"\")","v":""},{"$f":"IF(E924<>0,(IF(lfValidaCEP(E924)=TRUE,\"Válido\",\"Inválido\")),\"\")","v":""}]
[null,null,null,null,null,null,null,null,null,null,null,"",{"$f":"IF(C925<>0,(IF(lfValidaCNPJ(C925)=TRUE,\"Válido\",\"Inválido\")),\"\")","v":""},{"$f":"IF(E925<>0,(IF(lfValidaCEP(E925)=TRUE,\"Válido\",\"Inválido\")),\"\")","v":""}]
[null,null,null,null,null,null,null,null,null,null,null,"",{"$f":"IF(C926<>0,(IF(lfValidaCNPJ(C926)=TRUE,\"Válido\",\"Inválido\")),\"\")","v":""},{"$f":"IF(E926<>0,(IF(lfValidaCEP(E926)=TRUE,\"Válido\",\"Inválido\")),\"\")","v":""}]
[null,null,null,null,null,null,null,null,null,null,null,"",{"$f":"IF(C927<>0,(IF(lfValidaCNPJ(C927)=TRUE,\"Válido\",\"Inválido\")),\"\")","v":""},{"$f":"IF(E927<>0,(IF(lfValidaCEP(E927)=TRUE,\"Válido\",\"Inválido\")),\"\")","v":""}]
[null,null,null,null,null,null,null,null,null,null,null,"",{"$f":"IF(C928<>0,(IF(lfValidaCNPJ(C928)=TRUE,\"Válido\",\"Inválido\")),\"\")","v":""},{"$f":"IF(E928<>0,(IF(lfValidaCEP(E928)=TRUE,\"Válido\",\"Inválido\")),\"\")","v":""}]
[null,null,null,null,null,null,null,null,null,null,null,"",{"$f":"IF(C929<>0,(IF(lfValidaCNPJ(C929)=TRUE,\"Válido\",\"Inválido\")),\"\")","v":""},{"$f":"IF(E929<>0,(IF(lfValidaCEP(E929)=TRUE,\"Válido\",\"Inválido\")),\"\")","v":""}]
[null,null,null,null,null,null,null,null,null,null,null,"",{"$f":"IF(C930<>0,(IF(lfValidaCNPJ(C930)=TRUE,\"Válido\",\"Inválido\")),\"\")","v":""},{"$f":"IF(E930<>0,(IF(lfValidaCEP(E930)=TRUE,\"Válido\",\"Inválido\")),\"\")","v":""}]
[null,null,null,null,null,null,null,null,null,null,null,"",{"$f":"IF(C931<>0,(IF(lfValidaCNPJ(C931)=TRUE,\"Válido\",\"Inválido\")),\"\")","v":""},{"$f":"IF(E931<>0,(IF(lfValidaCEP(E931)=TRUE,\"Válido\",\"Inválido\")),\"\")","v":""}]
[null,null,null,null,null,null,null,null,null,null,null,"",{"$f":"IF(C932<>0,(IF(lfValidaCNPJ(C932)=TRUE,\"Válido\",\"Inválido\")),\"\")","v":""},{"$f":"IF(E932<>0,(IF(lfValidaCEP(E932)=TRUE,\"Válido\",\"Inválido\")),\"\")","v":""}]
[null,null,null,null,null,null,null,null,null,null,null,"",{"$f":"IF(C933<>0,(IF(lfValidaCNPJ(C933)=TRUE,\"Válido\",\"Inválido\")),\"\")","v":""},{"$f":"IF(E933<>0,(IF(lfValidaCEP(E933)=TRUE,\"Válido\",\"Inválido\")),\"\")","v":""}]
[null,null,null,null,null,null,null,null,null,null,null,"",{"$f":"IF(C934<>0,(IF(lfValidaCNPJ(C934)=TRUE,\"Válido\",\"Inválido\")),\"\")","v":""},{"$f":"IF(E934<>0,(IF(lfValidaCEP(E934)=TRUE,\"Válido\",\"Inválido\")),\"\")","v":""}]
[null,null,null,null,null,null,null,null,null,null,null,"",{"$f":"IF(C935<>0,(IF(lfValidaCNPJ(C935)=TRUE,\"Válido\",\"Inválido\")),\"\")","v":""},{"$f":"IF(E935<>0,(IF(lfValidaCEP(E935)=TRUE,\"Válido\",\"Inválido\")),\"\")","v":""}]
[null,null,null,null,null,null,null,null,null,null,null,"",{"$f":"IF(C936<>0,(IF(lfValidaCNPJ(C936)=TRUE,\"Válido\",\"Inválido\")),\"\")","v":""},{"$f":"IF(E936<>0,(IF(lfValidaCEP(E936)=TRUE,\"Válido\",\"Inválido\")),\"\")","v":""}]
[null,null,null,null,null,null,null,null,null,null,null,"",{"$f":"IF(C937<>0,(IF(lfValidaCNPJ(C937)=TRUE,\"Válido\",\"Inválido\")),\"\")","v":""},{"$f":"IF(E937<>0,(IF(lfValidaCEP(E937)=TRUE,\"Válido\",\"Inválido\")),\"\")","v":""}]
[null,null,null,null,null,null,null,null,null,null,null,"",{"$f":"IF(C938<>0,(IF(lfValidaCNPJ(C938)=TRUE,\"Válido\",\"Inválido\")),\"\")","v":""},{"$f":"IF(E938<>0,(IF(lfValidaCEP(E938)=TRUE,\"Válido\",\"Inválido\")),\"\")","v":""}]
[null,null,null,null,null,null,null,null,null,null,null,"",{"$f":"IF(C939<>0,(IF(lfValidaCNPJ(C939)=TRUE,\"Válido\",\"Inválido\")),\"\")","v":""},{"$f":"IF(E939<>0,(IF(lfValidaCEP(E939)=TRUE,\"Válido\",\"Inválido\")),\"\")","v":""}]
[null,null,null,null,null,null,null,null,null,null,null,"",{"$f":"IF(C940<>0,(IF(lfValidaCNPJ(C940)=TRUE,\"Válido\",\"Inválido\")),\"\")","v":""},{"$f":"IF(E940<>0,(IF(lfValidaCEP(E940)=TRUE,\"Válido\",\"Inválido\")),\"\")","v":""}]
[null,null,null,null,null,null,null,null,null,null,null,"",{"$f":"IF(C941<>0,(IF(lfValidaCNPJ(C941)=TRUE,\"Válido\",\"Inválido\")),\"\")","v":""},{"$f":"IF(E941<>0,(IF(lfValidaCEP(E941)=TRUE,\"Válido\",\"Inválido\")),\"\")","v":""}]
[null,null,null,null,null,null,null,null,null,null,null,"",{"$f":"IF(C942<>0,(IF(lfValidaCNPJ(C942)=TRUE,\"Válido\",\"Inválido\")),\"\")","v":""},{"$f":"IF(E942<>0,(IF(lfValidaCEP(E942)=TRUE,\"Válido\",\"Inválido\")),\"\")","v":""}]
[null,null,null,null,null,null,null,null,null,null,null,"",{"$f":"IF(C943<>0,(IF(lfValidaCNPJ(C943)=TRUE,\"Válido\",\"Inválido\")),\"\")","v":""},{"$f":"IF(E943<>0,(IF(lfValidaCEP(E943)=TRUE,\"Válido\",\"Inválido\")),\"\")","v":""}]
[null,null,null,null,null,null,null,null,null,null,null,"",{"$f":"IF(C944<>0,(IF(lfValidaCNPJ(C944)=TRUE,\"Válido\",\"Inválido\")),\"\")","v":""},{"$f":"IF(E944<>0,(IF(lfValidaCEP(E944)=TRUE,\"Válido\",\"Inválido\")),\"\")","v":""}]
[null,null,null,null,null,null,null,null,null,null,null,"",{"$f":"IF(C945<>0,(IF(lfValidaCNPJ(C945)=TRUE,\"Válido\",\"Inválido\")),\"\")","v":""},{"$f":"IF(E945<>0,(IF(lfValidaCEP(E945)=TRUE,\"Válido\",\"Inválido\")),\"\")","v":""}]
[null,null,null,null,null,null,null,null,null,null,null,"",{"$f":"IF(C946<>0,(IF(lfValidaCNPJ(C946)=TRUE,\"Válido\",\"Inválido\")),\"\")","v":""},{"$f":"IF(E946<>0,(IF(lfValidaCEP(E946)=TRUE,\"Válido\",\"Inválido\")),\"\")","v":""}]
[null,null,null,null,null,null,null,null,null,null,null,"",{"$f":"IF(C947<>0,(IF(lfValidaCNPJ(C947)=TRUE,\"Válido\",\"Inválido\")),\"\")","v":""},{"$f":"IF(E947<>0,(IF(lfValidaCEP(E947)=TRUE,\"Válido\",\"Inválido\")),\"\")","v":""}]
[null,null,null,null,null,null,null,null,null,null,null,"",{"$f":"IF(C948<>0,(IF(lfValidaCNPJ(C948)=TRUE,\"Válido\",\"Inválido\")),\"\")","v":""},{"$f":"IF(E948<>0,(IF(lfValidaCEP(E948)=TRUE,\"Válido\",\"Inválido\")),\"\")","v":""}]
[null,null,null,null,null,null,null,null,null,null,null,"",{"$f":"IF(C949<>0,(IF(lfValidaCNPJ(C949)=TRUE,\"Válido\",\"Inválido\")),\"\")","v":""},{"$f":"IF(E949<>0,(IF(lfValidaCEP(E949)=TRUE,\"Válido\",\"Inválido\")),\"\")","v":""}]
[null,null,null,null,null,null,null,null,null,null,null,"",{"$f":"IF(C950<>0,(IF(lfValidaCNPJ(C950)=TRUE,\"Válido\",\"Inválido\")),\"\")","v":""},{"$f":"IF(E950<>0,(IF(lfValidaCEP(E950)=TRUE,\"Válido\",\"Inválido\")),\"\")","v":""}]
[null,null,null,null,null,null,null,null,null,null,null,"",{"$f":"IF(C951<>0,(IF(lfValidaCNPJ(C951)=TRUE,\"Válido\",\"Inválido\")),\"\")","v":""},{"$f":"IF(E951<>0,(IF(lfValidaCEP(E951)=TRUE,\"Válido\",\"Inválido\")),\"\")","v":""}]
[null,null,null,null,null,null,null,null,null,null,null,"",{"$f":"IF(C952<>0,(IF(lfValidaCNPJ(C952)=TRUE,\"Válido\",\"Inválido\")),\"\")","v":""},{"$f":"IF(E952<>0,(IF(lfValidaCEP(E952)=TRUE,\"Válido\",\"Inválido\")),\"\")","v":""}]
[null,null,null,null,null,null,null,null,null,null,null,"",{"$f":"IF(C953<>0,(IF(lfValidaCNPJ(C953)=TRUE,\"Válido\",\"Inválido\")),\"\")","v":""},{"$f":"IF(E953<>0,(IF(lfValidaCEP(E953)=TRUE,\"Válido\",\"Inválido\")),\"\")","v":""}]
[null,null,null,null,null,null,null,null,null,null,null,"",{"$f":"IF(C954<>0,(IF(lfValidaCNPJ(C954)=TRUE,\"Válido\",\"Inválido\")),\"\")","v":""},{"$f":"IF(E954<>0,(IF(lfValidaCEP(E954)=TRUE,\"Válido\",\"Inválido\")),\"\")","v":""}]
[null,null,null,null,null,null,null,null,null,null,null,"",{"$f":"IF(C955<>0,(IF(lfValidaCNPJ(C955)=TRUE,\"Válido\",\"Inválido\")),\"\")","v":""},{"$f":"IF(E955<>0,(IF(lfValidaCEP(E955)=TRUE,\"Válido\",\"Inválido\")),\"\")","v":""}]
[null,null,null,null,null,null,null,null,null,null,null,"",{"$f":"IF(C956<>0,(IF(lfValidaCNPJ(C956)=TRUE,\"Válido\",\"Inválido\")),\"\")","v":""},{"$f":"IF(E956<>0,(IF(lfValidaCEP(E956)=TRUE,\"Válido\",\"Inválido\")),\"\")","v":""}]
[null,null,null,null,null,null,null,null,null,null,null,"",{"$f":"IF(C957<>0,(IF(lfValidaCNPJ(C957)=TRUE,\"Válido\",\"Inválido\")),\"\")","v":""},{"$f":"IF(E957<>0,(IF(lfValidaCEP(E957)=TRUE,\"Válido\",\"Inválido\")),\"\")","v":""}]
[null,null,null,null,null,null,null,null,null,null,null,"",{"$f":"IF(C958<>0,(IF(lfValidaCNPJ(C958)=TRUE,\"Válido\",\"Inválido\")),\"\")","v":""},{"$f":"IF(E958<>0,(IF(lfValidaCEP(E958)=TRUE,\"Válido\",\"Inválido\")),\"\")","v":""}]
[null,null,null,null,null,null,null,null,null,null,null,"",{"$f":"IF(C959<>0,(IF(lfValidaCNPJ(C959)=TRUE,\"Válido\",\"Inválido\")),\"\")","v":""},{"$f":"IF(E959<>0,(IF(lfValidaCEP(E959)=TRUE,\"Válido\",\"Inválido\")),\"\")","v":""}]
[null,null,null,null,null,null,null,null,null,null,null,"",{"$f":"IF(C960<>0,(IF(lfValidaCNPJ(C960)=TRUE,\"Válido\",\"Inválido\")),\"\")","v":""},{"$f":"IF(E960<>0,(IF(lfValidaCEP(E960)=TRUE,\"Válido\",\"Inválido\")),\"\")","v":""}]
[null,null,null,null,null,null,null,null,null,null,null,"",{"$f":"IF(C961<>0,(IF(lfValidaCNPJ(C961)=TRUE,\"Válido\",\"Inválido\")),\"\")","v":""},{"$f":"IF(E961<>0,(IF(lfValidaCEP(E961)=TRUE,\"Válido\",\"Inválido\")),\"\")","v":""}]
[null,null,null,null,null,null,null,null,null,null,null,"",{"$f":"IF(C962<>0,(IF(lfValidaCNPJ(C962)=TRUE,\"Válido\",\"Inválido\")),\"\")","v":""},{"$f":"IF(E962<>0,(IF(lfValidaCEP(E962)=TRUE,\"Válido\",\"Inválido\")),\"\")","v":""}]
[null,null,null,null,null,null,null,null,null,null,null,"",{"$f":"IF(C963<>0,(IF(lfValidaCNPJ(C963)=TRUE,\"Válido\",\"Inválido\")),\"\")","v":""},{"$f":"IF(E963<>0,(IF(lfValidaCEP(E963)=TRUE,\"Válido\",\"Inválido\")),\"\")","v":""}]
[null,null,null,null,null,null,null,null,null,null,null,"",{"$f":"IF(C964<>0,(IF(lfValidaCNPJ(C964)=TRUE,\"Válido\",\"Inválido\")),\"\")","v":""},{"$f":"IF(E964<>0,(IF(lfValidaCEP(E964)=TRUE,\"Válido\",\"Inválido\")),\"\")","v":""}]
[null,null,null,null,null,null,null,null,null,null,null,"",{"$f":"IF(C965<>0,(IF(lfValidaCNPJ(C965)=TRUE,\"Válido\",\"Inválido\")),\"\")","v":""},{"$f":"IF(E965<>0,(IF(lfValidaCEP(E965)=TRUE,\"Válido\",\"Inválido\")),\"\")","v":""}]
[null,null,null,null,null,null,null,null,null,null,null,"",{"$f":"IF(C966<>0,(IF(lfValidaCNPJ(C966)=TRUE,\"Válido\",\"Inválido\")),\"\")","v":""},{"$f":"IF(E966<>0,(IF(lfValidaCEP(E966)=TRUE,\"Válido\",\"Inválido\")),\"\")","v":""}]
[null,null,null,null,null,null,null,null,null,null,null,"",{"$f":"IF(C967<>0,(IF(lfValidaCNPJ(C967)=TRUE,\"Válido\",\"Inválido\")),\"\")","v":""},{"$f":"IF(E967<>0,(IF(lfValidaCEP(E967)=TRUE,\"Válido\",\"Inválido\")),\"\")","v":""}]
[null,null,null,null,null,null,null,null,null,null,null,"",{"$f":"IF(C968<>0,(IF(lfValidaCNPJ(C968)=TRUE,\"Válido\",\"Inválido\")),\"\")","v":""},{"$f":"IF(E968<>0,(IF(lfValidaCEP(E968)=TRUE,\"Válido\",\"Inválido\")),\"\")","v":""}]
[null,null,null,null,null,null,null,null,null,null,null,"",{"$f":"IF(C969<>0,(IF(lfValidaCNPJ(C969)=TRUE,\"Válido\",\"Inválido\")),\"\")","v":""},{"$f":"IF(E969<>0,(IF(lfValidaCEP(E969)=TRUE,\"Válido\",\"Inválido\")),\"\")","v":""}]
[null,null,null,null,null,null,null,null,null,null,null,"",{"$f":"IF(C970<>0,(IF(lfValidaCNPJ(C970)=TRUE,\"Válido\",\"Inválido\")),\"\")","v":""},{"$f":"IF(E970<>0,(IF(lfValidaCEP(E970)=TRUE,\"Válido\",\"Inválido\")),\"\")","v":""}]
[null,null,null,null,null,null,null,null,null,null,null,"",{"$f":"IF(C971<>0,(IF(lfValidaCNPJ(C971)=TRUE,\"Válido\",\"Inválido\")),\"\")","v":""},{"$f":"IF(E971<>0,(IF(lfValidaCEP(E971)=TRUE,\"Válido\",\"Inválido\")),\"\")","v":""}]
[null,null,null,null,null,null,null,null,null,null,null,"",{"$f":"IF(C972<>0,(IF(lfValidaCNPJ(C972)=TRUE,\"Válido\",\"Inválido\")),\"\")","v":""},{"$f":"IF(E972<>0,(IF(lfValidaCEP(E972)=TRUE,\"Válido\",\"Inválido\")),\"\")","v":""}]
[null,null,null,null,null,null,null,null,null,null,null,"",{"$f":"IF(C973<>0,(IF(lfValidaCNPJ(C973)=TRUE,\"Válido\",\"Inválido\")),\"\")","v":""},{"$f":"IF(E973<>0,(IF(lfValidaCEP(E973)=TRUE,\"Válido\",\"Inválido\")),\"\")","v":""}]
[null,null,null,null,null,null,null,null,null,null,null,{"$f":"IF(COUNTA(B974:J974)<>0,IF(AND(B974<>0,C974<>0,D974<>0,E974<>0,F974<>0,G974<>0,H974<>0,I974<>0,J974<>0),\"Completo\",\"Incompleto\"),\"\")","v":""},{"$f":"IF(C974<>0,(IF(lfValidaCNPJ(C974)=TRUE,\"Válido\",\"Inválido\")),\"\")","v":""},{"$f":"IF(E974<>0,(IF(lfValidaCEP(E974)=TRUE,\"Válido\",\"Inválido\")),\"\")","v":""}]
[null,null,null,null,null,null,null,null,null,null,null,"",{"$f":"IF(C975<>0,(IF(lfValidaCNPJ(C975)=TRUE,\"Válido\",\"Inválido\")),\"\")","v":""},{"$f":"IF(E975<>0,(IF(lfValidaCEP(E975)=TRUE,\"Válido\",\"Inválido\")),\"\")","v":""}]
[null,null,null,null,null,null,null,null,null,null,null,"",{"$f":"IF(C976<>0,(IF(lfValidaCNPJ(C976)=TRUE,\"Válido\",\"Inválido\")),\"\")","v":""},{"$f":"IF(E976<>0,(IF(lfValidaCEP(E976)=TRUE,\"Válido\",\"Inválido\")),\"\")","v":""}]
[null,null,null,null,null,null,null,null,null,null,null,"",{"$f":"IF(C977<>0,(IF(lfValidaCNPJ(C977)=TRUE,\"Válido\",\"Inválido\")),\"\")","v":""},{"$f":"IF(E977<>0,(IF(lfValidaCEP(E977)=TRUE,\"Válido\",\"Inválido\")),\"\")","v":""}]
[null,null,null,null,null,null,null,null,null,null,null,"",{"$f":"IF(C978<>0,(IF(lfValidaCNPJ(C978)=TRUE,\"Válido\",\"Inválido\")),\"\")","v":""},{"$f":"IF(E978<>0,(IF(lfValidaCEP(E978)=TRUE,\"Válido\",\"Inválido\")),\"\")","v":""}]
[null,null,null,null,null,null,null,null,null,null,null,"",{"$f":"IF(C979<>0,(IF(lfValidaCNPJ(C979)=TRUE,\"Válido\",\"Inválido\")),\"\")","v":""},{"$f":"IF(E979<>0,(IF(lfValidaCEP(E979)=TRUE,\"Válido\",\"Inválido\")),\"\")","v":""}]
[null,null,null,null,null,null,null,null,null,null,null,"",{"$f":"IF(C980<>0,(IF(lfValidaCNPJ(C980)=TRUE,\"Válido\",\"Inválido\")),\"\")","v":""},{"$f":"IF(E980<>0,(IF(lfValidaCEP(E980)=TRUE,\"Válido\",\"Inválido\")),\"\")","v":""}]
[null,null,null,null,null,null,null,null,null,null,null,"",{"$f":"IF(C981<>0,(IF(lfValidaCNPJ(C981)=TRUE,\"Válido\",\"Inválido\")),\"\")","v":""},{"$f":"IF(E981<>0,(IF(lfValidaCEP(E981)=TRUE,\"Válido\",\"Inválido\")),\"\")","v":""}]
[null,null,null,null,null,null,null,null,null,null,null,"",{"$f":"IF(C982<>0,(IF(lfValidaCNPJ(C982)=TRUE,\"Válido\",\"Inválido\")),\"\")","v":""},{"$f":"IF(E982<>0,(IF(lfValidaCEP(E982)=TRUE,\"Válido\",\"Inválido\")),\"\")","v":""}]
[null,null,null,null,null,null,null,null,null,null,null,"",{"$f":"IF(C983<>0,(IF(lfValidaCNPJ(C983)=TRUE,\"Válido\",\"Inválido\")),\"\")","v":""},{"$f":"IF(E983<>0,(IF(lfValidaCEP(E983)=TRUE,\"Válido\",\"Inválido\")),\"\")","v":""}]
[null,null,null,null,null,null,null,null,null,null,null,"",{"$f":"IF(C984<>0,(IF(lfValidaCNPJ(C984)=TRUE,\"Válido\",\"Inválido\")),\"\")","v":""},{"$f":"IF(E984<>0,(IF(lfValidaCEP(E984)=TRUE,\"Válido\",\"Inválido\")),\"\")","v":""}]
[null,null,null,null,null,null,null,null,null,null,null,"",{"$f":"IF(C985<>0,(IF(lfValidaCNPJ(C985)=TRUE,\"Válido\",\"Inválido\")),\"\")","v":""},{"$f":"IF(E985<>0,(IF(lfValidaCEP(E985)=TRUE,\"Válido\",\"Inválido\")),\"\")","v":""}]
[null,null,null,null,null,null,null,null,null,null,null,"",{"$f":"IF(C986<>0,(IF(lfValidaCNPJ(C986)=TRUE,\"Válido\",\"Inválido\")),\"\")","v":""},{"$f":"IF(E986<>0,(IF(lfValidaCEP(E986)=TRUE,\"Válido\",\"Inválido\")),\"\")","v":""}]
[null,null,null,null,null,null,null,null,null,null,null,"",{"$f":"IF(C987<>0,(IF(lfValidaCNPJ(C987)=TRUE,\"Válido\",\"Inválido\")),\"\")","v":""},{"$f":"IF(E987<>0,(IF(lfValidaCEP(E987)=TRUE,\"Válido\",\"Inválido\")),\"\")","v":""}]
[null,null,null,null,null,null,null,null,null,null,null,"",{"$f":"IF(C988<>0,(IF(lfValidaCNPJ(C988)=TRUE,\"Válido\",\"Inválido\")),\"\")","v":""},{"$f":"IF(E988<>0,(IF(lfValidaCEP(E988)=TRUE,\"Válido\",\"Inválido\")),\"\")","v":""}]
[null,null,null,null,null,null,null,null,null,null,null,"",{"$f":"IF(C989<>0,(IF(lfValidaCNPJ(C989)=TRUE,\"Válido\",\"Inválido\")),\"\")","v":""},{"$f":"IF(E989<>0,(IF(lfValidaCEP(E989)=TRUE,\"Válido\",\"Inválido\")),\"\")","v":""}]
[null,null,null,null,null,null,null,null,null,null,null,"",{"$f":"IF(C990<>0,(IF(lfValidaCNPJ(C990)=TRUE,\"Válido\",\"Inválido\")),\"\")","v":""},{"$f":"IF(E990<>0,(IF(lfValidaCEP(E990)=TRUE,\"Válido\",\"Inválido\")),\"\")","v":""}]
[null,null,null,null,null,null,null,null,null,null,null,"",{"$f":"IF(C991<>0,(IF(lfValidaCNPJ(C991)=TRUE,\"Válido\",\"Inválido\")),\"\")","v":""},{"$f":"IF(E991<>0,(IF(lfValidaCEP(E991)=TRUE,\"Válido\",\"Inválido\")),\"\")","v":""}]
[null,null,null,null,null,null,null,null,null,null,null,"",{"$f":"IF(C992<>0,(IF(lfValidaCNPJ(C992)=TRUE,\"Válido\",\"Inválido\")),\"\")","v":""},{"$f":"IF(E992<>0,(IF(lfValidaCEP(E992)=TRUE,\"Válido\",\"Inválido\")),\"\")","v":""}]
[null,null,null,null,null,null,null,null,null,null,null,"",{"$f":"IF(C993<>0,(IF(lfValidaCNPJ(C993)=TRUE,\"Válido\",\"Inválido\")),\"\")","v":""},{"$f":"IF(E993<>0,(IF(lfValidaCEP(E993)=TRUE,\"Válido\",\"Inválido\")),\"\")","v":""}]
[null,null,null,null,null,null,null,null,null,null,null,"",{"$f":"IF(C994<>0,(IF(lfValidaCNPJ(C994)=TRUE,\"Válido\",\"Inválido\")),\"\")","v":""},{"$f":"IF(E994<>0,(IF(lfValidaCEP(E994)=TRUE,\"Válido\",\"Inválido\")),\"\")","v":""}]
[null,null,null,null,null,null,null,null,null,null,null,"",{"$f":"IF(C995<>0,(IF(lfValidaCNPJ(C995)=TRUE,\"Válido\",\"Inválido\")),\"\")","v":""},{"$f":"IF(E995<>0,(IF(lfValidaCEP(E995)=TRUE,\"Válido\",\"Inválido\")),\"\")","v":""}]
[null,null,null,null,null,null,null,null,null,null,null,"",{"$f":"IF(C996<>0,(IF(lfValidaCNPJ(C996)=TRUE,\"Válido\",\"Inválido\")),\"\")","v":""},{"$f":"IF(E996<>0,(IF(lfValidaCEP(E996)=TRUE,\"Válido\",\"Inválido\")),\"\")","v":""}]
[null,null,null,null,null,null,null,null,null,null,null,"",{"$f":"IF(C997<>0,(IF(lfValidaCNPJ(C997)=TRUE,\"Válido\",\"Inválido\")),\"\")","v":""},{"$f":"IF(E997<>0,(IF(lfValidaCEP(E997)=TRUE,\"Válido\",\"Inválido\")),\"\")","v":""}]
[null,null,null,null,null,null,null,null,null,null,null,"",{"$f":"IF(C998<>0,(IF(lfValidaCNPJ(C998)=TRUE,\"Válido\",\"Inválido\")),\"\")","v":""},{"$f":"IF(E998<>0,(IF(lfValidaCEP(E998)=TRUE,\"Válido\",\"Inválido\")),\"\")","v":""}]
[null,null,null,null,null,null,null,null,null,null,null,"",{"$f":"IF(C999<>0,(IF(lfValidaCNPJ(C999)=TRUE,\"Válido\",\"Inválido\")),\"\")","v":""},{"$f":"IF(E999<>0,(IF(lfValidaCEP(E999)=TRUE,\"Válido\",\"Inválido\")),\"\")","v":""}]
[null,null,null,null,null,null,null,null,null,null,null,"",{"$f":"IF(C1000<>0,(IF(lfValidaCNPJ(C1000)=TRUE,\"Válido\",\"Inválido\")),\"\")","v":""},{"$f":"IF(E1000<>0,(IF(lfValidaCEP(E1000)=TRUE,\"Válido\",\"Inválido\")),\"\")","v":""}]
[null,null,null,null,null,null,null,null,null,null,null,"",{"$f":"IF(C1001<>0,(IF(lfValidaCNPJ(C1001)=TRUE,\"Válido\",\"Inválido\")),\"\")","v":""},{"$f":"IF(E1001<>0,(IF(lfValidaCEP(E1001)=TRUE,\"Válido\",\"Inválido\")),\"\")","v":""}]
[null,null,null,null,null,null,null,null,null,null,null,"",{"$f":"IF(C1002<>0,(IF(lfValidaCNPJ(C1002)=TRUE,\"Válido\",\"Inválido\")),\"\")","v":""},{"$f":"IF(E1002<>0,(IF(lfValidaCEP(E1002)=TRUE,\"Válido\",\"Inválido\")),\"\")","v":""}]
[null,null,null,null,null,null,null,null,null,null,null,"",{"$f":"IF(C1003<>0,(IF(lfValidaCNPJ(C1003)=TRUE,\"Válido\",\"Inválido\")),\"\")","v":""},{"$f":"IF(E1003<>0,(IF(lfValidaCEP(E1003)=TRUE,\"Válido\",\"Inválido\")),\"\")","v":""}]
[null,null,null,null,null,null,null,null,null,null,null,"",{"$f":"IF(C1004<>0,(IF(lfValidaCNPJ(C1004)=TRUE,\"Válido\",\"Inválido\")),\"\")","v":""},{"$f":"IF(E1004<>0,(IF(lfValidaCEP(E1004)=TRUE,\"Válido\",\"Inválido\")),\"\")","v":""}]
[null,null,null,null,null,null,null,null,null,null,null,"",{"$f":"IF(C1005<>0,(IF(lfValidaCNPJ(C1005)=TRUE,\"Válido\",\"Inválido\")),\"\")","v":""},{"$f":"IF(E1005<>0,(IF(lfValidaCEP(E1005)=TRUE,\"Válido\",\"Inválido\")),\"\")","v":""}]
[null,null,null,null,null,null,null,null,null,null,null,"",{"$f":"IF(C1006<>0,(IF(lfValidaCNPJ(C1006)=TRUE,\"Válido\",\"Inválido\")),\"\")","v":""},{"$f":"IF(E1006<>0,(IF(lfValidaCEP(E1006)=TRUE,\"Válido\",\"Inválido\")),\"\")","v":""}]
[null,null,null,null,null,null,null,null,null,null,null,"",{"$f":"IF(C1007<>0,(IF(lfValidaCNPJ(C1007)=TRUE,\"Válido\",\"Inválido\")),\"\")","v":""},{"$f":"IF(E1007<>0,(IF(lfValidaCEP(E1007)=TRUE,\"Válido\",\"Inválido\")),\"\")","v":""}]
[null,null,null,null,null,null,null,null,null,null,null,"",{"$f":"IF(C1008<>0,(IF(lfValidaCNPJ(C1008)=TRUE,\"Válido\",\"Inválido\")),\"\")","v":""},{"$f":"IF(E1008<>0,(IF(lfValidaCEP(E1008)=TRUE,\"Válido\",\"Inválido\")),\"\")","v":""}]
[null,null,null,null,null,null,null,null,null,null,null,"",{"$f":"IF(C1009<>0,(IF(lfValidaCNPJ(C1009)=TRUE,\"Válido\",\"Inválido\")),\"\")","v":""},{"$f":"IF(E1009<>0,(IF(lfValidaCEP(E1009)=TRUE,\"Válido\",\"Inválido\")),\"\")","v":""}]
[null,null,null,null,null,null,null,null,null,null,null,"",{"$f":"IF(C1010<>0,(IF(lfValidaCNPJ(C1010)=TRUE,\"Válido\",\"Inválido\")),\"\")","v":""},{"$f":"IF(E1010<>0,(IF(lfValidaCEP(E1010)=TRUE,\"Válido\",\"Inválido\")),\"\")","v":""}]
[null,null,null,null,null,null,null,null,null,null,null,"",{"$f":"IF(C1011<>0,(IF(lfValidaCNPJ(C1011)=TRUE,\"Válido\",\"Inválido\")),\"\")","v":""},{"$f":"IF(E1011<>0,(IF(lfValidaCEP(E1011)=TRUE,\"Válido\",\"Inválido\")),\"\")","v":""}]
[null,null,null,null,null,null,null,null,null,null,null,"",{"$f":"IF(C1012<>0,(IF(lfValidaCNPJ(C1012)=TRUE,\"Válido\",\"Inválido\")),\"\")","v":""},{"$f":"IF(E1012<>0,(IF(lfValidaCEP(E1012)=TRUE,\"Válido\",\"Inválido\")),\"\")","v":""}]
[null,null,null,null,null,null,null,null,null,null,null,"",{"$f":"IF(C1013<>0,(IF(lfValidaCNPJ(C1013)=TRUE,\"Válido\",\"Inválido\")),\"\")","v":""},{"$f":"IF(E1013<>0,(IF(lfValidaCEP(E1013)=TRUE,\"Válido\",\"Inválido\")),\"\")","v":""}]
[null,null,null,null,null,null,null,null,null,null,null,"",{"$f":"IF(C1014<>0,(IF(lfValidaCNPJ(C1014)=TRUE,\"Válido\",\"Inválido\")),\"\")","v":""},{"$f":"IF(E1014<>0,(IF(lfValidaCEP(E1014)=TRUE,\"Válido\",\"Inválido\")),\"\")","v":""}]
[null,null,null,null,null,null,null,null,null,null,null,"",{"$f":"IF(C1015<>0,(IF(lfValidaCNPJ(C1015)=TRUE,\"Válido\",\"Inválido\")),\"\")","v":""},{"$f":"IF(E1015<>0,(IF(lfValidaCEP(E1015)=TRUE,\"Válido\",\"Inválido\")),\"\")","v":""}]
[null,null,null,null,null,null,null,null,null,null,null,"",{"$f":"IF(C1016<>0,(IF(lfValidaCNPJ(C1016)=TRUE,\"Válido\",\"Inválido\")),\"\")","v":""},{"$f":"IF(E1016<>0,(IF(lfValidaCEP(E1016)=TRUE,\"Válido\",\"Inválido\")),\"\")","v":""}]
[null,null,null,null,null,null,null,null,null,null,null,"",{"$f":"IF(C1017<>0,(IF(lfValidaCNPJ(C1017)=TRUE,\"Válido\",\"Inválido\")),\"\")","v":""},{"$f":"IF(E1017<>0,(IF(lfValidaCEP(E1017)=TRUE,\"Válido\",\"Inválido\")),\"\")","v":""}]
[null,null,null,null,null,null,null,null,null,null,null,"",{"$f":"IF(C1018<>0,(IF(lfValidaCNPJ(C1018)=TRUE,\"Válido\",\"Inválido\")),\"\")","v":""},{"$f":"IF(E1018<>0,(IF(lfValidaCEP(E1018)=TRUE,\"Válido\",\"Inválido\")),\"\")","v":""}]
[null,null,null,null,null,null,null,null,null,null,null,"",{"$f":"IF(C1019<>0,(IF(lfValidaCNPJ(C1019)=TRUE,\"Válido\",\"Inválido\")),\"\")","v":""},{"$f":"IF(E1019<>0,(IF(lfValidaCEP(E1019)=TRUE,\"Válido\",\"Inválido\")),\"\")","v":""}]
[null,null,null,null,null,null,null,null,null,null,null,"",{"$f":"IF(C1020<>0,(IF(lfValidaCNPJ(C1020)=TRUE,\"Válido\",\"Inválido\")),\"\")","v":""},{"$f":"IF(E1020<>0,(IF(lfValidaCEP(E1020)=TRUE,\"Válido\",\"Inválido\")),\"\")","v":""}]
[null,null,null,null,null,null,null,null,null,null,null,"",{"$f":"IF(C1021<>0,(IF(lfValidaCNPJ(C1021)=TRUE,\"Válido\",\"Inválido\")),\"\")","v":""},{"$f":"IF(E1021<>0,(IF(lfValidaCEP(E1021)=TRUE,\"Válido\",\"Inválido\")),\"\")","v":""}]
[null,null,null,null,null,null,null,null,null,null,null,"",{"$f":"IF(C1022<>0,(IF(lfValidaCNPJ(C1022)=TRUE,\"Válido\",\"Inválido\")),\"\")","v":""},{"$f":"IF(E1022<>0,(IF(lfValidaCEP(E1022)=TRUE,\"Válido\",\"Inválido\")),\"\")","v":""}]
[null,null,null,null,null,null,null,null,null,null,null,"",{"$f":"IF(C1023<>0,(IF(lfValidaCNPJ(C1023)=TRUE,\"Válido\",\"Inválido\")),\"\")","v":""},{"$f":"IF(E1023<>0,(IF(lfValidaCEP(E1023)=TRUE,\"Válido\",\"Inválido\")),\"\")","v":""}]
[null,null,null,null,null,null,null,null,null,null,null,"",{"$f":"IF(C1024<>0,(IF(lfValidaCNPJ(C1024)=TRUE,\"Válido\",\"Inválido\")),\"\")","v":""},{"$f":"IF(E1024<>0,(IF(lfValidaCEP(E1024)=TRUE,\"Válido\",\"Inválido\")),\"\")","v":""}]
[null,null,null,null,null,null,null,null,null,null,null,"",{"$f":"IF(C1025<>0,(IF(lfValidaCNPJ(C1025)=TRUE,\"Válido\",\"Inválido\")),\"\")","v":""},{"$f":"IF(E1025<>0,(IF(lfValidaCEP(E1025)=TRUE,\"Válido\",\"Inválido\")),\"\")","v":""}]
[null,null,null,null,null,null,null,null,null,null,null,"",{"$f":"IF(C1026<>0,(IF(lfValidaCNPJ(C1026)=TRUE,\"Válido\",\"Inválido\")),\"\")","v":""},{"$f":"IF(E1026<>0,(IF(lfValidaCEP(E1026)=TRUE,\"Válido\",\"Inválido\")),\"\")","v":""}]
[null,null,null,null,null,null,null,null,null,null,null,"",{"$f":"IF(C1027<>0,(IF(lfValidaCNPJ(C1027)=TRUE,\"Válido\",\"Inválido\")),\"\")","v":""},{"$f":"IF(E1027<>0,(IF(lfValidaCEP(E1027)=TRUE,\"Válido\",\"Inválido\")),\"\")","v":""}]
[null,null,null,null,null,null,null,null,null,null,null,"",{"$f":"IF(C1028<>0,(IF(lfValidaCNPJ(C1028)=TRUE,\"Válido\",\"Inválido\")),\"\")","v":""},{"$f":"IF(E1028<>0,(IF(lfValidaCEP(E1028)=TRUE,\"Válido\",\"Inválido\")),\"\")","v":""}]
[null,null,null,null,null,null,null,null,null,null,null,"",{"$f":"IF(C1029<>0,(IF(lfValidaCNPJ(C1029)=TRUE,\"Válido\",\"Inválido\")),\"\")","v":""},{"$f":"IF(E1029<>0,(IF(lfValidaCEP(E1029)=TRUE,\"Válido\",\"Inválido\")),\"\")","v":""}]
[null,null,null,null,null,null,null,null,null,null,null,"",{"$f":"IF(C1030<>0,(IF(lfValidaCNPJ(C1030)=TRUE,\"Válido\",\"Inválido\")),\"\")","v":""},{"$f":"IF(E1030<>0,(IF(lfValidaCEP(E1030)=TRUE,\"Válido\",\"Inválido\")),\"\")","v":""}]
[null,null,null,null,null,null,null,null,null,null,null,"",{"$f":"IF(C1031<>0,(IF(lfValidaCNPJ(C1031)=TRUE,\"Válido\",\"Inválido\")),\"\")","v":""},{"$f":"IF(E1031<>0,(IF(lfValidaCEP(E1031)=TRUE,\"Válido\",\"Inválido\")),\"\")","v":""}]
[null,null,null,null,null,null,null,null,null,null,null,"",{"$f":"IF(C1032<>0,(IF(lfValidaCNPJ(C1032)=TRUE,\"Válido\",\"Inválido\")),\"\")","v":""},{"$f":"IF(E1032<>0,(IF(lfValidaCEP(E1032)=TRUE,\"Válido\",\"Inválido\")),\"\")","v":""}]
[null,null,null,null,null,null,null,null,null,null,null,"",{"$f":"IF(C1033<>0,(IF(lfValidaCNPJ(C1033)=TRUE,\"Válido\",\"Inválido\")),\"\")","v":""},{"$f":"IF(E1033<>0,(IF(lfValidaCEP(E1033)=TRUE,\"Válido\",\"Inválido\")),\"\")","v":""}]
[null,null,null,null,null,null,null,null,null,null,null,"",{"$f":"IF(C1034<>0,(IF(lfValidaCNPJ(C1034)=TRUE,\"Válido\",\"Inválido\")),\"\")","v":""},{"$f":"IF(E1034<>0,(IF(lfValidaCEP(E1034)=TRUE,\"Válido\",\"Inválido\")),\"\")","v":""}]
[null,null,null,null,null,null,null,null,null,null,null,"",{"$f":"IF(C1035<>0,(IF(lfValidaCNPJ(C1035)=TRUE,\"Válido\",\"Inválido\")),\"\")","v":""},{"$f":"IF(E1035<>0,(IF(lfValidaCEP(E1035)=TRUE,\"Válido\",\"Inválido\")),\"\")","v":""}]
[null,null,null,null,null,null,null,null,null,null,null,"",{"$f":"IF(C1036<>0,(IF(lfValidaCNPJ(C1036)=TRUE,\"Válido\",\"Inválido\")),\"\")","v":""},{"$f":"IF(E1036<>0,(IF(lfValidaCEP(E1036)=TRUE,\"Válido\",\"Inválido\")),\"\")","v":""}]
[null,null,null,null,null,null,null,null,null,null,null,"",{"$f":"IF(C1037<>0,(IF(lfValidaCNPJ(C1037)=TRUE,\"Válido\",\"Inválido\")),\"\")","v":""},{"$f":"IF(E1037<>0,(IF(lfValidaCEP(E1037)=TRUE,\"Válido\",\"Inválido\")),\"\")","v":""}]
[null,null,null,null,null,null,null,null,null,null,null,{"$f":"IF(COUNTA(B1038:J1038)<>0,IF(AND(B1038<>0,C1038<>0,D1038<>0,E1038<>0,F1038<>0,G1038<>0,H1038<>0,I1038<>0,J1038<>0),\"Completo\",\"Incompleto\"),\"\")","v":""},{"$f":"IF(C1038<>0,(IF(lfValidaCNPJ(C1038)=TRUE,\"Válido\",\"Inválido\")),\"\")","v":""},{"$f":"IF(E1038<>0,(IF(lfValidaCEP(E1038)=TRUE,\"Válido\",\"Inválido\")),\"\")","v":""}]
[null,null,null,null,null,null,null,null,null,null,null,"",{"$f":"IF(C1039<>0,(IF(lfValidaCNPJ(C1039)=TRUE,\"Válido\",\"Inválido\")),\"\")","v":""},{"$f":"IF(E1039<>0,(IF(lfValidaCEP(E1039)=TRUE,\"Válido\",\"Inválido\")),\"\")","v":""}]
[null,null,null,null,null,null,null,null,null,null,null,"",{"$f":"IF(C1040<>0,(IF(lfValidaCNPJ(C1040)=TRUE,\"Válido\",\"Inválido\")),\"\")","v":""},{"$f":"IF(E1040<>0,(IF(lfValidaCEP(E1040)=TRUE,\"Válido\",\"Inválido\")),\"\")","v":""}]
[null,null,null,null,null,null,null,null,null,null,null,"",{"$f":"IF(C1041<>0,(IF(lfValidaCNPJ(C1041)=TRUE,\"Válido\",\"Inválido\")),\"\")","v":""},{"$f":"IF(E1041<>0,(IF(lfValidaCEP(E1041)=TRUE,\"Válido\",\"Inválido\")),\"\")","v":""}]
[null,null,null,null,null,null,null,null,null,null,null,"",{"$f":"IF(C1042<>0,(IF(lfValidaCNPJ(C1042)=TRUE,\"Válido\",\"Inválido\")),\"\")","v":""},{"$f":"IF(E1042<>0,(IF(lfValidaCEP(E1042)=TRUE,\"Válido\",\"Inválido\")),\"\")","v":""}]
[null,null,null,null,null,null,null,null,null,null,null,"",{"$f":"IF(C1043<>0,(IF(lfValidaCNPJ(C1043)=TRUE,\"Válido\",\"Inválido\")),\"\")","v":""},{"$f":"IF(E1043<>0,(IF(lfValidaCEP(E1043)=TRUE,\"Válido\",\"Inválido\")),\"\")","v":""}]
[null,null,null,null,null,null,null,null,null,null,null,"",{"$f":"IF(C1044<>0,(IF(lfValidaCNPJ(C1044)=TRUE,\"Válido\",\"Inválido\")),\"\")","v":""},{"$f":"IF(E1044<>0,(IF(lfValidaCEP(E1044)=TRUE,\"Válido\",\"Inválido\")),\"\")","v":""}]
[null,null,null,null,null,null,null,null,null,null,null,"",{"$f":"IF(C1045<>0,(IF(lfValidaCNPJ(C1045)=TRUE,\"Válido\",\"Inválido\")),\"\")","v":""},{"$f":"IF(E1045<>0,(IF(lfValidaCEP(E1045)=TRUE,\"Válido\",\"Inválido\")),\"\")","v":""}]
[null,null,null,null,null,null,null,null,null,null,null,"",{"$f":"IF(C1046<>0,(IF(lfValidaCNPJ(C1046)=TRUE,\"Válido\",\"Inválido\")),\"\")","v":""},{"$f":"IF(E1046<>0,(IF(lfValidaCEP(E1046)=TRUE,\"Válido\",\"Inválido\")),\"\")","v":""}]
[null,null,null,null,null,null,null,null,null,null,null,"",{"$f":"IF(C1047<>0,(IF(lfValidaCNPJ(C1047)=TRUE,\"Válido\",\"Inválido\")),\"\")","v":""},{"$f":"IF(E1047<>0,(IF(lfValidaCEP(E1047)=TRUE,\"Válido\",\"Inválido\")),\"\")","v":""}]
[null,null,null,null,null,null,null,null,null,null,null,"",{"$f":"IF(C1048<>0,(IF(lfValidaCNPJ(C1048)=TRUE,\"Válido\",\"Inválido\")),\"\")","v":""},{"$f":"IF(E1048<>0,(IF(lfValidaCEP(E1048)=TRUE,\"Válido\",\"Inválido\")),\"\")","v":""}]
[null,null,null,null,null,null,null,null,null,null,null,"",{"$f":"IF(C1049<>0,(IF(lfValidaCNPJ(C1049)=TRUE,\"Válido\",\"Inválido\")),\"\")","v":""},{"$f":"IF(E1049<>0,(IF(lfValidaCEP(E1049)=TRUE,\"Válido\",\"Inválido\")),\"\")","v":""}]
[null,null,null,null,null,null,null,null,null,null,null,"",{"$f":"IF(C1050<>0,(IF(lfValidaCNPJ(C1050)=TRUE,\"Válido\",\"Inválido\")),\"\")","v":""},{"$f":"IF(E1050<>0,(IF(lfValidaCEP(E1050)=TRUE,\"Válido\",\"Inválido\")),\"\")","v":""}]
[null,null,null,null,null,null,null,null,null,null,null,"",{"$f":"IF(C1051<>0,(IF(lfValidaCNPJ(C1051)=TRUE,\"Válido\",\"Inválido\")),\"\")","v":""},{"$f":"IF(E1051<>0,(IF(lfValidaCEP(E1051)=TRUE,\"Válido\",\"Inválido\")),\"\")","v":""}]
[null,null,null,null,null,null,null,null,null,null,null,"",{"$f":"IF(C1052<>0,(IF(lfValidaCNPJ(C1052)=TRUE,\"Válido\",\"Inválido\")),\"\")","v":""},{"$f":"IF(E1052<>0,(IF(lfValidaCEP(E1052)=TRUE,\"Válido\",\"Inválido\")),\"\")","v":""}]
[null,null,null,null,null,null,null,null,null,null,null,"",{"$f":"IF(C1053<>0,(IF(lfValidaCNPJ(C1053)=TRUE,\"Válido\",\"Inválido\")),\"\")","v":""},{"$f":"IF(E1053<>0,(IF(lfValidaCEP(E1053)=TRUE,\"Válido\",\"Inválido\")),\"\")","v":""}]
[null,null,null,null,null,null,null,null,null,null,null,"",{"$f":"IF(C1054<>0,(IF(lfValidaCNPJ(C1054)=TRUE,\"Válido\",\"Inválido\")),\"\")","v":""},{"$f":"IF(E1054<>0,(IF(lfValidaCEP(E1054)=TRUE,\"Válido\",\"Inválido\")),\"\")","v":""}]
[null,null,null,null,null,null,null,null,null,null,null,"",{"$f":"IF(C1055<>0,(IF(lfValidaCNPJ(C1055)=TRUE,\"Válido\",\"Inválido\")),\"\")","v":""},{"$f":"IF(E1055<>0,(IF(lfValidaCEP(E1055)=TRUE,\"Válido\",\"Inválido\")),\"\")","v":""}]
[null,null,null,null,null,null,null,null,null,null,null,"",{"$f":"IF(C1056<>0,(IF(lfValidaCNPJ(C1056)=TRUE,\"Válido\",\"Inválido\")),\"\")","v":""},{"$f":"IF(E1056<>0,(IF(lfValidaCEP(E1056)=TRUE,\"Válido\",\"Inválido\")),\"\")","v":""}]
[null,null,null,null,null,null,null,null,null,null,null,"",{"$f":"IF(C1057<>0,(IF(lfValidaCNPJ(C1057)=TRUE,\"Válido\",\"Inválido\")),\"\")","v":""},{"$f":"IF(E1057<>0,(IF(lfValidaCEP(E1057)=TRUE,\"Válido\",\"Inválido\")),\"\")","v":""}]
[null,null,null,null,null,null,null,null,null,null,null,"",{"$f":"IF(C1058<>0,(IF(lfValidaCNPJ(C1058)=TRUE,\"Válido\",\"Inválido\")),\"\")","v":""},{"$f":"IF(E1058<>0,(IF(lfValidaCEP(E1058)=TRUE,\"Válido\",\"Inválido\")),\"\")","v":""}]
[null,null,null,null,null,null,null,null,null,null,null,"",{"$f":"IF(C1059<>0,(IF(lfValidaCNPJ(C1059)=TRUE,\"Válido\",\"Inválido\")),\"\")","v":""},{"$f":"IF(E1059<>0,(IF(lfValidaCEP(E1059)=TRUE,\"Válido\",\"Inválido\")),\"\")","v":""}]
[null,null,null,null,null,null,null,null,null,null,null,"",{"$f":"IF(C1060<>0,(IF(lfValidaCNPJ(C1060)=TRUE,\"Válido\",\"Inválido\")),\"\")","v":""},{"$f":"IF(E1060<>0,(IF(lfValidaCEP(E1060)=TRUE,\"Válido\",\"Inválido\")),\"\")","v":""}]
[null,null,null,null,null,null,null,null,null,null,null,"",{"$f":"IF(C1061<>0,(IF(lfValidaCNPJ(C1061)=TRUE,\"Válido\",\"Inválido\")),\"\")","v":""},{"$f":"IF(E1061<>0,(IF(lfValidaCEP(E1061)=TRUE,\"Válido\",\"Inválido\")),\"\")","v":""}]
[null,null,null,null,null,null,null,null,null,null,null,"",{"$f":"IF(C1062<>0,(IF(lfValidaCNPJ(C1062)=TRUE,\"Válido\",\"Inválido\")),\"\")","v":""},{"$f":"IF(E1062<>0,(IF(lfValidaCEP(E1062)=TRUE,\"Válido\",\"Inválido\")),\"\")","v":""}]
[null,null,null,null,null,null,null,null,null,null,null,"",{"$f":"IF(C1063<>0,(IF(lfValidaCNPJ(C1063)=TRUE,\"Válido\",\"Inválido\")),\"\")","v":""},{"$f":"IF(E1063<>0,(IF(lfValidaCEP(E1063)=TRUE,\"Válido\",\"Inválido\")),\"\")","v":""}]
[null,null,null,null,null,null,null,null,null,null,null,"",{"$f":"IF(C1064<>0,(IF(lfValidaCNPJ(C1064)=TRUE,\"Válido\",\"Inválido\")),\"\")","v":""},{"$f":"IF(E1064<>0,(IF(lfValidaCEP(E1064)=TRUE,\"Válido\",\"Inválido\")),\"\")","v":""}]
[null,null,null,null,null,null,null,null,null,null,null,"",{"$f":"IF(C1065<>0,(IF(lfValidaCNPJ(C1065)=TRUE,\"Válido\",\"Inválido\")),\"\")","v":""},{"$f":"IF(E1065<>0,(IF(lfValidaCEP(E1065)=TRUE,\"Válido\",\"Inválido\")),\"\")","v":""}]
[null,null,null,null,null,null,null,null,null,null,null,"",{"$f":"IF(C1066<>0,(IF(lfValidaCNPJ(C1066)=TRUE,\"Válido\",\"Inválido\")),\"\")","v":""},{"$f":"IF(E1066<>0,(IF(lfValidaCEP(E1066)=TRUE,\"Válido\",\"Inválido\")),\"\")","v":""}]
[null,null,null,null,null,null,null,null,null,null,null,"",{"$f":"IF(C1067<>0,(IF(lfValidaCNPJ(C1067)=TRUE,\"Válido\",\"Inválido\")),\"\")","v":""},{"$f":"IF(E1067<>0,(IF(lfValidaCEP(E1067)=TRUE,\"Válido\",\"Inválido\")),\"\")","v":""}]
[null,null,null,null,null,null,null,null,null,null,null,"",{"$f":"IF(C1068<>0,(IF(lfValidaCNPJ(C1068)=TRUE,\"Válido\",\"Inválido\")),\"\")","v":""},{"$f":"IF(E1068<>0,(IF(lfValidaCEP(E1068)=TRUE,\"Válido\",\"Inválido\")),\"\")","v":""}]
[null,null,null,null,null,null,null,null,null,null,null,"",{"$f":"IF(C1069<>0,(IF(lfValidaCNPJ(C1069)=TRUE,\"Válido\",\"Inválido\")),\"\")","v":""},{"$f":"IF(E1069<>0,(IF(lfValidaCEP(E1069)=TRUE,\"Válido\",\"Inválido\")),\"\")","v":""}]
[null,null,null,null,null,null,null,null,null,null,null,"",{"$f":"IF(C1070<>0,(IF(lfValidaCNPJ(C1070)=TRUE,\"Válido\",\"Inválido\")),\"\")","v":""},{"$f":"IF(E1070<>0,(IF(lfValidaCEP(E1070)=TRUE,\"Válido\",\"Inválido\")),\"\")","v":""}]
[null,null,null,null,null,null,null,null,null,null,null,"",{"$f":"IF(C1071<>0,(IF(lfValidaCNPJ(C1071)=TRUE,\"Válido\",\"Inválido\")),\"\")","v":""},{"$f":"IF(E1071<>0,(IF(lfValidaCEP(E1071)=TRUE,\"Válido\",\"Inválido\")),\"\")","v":""}]
[null,null,null,null,null,null,null,null,null,null,null,"",{"$f":"IF(C1072<>0,(IF(lfValidaCNPJ(C1072)=TRUE,\"Válido\",\"Inválido\")),\"\")","v":""},{"$f":"IF(E1072<>0,(IF(lfValidaCEP(E1072)=TRUE,\"Válido\",\"Inválido\")),\"\")","v":""}]
[null,null,null,null,null,null,null,null,null,null,null,"",{"$f":"IF(C1073<>0,(IF(lfValidaCNPJ(C1073)=TRUE,\"Válido\",\"Inválido\")),\"\")","v":""},{"$f":"IF(E1073<>0,(IF(lfValidaCEP(E1073)=TRUE,\"Válido\",\"Inválido\")),\"\")","v":""}]
[null,null,null,null,null,null,null,null,null,null,null,"",{"$f":"IF(C1074<>0,(IF(lfValidaCNPJ(C1074)=TRUE,\"Válido\",\"Inválido\")),\"\")","v":""},{"$f":"IF(E1074<>0,(IF(lfValidaCEP(E1074)=TRUE,\"Válido\",\"Inválido\")),\"\")","v":""}]
[null,null,null,null,null,null,null,null,null,null,null,"",{"$f":"IF(C1075<>0,(IF(lfValidaCNPJ(C1075)=TRUE,\"Válido\",\"Inválido\")),\"\")","v":""},{"$f":"IF(E1075<>0,(IF(lfValidaCEP(E1075)=TRUE,\"Válido\",\"Inválido\")),\"\")","v":""}]
[null,null,null,null,null,null,null,null,null,null,null,"",{"$f":"IF(C1076<>0,(IF(lfValidaCNPJ(C1076)=TRUE,\"Válido\",\"Inválido\")),\"\")","v":""},{"$f":"IF(E1076<>0,(IF(lfValidaCEP(E1076)=TRUE,\"Válido\",\"Inválido\")),\"\")","v":""}]
[null,null,null,null,null,null,null,null,null,null,null,"",{"$f":"IF(C1077<>0,(IF(lfValidaCNPJ(C1077)=TRUE,\"Válido\",\"Inválido\")),\"\")","v":""},{"$f":"IF(E1077<>0,(IF(lfValidaCEP(E1077)=TRUE,\"Válido\",\"Inválido\")),\"\")","v":""}]
[null,null,null,null,null,null,null,null,null,null,null,"",{"$f":"IF(C1078<>0,(IF(lfValidaCNPJ(C1078)=TRUE,\"Válido\",\"Inválido\")),\"\")","v":""},{"$f":"IF(E1078<>0,(IF(lfValidaCEP(E1078)=TRUE,\"Válido\",\"Inválido\")),\"\")","v":""}]
[null,null,null,null,null,null,null,null,null,null,null,"",{"$f":"IF(C1079<>0,(IF(lfValidaCNPJ(C1079)=TRUE,\"Válido\",\"Inválido\")),\"\")","v":""},{"$f":"IF(E1079<>0,(IF(lfValidaCEP(E1079)=TRUE,\"Válido\",\"Inválido\")),\"\")","v":""}]
[null,null,null,null,null,null,null,null,null,null,null,"",{"$f":"IF(C1080<>0,(IF(lfValidaCNPJ(C1080)=TRUE,\"Válido\",\"Inválido\")),\"\")","v":""},{"$f":"IF(E1080<>0,(IF(lfValidaCEP(E1080)=TRUE,\"Válido\",\"Inválido\")),\"\")","v":""}]
[null,null,null,null,null,null,null,null,null,null,null,"",{"$f":"IF(C1081<>0,(IF(lfValidaCNPJ(C1081)=TRUE,\"Válido\",\"Inválido\")),\"\")","v":""},{"$f":"IF(E1081<>0,(IF(lfValidaCEP(E1081)=TRUE,\"Válido\",\"Inválido\")),\"\")","v":""}]
[null,null,null,null,null,null,null,null,null,null,null,"",{"$f":"IF(C1082<>0,(IF(lfValidaCNPJ(C1082)=TRUE,\"Válido\",\"Inválido\")),\"\")","v":""},{"$f":"IF(E1082<>0,(IF(lfValidaCEP(E1082)=TRUE,\"Válido\",\"Inválido\")),\"\")","v":""}]
[null,null,null,null,null,null,null,null,null,null,null,"",{"$f":"IF(C1083<>0,(IF(lfValidaCNPJ(C1083)=TRUE,\"Válido\",\"Inválido\")),\"\")","v":""},{"$f":"IF(E1083<>0,(IF(lfValidaCEP(E1083)=TRUE,\"Válido\",\"Inválido\")),\"\")","v":""}]
[null,null,null,null,null,null,null,null,null,null,null,"",{"$f":"IF(C1084<>0,(IF(lfValidaCNPJ(C1084)=TRUE,\"Válido\",\"Inválido\")),\"\")","v":""},{"$f":"IF(E1084<>0,(IF(lfValidaCEP(E1084)=TRUE,\"Válido\",\"Inválido\")),\"\")","v":""}]
[null,null,null,null,null,null,null,null,null,null,null,"",{"$f":"IF(C1085<>0,(IF(lfValidaCNPJ(C1085)=TRUE,\"Válido\",\"Inválido\")),\"\")","v":""},{"$f":"IF(E1085<>0,(IF(lfValidaCEP(E1085)=TRUE,\"Válido\",\"Inválido\")),\"\")","v":""}]
[null,null,null,null,null,null,null,null,null,null,null,"",{"$f":"IF(C1086<>0,(IF(lfValidaCNPJ(C1086)=TRUE,\"Válido\",\"Inválido\")),\"\")","v":""},{"$f":"IF(E1086<>0,(IF(lfValidaCEP(E1086)=TRUE,\"Válido\",\"Inválido\")),\"\")","v":""}]
[null,null,null,null,null,null,null,null,null,null,null,"",{"$f":"IF(C1087<>0,(IF(lfValidaCNPJ(C1087)=TRUE,\"Válido\",\"Inválido\")),\"\")","v":""},{"$f":"IF(E1087<>0,(IF(lfValidaCEP(E1087)=TRUE,\"Válido\",\"Inválido\")),\"\")","v":""}]
[null,null,null,null,null,null,null,null,null,null,null,"",{"$f":"IF(C1088<>0,(IF(lfValidaCNPJ(C1088)=TRUE,\"Válido\",\"Inválido\")),\"\")","v":""},{"$f":"IF(E1088<>0,(IF(lfValidaCEP(E1088)=TRUE,\"Válido\",\"Inválido\")),\"\")","v":""}]
[null,null,null,null,null,null,null,null,null,null,null,"",{"$f":"IF(C1089<>0,(IF(lfValidaCNPJ(C1089)=TRUE,\"Válido\",\"Inválido\")),\"\")","v":""},{"$f":"IF(E1089<>0,(IF(lfValidaCEP(E1089)=TRUE,\"Válido\",\"Inválido\")),\"\")","v":""}]
[null,null,null,null,null,null,null,null,null,null,null,"",{"$f":"IF(C1090<>0,(IF(lfValidaCNPJ(C1090)=TRUE,\"Válido\",\"Inválido\")),\"\")","v":""},{"$f":"IF(E1090<>0,(IF(lfValidaCEP(E1090)=TRUE,\"Válido\",\"Inválido\")),\"\")","v":""}]
[null,null,null,null,null,null,null,null,null,null,null,"",{"$f":"IF(C1091<>0,(IF(lfValidaCNPJ(C1091)=TRUE,\"Válido\",\"Inválido\")),\"\")","v":""},{"$f":"IF(E1091<>0,(IF(lfValidaCEP(E1091)=TRUE,\"Válido\",\"Inválido\")),\"\")","v":""}]
[null,null,null,null,null,null,null,null,null,null,null,"",{"$f":"IF(C1092<>0,(IF(lfValidaCNPJ(C1092)=TRUE,\"Válido\",\"Inválido\")),\"\")","v":""},{"$f":"IF(E1092<>0,(IF(lfValidaCEP(E1092)=TRUE,\"Válido\",\"Inválido\")),\"\")","v":""}]
[null,null,null,null,null,null,null,null,null,null,null,"",{"$f":"IF(C1093<>0,(IF(lfValidaCNPJ(C1093)=TRUE,\"Válido\",\"Inválido\")),\"\")","v":""},{"$f":"IF(E1093<>0,(IF(lfValidaCEP(E1093)=TRUE,\"Válido\",\"Inválido\")),\"\")","v":""}]
[null,null,null,null,null,null,null,null,null,null,null,"",{"$f":"IF(C1094<>0,(IF(lfValidaCNPJ(C1094)=TRUE,\"Válido\",\"Inválido\")),\"\")","v":""},{"$f":"IF(E1094<>0,(IF(lfValidaCEP(E1094)=TRUE,\"Válido\",\"Inválido\")),\"\")","v":""}]
[null,null,null,null,null,null,null,null,null,null,null,"",{"$f":"IF(C1095<>0,(IF(lfValidaCNPJ(C1095)=TRUE,\"Válido\",\"Inválido\")),\"\")","v":""},{"$f":"IF(E1095<>0,(IF(lfValidaCEP(E1095)=TRUE,\"Válido\",\"Inválido\")),\"\")","v":""}]
[null,null,null,null,null,null,null,null,null,null,null,"",{"$f":"IF(C1096<>0,(IF(lfValidaCNPJ(C1096)=TRUE,\"Válido\",\"Inválido\")),\"\")","v":""},{"$f":"IF(E1096<>0,(IF(lfValidaCEP(E1096)=TRUE,\"Válido\",\"Inválido\")),\"\")","v":""}]
[null,null,null,null,null,null,null,null,null,null,null,"",{"$f":"IF(C1097<>0,(IF(lfValidaCNPJ(C1097)=TRUE,\"Válido\",\"Inválido\")),\"\")","v":""},{"$f":"IF(E1097<>0,(IF(lfValidaCEP(E1097)=TRUE,\"Válido\",\"Inválido\")),\"\")","v":""}]
[null,null,null,null,null,null,null,null,null,null,null,"",{"$f":"IF(C1098<>0,(IF(lfValidaCNPJ(C1098)=TRUE,\"Válido\",\"Inválido\")),\"\")","v":""},{"$f":"IF(E1098<>0,(IF(lfValidaCEP(E1098)=TRUE,\"Válido\",\"Inválido\")),\"\")","v":""}]
[null,null,null,null,null,null,null,null,null,null,null,"",{"$f":"IF(C1099<>0,(IF(lfValidaCNPJ(C1099)=TRUE,\"Válido\",\"Inválido\")),\"\")","v":""},{"$f":"IF(E1099<>0,(IF(lfValidaCEP(E1099)=TRUE,\"Válido\",\"Inválido\")),\"\")","v":""}]
[null,null,null,null,null,null,null,null,null,null,null,"",{"$f":"IF(C1100<>0,(IF(lfValidaCNPJ(C1100)=TRUE,\"Válido\",\"Inválido\")),\"\")","v":""},{"$f":"IF(E1100<>0,(IF(lfValidaCEP(E1100)=TRUE,\"Válido\",\"Inválido\")),\"\")","v":""}]
[null,null,null,null,null,null,null,null,null,null,null,"",{"$f":"IF(C1101<>0,(IF(lfValidaCNPJ(C1101)=TRUE,\"Válido\",\"Inválido\")),\"\")","v":""},{"$f":"IF(E1101<>0,(IF(lfValidaCEP(E1101)=TRUE,\"Válido\",\"Inválido\")),\"\")","v":""}]
[null,null,null,null,null,null,null,null,null,null,null,{"$f":"IF(COUNTA(B1102:J1102)<>0,IF(AND(B1102<>0,C1102<>0,D1102<>0,E1102<>0,F1102<>0,G1102<>0,H1102<>0,I1102<>0,J1102<>0),\"Completo\",\"Incompleto\"),\"\")","v":""},{"$f":"IF(C1102<>0,(IF(lfValidaCNPJ(C1102)=TRUE,\"Válido\",\"Inválido\")),\"\")","v":""},{"$f":"IF(E1102<>0,(IF(lfValidaCEP(E1102)=TRUE,\"Válido\",\"Inválido\")),\"\")","v":""}]
[null,null,null,null,null,null,null,null,null,null,null,"",{"$f":"IF(C1103<>0,(IF(lfValidaCNPJ(C1103)=TRUE,\"Válido\",\"Inválido\")),\"\")","v":""},{"$f":"IF(E1103<>0,(IF(lfValidaCEP(E1103)=TRUE,\"Válido\",\"Inválido\")),\"\")","v":""}]
[null,null,null,null,null,null,null,null,null,null,null,"",{"$f":"IF(C1104<>0,(IF(lfValidaCNPJ(C1104)=TRUE,\"Válido\",\"Inválido\")),\"\")","v":""},{"$f":"IF(E1104<>0,(IF(lfValidaCEP(E1104)=TRUE,\"Válido\",\"Inválido\")),\"\")","v":""}]
[null,null,null,null,null,null,null,null,null,null,null,"",{"$f":"IF(C1105<>0,(IF(lfValidaCNPJ(C1105)=TRUE,\"Válido\",\"Inválido\")),\"\")","v":""},{"$f":"IF(E1105<>0,(IF(lfValidaCEP(E1105)=TRUE,\"Válido\",\"Inválido\")),\"\")","v":""}]
[null,null,null,null,null,null,null,null,null,null,null,"",{"$f":"IF(C1106<>0,(IF(lfValidaCNPJ(C1106)=TRUE,\"Válido\",\"Inválido\")),\"\")","v":""},{"$f":"IF(E1106<>0,(IF(lfValidaCEP(E1106)=TRUE,\"Válido\",\"Inválido\")),\"\")","v":""}]
[null,null,null,null,null,null,null,null,null,null,null,"",{"$f":"IF(C1107<>0,(IF(lfValidaCNPJ(C1107)=TRUE,\"Válido\",\"Inválido\")),\"\")","v":""},{"$f":"IF(E1107<>0,(IF(lfValidaCEP(E1107)=TRUE,\"Válido\",\"Inválido\")),\"\")","v":""}]
[null,null,null,null,null,null,null,null,null,null,null,"",{"$f":"IF(C1108<>0,(IF(lfValidaCNPJ(C1108)=TRUE,\"Válido\",\"Inválido\")),\"\")","v":""},{"$f":"IF(E1108<>0,(IF(lfValidaCEP(E1108)=TRUE,\"Válido\",\"Inválido\")),\"\")","v":""}]
[null,null,null,null,null,null,null,null,null,null,null,"",{"$f":"IF(C1109<>0,(IF(lfValidaCNPJ(C1109)=TRUE,\"Válido\",\"Inválido\")),\"\")","v":""},{"$f":"IF(E1109<>0,(IF(lfValidaCEP(E1109)=TRUE,\"Válido\",\"Inválido\")),\"\")","v":""}]
[null,null,null,null,null,null,null,null,null,null,null,"",{"$f":"IF(C1110<>0,(IF(lfValidaCNPJ(C1110)=TRUE,\"Válido\",\"Inválido\")),\"\")","v":""},{"$f":"IF(E1110<>0,(IF(lfValidaCEP(E1110)=TRUE,\"Válido\",\"Inválido\")),\"\")","v":""}]
[null,null,null,null,null,null,null,null,null,null,null,"",{"$f":"IF(C1111<>0,(IF(lfValidaCNPJ(C1111)=TRUE,\"Válido\",\"Inválido\")),\"\")","v":""},{"$f":"IF(E1111<>0,(IF(lfValidaCEP(E1111)=TRUE,\"Válido\",\"Inválido\")),\"\")","v":""}]
[null,null,null,null,null,null,null,null,null,null,null,"",{"$f":"IF(C1112<>0,(IF(lfValidaCNPJ(C1112)=TRUE,\"Válido\",\"Inválido\")),\"\")","v":""},{"$f":"IF(E1112<>0,(IF(lfValidaCEP(E1112)=TRUE,\"Válido\",\"Inválido\")),\"\")","v":""}]
[null,null,null,null,null,null,null,null,null,null,null,"",{"$f":"IF(C1113<>0,(IF(lfValidaCNPJ(C1113)=TRUE,\"Válido\",\"Inválido\")),\"\")","v":""},{"$f":"IF(E1113<>0,(IF(lfValidaCEP(E1113)=TRUE,\"Válido\",\"Inválido\")),\"\")","v":""}]
[null,null,null,null,null,null,null,null,null,null,null,"",{"$f":"IF(C1114<>0,(IF(lfValidaCNPJ(C1114)=TRUE,\"Válido\",\"Inválido\")),\"\")","v":""},{"$f":"IF(E1114<>0,(IF(lfValidaCEP(E1114)=TRUE,\"Válido\",\"Inválido\")),\"\")","v":""}]
[null,null,null,null,null,null,null,null,null,null,null,"",{"$f":"IF(C1115<>0,(IF(lfValidaCNPJ(C1115)=TRUE,\"Válido\",\"Inválido\")),\"\")","v":""},{"$f":"IF(E1115<>0,(IF(lfValidaCEP(E1115)=TRUE,\"Válido\",\"Inválido\")),\"\")","v":""}]
[null,null,null,null,null,null,null,null,null,null,null,"",{"$f":"IF(C1116<>0,(IF(lfValidaCNPJ(C1116)=TRUE,\"Válido\",\"Inválido\")),\"\")","v":""},{"$f":"IF(E1116<>0,(IF(lfValidaCEP(E1116)=TRUE,\"Válido\",\"Inválido\")),\"\")","v":""}]
[null,null,null,null,null,null,null,null,null,null,null,"",{"$f":"IF(C1117<>0,(IF(lfValidaCNPJ(C1117)=TRUE,\"Válido\",\"Inválido\")),\"\")","v":""},{"$f":"IF(E1117<>0,(IF(lfValidaCEP(E1117)=TRUE,\"Válido\",\"Inválido\")),\"\")","v":""}]
[null,null,null,null,null,null,null,null,null,null,null,"",{"$f":"IF(C1118<>0,(IF(lfValidaCNPJ(C1118)=TRUE,\"Válido\",\"Inválido\")),\"\")","v":""},{"$f":"IF(E1118<>0,(IF(lfValidaCEP(E1118)=TRUE,\"Válido\",\"Inválido\")),\"\")","v":""}]
[null,null,null,null,null,null,null,null,null,null,null,"",{"$f":"IF(C1119<>0,(IF(lfValidaCNPJ(C1119)=TRUE,\"Válido\",\"Inválido\")),\"\")","v":""},{"$f":"IF(E1119<>0,(IF(lfValidaCEP(E1119)=TRUE,\"Válido\",\"Inválido\")),\"\")","v":""}]
[null,null,null,null,null,null,null,null,null,null,null,"",{"$f":"IF(C1120<>0,(IF(lfValidaCNPJ(C1120)=TRUE,\"Válido\",\"Inválido\")),\"\")","v":""},{"$f":"IF(E1120<>0,(IF(lfValidaCEP(E1120)=TRUE,\"Válido\",\"Inválido\")),\"\")","v":""}]
[null,null,null,null,null,null,null,null,null,null,null,"",{"$f":"IF(C1121<>0,(IF(lfValidaCNPJ(C1121)=TRUE,\"Válido\",\"Inválido\")),\"\")","v":""},{"$f":"IF(E1121<>0,(IF(lfValidaCEP(E1121)=TRUE,\"Válido\",\"Inválido\")),\"\")","v":""}]
[null,null,null,null,null,null,null,null,null,null,null,"",{"$f":"IF(C1122<>0,(IF(lfValidaCNPJ(C1122)=TRUE,\"Válido\",\"Inválido\")),\"\")","v":""},{"$f":"IF(E1122<>0,(IF(lfValidaCEP(E1122)=TRUE,\"Válido\",\"Inválido\")),\"\")","v":""}]
[null,null,null,null,null,null,null,null,null,null,null,"",{"$f":"IF(C1123<>0,(IF(lfValidaCNPJ(C1123)=TRUE,\"Válido\",\"Inválido\")),\"\")","v":""},{"$f":"IF(E1123<>0,(IF(lfValidaCEP(E1123)=TRUE,\"Válido\",\"Inválido\")),\"\")","v":""}]
[null,null,null,null,null,null,null,null,null,null,null,"",{"$f":"IF(C1124<>0,(IF(lfValidaCNPJ(C1124)=TRUE,\"Válido\",\"Inválido\")),\"\")","v":""},{"$f":"IF(E1124<>0,(IF(lfValidaCEP(E1124)=TRUE,\"Válido\",\"Inválido\")),\"\")","v":""}]
[null,null,null,null,null,null,null,null,null,null,null,"",{"$f":"IF(C1125<>0,(IF(lfValidaCNPJ(C1125)=TRUE,\"Válido\",\"Inválido\")),\"\")","v":""},{"$f":"IF(E1125<>0,(IF(lfValidaCEP(E1125)=TRUE,\"Válido\",\"Inválido\")),\"\")","v":""}]
[null,null,null,null,null,null,null,null,null,null,null,"",{"$f":"IF(C1126<>0,(IF(lfValidaCNPJ(C1126)=TRUE,\"Válido\",\"Inválido\")),\"\")","v":""},{"$f":"IF(E1126<>0,(IF(lfValidaCEP(E1126)=TRUE,\"Válido\",\"Inválido\")),\"\")","v":""}]
[null,null,null,null,null,null,null,null,null,null,null,"",{"$f":"IF(C1127<>0,(IF(lfValidaCNPJ(C1127)=TRUE,\"Válido\",\"Inválido\")),\"\")","v":""},{"$f":"IF(E1127<>0,(IF(lfValidaCEP(E1127)=TRUE,\"Válido\",\"Inválido\")),\"\")","v":""}]
[null,null,null,null,null,null,null,null,null,null,null,"",{"$f":"IF(C1128<>0,(IF(lfValidaCNPJ(C1128)=TRUE,\"Válido\",\"Inválido\")),\"\")","v":""},{"$f":"IF(E1128<>0,(IF(lfValidaCEP(E1128)=TRUE,\"Válido\",\"Inválido\")),\"\")","v":""}]
[null,null,null,null,null,null,null,null,null,null,null,"",{"$f":"IF(C1129<>0,(IF(lfValidaCNPJ(C1129)=TRUE,\"Válido\",\"Inválido\")),\"\")","v":""},{"$f":"IF(E1129<>0,(IF(lfValidaCEP(E1129)=TRUE,\"Válido\",\"Inválido\")),\"\")","v":""}]
[null,null,null,null,null,null,null,null,null,null,null,"",{"$f":"IF(C1130<>0,(IF(lfValidaCNPJ(C1130)=TRUE,\"Válido\",\"Inválido\")),\"\")","v":""},{"$f":"IF(E1130<>0,(IF(lfValidaCEP(E1130)=TRUE,\"Válido\",\"Inválido\")),\"\")","v":""}]
[null,null,null,null,null,null,null,null,null,null,null,"",{"$f":"IF(C1131<>0,(IF(lfValidaCNPJ(C1131)=TRUE,\"Válido\",\"Inválido\")),\"\")","v":""},{"$f":"IF(E1131<>0,(IF(lfValidaCEP(E1131)=TRUE,\"Válido\",\"Inválido\")),\"\")","v":""}]
[null,null,null,null,null,null,null,null,null,null,null,"",{"$f":"IF(C1132<>0,(IF(lfValidaCNPJ(C1132)=TRUE,\"Válido\",\"Inválido\")),\"\")","v":""},{"$f":"IF(E1132<>0,(IF(lfValidaCEP(E1132)=TRUE,\"Válido\",\"Inválido\")),\"\")","v":""}]
[null,null,null,null,null,null,null,null,null,null,null,"",{"$f":"IF(C1133<>0,(IF(lfValidaCNPJ(C1133)=TRUE,\"Válido\",\"Inválido\")),\"\")","v":""},{"$f":"IF(E1133<>0,(IF(lfValidaCEP(E1133)=TRUE,\"Válido\",\"Inválido\")),\"\")","v":""}]
[null,null,null,null,null,null,null,null,null,null,null,"",{"$f":"IF(C1134<>0,(IF(lfValidaCNPJ(C1134)=TRUE,\"Válido\",\"Inválido\")),\"\")","v":""},{"$f":"IF(E1134<>0,(IF(lfValidaCEP(E1134)=TRUE,\"Válido\",\"Inválido\")),\"\")","v":""}]
[null,null,null,null,null,null,null,null,null,null,null,"",{"$f":"IF(C1135<>0,(IF(lfValidaCNPJ(C1135)=TRUE,\"Válido\",\"Inválido\")),\"\")","v":""},{"$f":"IF(E1135<>0,(IF(lfValidaCEP(E1135)=TRUE,\"Válido\",\"Inválido\")),\"\")","v":""}]
[null,null,null,null,null,null,null,null,null,null,null,"",{"$f":"IF(C1136<>0,(IF(lfValidaCNPJ(C1136)=TRUE,\"Válido\",\"Inválido\")),\"\")","v":""},{"$f":"IF(E1136<>0,(IF(lfValidaCEP(E1136)=TRUE,\"Válido\",\"Inválido\")),\"\")","v":""}]
[null,null,null,null,null,null,null,null,null,null,null,"",{"$f":"IF(C1137<>0,(IF(lfValidaCNPJ(C1137)=TRUE,\"Válido\",\"Inválido\")),\"\")","v":""},{"$f":"IF(E1137<>0,(IF(lfValidaCEP(E1137)=TRUE,\"Válido\",\"Inválido\")),\"\")","v":""}]
[null,null,null,null,null,null,null,null,null,null,null,"",{"$f":"IF(C1138<>0,(IF(lfValidaCNPJ(C1138)=TRUE,\"Válido\",\"Inválido\")),\"\")","v":""},{"$f":"IF(E1138<>0,(IF(lfValidaCEP(E1138)=TRUE,\"Válido\",\"Inválido\")),\"\")","v":""}]
[null,null,null,null,null,null,null,null,null,null,null,"",{"$f":"IF(C1139<>0,(IF(lfValidaCNPJ(C1139)=TRUE,\"Válido\",\"Inválido\")),\"\")","v":""},{"$f":"IF(E1139<>0,(IF(lfValidaCEP(E1139)=TRUE,\"Válido\",\"Inválido\")),\"\")","v":""}]
[null,null,null,null,null,null,null,null,null,null,null,"",{"$f":"IF(C1140<>0,(IF(lfValidaCNPJ(C1140)=TRUE,\"Válido\",\"Inválido\")),\"\")","v":""},{"$f":"IF(E1140<>0,(IF(lfValidaCEP(E1140)=TRUE,\"Válido\",\"Inválido\")),\"\")","v":""}]
[null,null,null,null,null,null,null,null,null,null,null,"",{"$f":"IF(C1141<>0,(IF(lfValidaCNPJ(C1141)=TRUE,\"Válido\",\"Inválido\")),\"\")","v":""},{"$f":"IF(E1141<>0,(IF(lfValidaCEP(E1141)=TRUE,\"Válido\",\"Inválido\")),\"\")","v":""}]
[null,null,null,null,null,null,null,null,null,null,null,"",{"$f":"IF(C1142<>0,(IF(lfValidaCNPJ(C1142)=TRUE,\"Válido\",\"Inválido\")),\"\")","v":""},{"$f":"IF(E1142<>0,(IF(lfValidaCEP(E1142)=TRUE,\"Válido\",\"Inválido\")),\"\")","v":""}]
[null,null,null,null,null,null,null,null,null,null,null,"",{"$f":"IF(C1143<>0,(IF(lfValidaCNPJ(C1143)=TRUE,\"Válido\",\"Inválido\")),\"\")","v":""},{"$f":"IF(E1143<>0,(IF(lfValidaCEP(E1143)=TRUE,\"Válido\",\"Inválido\")),\"\")","v":""}]
[null,null,null,null,null,null,null,null,null,null,null,"",{"$f":"IF(C1144<>0,(IF(lfValidaCNPJ(C1144)=TRUE,\"Válido\",\"Inválido\")),\"\")","v":""},{"$f":"IF(E1144<>0,(IF(lfValidaCEP(E1144)=TRUE,\"Válido\",\"Inválido\")),\"\")","v":""}]
[null,null,null,null,null,null,null,null,null,null,null,"",{"$f":"IF(C1145<>0,(IF(lfValidaCNPJ(C1145)=TRUE,\"Válido\",\"Inválido\")),\"\")","v":""},{"$f":"IF(E1145<>0,(IF(lfValidaCEP(E1145)=TRUE,\"Válido\",\"Inválido\")),\"\")","v":""}]
[null,null,null,null,null,null,null,null,null,null,null,"",{"$f":"IF(C1146<>0,(IF(lfValidaCNPJ(C1146)=TRUE,\"Válido\",\"Inválido\")),\"\")","v":""},{"$f":"IF(E1146<>0,(IF(lfValidaCEP(E1146)=TRUE,\"Válido\",\"Inválido\")),\"\")","v":""}]
[null,null,null,null,null,null,null,null,null,null,null,"",{"$f":"IF(C1147<>0,(IF(lfValidaCNPJ(C1147)=TRUE,\"Válido\",\"Inválido\")),\"\")","v":""},{"$f":"IF(E1147<>0,(IF(lfValidaCEP(E1147)=TRUE,\"Válido\",\"Inválido\")),\"\")","v":""}]
[null,null,null,null,null,null,null,null,null,null,null,"",{"$f":"IF(C1148<>0,(IF(lfValidaCNPJ(C1148)=TRUE,\"Válido\",\"Inválido\")),\"\")","v":""},{"$f":"IF(E1148<>0,(IF(lfValidaCEP(E1148)=TRUE,\"Válido\",\"Inválido\")),\"\")","v":""}]
[null,null,null,null,null,null,null,null,null,null,null,"",{"$f":"IF(C1149<>0,(IF(lfValidaCNPJ(C1149)=TRUE,\"Válido\",\"Inválido\")),\"\")","v":""},{"$f":"IF(E1149<>0,(IF(lfValidaCEP(E1149)=TRUE,\"Válido\",\"Inválido\")),\"\")","v":""}]
[null,null,null,null,null,null,null,null,null,null,null,"",{"$f":"IF(C1150<>0,(IF(lfValidaCNPJ(C1150)=TRUE,\"Válido\",\"Inválido\")),\"\")","v":""},{"$f":"IF(E1150<>0,(IF(lfValidaCEP(E1150)=TRUE,\"Válido\",\"Inválido\")),\"\")","v":""}]
[null,null,null,null,null,null,null,null,null,null,null,"",{"$f":"IF(C1151<>0,(IF(lfValidaCNPJ(C1151)=TRUE,\"Válido\",\"Inválido\")),\"\")","v":""},{"$f":"IF(E1151<>0,(IF(lfValidaCEP(E1151)=TRUE,\"Válido\",\"Inválido\")),\"\")","v":""}]
[null,null,null,null,null,null,null,null,null,null,null,"",{"$f":"IF(C1152<>0,(IF(lfValidaCNPJ(C1152)=TRUE,\"Válido\",\"Inválido\")),\"\")","v":""},{"$f":"IF(E1152<>0,(IF(lfValidaCEP(E1152)=TRUE,\"Válido\",\"Inválido\")),\"\")","v":""}]
[null,null,null,null,null,null,null,null,null,null,null,"",{"$f":"IF(C1153<>0,(IF(lfValidaCNPJ(C1153)=TRUE,\"Válido\",\"Inválido\")),\"\")","v":""},{"$f":"IF(E1153<>0,(IF(lfValidaCEP(E1153)=TRUE,\"Válido\",\"Inválido\")),\"\")","v":""}]
[null,null,null,null,null,null,null,null,null,null,null,"",{"$f":"IF(C1154<>0,(IF(lfValidaCNPJ(C1154)=TRUE,\"Válido\",\"Inválido\")),\"\")","v":""},{"$f":"IF(E1154<>0,(IF(lfValidaCEP(E1154)=TRUE,\"Válido\",\"Inválido\")),\"\")","v":""}]
[null,null,null,null,null,null,null,null,null,null,null,"",{"$f":"IF(C1155<>0,(IF(lfValidaCNPJ(C1155)=TRUE,\"Válido\",\"Inválido\")),\"\")","v":""},{"$f":"IF(E1155<>0,(IF(lfValidaCEP(E1155)=TRUE,\"Válido\",\"Inválido\")),\"\")","v":""}]
[null,null,null,null,null,null,null,null,null,null,null,"",{"$f":"IF(C1156<>0,(IF(lfValidaCNPJ(C1156)=TRUE,\"Válido\",\"Inválido\")),\"\")","v":""},{"$f":"IF(E1156<>0,(IF(lfValidaCEP(E1156)=TRUE,\"Válido\",\"Inválido\")),\"\")","v":""}]
[null,null,null,null,null,null,null,null,null,null,null,"",{"$f":"IF(C1157<>0,(IF(lfValidaCNPJ(C1157)=TRUE,\"Válido\",\"Inválido\")),\"\")","v":""},{"$f":"IF(E1157<>0,(IF(lfValidaCEP(E1157)=TRUE,\"Válido\",\"Inválido\")),\"\")","v":""}]
[null,null,null,null,null,null,null,null,null,null,null,"",{"$f":"IF(C1158<>0,(IF(lfValidaCNPJ(C1158)=TRUE,\"Válido\",\"Inválido\")),\"\")","v":""},{"$f":"IF(E1158<>0,(IF(lfValidaCEP(E1158)=TRUE,\"Válido\",\"Inválido\")),\"\")","v":""}]
[null,null,null,null,null,null,null,null,null,null,null,"",{"$f":"IF(C1159<>0,(IF(lfValidaCNPJ(C1159)=TRUE,\"Válido\",\"Inválido\")),\"\")","v":""},{"$f":"IF(E1159<>0,(IF(lfValidaCEP(E1159)=TRUE,\"Válido\",\"Inválido\")),\"\")","v":""}]
[null,null,null,null,null,null,null,null,null,null,null,"",{"$f":"IF(C1160<>0,(IF(lfValidaCNPJ(C1160)=TRUE,\"Válido\",\"Inválido\")),\"\")","v":""},{"$f":"IF(E1160<>0,(IF(lfValidaCEP(E1160)=TRUE,\"Válido\",\"Inválido\")),\"\")","v":""}]
[null,null,null,null,null,null,null,null,null,null,null,"",{"$f":"IF(C1161<>0,(IF(lfValidaCNPJ(C1161)=TRUE,\"Válido\",\"Inválido\")),\"\")","v":""},{"$f":"IF(E1161<>0,(IF(lfValidaCEP(E1161)=TRUE,\"Válido\",\"Inválido\")),\"\")","v":""}]
[null,null,null,null,null,null,null,null,null,null,null,"",{"$f":"IF(C1162<>0,(IF(lfValidaCNPJ(C1162)=TRUE,\"Válido\",\"Inválido\")),\"\")","v":""},{"$f":"IF(E1162<>0,(IF(lfValidaCEP(E1162)=TRUE,\"Válido\",\"Inválido\")),\"\")","v":""}]
[null,null,null,null,null,null,null,null,null,null,null,"",{"$f":"IF(C1163<>0,(IF(lfValidaCNPJ(C1163)=TRUE,\"Válido\",\"Inválido\")),\"\")","v":""},{"$f":"IF(E1163<>0,(IF(lfValidaCEP(E1163)=TRUE,\"Válido\",\"Inválido\")),\"\")","v":""}]
[null,null,null,null,null,null,null,null,null,null,null,"",{"$f":"IF(C1164<>0,(IF(lfValidaCNPJ(C1164)=TRUE,\"Válido\",\"Inválido\")),\"\")","v":""},{"$f":"IF(E1164<>0,(IF(lfValidaCEP(E1164)=TRUE,\"Válido\",\"Inválido\")),\"\")","v":""}]
[null,null,null,null,null,null,null,null,null,null,null,"",{"$f":"IF(C1165<>0,(IF(lfValidaCNPJ(C1165)=TRUE,\"Válido\",\"Inválido\")),\"\")","v":""},{"$f":"IF(E1165<>0,(IF(lfValidaCEP(E1165)=TRUE,\"Válido\",\"Inválido\")),\"\")","v":""}]
[null,null,null,null,null,null,null,null,null,null,null,{"$f":"IF(COUNTA(B1166:J1166)<>0,IF(AND(B1166<>0,C1166<>0,D1166<>0,E1166<>0,F1166<>0,G1166<>0,H1166<>0,I1166<>0,J1166<>0),\"Completo\",\"Incompleto\"),\"\")","v":""},{"$f":"IF(C1166<>0,(IF(lfValidaCNPJ(C1166)=TRUE,\"Válido\",\"Inválido\")),\"\")","v":""},{"$f":"IF(E1166<>0,(IF(lfValidaCEP(E1166)=TRUE,\"Válido\",\"Inválido\")),\"\")","v":""}]
[null,null,null,null,null,null,null,null,null,null,null,"",{"$f":"IF(C1167<>0,(IF(lfValidaCNPJ(C1167)=TRUE,\"Válido\",\"Inválido\")),\"\")","v":""},{"$f":"IF(E1167<>0,(IF(lfValidaCEP(E1167)=TRUE,\"Válido\",\"Inválido\")),\"\")","v":""}]
[null,null,null,null,null,null,null,null,null,null,null,"",{"$f":"IF(C1168<>0,(IF(lfValidaCNPJ(C1168)=TRUE,\"Válido\",\"Inválido\")),\"\")","v":""},{"$f":"IF(E1168<>0,(IF(lfValidaCEP(E1168)=TRUE,\"Válido\",\"Inválido\")),\"\")","v":""}]
[null,null,null,null,null,null,null,null,null,null,null,"",{"$f":"IF(C1169<>0,(IF(lfValidaCNPJ(C1169)=TRUE,\"Válido\",\"Inválido\")),\"\")","v":""},{"$f":"IF(E1169<>0,(IF(lfValidaCEP(E1169)=TRUE,\"Válido\",\"Inválido\")),\"\")","v":""}]
[null,null,null,null,null,null,null,null,null,null,null,"",{"$f":"IF(C1170<>0,(IF(lfValidaCNPJ(C1170)=TRUE,\"Válido\",\"Inválido\")),\"\")","v":""},{"$f":"IF(E1170<>0,(IF(lfValidaCEP(E1170)=TRUE,\"Válido\",\"Inválido\")),\"\")","v":""}]
[null,null,null,null,null,null,null,null,null,null,null,"",{"$f":"IF(C1171<>0,(IF(lfValidaCNPJ(C1171)=TRUE,\"Válido\",\"Inválido\")),\"\")","v":""},{"$f":"IF(E1171<>0,(IF(lfValidaCEP(E1171)=TRUE,\"Válido\",\"Inválido\")),\"\")","v":""}]
[null,null,null,null,null,null,null,null,null,null,null,"",{"$f":"IF(C1172<>0,(IF(lfValidaCNPJ(C1172)=TRUE,\"Válido\",\"Inválido\")),\"\")","v":""},{"$f":"IF(E1172<>0,(IF(lfValidaCEP(E1172)=TRUE,\"Válido\",\"Inválido\")),\"\")","v":""}]
[null,null,null,null,null,null,null,null,null,null,null,"",{"$f":"IF(C1173<>0,(IF(lfValidaCNPJ(C1173)=TRUE,\"Válido\",\"Inválido\")),\"\")","v":""},{"$f":"IF(E1173<>0,(IF(lfValidaCEP(E1173)=TRUE,\"Válido\",\"Inválido\")),\"\")","v":""}]
[null,null,null,null,null,null,null,null,null,null,null,"",{"$f":"IF(C1174<>0,(IF(lfValidaCNPJ(C1174)=TRUE,\"Válido\",\"Inválido\")),\"\")","v":""},{"$f":"IF(E1174<>0,(IF(lfValidaCEP(E1174)=TRUE,\"Válido\",\"Inválido\")),\"\")","v":""}]
[null,null,null,null,null,null,null,null,null,null,null,"",{"$f":"IF(C1175<>0,(IF(lfValidaCNPJ(C1175)=TRUE,\"Válido\",\"Inválido\")),\"\")","v":""},{"$f":"IF(E1175<>0,(IF(lfValidaCEP(E1175)=TRUE,\"Válido\",\"Inválido\")),\"\")","v":""}]
[null,null,null,null,null,null,null,null,null,null,null,"",{"$f":"IF(C1176<>0,(IF(lfValidaCNPJ(C1176)=TRUE,\"Válido\",\"Inválido\")),\"\")","v":""},{"$f":"IF(E1176<>0,(IF(lfValidaCEP(E1176)=TRUE,\"Válido\",\"Inválido\")),\"\")","v":""}]
[null,null,null,null,null,null,null,null,null,null,null,"",{"$f":"IF(C1177<>0,(IF(lfValidaCNPJ(C1177)=TRUE,\"Válido\",\"Inválido\")),\"\")","v":""},{"$f":"IF(E1177<>0,(IF(lfValidaCEP(E1177)=TRUE,\"Válido\",\"Inválido\")),\"\")","v":""}]
[null,null,null,null,null,null,null,null,null,null,null,"",{"$f":"IF(C1178<>0,(IF(lfValidaCNPJ(C1178)=TRUE,\"Válido\",\"Inválido\")),\"\")","v":""},{"$f":"IF(E1178<>0,(IF(lfValidaCEP(E1178)=TRUE,\"Válido\",\"Inválido\")),\"\")","v":""}]
[null,null,null,null,null,null,null,null,null,null,null,"",{"$f":"IF(C1179<>0,(IF(lfValidaCNPJ(C1179)=TRUE,\"Válido\",\"Inválido\")),\"\")","v":""},{"$f":"IF(E1179<>0,(IF(lfValidaCEP(E1179)=TRUE,\"Válido\",\"Inválido\")),\"\")","v":""}]
[null,null,null,null,null,null,null,null,null,null,null,"",{"$f":"IF(C1180<>0,(IF(lfValidaCNPJ(C1180)=TRUE,\"Válido\",\"Inválido\")),\"\")","v":""},{"$f":"IF(E1180<>0,(IF(lfValidaCEP(E1180)=TRUE,\"Válido\",\"Inválido\")),\"\")","v":""}]
[null,null,null,null,null,null,null,null,null,null,null,"",{"$f":"IF(C1181<>0,(IF(lfValidaCNPJ(C1181)=TRUE,\"Válido\",\"Inválido\")),\"\")","v":""},{"$f":"IF(E1181<>0,(IF(lfValidaCEP(E1181)=TRUE,\"Válido\",\"Inválido\")),\"\")","v":""}]
[null,null,null,null,null,null,null,null,null,null,null,"",{"$f":"IF(C1182<>0,(IF(lfValidaCNPJ(C1182)=TRUE,\"Válido\",\"Inválido\")),\"\")","v":""},{"$f":"IF(E1182<>0,(IF(lfValidaCEP(E1182)=TRUE,\"Válido\",\"Inválido\")),\"\")","v":""}]
[null,null,null,null,null,null,null,null,null,null,null,"",{"$f":"IF(C1183<>0,(IF(lfValidaCNPJ(C1183)=TRUE,\"Válido\",\"Inválido\")),\"\")","v":""},{"$f":"IF(E1183<>0,(IF(lfValidaCEP(E1183)=TRUE,\"Válido\",\"Inválido\")),\"\")","v":""}]
[null,null,null,null,null,null,null,null,null,null,null,"",{"$f":"IF(C1184<>0,(IF(lfValidaCNPJ(C1184)=TRUE,\"Válido\",\"Inválido\")),\"\")","v":""},{"$f":"IF(E1184<>0,(IF(lfValidaCEP(E1184)=TRUE,\"Válido\",\"Inválido\")),\"\")","v":""}]
[null,null,null,null,null,null,null,null,null,null,null,"",{"$f":"IF(C1185<>0,(IF(lfValidaCNPJ(C1185)=TRUE,\"Válido\",\"Inválido\")),\"\")","v":""},{"$f":"IF(E1185<>0,(IF(lfValidaCEP(E1185)=TRUE,\"Válido\",\"Inválido\")),\"\")","v":""}]
[null,null,null,null,null,null,null,null,null,null,null,"",{"$f":"IF(C1186<>0,(IF(lfValidaCNPJ(C1186)=TRUE,\"Válido\",\"Inválido\")),\"\")","v":""},{"$f":"IF(E1186<>0,(IF(lfValidaCEP(E1186)=TRUE,\"Válido\",\"Inválido\")),\"\")","v":""}]
[null,null,null,null,null,null,null,null,null,null,null,"",{"$f":"IF(C1187<>0,(IF(lfValidaCNPJ(C1187)=TRUE,\"Válido\",\"Inválido\")),\"\")","v":""},{"$f":"IF(E1187<>0,(IF(lfValidaCEP(E1187)=TRUE,\"Válido\",\"Inválido\")),\"\")","v":""}]
[null,null,null,null,null,null,null,null,null,null,null,"",{"$f":"IF(C1188<>0,(IF(lfValidaCNPJ(C1188)=TRUE,\"Válido\",\"Inválido\")),\"\")","v":""},{"$f":"IF(E1188<>0,(IF(lfValidaCEP(E1188)=TRUE,\"Válido\",\"Inválido\")),\"\")","v":""}]
[null,null,null,null,null,null,null,null,null,null,null,"",{"$f":"IF(C1189<>0,(IF(lfValidaCNPJ(C1189)=TRUE,\"Válido\",\"Inválido\")),\"\")","v":""},{"$f":"IF(E1189<>0,(IF(lfValidaCEP(E1189)=TRUE,\"Válido\",\"Inválido\")),\"\")","v":""}]
[null,null,null,null,null,null,null,null,null,null,null,"",{"$f":"IF(C1190<>0,(IF(lfValidaCNPJ(C1190)=TRUE,\"Válido\",\"Inválido\")),\"\")","v":""},{"$f":"IF(E1190<>0,(IF(lfValidaCEP(E1190)=TRUE,\"Válido\",\"Inválido\")),\"\")","v":""}]
[null,null,null,null,null,null,null,null,null,null,null,"",{"$f":"IF(C1191<>0,(IF(lfValidaCNPJ(C1191)=TRUE,\"Válido\",\"Inválido\")),\"\")","v":""},{"$f":"IF(E1191<>0,(IF(lfValidaCEP(E1191)=TRUE,\"Válido\",\"Inválido\")),\"\")","v":""}]
[null,null,null,null,null,null,null,null,null,null,null,"",{"$f":"IF(C1192<>0,(IF(lfValidaCNPJ(C1192)=TRUE,\"Válido\",\"Inválido\")),\"\")","v":""},{"$f":"IF(E1192<>0,(IF(lfValidaCEP(E1192)=TRUE,\"Válido\",\"Inválido\")),\"\")","v":""}]
[null,null,null,null,null,null,null,null,null,null,null,"",{"$f":"IF(C1193<>0,(IF(lfValidaCNPJ(C1193)=TRUE,\"Válido\",\"Inválido\")),\"\")","v":""},{"$f":"IF(E1193<>0,(IF(lfValidaCEP(E1193)=TRUE,\"Válido\",\"Inválido\")),\"\")","v":""}]
[null,null,null,null,null,null,null,null,null,null,null,"",{"$f":"IF(C1194<>0,(IF(lfValidaCNPJ(C1194)=TRUE,\"Válido\",\"Inválido\")),\"\")","v":""},{"$f":"IF(E1194<>0,(IF(lfValidaCEP(E1194)=TRUE,\"Válido\",\"Inválido\")),\"\")","v":""}]
[null,null,null,null,null,null,null,null,null,null,null,"",{"$f":"IF(C1195<>0,(IF(lfValidaCNPJ(C1195)=TRUE,\"Válido\",\"Inválido\")),\"\")","v":""},{"$f":"IF(E1195<>0,(IF(lfValidaCEP(E1195)=TRUE,\"Válido\",\"Inválido\")),\"\")","v":""}]
[null,null,null,null,null,null,null,null,null,null,null,"",{"$f":"IF(C1196<>0,(IF(lfValidaCNPJ(C1196)=TRUE,\"Válido\",\"Inválido\")),\"\")","v":""},{"$f":"IF(E1196<>0,(IF(lfValidaCEP(E1196)=TRUE,\"Válido\",\"Inválido\")),\"\")","v":""}]
[null,null,null,null,null,null,null,null,null,null,null,"",{"$f":"IF(C1197<>0,(IF(lfValidaCNPJ(C1197)=TRUE,\"Válido\",\"Inválido\")),\"\")","v":""},{"$f":"IF(E1197<>0,(IF(lfValidaCEP(E1197)=TRUE,\"Válido\",\"Inválido\")),\"\")","v":""}]
[null,null,null,null,null,null,null,null,null,null,null,"",{"$f":"IF(C1198<>0,(IF(lfValidaCNPJ(C1198)=TRUE,\"Válido\",\"Inválido\")),\"\")","v":""},{"$f":"IF(E1198<>0,(IF(lfValidaCEP(E1198)=TRUE,\"Válido\",\"Inválido\")),\"\")","v":""}]
[null,null,null,null,null,null,null,null,null,null,null,"",{"$f":"IF(C1199<>0,(IF(lfValidaCNPJ(C1199)=TRUE,\"Válido\",\"Inválido\")),\"\")","v":""},{"$f":"IF(E1199<>0,(IF(lfValidaCEP(E1199)=TRUE,\"Válido\",\"Inválido\")),\"\")","v":""}]
[null,null,null,null,null,null,null,null,null,null,null,"",{"$f":"IF(C1200<>0,(IF(lfValidaCNPJ(C1200)=TRUE,\"Válido\",\"Inválido\")),\"\")","v":""},{"$f":"IF(E1200<>0,(IF(lfValidaCEP(E1200)=TRUE,\"Válido\",\"Inválido\")),\"\")","v":""}]
[null,null,null,null,null,null,null,null,null,null,null,"",{"$f":"IF(C1201<>0,(IF(lfValidaCNPJ(C1201)=TRUE,\"Válido\",\"Inválido\")),\"\")","v":""},{"$f":"IF(E1201<>0,(IF(lfValidaCEP(E1201)=TRUE,\"Válido\",\"Inválido\")),\"\")","v":""}]
[null,null,null,null,null,null,null,null,null,null,null,"",{"$f":"IF(C1202<>0,(IF(lfValidaCNPJ(C1202)=TRUE,\"Válido\",\"Inválido\")),\"\")","v":""},{"$f":"IF(E1202<>0,(IF(lfValidaCEP(E1202)=TRUE,\"Válido\",\"Inválido\")),\"\")","v":""}]
[null,null,null,null,null,null,null,null,null,null,null,"",{"$f":"IF(C1203<>0,(IF(lfValidaCNPJ(C1203)=TRUE,\"Válido\",\"Inválido\")),\"\")","v":""},{"$f":"IF(E1203<>0,(IF(lfValidaCEP(E1203)=TRUE,\"Válido\",\"Inválido\")),\"\")","v":""}]
[null,null,null,null,null,null,null,null,null,null,null,"",{"$f":"IF(C1204<>0,(IF(lfValidaCNPJ(C1204)=TRUE,\"Válido\",\"Inválido\")),\"\")","v":""},{"$f":"IF(E1204<>0,(IF(lfValidaCEP(E1204)=TRUE,\"Válido\",\"Inválido\")),\"\")","v":""}]
[null,null,null,null,null,null,null,null,null,null,null,"",{"$f":"IF(C1205<>0,(IF(lfValidaCNPJ(C1205)=TRUE,\"Válido\",\"Inválido\")),\"\")","v":""},{"$f":"IF(E1205<>0,(IF(lfValidaCEP(E1205)=TRUE,\"Válido\",\"Inválido\")),\"\")","v":""}]
[null,null,null,null,null,null,null,null,null,null,null,"",{"$f":"IF(C1206<>0,(IF(lfValidaCNPJ(C1206)=TRUE,\"Válido\",\"Inválido\")),\"\")","v":""},{"$f":"IF(E1206<>0,(IF(lfValidaCEP(E1206)=TRUE,\"Válido\",\"Inválido\")),\"\")","v":""}]
[null,null,null,null,null,null,null,null,null,null,null,"",{"$f":"IF(C1207<>0,(IF(lfValidaCNPJ(C1207)=TRUE,\"Válido\",\"Inválido\")),\"\")","v":""},{"$f":"IF(E1207<>0,(IF(lfValidaCEP(E1207)=TRUE,\"Válido\",\"Inválido\")),\"\")","v":""}]
[null,null,null,null,null,null,null,null,null,null,null,"",{"$f":"IF(C1208<>0,(IF(lfValidaCNPJ(C1208)=TRUE,\"Válido\",\"Inválido\")),\"\")","v":""},{"$f":"IF(E1208<>0,(IF(lfValidaCEP(E1208)=TRUE,\"Válido\",\"Inválido\")),\"\")","v":""}]
[null,null,null,null,null,null,null,null,null,null,null,"",{"$f":"IF(C1209<>0,(IF(lfValidaCNPJ(C1209)=TRUE,\"Válido\",\"Inválido\")),\"\")","v":""},{"$f":"IF(E1209<>0,(IF(lfValidaCEP(E1209)=TRUE,\"Válido\",\"Inválido\")),\"\")","v":""}]
[null,null,null,null,null,null,null,null,null,null,null,"",{"$f":"IF(C1210<>0,(IF(lfValidaCNPJ(C1210)=TRUE,\"Válido\",\"Inválido\")),\"\")","v":""},{"$f":"IF(E1210<>0,(IF(lfValidaCEP(E1210)=TRUE,\"Válido\",\"Inválido\")),\"\")","v":""}]
[null,null,null,null,null,null,null,null,null,null,null,"",{"$f":"IF(C1211<>0,(IF(lfValidaCNPJ(C1211)=TRUE,\"Válido\",\"Inválido\")),\"\")","v":""},{"$f":"IF(E1211<>0,(IF(lfValidaCEP(E1211)=TRUE,\"Válido\",\"Inválido\")),\"\")","v":""}]
[null,null,null,null,null,null,null,null,null,null,null,"",{"$f":"IF(C1212<>0,(IF(lfValidaCNPJ(C1212)=TRUE,\"Válido\",\"Inválido\")),\"\")","v":""},{"$f":"IF(E1212<>0,(IF(lfValidaCEP(E1212)=TRUE,\"Válido\",\"Inválido\")),\"\")","v":""}]
[null,null,null,null,null,null,null,null,null,null,null,"",{"$f":"IF(C1213<>0,(IF(lfValidaCNPJ(C1213)=TRUE,\"Válido\",\"Inválido\")),\"\")","v":""},{"$f":"IF(E1213<>0,(IF(lfValidaCEP(E1213)=TRUE,\"Válido\",\"Inválido\")),\"\")","v":""}]
[null,null,null,null,null,null,null,null,null,null,null,"",{"$f":"IF(C1214<>0,(IF(lfValidaCNPJ(C1214)=TRUE,\"Válido\",\"Inválido\")),\"\")","v":""},{"$f":"IF(E1214<>0,(IF(lfValidaCEP(E1214)=TRUE,\"Válido\",\"Inválido\")),\"\")","v":""}]
[null,null,null,null,null,null,null,null,null,null,null,"",{"$f":"IF(C1215<>0,(IF(lfValidaCNPJ(C1215)=TRUE,\"Válido\",\"Inválido\")),\"\")","v":""},{"$f":"IF(E1215<>0,(IF(lfValidaCEP(E1215)=TRUE,\"Válido\",\"Inválido\")),\"\")","v":""}]
[null,null,null,null,null,null,null,null,null,null,null,"",{"$f":"IF(C1216<>0,(IF(lfValidaCNPJ(C1216)=TRUE,\"Válido\",\"Inválido\")),\"\")","v":""},{"$f":"IF(E1216<>0,(IF(lfValidaCEP(E1216)=TRUE,\"Válido\",\"Inválido\")),\"\")","v":""}]
[null,null,null,null,null,null,null,null,null,null,null,"",{"$f":"IF(C1217<>0,(IF(lfValidaCNPJ(C1217)=TRUE,\"Válido\",\"Inválido\")),\"\")","v":""},{"$f":"IF(E1217<>0,(IF(lfValidaCEP(E1217)=TRUE,\"Válido\",\"Inválido\")),\"\")","v":""}]
[null,null,null,null,null,null,null,null,null,null,null,"",{"$f":"IF(C1218<>0,(IF(lfValidaCNPJ(C1218)=TRUE,\"Válido\",\"Inválido\")),\"\")","v":""},{"$f":"IF(E1218<>0,(IF(lfValidaCEP(E1218)=TRUE,\"Válido\",\"Inválido\")),\"\")","v":""}]
[null,null,null,null,null,null,null,null,null,null,null,"",{"$f":"IF(C1219<>0,(IF(lfValidaCNPJ(C1219)=TRUE,\"Válido\",\"Inválido\")),\"\")","v":""},{"$f":"IF(E1219<>0,(IF(lfValidaCEP(E1219)=TRUE,\"Válido\",\"Inválido\")),\"\")","v":""}]
[null,null,null,null,null,null,null,null,null,null,null,"",{"$f":"IF(C1220<>0,(IF(lfValidaCNPJ(C1220)=TRUE,\"Válido\",\"Inválido\")),\"\")","v":""},{"$f":"IF(E1220<>0,(IF(lfValidaCEP(E1220)=TRUE,\"Válido\",\"Inválido\")),\"\")","v":""}]
[null,null,null,null,null,null,null,null,null,null,null,"",{"$f":"IF(C1221<>0,(IF(lfValidaCNPJ(C1221)=TRUE,\"Válido\",\"Inválido\")),\"\")","v":""},{"$f":"IF(E1221<>0,(IF(lfValidaCEP(E1221)=TRUE,\"Válido\",\"Inválido\")),\"\")","v":""}]
[null,null,null,null,null,null,null,null,null,null,null,"",{"$f":"IF(C1222<>0,(IF(lfValidaCNPJ(C1222)=TRUE,\"Válido\",\"Inválido\")),\"\")","v":""},{"$f":"IF(E1222<>0,(IF(lfValidaCEP(E1222)=TRUE,\"Válido\",\"Inválido\")),\"\")","v":""}]
[null,null,null,null,null,null,null,null,null,null,null,"",{"$f":"IF(C1223<>0,(IF(lfValidaCNPJ(C1223)=TRUE,\"Válido\",\"Inválido\")),\"\")","v":""},{"$f":"IF(E1223<>0,(IF(lfValidaCEP(E1223)=TRUE,\"Válido\",\"Inválido\")),\"\")","v":""}]
[null,null,null,null,null,null,null,null,null,null,null,"",{"$f":"IF(C1224<>0,(IF(lfValidaCNPJ(C1224)=TRUE,\"Válido\",\"Inválido\")),\"\")","v":""},{"$f":"IF(E1224<>0,(IF(lfValidaCEP(E1224)=TRUE,\"Válido\",\"Inválido\")),\"\")","v":""}]
[null,null,null,null,null,null,null,null,null,null,null,"",{"$f":"IF(C1225<>0,(IF(lfValidaCNPJ(C1225)=TRUE,\"Válido\",\"Inválido\")),\"\")","v":""},{"$f":"IF(E1225<>0,(IF(lfValidaCEP(E1225)=TRUE,\"Válido\",\"Inválido\")),\"\")","v":""}]
[null,null,null,null,null,null,null,null,null,null,null,"",{"$f":"IF(C1226<>0,(IF(lfValidaCNPJ(C1226)=TRUE,\"Válido\",\"Inválido\")),\"\")","v":""},{"$f":"IF(E1226<>0,(IF(lfValidaCEP(E1226)=TRUE,\"Válido\",\"Inválido\")),\"\")","v":""}]
[null,null,null,null,null,null,null,null,null,null,null,"",{"$f":"IF(C1227<>0,(IF(lfValidaCNPJ(C1227)=TRUE,\"Válido\",\"Inválido\")),\"\")","v":""},{"$f":"IF(E1227<>0,(IF(lfValidaCEP(E1227)=TRUE,\"Válido\",\"Inválido\")),\"\")","v":""}]
[null,null,null,null,null,null,null,null,null,null,null,"",{"$f":"IF(C1228<>0,(IF(lfValidaCNPJ(C1228)=TRUE,\"Válido\",\"Inválido\")),\"\")","v":""},{"$f":"IF(E1228<>0,(IF(lfValidaCEP(E1228)=TRUE,\"Válido\",\"Inválido\")),\"\")","v":""}]
[null,null,null,null,null,null,null,null,null,null,null,"",{"$f":"IF(C1229<>0,(IF(lfValidaCNPJ(C1229)=TRUE,\"Válido\",\"Inválido\")),\"\")","v":""},{"$f":"IF(E1229<>0,(IF(lfValidaCEP(E1229)=TRUE,\"Válido\",\"Inválido\")),\"\")","v":""}]
[null,null,null,null,null,null,null,null,null,null,null,{"$f":"IF(COUNTA(B1230:J1230)<>0,IF(AND(B1230<>0,C1230<>0,D1230<>0,E1230<>0,F1230<>0,G1230<>0,H1230<>0,I1230<>0,J1230<>0),\"Completo\",\"Incompleto\"),\"\")","v":""},{"$f":"IF(C1230<>0,(IF(lfValidaCNPJ(C1230)=TRUE,\"Válido\",\"Inválido\")),\"\")","v":""},{"$f":"IF(E1230<>0,(IF(lfValidaCEP(E1230)=TRUE,\"Válido\",\"Inválido\")),\"\")","v":""}]
[null,null,null,null,null,null,null,null,null,null,null,"",{"$f":"IF(C1231<>0,(IF(lfValidaCNPJ(C1231)=TRUE,\"Válido\",\"Inválido\")),\"\")","v":""},{"$f":"IF(E1231<>0,(IF(lfValidaCEP(E1231)=TRUE,\"Válido\",\"Inválido\")),\"\")","v":""}]
[null,null,null,null,null,null,null,null,null,null,null,"",{"$f":"IF(C1232<>0,(IF(lfValidaCNPJ(C1232)=TRUE,\"Válido\",\"Inválido\")),\"\")","v":""},{"$f":"IF(E1232<>0,(IF(lfValidaCEP(E1232)=TRUE,\"Válido\",\"Inválido\")),\"\")","v":""}]
[null,null,null,null,null,null,null,null,null,null,null,"",{"$f":"IF(C1233<>0,(IF(lfValidaCNPJ(C1233)=TRUE,\"Válido\",\"Inválido\")),\"\")","v":""},{"$f":"IF(E1233<>0,(IF(lfValidaCEP(E1233)=TRUE,\"Válido\",\"Inválido\")),\"\")","v":""}]
[null,null,null,null,null,null,null,null,null,null,null,"",{"$f":"IF(C1234<>0,(IF(lfValidaCNPJ(C1234)=TRUE,\"Válido\",\"Inválido\")),\"\")","v":""},{"$f":"IF(E1234<>0,(IF(lfValidaCEP(E1234)=TRUE,\"Válido\",\"Inválido\")),\"\")","v":""}]
[null,null,null,null,null,null,null,null,null,null,null,"",{"$f":"IF(C1235<>0,(IF(lfValidaCNPJ(C1235)=TRUE,\"Válido\",\"Inválido\")),\"\")","v":""},{"$f":"IF(E1235<>0,(IF(lfValidaCEP(E1235)=TRUE,\"Válido\",\"Inválido\")),\"\")","v":""}]
[null,null,null,null,null,null,null,null,null,null,null,"",{"$f":"IF(C1236<>0,(IF(lfValidaCNPJ(C1236)=TRUE,\"Válido\",\"Inválido\")),\"\")","v":""},{"$f":"IF(E1236<>0,(IF(lfValidaCEP(E1236)=TRUE,\"Válido\",\"Inválido\")),\"\")","v":""}]
[null,null,null,null,null,null,null,null,null,null,null,"",{"$f":"IF(C1237<>0,(IF(lfValidaCNPJ(C1237)=TRUE,\"Válido\",\"Inválido\")),\"\")","v":""},{"$f":"IF(E1237<>0,(IF(lfValidaCEP(E1237)=TRUE,\"Válido\",\"Inválido\")),\"\")","v":""}]
[null,null,null,null,null,null,null,null,null,null,null,"",{"$f":"IF(C1238<>0,(IF(lfValidaCNPJ(C1238)=TRUE,\"Válido\",\"Inválido\")),\"\")","v":""},{"$f":"IF(E1238<>0,(IF(lfValidaCEP(E1238)=TRUE,\"Válido\",\"Inválido\")),\"\")","v":""}]
[null,null,null,null,null,null,null,null,null,null,null,"",{"$f":"IF(C1239<>0,(IF(lfValidaCNPJ(C1239)=TRUE,\"Válido\",\"Inválido\")),\"\")","v":""},{"$f":"IF(E1239<>0,(IF(lfValidaCEP(E1239)=TRUE,\"Válido\",\"Inválido\")),\"\")","v":""}]
[null,null,null,null,null,null,null,null,null,null,null,"",{"$f":"IF(C1240<>0,(IF(lfValidaCNPJ(C1240)=TRUE,\"Válido\",\"Inválido\")),\"\")","v":""},{"$f":"IF(E1240<>0,(IF(lfValidaCEP(E1240)=TRUE,\"Válido\",\"Inválido\")),\"\")","v":""}]
[null,null,null,null,null,null,null,null,null,null,null,"",{"$f":"IF(C1241<>0,(IF(lfValidaCNPJ(C1241)=TRUE,\"Válido\",\"Inválido\")),\"\")","v":""},{"$f":"IF(E1241<>0,(IF(lfValidaCEP(E1241)=TRUE,\"Válido\",\"Inválido\")),\"\")","v":""}]
[null,null,null,null,null,null,null,null,null,null,null,"",{"$f":"IF(C1242<>0,(IF(lfValidaCNPJ(C1242)=TRUE,\"Válido\",\"Inválido\")),\"\")","v":""},{"$f":"IF(E1242<>0,(IF(lfValidaCEP(E1242)=TRUE,\"Válido\",\"Inválido\")),\"\")","v":""}]
[null,null,null,null,null,null,null,null,null,null,null,"",{"$f":"IF(C1243<>0,(IF(lfValidaCNPJ(C1243)=TRUE,\"Válido\",\"Inválido\")),\"\")","v":""},{"$f":"IF(E1243<>0,(IF(lfValidaCEP(E1243)=TRUE,\"Válido\",\"Inválido\")),\"\")","v":""}]
[null,null,null,null,null,null,null,null,null,null,null,"",{"$f":"IF(C1244<>0,(IF(lfValidaCNPJ(C1244)=TRUE,\"Válido\",\"Inválido\")),\"\")","v":""},{"$f":"IF(E1244<>0,(IF(lfValidaCEP(E1244)=TRUE,\"Válido\",\"Inválido\")),\"\")","v":""}]
[null,null,null,null,null,null,null,null,null,null,null,"",{"$f":"IF(C1245<>0,(IF(lfValidaCNPJ(C1245)=TRUE,\"Válido\",\"Inválido\")),\"\")","v":""},{"$f":"IF(E1245<>0,(IF(lfValidaCEP(E1245)=TRUE,\"Válido\",\"Inválido\")),\"\")","v":""}]
[null,null,null,null,null,null,null,null,null,null,null,"",{"$f":"IF(C1246<>0,(IF(lfValidaCNPJ(C1246)=TRUE,\"Válido\",\"Inválido\")),\"\")","v":""},{"$f":"IF(E1246<>0,(IF(lfValidaCEP(E1246)=TRUE,\"Válido\",\"Inválido\")),\"\")","v":""}]
[null,null,null,null,null,null,null,null,null,null,null,"",{"$f":"IF(C1247<>0,(IF(lfValidaCNPJ(C1247)=TRUE,\"Válido\",\"Inválido\")),\"\")","v":""},{"$f":"IF(E1247<>0,(IF(lfValidaCEP(E1247)=TRUE,\"Válido\",\"Inválido\")),\"\")","v":""}]
[null,null,null,null,null,null,null,null,null,null,null,"",{"$f":"IF(C1248<>0,(IF(lfValidaCNPJ(C1248)=TRUE,\"Válido\",\"Inválido\")),\"\")","v":""},{"$f":"IF(E1248<>0,(IF(lfValidaCEP(E1248)=TRUE,\"Válido\",\"Inválido\")),\"\")","v":""}]
[null,null,null,null,null,null,null,null,null,null,null,"",{"$f":"IF(C1249<>0,(IF(lfValidaCNPJ(C1249)=TRUE,\"Válido\",\"Inválido\")),\"\")","v":""},{"$f":"IF(E1249<>0,(IF(lfValidaCEP(E1249)=TRUE,\"Válido\",\"Inválido\")),\"\")","v":""}]
[null,null,null,null,null,null,null,null,null,null,null,"",{"$f":"IF(C1250<>0,(IF(lfValidaCNPJ(C1250)=TRUE,\"Válido\",\"Inválido\")),\"\")","v":""},{"$f":"IF(E1250<>0,(IF(lfValidaCEP(E1250)=TRUE,\"Válido\",\"Inválido\")),\"\")","v":""}]
[null,null,null,null,null,null,null,null,null,null,null,"",{"$f":"IF(C1251<>0,(IF(lfValidaCNPJ(C1251)=TRUE,\"Válido\",\"Inválido\")),\"\")","v":""},{"$f":"IF(E1251<>0,(IF(lfValidaCEP(E1251)=TRUE,\"Válido\",\"Inválido\")),\"\")","v":""}]
[null,null,null,null,null,null,null,null,null,null,null,"",{"$f":"IF(C1252<>0,(IF(lfValidaCNPJ(C1252)=TRUE,\"Válido\",\"Inválido\")),\"\")","v":""},{"$f":"IF(E1252<>0,(IF(lfValidaCEP(E1252)=TRUE,\"Válido\",\"Inválido\")),\"\")","v":""}]
[null,null,null,null,null,null,null,null,null,null,null,"",{"$f":"IF(C1253<>0,(IF(lfValidaCNPJ(C1253)=TRUE,\"Válido\",\"Inválido\")),\"\")","v":""},{"$f":"IF(E1253<>0,(IF(lfValidaCEP(E1253)=TRUE,\"Válido\",\"Inválido\")),\"\")","v":""}]
[null,null,null,null,null,null,null,null,null,null,null,"",{"$f":"IF(C1254<>0,(IF(lfValidaCNPJ(C1254)=TRUE,\"Válido\",\"Inválido\")),\"\")","v":""},{"$f":"IF(E1254<>0,(IF(lfValidaCEP(E1254)=TRUE,\"Válido\",\"Inválido\")),\"\")","v":""}]
[null,null,null,null,null,null,null,null,null,null,null,"",{"$f":"IF(C1255<>0,(IF(lfValidaCNPJ(C1255)=TRUE,\"Válido\",\"Inválido\")),\"\")","v":""},{"$f":"IF(E1255<>0,(IF(lfValidaCEP(E1255)=TRUE,\"Válido\",\"Inválido\")),\"\")","v":""}]
[null,null,null,null,null,null,null,null,null,null,null,"",{"$f":"IF(C1256<>0,(IF(lfValidaCNPJ(C1256)=TRUE,\"Válido\",\"Inválido\")),\"\")","v":""},{"$f":"IF(E1256<>0,(IF(lfValidaCEP(E1256)=TRUE,\"Válido\",\"Inválido\")),\"\")","v":""}]
[null,null,null,null,null,null,null,null,null,null,null,"",{"$f":"IF(C1257<>0,(IF(lfValidaCNPJ(C1257)=TRUE,\"Válido\",\"Inválido\")),\"\")","v":""},{"$f":"IF(E1257<>0,(IF(lfValidaCEP(E1257)=TRUE,\"Válido\",\"Inválido\")),\"\")","v":""}]
[null,null,null,null,null,null,null,null,null,null,null,"",{"$f":"IF(C1258<>0,(IF(lfValidaCNPJ(C1258)=TRUE,\"Válido\",\"Inválido\")),\"\")","v":""},{"$f":"IF(E1258<>0,(IF(lfValidaCEP(E1258)=TRUE,\"Válido\",\"Inválido\")),\"\")","v":""}]
[null,null,null,null,null,null,null,null,null,null,null,"",{"$f":"IF(C1259<>0,(IF(lfValidaCNPJ(C1259)=TRUE,\"Válido\",\"Inválido\")),\"\")","v":""},{"$f":"IF(E1259<>0,(IF(lfValidaCEP(E1259)=TRUE,\"Válido\",\"Inválido\")),\"\")","v":""}]
[null,null,null,null,null,null,null,null,null,null,null,"",{"$f":"IF(C1260<>0,(IF(lfValidaCNPJ(C1260)=TRUE,\"Válido\",\"Inválido\")),\"\")","v":""},{"$f":"IF(E1260<>0,(IF(lfValidaCEP(E1260)=TRUE,\"Válido\",\"Inválido\")),\"\")","v":""}]
[null,null,null,null,null,null,null,null,null,null,null,"",{"$f":"IF(C1261<>0,(IF(lfValidaCNPJ(C1261)=TRUE,\"Válido\",\"Inválido\")),\"\")","v":""},{"$f":"IF(E1261<>0,(IF(lfValidaCEP(E1261)=TRUE,\"Válido\",\"Inválido\")),\"\")","v":""}]
[null,null,null,null,null,null,null,null,null,null,null,"",{"$f":"IF(C1262<>0,(IF(lfValidaCNPJ(C1262)=TRUE,\"Válido\",\"Inválido\")),\"\")","v":""},{"$f":"IF(E1262<>0,(IF(lfValidaCEP(E1262)=TRUE,\"Válido\",\"Inválido\")),\"\")","v":""}]
[null,null,null,null,null,null,null,null,null,null,null,"",{"$f":"IF(C1263<>0,(IF(lfValidaCNPJ(C1263)=TRUE,\"Válido\",\"Inválido\")),\"\")","v":""},{"$f":"IF(E1263<>0,(IF(lfValidaCEP(E1263)=TRUE,\"Válido\",\"Inválido\")),\"\")","v":""}]
[null,null,null,null,null,null,null,null,null,null,null,"",{"$f":"IF(C1264<>0,(IF(lfValidaCNPJ(C1264)=TRUE,\"Válido\",\"Inválido\")),\"\")","v":""},{"$f":"IF(E1264<>0,(IF(lfValidaCEP(E1264)=TRUE,\"Válido\",\"Inválido\")),\"\")","v":""}]
[null,null,null,null,null,null,null,null,null,null,null,"",{"$f":"IF(C1265<>0,(IF(lfValidaCNPJ(C1265)=TRUE,\"Válido\",\"Inválido\")),\"\")","v":""},{"$f":"IF(E1265<>0,(IF(lfValidaCEP(E1265)=TRUE,\"Válido\",\"Inválido\")),\"\")","v":""}]
[null,null,null,null,null,null,null,null,null,null,null,"",{"$f":"IF(C1266<>0,(IF(lfValidaCNPJ(C1266)=TRUE,\"Válido\",\"Inválido\")),\"\")","v":""},{"$f":"IF(E1266<>0,(IF(lfValidaCEP(E1266)=TRUE,\"Válido\",\"Inválido\")),\"\")","v":""}]
[null,null,null,null,null,null,null,null,null,null,null,"",{"$f":"IF(C1267<>0,(IF(lfValidaCNPJ(C1267)=TRUE,\"Válido\",\"Inválido\")),\"\")","v":""},{"$f":"IF(E1267<>0,(IF(lfValidaCEP(E1267)=TRUE,\"Válido\",\"Inválido\")),\"\")","v":""}]
[null,null,null,null,null,null,null,null,null,null,null,"",{"$f":"IF(C1268<>0,(IF(lfValidaCNPJ(C1268)=TRUE,\"Válido\",\"Inválido\")),\"\")","v":""},{"$f":"IF(E1268<>0,(IF(lfValidaCEP(E1268)=TRUE,\"Válido\",\"Inválido\")),\"\")","v":""}]
[null,null,null,null,null,null,null,null,null,null,null,"",{"$f":"IF(C1269<>0,(IF(lfValidaCNPJ(C1269)=TRUE,\"Válido\",\"Inválido\")),\"\")","v":""},{"$f":"IF(E1269<>0,(IF(lfValidaCEP(E1269)=TRUE,\"Válido\",\"Inválido\")),\"\")","v":""}]
[null,null,null,null,null,null,null,null,null,null,null,"",{"$f":"IF(C1270<>0,(IF(lfValidaCNPJ(C1270)=TRUE,\"Válido\",\"Inválido\")),\"\")","v":""},{"$f":"IF(E1270<>0,(IF(lfValidaCEP(E1270)=TRUE,\"Válido\",\"Inválido\")),\"\")","v":""}]
[null,null,null,null,null,null,null,null,null,null,null,"",{"$f":"IF(C1271<>0,(IF(lfValidaCNPJ(C1271)=TRUE,\"Válido\",\"Inválido\")),\"\")","v":""},{"$f":"IF(E1271<>0,(IF(lfValidaCEP(E1271)=TRUE,\"Válido\",\"Inválido\")),\"\")","v":""}]
[null,null,null,null,null,null,null,null,null,null,null,"",{"$f":"IF(C1272<>0,(IF(lfValidaCNPJ(C1272)=TRUE,\"Válido\",\"Inválido\")),\"\")","v":""},{"$f":"IF(E1272<>0,(IF(lfValidaCEP(E1272)=TRUE,\"Válido\",\"Inválido\")),\"\")","v":""}]
[null,null,null,null,null,null,null,null,null,null,null,"",{"$f":"IF(C1273<>0,(IF(lfValidaCNPJ(C1273)=TRUE,\"Válido\",\"Inválido\")),\"\")","v":""},{"$f":"IF(E1273<>0,(IF(lfValidaCEP(E1273)=TRUE,\"Válido\",\"Inválido\")),\"\")","v":""}]
[null,null,null,null,null,null,null,null,null,null,null,"",{"$f":"IF(C1274<>0,(IF(lfValidaCNPJ(C1274)=TRUE,\"Válido\",\"Inválido\")),\"\")","v":""},{"$f":"IF(E1274<>0,(IF(lfValidaCEP(E1274)=TRUE,\"Válido\",\"Inválido\")),\"\")","v":""}]
[null,null,null,null,null,null,null,null,null,null,null,"",{"$f":"IF(C1275<>0,(IF(lfValidaCNPJ(C1275)=TRUE,\"Válido\",\"Inválido\")),\"\")","v":""},{"$f":"IF(E1275<>0,(IF(lfValidaCEP(E1275)=TRUE,\"Válido\",\"Inválido\")),\"\")","v":""}]
[null,null,null,null,null,null,null,null,null,null,null,"",{"$f":"IF(C1276<>0,(IF(lfValidaCNPJ(C1276)=TRUE,\"Válido\",\"Inválido\")),\"\")","v":""},{"$f":"IF(E1276<>0,(IF(lfValidaCEP(E1276)=TRUE,\"Válido\",\"Inválido\")),\"\")","v":""}]
[null,null,null,null,null,null,null,null,null,null,null,"",{"$f":"IF(C1277<>0,(IF(lfValidaCNPJ(C1277)=TRUE,\"Válido\",\"Inválido\")),\"\")","v":""},{"$f":"IF(E1277<>0,(IF(lfValidaCEP(E1277)=TRUE,\"Válido\",\"Inválido\")),\"\")","v":""}]
[null,null,null,null,null,null,null,null,null,null,null,"",{"$f":"IF(C1278<>0,(IF(lfValidaCNPJ(C1278)=TRUE,\"Válido\",\"Inválido\")),\"\")","v":""},{"$f":"IF(E1278<>0,(IF(lfValidaCEP(E1278)=TRUE,\"Válido\",\"Inválido\")),\"\")","v":""}]
[null,null,null,null,null,null,null,null,null,null,null,"",{"$f":"IF(C1279<>0,(IF(lfValidaCNPJ(C1279)=TRUE,\"Válido\",\"Inválido\")),\"\")","v":""},{"$f":"IF(E1279<>0,(IF(lfValidaCEP(E1279)=TRUE,\"Válido\",\"Inválido\")),\"\")","v":""}]
[null,null,null,null,null,null,null,null,null,null,null,"",{"$f":"IF(C1280<>0,(IF(lfValidaCNPJ(C1280)=TRUE,\"Válido\",\"Inválido\")),\"\")","v":""},{"$f":"IF(E1280<>0,(IF(lfValidaCEP(E1280)=TRUE,\"Válido\",\"Inválido\")),\"\")","v":""}]
[null,null,null,null,null,null,null,null,null,null,null,"",{"$f":"IF(C1281<>0,(IF(lfValidaCNPJ(C1281)=TRUE,\"Válido\",\"Inválido\")),\"\")","v":""},{"$f":"IF(E1281<>0,(IF(lfValidaCEP(E1281)=TRUE,\"Válido\",\"Inválido\")),\"\")","v":""}]
[null,null,null,null,null,null,null,null,null,null,null,"",{"$f":"IF(C1282<>0,(IF(lfValidaCNPJ(C1282)=TRUE,\"Válido\",\"Inválido\")),\"\")","v":""},{"$f":"IF(E1282<>0,(IF(lfValidaCEP(E1282)=TRUE,\"Válido\",\"Inválido\")),\"\")","v":""}]
[null,null,null,null,null,null,null,null,null,null,null,"",{"$f":"IF(C1283<>0,(IF(lfValidaCNPJ(C1283)=TRUE,\"Válido\",\"Inválido\")),\"\")","v":""},{"$f":"IF(E1283<>0,(IF(lfValidaCEP(E1283)=TRUE,\"Válido\",\"Inválido\")),\"\")","v":""}]
[null,null,null,null,null,null,null,null,null,null,null,"",{"$f":"IF(C1284<>0,(IF(lfValidaCNPJ(C1284)=TRUE,\"Válido\",\"Inválido\")),\"\")","v":""},{"$f":"IF(E1284<>0,(IF(lfValidaCEP(E1284)=TRUE,\"Válido\",\"Inválido\")),\"\")","v":""}]
[null,null,null,null,null,null,null,null,null,null,null,"",{"$f":"IF(C1285<>0,(IF(lfValidaCNPJ(C1285)=TRUE,\"Válido\",\"Inválido\")),\"\")","v":""},{"$f":"IF(E1285<>0,(IF(lfValidaCEP(E1285)=TRUE,\"Válido\",\"Inválido\")),\"\")","v":""}]
[null,null,null,null,null,null,null,null,null,null,null,"",{"$f":"IF(C1286<>0,(IF(lfValidaCNPJ(C1286)=TRUE,\"Válido\",\"Inválido\")),\"\")","v":""},{"$f":"IF(E1286<>0,(IF(lfValidaCEP(E1286)=TRUE,\"Válido\",\"Inválido\")),\"\")","v":""}]
[null,null,null,null,null,null,null,null,null,null,null,"",{"$f":"IF(C1287<>0,(IF(lfValidaCNPJ(C1287)=TRUE,\"Válido\",\"Inválido\")),\"\")","v":""},{"$f":"IF(E1287<>0,(IF(lfValidaCEP(E1287)=TRUE,\"Válido\",\"Inválido\")),\"\")","v":""}]
[null,null,null,null,null,null,null,null,null,null,null,"",{"$f":"IF(C1288<>0,(IF(lfValidaCNPJ(C1288)=TRUE,\"Válido\",\"Inválido\")),\"\")","v":""},{"$f":"IF(E1288<>0,(IF(lfValidaCEP(E1288)=TRUE,\"Válido\",\"Inválido\")),\"\")","v":""}]
[null,null,null,null,null,null,null,null,null,null,null,"",{"$f":"IF(C1289<>0,(IF(lfValidaCNPJ(C1289)=TRUE,\"Válido\",\"Inválido\")),\"\")","v":""},{"$f":"IF(E1289<>0,(IF(lfValidaCEP(E1289)=TRUE,\"Válido\",\"Inválido\")),\"\")","v":""}]
[null,null,null,null,null,null,null,null,null,null,null,"",{"$f":"IF(C1290<>0,(IF(lfValidaCNPJ(C1290)=TRUE,\"Válido\",\"Inválido\")),\"\")","v":""},{"$f":"IF(E1290<>0,(IF(lfValidaCEP(E1290)=TRUE,\"Válido\",\"Inválido\")),\"\")","v":""}]
[null,null,null,null,null,null,null,null,null,null,null,"",{"$f":"IF(C1291<>0,(IF(lfValidaCNPJ(C1291)=TRUE,\"Válido\",\"Inválido\")),\"\")","v":""},{"$f":"IF(E1291<>0,(IF(lfValidaCEP(E1291)=TRUE,\"Válido\",\"Inválido\")),\"\")","v":""}]
[null,null,null,null,null,null,null,null,null,null,null,"",{"$f":"IF(C1292<>0,(IF(lfValidaCNPJ(C1292)=TRUE,\"Válido\",\"Inválido\")),\"\")","v":""},{"$f":"IF(E1292<>0,(IF(lfValidaCEP(E1292)=TRUE,\"Válido\",\"Inválido\")),\"\")","v":""}]
[null,null,null,null,null,null,null,null,null,null,null,"",{"$f":"IF(C1293<>0,(IF(lfValidaCNPJ(C1293)=TRUE,\"Válido\",\"Inválido\")),\"\")","v":""},{"$f":"IF(E1293<>0,(IF(lfValidaCEP(E1293)=TRUE,\"Válido\",\"Inválido\")),\"\")","v":""}]
[null,null,null,null,null,null,null,null,null,null,null,{"$f":"IF(COUNTA(B1294:J1294)<>0,IF(AND(B1294<>0,C1294<>0,D1294<>0,E1294<>0,F1294<>0,G1294<>0,H1294<>0,I1294<>0,J1294<>0),\"Completo\",\"Incompleto\"),\"\")","v":""},{"$f":"IF(C1294<>0,(IF(lfValidaCNPJ(C1294)=TRUE,\"Válido\",\"Inválido\")),\"\")","v":""},{"$f":"IF(E1294<>0,(IF(lfValidaCEP(E1294)=TRUE,\"Válido\",\"Inválido\")),\"\")","v":""}]
[null,null,null,null,null,null,null,null,null,null,null,"",{"$f":"IF(C1295<>0,(IF(lfValidaCNPJ(C1295)=TRUE,\"Válido\",\"Inválido\")),\"\")","v":""},{"$f":"IF(E1295<>0,(IF(lfValidaCEP(E1295)=TRUE,\"Válido\",\"Inválido\")),\"\")","v":""}]
[null,null,null,null,null,null,null,null,null,null,null,"",{"$f":"IF(C1296<>0,(IF(lfValidaCNPJ(C1296)=TRUE,\"Válido\",\"Inválido\")),\"\")","v":""},{"$f":"IF(E1296<>0,(IF(lfValidaCEP(E1296)=TRUE,\"Válido\",\"Inválido\")),\"\")","v":""}]
[null,null,null,null,null,null,null,null,null,null,null,"",{"$f":"IF(C1297<>0,(IF(lfValidaCNPJ(C1297)=TRUE,\"Válido\",\"Inválido\")),\"\")","v":""},{"$f":"IF(E1297<>0,(IF(lfValidaCEP(E1297)=TRUE,\"Válido\",\"Inválido\")),\"\")","v":""}]
[null,null,null,null,null,null,null,null,null,null,null,"",{"$f":"IF(C1298<>0,(IF(lfValidaCNPJ(C1298)=TRUE,\"Válido\",\"Inválido\")),\"\")","v":""},{"$f":"IF(E1298<>0,(IF(lfValidaCEP(E1298)=TRUE,\"Válido\",\"Inválido\")),\"\")","v":""}]
[null,null,null,null,null,null,null,null,null,null,null,"",{"$f":"IF(C1299<>0,(IF(lfValidaCNPJ(C1299)=TRUE,\"Válido\",\"Inválido\")),\"\")","v":""},{"$f":"IF(E1299<>0,(IF(lfValidaCEP(E1299)=TRUE,\"Válido\",\"Inválido\")),\"\")","v":""}]
[null,null,null,null,null,null,null,null,null,null,null,"",{"$f":"IF(C1300<>0,(IF(lfValidaCNPJ(C1300)=TRUE,\"Válido\",\"Inválido\")),\"\")","v":""},{"$f":"IF(E1300<>0,(IF(lfValidaCEP(E1300)=TRUE,\"Válido\",\"Inválido\")),\"\")","v":""}]
[null,null,null,null,null,null,null,null,null,null,null,"",{"$f":"IF(C1301<>0,(IF(lfValidaCNPJ(C1301)=TRUE,\"Válido\",\"Inválido\")),\"\")","v":""},{"$f":"IF(E1301<>0,(IF(lfValidaCEP(E1301)=TRUE,\"Válido\",\"Inválido\")),\"\")","v":""}]
[null,null,null,null,null,null,null,null,null,null,null,"",{"$f":"IF(C1302<>0,(IF(lfValidaCNPJ(C1302)=TRUE,\"Válido\",\"Inválido\")),\"\")","v":""},{"$f":"IF(E1302<>0,(IF(lfValidaCEP(E1302)=TRUE,\"Válido\",\"Inválido\")),\"\")","v":""}]
[null,null,null,null,null,null,null,null,null,null,null,"",{"$f":"IF(C1303<>0,(IF(lfValidaCNPJ(C1303)=TRUE,\"Válido\",\"Inválido\")),\"\")","v":""},{"$f":"IF(E1303<>0,(IF(lfValidaCEP(E1303)=TRUE,\"Válido\",\"Inválido\")),\"\")","v":""}]
[null,null,null,null,null,null,null,null,null,null,null,"",{"$f":"IF(C1304<>0,(IF(lfValidaCNPJ(C1304)=TRUE,\"Válido\",\"Inválido\")),\"\")","v":""},{"$f":"IF(E1304<>0,(IF(lfValidaCEP(E1304)=TRUE,\"Válido\",\"Inválido\")),\"\")","v":""}]
[null,null,null,null,null,null,null,null,null,null,null,"",{"$f":"IF(C1305<>0,(IF(lfValidaCNPJ(C1305)=TRUE,\"Válido\",\"Inválido\")),\"\")","v":""},{"$f":"IF(E1305<>0,(IF(lfValidaCEP(E1305)=TRUE,\"Válido\",\"Inválido\")),\"\")","v":""}]
[null,null,null,null,null,null,null,null,null,null,null,"",{"$f":"IF(C1306<>0,(IF(lfValidaCNPJ(C1306)=TRUE,\"Válido\",\"Inválido\")),\"\")","v":""},{"$f":"IF(E1306<>0,(IF(lfValidaCEP(E1306)=TRUE,\"Válido\",\"Inválido\")),\"\")","v":""}]
[null,null,null,null,null,null,null,null,null,null,null,"",{"$f":"IF(C1307<>0,(IF(lfValidaCNPJ(C1307)=TRUE,\"Válido\",\"Inválido\")),\"\")","v":""},{"$f":"IF(E1307<>0,(IF(lfValidaCEP(E1307)=TRUE,\"Válido\",\"Inválido\")),\"\")","v":""}]
[null,null,null,null,null,null,null,null,null,null,null,"",{"$f":"IF(C1308<>0,(IF(lfValidaCNPJ(C1308)=TRUE,\"Válido\",\"Inválido\")),\"\")","v":""},{"$f":"IF(E1308<>0,(IF(lfValidaCEP(E1308)=TRUE,\"Válido\",\"Inválido\")),\"\")","v":""}]
[null,null,null,null,null,null,null,null,null,null,null,"",{"$f":"IF(C1309<>0,(IF(lfValidaCNPJ(C1309)=TRUE,\"Válido\",\"Inválido\")),\"\")","v":""},{"$f":"IF(E1309<>0,(IF(lfValidaCEP(E1309)=TRUE,\"Válido\",\"Inválido\")),\"\")","v":""}]
[null,null,null,null,null,null,null,null,null,null,null,"",{"$f":"IF(C1310<>0,(IF(lfValidaCNPJ(C1310)=TRUE,\"Válido\",\"Inválido\")),\"\")","v":""},{"$f":"IF(E1310<>0,(IF(lfValidaCEP(E1310)=TRUE,\"Válido\",\"Inválido\")),\"\")","v":""}]
[null,null,null,null,null,null,null,null,null,null,null,"",{"$f":"IF(C1311<>0,(IF(lfValidaCNPJ(C1311)=TRUE,\"Válido\",\"Inválido\")),\"\")","v":""},{"$f":"IF(E1311<>0,(IF(lfValidaCEP(E1311)=TRUE,\"Válido\",\"Inválido\")),\"\")","v":""}]
[null,null,null,null,null,null,null,null,null,null,null,"",{"$f":"IF(C1312<>0,(IF(lfValidaCNPJ(C1312)=TRUE,\"Válido\",\"Inválido\")),\"\")","v":""},{"$f":"IF(E1312<>0,(IF(lfValidaCEP(E1312)=TRUE,\"Válido\",\"Inválido\")),\"\")","v":""}]
[null,null,null,null,null,null,null,null,null,null,null,"",{"$f":"IF(C1313<>0,(IF(lfValidaCNPJ(C1313)=TRUE,\"Válido\",\"Inválido\")),\"\")","v":""},{"$f":"IF(E1313<>0,(IF(lfValidaCEP(E1313)=TRUE,\"Válido\",\"Inválido\")),\"\")","v":""}]
[null,null,null,null,null,null,null,null,null,null,null,"",{"$f":"IF(C1314<>0,(IF(lfValidaCNPJ(C1314)=TRUE,\"Válido\",\"Inválido\")),\"\")","v":""},{"$f":"IF(E1314<>0,(IF(lfValidaCEP(E1314)=TRUE,\"Válido\",\"Inválido\")),\"\")","v":""}]
[null,null,null,null,null,null,null,null,null,null,null,"",{"$f":"IF(C1315<>0,(IF(lfValidaCNPJ(C1315)=TRUE,\"Válido\",\"Inválido\")),\"\")","v":""},{"$f":"IF(E1315<>0,(IF(lfValidaCEP(E1315)=TRUE,\"Válido\",\"Inválido\")),\"\")","v":""}]
[null,null,null,null,null,null,null,null,null,null,null,"",{"$f":"IF(C1316<>0,(IF(lfValidaCNPJ(C1316)=TRUE,\"Válido\",\"Inválido\")),\"\")","v":""},{"$f":"IF(E1316<>0,(IF(lfValidaCEP(E1316)=TRUE,\"Válido\",\"Inválido\")),\"\")","v":""}]
[null,null,null,null,null,null,null,null,null,null,null,"",{"$f":"IF(C1317<>0,(IF(lfValidaCNPJ(C1317)=TRUE,\"Válido\",\"Inválido\")),\"\")","v":""},{"$f":"IF(E1317<>0,(IF(lfValidaCEP(E1317)=TRUE,\"Válido\",\"Inválido\")),\"\")","v":""}]
[null,null,null,null,null,null,null,null,null,null,null,"",{"$f":"IF(C1318<>0,(IF(lfValidaCNPJ(C1318)=TRUE,\"Válido\",\"Inválido\")),\"\")","v":""},{"$f":"IF(E1318<>0,(IF(lfValidaCEP(E1318)=TRUE,\"Válido\",\"Inválido\")),\"\")","v":""}]
[null,null,null,null,null,null,null,null,null,null,null,"",{"$f":"IF(C1319<>0,(IF(lfValidaCNPJ(C1319)=TRUE,\"Válido\",\"Inválido\")),\"\")","v":""},{"$f":"IF(E1319<>0,(IF(lfValidaCEP(E1319)=TRUE,\"Válido\",\"Inválido\")),\"\")","v":""}]
[null,null,null,null,null,null,null,null,null,null,null,"",{"$f":"IF(C1320<>0,(IF(lfValidaCNPJ(C1320)=TRUE,\"Válido\",\"Inválido\")),\"\")","v":""},{"$f":"IF(E1320<>0,(IF(lfValidaCEP(E1320)=TRUE,\"Válido\",\"Inválido\")),\"\")","v":""}]
[null,null,null,null,null,null,null,null,null,null,null,"",{"$f":"IF(C1321<>0,(IF(lfValidaCNPJ(C1321)=TRUE,\"Válido\",\"Inválido\")),\"\")","v":""},{"$f":"IF(E1321<>0,(IF(lfValidaCEP(E1321)=TRUE,\"Válido\",\"Inválido\")),\"\")","v":""}]
[null,null,null,null,null,null,null,null,null,null,null,"",{"$f":"IF(C1322<>0,(IF(lfValidaCNPJ(C1322)=TRUE,\"Válido\",\"Inválido\")),\"\")","v":""},{"$f":"IF(E1322<>0,(IF(lfValidaCEP(E1322)=TRUE,\"Válido\",\"Inválido\")),\"\")","v":""}]
[null,null,null,null,null,null,null,null,null,null,null,"",{"$f":"IF(C1323<>0,(IF(lfValidaCNPJ(C1323)=TRUE,\"Válido\",\"Inválido\")),\"\")","v":""},{"$f":"IF(E1323<>0,(IF(lfValidaCEP(E1323)=TRUE,\"Válido\",\"Inválido\")),\"\")","v":""}]
[null,null,null,null,null,null,null,null,null,null,null,"",{"$f":"IF(C1324<>0,(IF(lfValidaCNPJ(C1324)=TRUE,\"Válido\",\"Inválido\")),\"\")","v":""},{"$f":"IF(E1324<>0,(IF(lfValidaCEP(E1324)=TRUE,\"Válido\",\"Inválido\")),\"\")","v":""}]
[null,null,null,null,null,null,null,null,null,null,null,"",{"$f":"IF(C1325<>0,(IF(lfValidaCNPJ(C1325)=TRUE,\"Válido\",\"Inválido\")),\"\")","v":""},{"$f":"IF(E1325<>0,(IF(lfValidaCEP(E1325)=TRUE,\"Válido\",\"Inválido\")),\"\")","v":""}]
[null,null,null,null,null,null,null,null,null,null,null,"",{"$f":"IF(C1326<>0,(IF(lfValidaCNPJ(C1326)=TRUE,\"Válido\",\"Inválido\")),\"\")","v":""},{"$f":"IF(E1326<>0,(IF(lfValidaCEP(E1326)=TRUE,\"Válido\",\"Inválido\")),\"\")","v":""}]
[null,null,null,null,null,null,null,null,null,null,null,"",{"$f":"IF(C1327<>0,(IF(lfValidaCNPJ(C1327)=TRUE,\"Válido\",\"Inválido\")),\"\")","v":""},{"$f":"IF(E1327<>0,(IF(lfValidaCEP(E1327)=TRUE,\"Válido\",\"Inválido\")),\"\")","v":""}]
[null,null,null,null,null,null,null,null,null,null,null,"",{"$f":"IF(C1328<>0,(IF(lfValidaCNPJ(C1328)=TRUE,\"Válido\",\"Inválido\")),\"\")","v":""},{"$f":"IF(E1328<>0,(IF(lfValidaCEP(E1328)=TRUE,\"Válido\",\"Inválido\")),\"\")","v":""}]
[null,null,null,null,null,null,null,null,null,null,null,"",{"$f":"IF(C1329<>0,(IF(lfValidaCNPJ(C1329)=TRUE,\"Válido\",\"Inválido\")),\"\")","v":""},{"$f":"IF(E1329<>0,(IF(lfValidaCEP(E1329)=TRUE,\"Válido\",\"Inválido\")),\"\")","v":""}]
[null,null,null,null,null,null,null,null,null,null,null,"",{"$f":"IF(C1330<>0,(IF(lfValidaCNPJ(C1330)=TRUE,\"Válido\",\"Inválido\")),\"\")","v":""},{"$f":"IF(E1330<>0,(IF(lfValidaCEP(E1330)=TRUE,\"Válido\",\"Inválido\")),\"\")","v":""}]
[null,null,null,null,null,null,null,null,null,null,null,"",{"$f":"IF(C1331<>0,(IF(lfValidaCNPJ(C1331)=TRUE,\"Válido\",\"Inválido\")),\"\")","v":""},{"$f":"IF(E1331<>0,(IF(lfValidaCEP(E1331)=TRUE,\"Válido\",\"Inválido\")),\"\")","v":""}]
[null,null,null,null,null,null,null,null,null,null,null,"",{"$f":"IF(C1332<>0,(IF(lfValidaCNPJ(C1332)=TRUE,\"Válido\",\"Inválido\")),\"\")","v":""},{"$f":"IF(E1332<>0,(IF(lfValidaCEP(E1332)=TRUE,\"Válido\",\"Inválido\")),\"\")","v":""}]
[null,null,null,null,null,null,null,null,null,null,null,"",{"$f":"IF(C1333<>0,(IF(lfValidaCNPJ(C1333)=TRUE,\"Válido\",\"Inválido\")),\"\")","v":""},{"$f":"IF(E1333<>0,(IF(lfValidaCEP(E1333)=TRUE,\"Válido\",\"Inválido\")),\"\")","v":""}]
[null,null,null,null,null,null,null,null,null,null,null,"",{"$f":"IF(C1334<>0,(IF(lfValidaCNPJ(C1334)=TRUE,\"Válido\",\"Inválido\")),\"\")","v":""},{"$f":"IF(E1334<>0,(IF(lfValidaCEP(E1334)=TRUE,\"Válido\",\"Inválido\")),\"\")","v":""}]
[null,null,null,null,null,null,null,null,null,null,null,"",{"$f":"IF(C1335<>0,(IF(lfValidaCNPJ(C1335)=TRUE,\"Válido\",\"Inválido\")),\"\")","v":""},{"$f":"IF(E1335<>0,(IF(lfValidaCEP(E1335)=TRUE,\"Válido\",\"Inválido\")),\"\")","v":""}]
[null,null,null,null,null,null,null,null,null,null,null,"",{"$f":"IF(C1336<>0,(IF(lfValidaCNPJ(C1336)=TRUE,\"Válido\",\"Inválido\")),\"\")","v":""},{"$f":"IF(E1336<>0,(IF(lfValidaCEP(E1336)=TRUE,\"Válido\",\"Inválido\")),\"\")","v":""}]
[null,null,null,null,null,null,null,null,null,null,null,"",{"$f":"IF(C1337<>0,(IF(lfValidaCNPJ(C1337)=TRUE,\"Válido\",\"Inválido\")),\"\")","v":""},{"$f":"IF(E1337<>0,(IF(lfValidaCEP(E1337)=TRUE,\"Válido\",\"Inválido\")),\"\")","v":""}]
[null,null,null,null,null,null,null,null,null,null,null,"",{"$f":"IF(C1338<>0,(IF(lfValidaCNPJ(C1338)=TRUE,\"Válido\",\"Inválido\")),\"\")","v":""},{"$f":"IF(E1338<>0,(IF(lfValidaCEP(E1338)=TRUE,\"Válido\",\"Inválido\")),\"\")","v":""}]
[null,null,null,null,null,null,null,null,null,null,null,"",{"$f":"IF(C1339<>0,(IF(lfValidaCNPJ(C1339)=TRUE,\"Válido\",\"Inválido\")),\"\")","v":""},{"$f":"IF(E1339<>0,(IF(lfValidaCEP(E1339)=TRUE,\"Válido\",\"Inválido\")),\"\")","v":""}]
[null,null,null,null,null,null,null,null,null,null,null,"",{"$f":"IF(C1340<>0,(IF(lfValidaCNPJ(C1340)=TRUE,\"Válido\",\"Inválido\")),\"\")","v":""},{"$f":"IF(E1340<>0,(IF(lfValidaCEP(E1340)=TRUE,\"Válido\",\"Inválido\")),\"\")","v":""}]
[null,null,null,null,null,null,null,null,null,null,null,"",{"$f":"IF(C1341<>0,(IF(lfValidaCNPJ(C1341)=TRUE,\"Válido\",\"Inválido\")),\"\")","v":""},{"$f":"IF(E1341<>0,(IF(lfValidaCEP(E1341)=TRUE,\"Válido\",\"Inválido\")),\"\")","v":""}]
[null,null,null,null,null,null,null,null,null,null,null,"",{"$f":"IF(C1342<>0,(IF(lfValidaCNPJ(C1342)=TRUE,\"Válido\",\"Inválido\")),\"\")","v":""},{"$f":"IF(E1342<>0,(IF(lfValidaCEP(E1342)=TRUE,\"Válido\",\"Inválido\")),\"\")","v":""}]
[null,null,null,null,null,null,null,null,null,null,null,"",{"$f":"IF(C1343<>0,(IF(lfValidaCNPJ(C1343)=TRUE,\"Válido\",\"Inválido\")),\"\")","v":""},{"$f":"IF(E1343<>0,(IF(lfValidaCEP(E1343)=TRUE,\"Válido\",\"Inválido\")),\"\")","v":""}]
[null,null,null,null,null,null,null,null,null,null,null,"",{"$f":"IF(C1344<>0,(IF(lfValidaCNPJ(C1344)=TRUE,\"Válido\",\"Inválido\")),\"\")","v":""},{"$f":"IF(E1344<>0,(IF(lfValidaCEP(E1344)=TRUE,\"Válido\",\"Inválido\")),\"\")","v":""}]
[null,null,null,null,null,null,null,null,null,null,null,"",{"$f":"IF(C1345<>0,(IF(lfValidaCNPJ(C1345)=TRUE,\"Válido\",\"Inválido\")),\"\")","v":""},{"$f":"IF(E1345<>0,(IF(lfValidaCEP(E1345)=TRUE,\"Válido\",\"Inválido\")),\"\")","v":""}]
[null,null,null,null,null,null,null,null,null,null,null,"",{"$f":"IF(C1346<>0,(IF(lfValidaCNPJ(C1346)=TRUE,\"Válido\",\"Inválido\")),\"\")","v":""},{"$f":"IF(E1346<>0,(IF(lfValidaCEP(E1346)=TRUE,\"Válido\",\"Inválido\")),\"\")","v":""}]
[null,null,null,null,null,null,null,null,null,null,null,"",{"$f":"IF(C1347<>0,(IF(lfValidaCNPJ(C1347)=TRUE,\"Válido\",\"Inválido\")),\"\")","v":""},{"$f":"IF(E1347<>0,(IF(lfValidaCEP(E1347)=TRUE,\"Válido\",\"Inválido\")),\"\")","v":""}]
[null,null,null,null,null,null,null,null,null,null,null,"",{"$f":"IF(C1348<>0,(IF(lfValidaCNPJ(C1348)=TRUE,\"Válido\",\"Inválido\")),\"\")","v":""},{"$f":"IF(E1348<>0,(IF(lfValidaCEP(E1348)=TRUE,\"Válido\",\"Inválido\")),\"\")","v":""}]
[null,null,null,null,null,null,null,null,null,null,null,"",{"$f":"IF(C1349<>0,(IF(lfValidaCNPJ(C1349)=TRUE,\"Válido\",\"Inválido\")),\"\")","v":""},{"$f":"IF(E1349<>0,(IF(lfValidaCEP(E1349)=TRUE,\"Válido\",\"Inválido\")),\"\")","v":""}]
[null,null,null,null,null,null,null,null,null,null,null,"",{"$f":"IF(C1350<>0,(IF(lfValidaCNPJ(C1350)=TRUE,\"Válido\",\"Inválido\")),\"\")","v":""},{"$f":"IF(E1350<>0,(IF(lfValidaCEP(E1350)=TRUE,\"Válido\",\"Inválido\")),\"\")","v":""}]
[null,null,null,null,null,null,null,null,null,null,null,"",{"$f":"IF(C1351<>0,(IF(lfValidaCNPJ(C1351)=TRUE,\"Válido\",\"Inválido\")),\"\")","v":""},{"$f":"IF(E1351<>0,(IF(lfValidaCEP(E1351)=TRUE,\"Válido\",\"Inválido\")),\"\")","v":""}]
[null,null,null,null,null,null,null,null,null,null,null,"",{"$f":"IF(C1352<>0,(IF(lfValidaCNPJ(C1352)=TRUE,\"Válido\",\"Inválido\")),\"\")","v":""},{"$f":"IF(E1352<>0,(IF(lfValidaCEP(E1352)=TRUE,\"Válido\",\"Inválido\")),\"\")","v":""}]
[null,null,null,null,null,null,null,null,null,null,null,"",{"$f":"IF(C1353<>0,(IF(lfValidaCNPJ(C1353)=TRUE,\"Válido\",\"Inválido\")),\"\")","v":""},{"$f":"IF(E1353<>0,(IF(lfValidaCEP(E1353)=TRUE,\"Válido\",\"Inválido\")),\"\")","v":""}]
[null,null,null,null,null,null,null,null,null,null,null,"",{"$f":"IF(C1354<>0,(IF(lfValidaCNPJ(C1354)=TRUE,\"Válido\",\"Inválido\")),\"\")","v":""},{"$f":"IF(E1354<>0,(IF(lfValidaCEP(E1354)=TRUE,\"Válido\",\"Inválido\")),\"\")","v":""}]
[null,null,null,null,null,null,null,null,null,null,null,"",{"$f":"IF(C1355<>0,(IF(lfValidaCNPJ(C1355)=TRUE,\"Válido\",\"Inválido\")),\"\")","v":""},{"$f":"IF(E1355<>0,(IF(lfValidaCEP(E1355)=TRUE,\"Válido\",\"Inválido\")),\"\")","v":""}]
[null,null,null,null,null,null,null,null,null,null,null,"",{"$f":"IF(C1356<>0,(IF(lfValidaCNPJ(C1356)=TRUE,\"Válido\",\"Inválido\")),\"\")","v":""},{"$f":"IF(E1356<>0,(IF(lfValidaCEP(E1356)=TRUE,\"Válido\",\"Inválido\")),\"\")","v":""}]
[null,null,null,null,null,null,null,null,null,null,null,"",{"$f":"IF(C1357<>0,(IF(lfValidaCNPJ(C1357)=TRUE,\"Válido\",\"Inválido\")),\"\")","v":""},{"$f":"IF(E1357<>0,(IF(lfValidaCEP(E1357)=TRUE,\"Válido\",\"Inválido\")),\"\")","v":""}]
[null,null,null,null,null,null,null,null,null,null,null,{"$f":"IF(COUNTA(B1358:J1358)<>0,IF(AND(B1358<>0,C1358<>0,D1358<>0,E1358<>0,F1358<>0,G1358<>0,H1358<>0,I1358<>0,J1358<>0),\"Completo\",\"Incompleto\"),\"\")","v":""},{"$f":"IF(C1358<>0,(IF(lfValidaCNPJ(C1358)=TRUE,\"Válido\",\"Inválido\")),\"\")","v":""},{"$f":"IF(E1358<>0,(IF(lfValidaCEP(E1358)=TRUE,\"Válido\",\"Inválido\")),\"\")","v":""}]
[null,null,null,null,null,null,null,null,null,null,null,"",{"$f":"IF(C1359<>0,(IF(lfValidaCNPJ(C1359)=TRUE,\"Válido\",\"Inválido\")),\"\")","v":""},{"$f":"IF(E1359<>0,(IF(lfValidaCEP(E1359)=TRUE,\"Válido\",\"Inválido\")),\"\")","v":""}]
[null,null,null,null,null,null,null,null,null,null,null,"",{"$f":"IF(C1360<>0,(IF(lfValidaCNPJ(C1360)=TRUE,\"Válido\",\"Inválido\")),\"\")","v":""},{"$f":"IF(E1360<>0,(IF(lfValidaCEP(E1360)=TRUE,\"Válido\",\"Inválido\")),\"\")","v":""}]
[null,null,null,null,null,null,null,null,null,null,null,"",{"$f":"IF(C1361<>0,(IF(lfValidaCNPJ(C1361)=TRUE,\"Válido\",\"Inválido\")),\"\")","v":""},{"$f":"IF(E1361<>0,(IF(lfValidaCEP(E1361)=TRUE,\"Válido\",\"Inválido\")),\"\")","v":""}]
[null,null,null,null,null,null,null,null,null,null,null,"",{"$f":"IF(C1362<>0,(IF(lfValidaCNPJ(C1362)=TRUE,\"Válido\",\"Inválido\")),\"\")","v":""},{"$f":"IF(E1362<>0,(IF(lfValidaCEP(E1362)=TRUE,\"Válido\",\"Inválido\")),\"\")","v":""}]
[null,null,null,null,null,null,null,null,null,null,null,"",{"$f":"IF(C1363<>0,(IF(lfValidaCNPJ(C1363)=TRUE,\"Válido\",\"Inválido\")),\"\")","v":""},{"$f":"IF(E1363<>0,(IF(lfValidaCEP(E1363)=TRUE,\"Válido\",\"Inválido\")),\"\")","v":""}]
[null,null,null,null,null,null,null,null,null,null,null,"",{"$f":"IF(C1364<>0,(IF(lfValidaCNPJ(C1364)=TRUE,\"Válido\",\"Inválido\")),\"\")","v":""},{"$f":"IF(E1364<>0,(IF(lfValidaCEP(E1364)=TRUE,\"Válido\",\"Inválido\")),\"\")","v":""}]
[null,null,null,null,null,null,null,null,null,null,null,"",{"$f":"IF(C1365<>0,(IF(lfValidaCNPJ(C1365)=TRUE,\"Válido\",\"Inválido\")),\"\")","v":""},{"$f":"IF(E1365<>0,(IF(lfValidaCEP(E1365)=TRUE,\"Válido\",\"Inválido\")),\"\")","v":""}]
[null,null,null,null,null,null,null,null,null,null,null,"",{"$f":"IF(C1366<>0,(IF(lfValidaCNPJ(C1366)=TRUE,\"Válido\",\"Inválido\")),\"\")","v":""},{"$f":"IF(E1366<>0,(IF(lfValidaCEP(E1366)=TRUE,\"Válido\",\"Inválido\")),\"\")","v":""}]
[null,null,null,null,null,null,null,null,null,null,null,"",{"$f":"IF(C1367<>0,(IF(lfValidaCNPJ(C1367)=TRUE,\"Válido\",\"Inválido\")),\"\")","v":""},{"$f":"IF(E1367<>0,(IF(lfValidaCEP(E1367)=TRUE,\"Válido\",\"Inválido\")),\"\")","v":""}]
[null,null,null,null,null,null,null,null,null,null,null,"",{"$f":"IF(C1368<>0,(IF(lfValidaCNPJ(C1368)=TRUE,\"Válido\",\"Inválido\")),\"\")","v":""},{"$f":"IF(E1368<>0,(IF(lfValidaCEP(E1368)=TRUE,\"Válido\",\"Inválido\")),\"\")","v":""}]
[null,null,null,null,null,null,null,null,null,null,null,"",{"$f":"IF(C1369<>0,(IF(lfValidaCNPJ(C1369)=TRUE,\"Válido\",\"Inválido\")),\"\")","v":""},{"$f":"IF(E1369<>0,(IF(lfValidaCEP(E1369)=TRUE,\"Válido\",\"Inválido\")),\"\")","v":""}]
[null,null,null,null,null,null,null,null,null,null,null,"",{"$f":"IF(C1370<>0,(IF(lfValidaCNPJ(C1370)=TRUE,\"Válido\",\"Inválido\")),\"\")","v":""},{"$f":"IF(E1370<>0,(IF(lfValidaCEP(E1370)=TRUE,\"Válido\",\"Inválido\")),\"\")","v":""}]
[null,null,null,null,null,null,null,null,null,null,null,"",{"$f":"IF(C1371<>0,(IF(lfValidaCNPJ(C1371)=TRUE,\"Válido\",\"Inválido\")),\"\")","v":""},{"$f":"IF(E1371<>0,(IF(lfValidaCEP(E1371)=TRUE,\"Válido\",\"Inválido\")),\"\")","v":""}]
[null,null,null,null,null,null,null,null,null,null,null,"",{"$f":"IF(C1372<>0,(IF(lfValidaCNPJ(C1372)=TRUE,\"Válido\",\"Inválido\")),\"\")","v":""},{"$f":"IF(E1372<>0,(IF(lfValidaCEP(E1372)=TRUE,\"Válido\",\"Inválido\")),\"\")","v":""}]
[null,null,null,null,null,null,null,null,null,null,null,"",{"$f":"IF(C1373<>0,(IF(lfValidaCNPJ(C1373)=TRUE,\"Válido\",\"Inválido\")),\"\")","v":""},{"$f":"IF(E1373<>0,(IF(lfValidaCEP(E1373)=TRUE,\"Válido\",\"Inválido\")),\"\")","v":""}]
[null,null,null,null,null,null,null,null,null,null,null,"",{"$f":"IF(C1374<>0,(IF(lfValidaCNPJ(C1374)=TRUE,\"Válido\",\"Inválido\")),\"\")","v":""},{"$f":"IF(E1374<>0,(IF(lfValidaCEP(E1374)=TRUE,\"Válido\",\"Inválido\")),\"\")","v":""}]
[null,null,null,null,null,null,null,null,null,null,null,"",{"$f":"IF(C1375<>0,(IF(lfValidaCNPJ(C1375)=TRUE,\"Válido\",\"Inválido\")),\"\")","v":""},{"$f":"IF(E1375<>0,(IF(lfValidaCEP(E1375)=TRUE,\"Válido\",\"Inválido\")),\"\")","v":""}]
[null,null,null,null,null,null,null,null,null,null,null,"",{"$f":"IF(C1376<>0,(IF(lfValidaCNPJ(C1376)=TRUE,\"Válido\",\"Inválido\")),\"\")","v":""},{"$f":"IF(E1376<>0,(IF(lfValidaCEP(E1376)=TRUE,\"Válido\",\"Inválido\")),\"\")","v":""}]
[null,null,null,null,null,null,null,null,null,null,null,"",{"$f":"IF(C1377<>0,(IF(lfValidaCNPJ(C1377)=TRUE,\"Válido\",\"Inválido\")),\"\")","v":""},{"$f":"IF(E1377<>0,(IF(lfValidaCEP(E1377)=TRUE,\"Válido\",\"Inválido\")),\"\")","v":""}]
[null,null,null,null,null,null,null,null,null,null,null,"",{"$f":"IF(C1378<>0,(IF(lfValidaCNPJ(C1378)=TRUE,\"Válido\",\"Inválido\")),\"\")","v":""},{"$f":"IF(E1378<>0,(IF(lfValidaCEP(E1378)=TRUE,\"Válido\",\"Inválido\")),\"\")","v":""}]
[null,null,null,null,null,null,null,null,null,null,null,"",{"$f":"IF(C1379<>0,(IF(lfValidaCNPJ(C1379)=TRUE,\"Válido\",\"Inválido\")),\"\")","v":""},{"$f":"IF(E1379<>0,(IF(lfValidaCEP(E1379)=TRUE,\"Válido\",\"Inválido\")),\"\")","v":""}]
[null,null,null,null,null,null,null,null,null,null,null,"",{"$f":"IF(C1380<>0,(IF(lfValidaCNPJ(C1380)=TRUE,\"Válido\",\"Inválido\")),\"\")","v":""},{"$f":"IF(E1380<>0,(IF(lfValidaCEP(E1380)=TRUE,\"Válido\",\"Inválido\")),\"\")","v":""}]
[null,null,null,null,null,null,null,null,null,null,null,"",{"$f":"IF(C1381<>0,(IF(lfValidaCNPJ(C1381)=TRUE,\"Válido\",\"Inválido\")),\"\")","v":""},{"$f":"IF(E1381<>0,(IF(lfValidaCEP(E1381)=TRUE,\"Válido\",\"Inválido\")),\"\")","v":""}]
[null,null,null,null,null,null,null,null,null,null,null,"",{"$f":"IF(C1382<>0,(IF(lfValidaCNPJ(C1382)=TRUE,\"Válido\",\"Inválido\")),\"\")","v":""},{"$f":"IF(E1382<>0,(IF(lfValidaCEP(E1382)=TRUE,\"Válido\",\"Inválido\")),\"\")","v":""}]
[null,null,null,null,null,null,null,null,null,null,null,"",{"$f":"IF(C1383<>0,(IF(lfValidaCNPJ(C1383)=TRUE,\"Válido\",\"Inválido\")),\"\")","v":""},{"$f":"IF(E1383<>0,(IF(lfValidaCEP(E1383)=TRUE,\"Válido\",\"Inválido\")),\"\")","v":""}]
[null,null,null,null,null,null,null,null,null,null,null,"",{"$f":"IF(C1384<>0,(IF(lfValidaCNPJ(C1384)=TRUE,\"Válido\",\"Inválido\")),\"\")","v":""},{"$f":"IF(E1384<>0,(IF(lfValidaCEP(E1384)=TRUE,\"Válido\",\"Inválido\")),\"\")","v":""}]
[null,null,null,null,null,null,null,null,null,null,null,"",{"$f":"IF(C1385<>0,(IF(lfValidaCNPJ(C1385)=TRUE,\"Válido\",\"Inválido\")),\"\")","v":""},{"$f":"IF(E1385<>0,(IF(lfValidaCEP(E1385)=TRUE,\"Válido\",\"Inválido\")),\"\")","v":""}]
[null,null,null,null,null,null,null,null,null,null,null,"",{"$f":"IF(C1386<>0,(IF(lfValidaCNPJ(C1386)=TRUE,\"Válido\",\"Inválido\")),\"\")","v":""},{"$f":"IF(E1386<>0,(IF(lfValidaCEP(E1386)=TRUE,\"Válido\",\"Inválido\")),\"\")","v":""}]
[null,null,null,null,null,null,null,null,null,null,null,"",{"$f":"IF(C1387<>0,(IF(lfValidaCNPJ(C1387)=TRUE,\"Válido\",\"Inválido\")),\"\")","v":""},{"$f":"IF(E1387<>0,(IF(lfValidaCEP(E1387)=TRUE,\"Válido\",\"Inválido\")),\"\")","v":""}]
[null,null,null,null,null,null,null,null,null,null,null,"",{"$f":"IF(C1388<>0,(IF(lfValidaCNPJ(C1388)=TRUE,\"Válido\",\"Inválido\")),\"\")","v":""},{"$f":"IF(E1388<>0,(IF(lfValidaCEP(E1388)=TRUE,\"Válido\",\"Inválido\")),\"\")","v":""}]
[null,null,null,null,null,null,null,null,null,null,null,"",{"$f":"IF(C1389<>0,(IF(lfValidaCNPJ(C1389)=TRUE,\"Válido\",\"Inválido\")),\"\")","v":""},{"$f":"IF(E1389<>0,(IF(lfValidaCEP(E1389)=TRUE,\"Válido\",\"Inválido\")),\"\")","v":""}]
[null,null,null,null,null,null,null,null,null,null,null,"",{"$f":"IF(C1390<>0,(IF(lfValidaCNPJ(C1390)=TRUE,\"Válido\",\"Inválido\")),\"\")","v":""},{"$f":"IF(E1390<>0,(IF(lfValidaCEP(E1390)=TRUE,\"Válido\",\"Inválido\")),\"\")","v":""}]
[null,null,null,null,null,null,null,null,null,null,null,"",{"$f":"IF(C1391<>0,(IF(lfValidaCNPJ(C1391)=TRUE,\"Válido\",\"Inválido\")),\"\")","v":""},{"$f":"IF(E1391<>0,(IF(lfValidaCEP(E1391)=TRUE,\"Válido\",\"Inválido\")),\"\")","v":""}]
[null,null,null,null,null,null,null,null,null,null,null,"",{"$f":"IF(C1392<>0,(IF(lfValidaCNPJ(C1392)=TRUE,\"Válido\",\"Inválido\")),\"\")","v":""},{"$f":"IF(E1392<>0,(IF(lfValidaCEP(E1392)=TRUE,\"Válido\",\"Inválido\")),\"\")","v":""}]
[null,null,null,null,null,null,null,null,null,null,null,"",{"$f":"IF(C1393<>0,(IF(lfValidaCNPJ(C1393)=TRUE,\"Válido\",\"Inválido\")),\"\")","v":""},{"$f":"IF(E1393<>0,(IF(lfValidaCEP(E1393)=TRUE,\"Válido\",\"Inválido\")),\"\")","v":""}]
[null,null,null,null,null,null,null,null,null,null,null,"",{"$f":"IF(C1394<>0,(IF(lfValidaCNPJ(C1394)=TRUE,\"Válido\",\"Inválido\")),\"\")","v":""},{"$f":"IF(E1394<>0,(IF(lfValidaCEP(E1394)=TRUE,\"Válido\",\"Inválido\")),\"\")","v":""}]
[null,null,null,null,null,null,null,null,null,null,null,"",{"$f":"IF(C1395<>0,(IF(lfValidaCNPJ(C1395)=TRUE,\"Válido\",\"Inválido\")),\"\")","v":""},{"$f":"IF(E1395<>0,(IF(lfValidaCEP(E1395)=TRUE,\"Válido\",\"Inválido\")),\"\")","v":""}]
[null,null,null,null,null,null,null,null,null,null,null,"",{"$f":"IF(C1396<>0,(IF(lfValidaCNPJ(C1396)=TRUE,\"Válido\",\"Inválido\")),\"\")","v":""},{"$f":"IF(E1396<>0,(IF(lfValidaCEP(E1396)=TRUE,\"Válido\",\"Inválido\")),\"\")","v":""}]
[null,null,null,null,null,null,null,null,null,null,null,"",{"$f":"IF(C1397<>0,(IF(lfValidaCNPJ(C1397)=TRUE,\"Válido\",\"Inválido\")),\"\")","v":""},{"$f":"IF(E1397<>0,(IF(lfValidaCEP(E1397)=TRUE,\"Válido\",\"Inválido\")),\"\")","v":""}]
[null,null,null,null,null,null,null,null,null,null,null,"",{"$f":"IF(C1398<>0,(IF(lfValidaCNPJ(C1398)=TRUE,\"Válido\",\"Inválido\")),\"\")","v":""},{"$f":"IF(E1398<>0,(IF(lfValidaCEP(E1398)=TRUE,\"Válido\",\"Inválido\")),\"\")","v":""}]
[null,null,null,null,null,null,null,null,null,null,null,"",{"$f":"IF(C1399<>0,(IF(lfValidaCNPJ(C1399)=TRUE,\"Válido\",\"Inválido\")),\"\")","v":""},{"$f":"IF(E1399<>0,(IF(lfValidaCEP(E1399)=TRUE,\"Válido\",\"Inválido\")),\"\")","v":""}]
[null,null,null,null,null,null,null,null,null,null,null,"",{"$f":"IF(C1400<>0,(IF(lfValidaCNPJ(C1400)=TRUE,\"Válido\",\"Inválido\")),\"\")","v":""},{"$f":"IF(E1400<>0,(IF(lfValidaCEP(E1400)=TRUE,\"Válido\",\"Inválido\")),\"\")","v":""}]
[null,null,null,null,null,null,null,null,null,null,null,"",{"$f":"IF(C1401<>0,(IF(lfValidaCNPJ(C1401)=TRUE,\"Válido\",\"Inválido\")),\"\")","v":""},{"$f":"IF(E1401<>0,(IF(lfValidaCEP(E1401)=TRUE,\"Válido\",\"Inválido\")),\"\")","v":""}]
[null,null,null,null,null,null,null,null,null,null,null,"",{"$f":"IF(C1402<>0,(IF(lfValidaCNPJ(C1402)=TRUE,\"Válido\",\"Inválido\")),\"\")","v":""},{"$f":"IF(E1402<>0,(IF(lfValidaCEP(E1402)=TRUE,\"Válido\",\"Inválido\")),\"\")","v":""}]
[null,null,null,null,null,null,null,null,null,null,null,"",{"$f":"IF(C1403<>0,(IF(lfValidaCNPJ(C1403)=TRUE,\"Válido\",\"Inválido\")),\"\")","v":""},{"$f":"IF(E1403<>0,(IF(lfValidaCEP(E1403)=TRUE,\"Válido\",\"Inválido\")),\"\")","v":""}]
[null,null,null,null,null,null,null,null,null,null,null,"",{"$f":"IF(C1404<>0,(IF(lfValidaCNPJ(C1404)=TRUE,\"Válido\",\"Inválido\")),\"\")","v":""},{"$f":"IF(E1404<>0,(IF(lfValidaCEP(E1404)=TRUE,\"Válido\",\"Inválido\")),\"\")","v":""}]
[null,null,null,null,null,null,null,null,null,null,null,"",{"$f":"IF(C1405<>0,(IF(lfValidaCNPJ(C1405)=TRUE,\"Válido\",\"Inválido\")),\"\")","v":""},{"$f":"IF(E1405<>0,(IF(lfValidaCEP(E1405)=TRUE,\"Válido\",\"Inválido\")),\"\")","v":""}]
[null,null,null,null,null,null,null,null,null,null,null,"",{"$f":"IF(C1406<>0,(IF(lfValidaCNPJ(C1406)=TRUE,\"Válido\",\"Inválido\")),\"\")","v":""},{"$f":"IF(E1406<>0,(IF(lfValidaCEP(E1406)=TRUE,\"Válido\",\"Inválido\")),\"\")","v":""}]
[null,null,null,null,null,null,null,null,null,null,null,"",{"$f":"IF(C1407<>0,(IF(lfValidaCNPJ(C1407)=TRUE,\"Válido\",\"Inválido\")),\"\")","v":""},{"$f":"IF(E1407<>0,(IF(lfValidaCEP(E1407)=TRUE,\"Válido\",\"Inválido\")),\"\")","v":""}]
[null,null,null,null,null,null,null,null,null,null,null,"",{"$f":"IF(C1408<>0,(IF(lfValidaCNPJ(C1408)=TRUE,\"Válido\",\"Inválido\")),\"\")","v":""},{"$f":"IF(E1408<>0,(IF(lfValidaCEP(E1408)=TRUE,\"Válido\",\"Inválido\")),\"\")","v":""}]
[null,null,null,null,null,null,null,null,null,null,null,"",{"$f":"IF(C1409<>0,(IF(lfValidaCNPJ(C1409)=TRUE,\"Válido\",\"Inválido\")),\"\")","v":""},{"$f":"IF(E1409<>0,(IF(lfValidaCEP(E1409)=TRUE,\"Válido\",\"Inválido\")),\"\")","v":""}]
[null,null,null,null,null,null,null,null,null,null,null,"",{"$f":"IF(C1410<>0,(IF(lfValidaCNPJ(C1410)=TRUE,\"Válido\",\"Inválido\")),\"\")","v":""},{"$f":"IF(E1410<>0,(IF(lfValidaCEP(E1410)=TRUE,\"Válido\",\"Inválido\")),\"\")","v":""}]
[null,null,null,null,null,null,null,null,null,null,null,"",{"$f":"IF(C1411<>0,(IF(lfValidaCNPJ(C1411)=TRUE,\"Válido\",\"Inválido\")),\"\")","v":""},{"$f":"IF(E1411<>0,(IF(lfValidaCEP(E1411)=TRUE,\"Válido\",\"Inválido\")),\"\")","v":""}]
[null,null,null,null,null,null,null,null,null,null,null,"",{"$f":"IF(C1412<>0,(IF(lfValidaCNPJ(C1412)=TRUE,\"Válido\",\"Inválido\")),\"\")","v":""},{"$f":"IF(E1412<>0,(IF(lfValidaCEP(E1412)=TRUE,\"Válido\",\"Inválido\")),\"\")","v":""}]
[null,null,null,null,null,null,null,null,null,null,null,"",{"$f":"IF(C1413<>0,(IF(lfValidaCNPJ(C1413)=TRUE,\"Válido\",\"Inválido\")),\"\")","v":""},{"$f":"IF(E1413<>0,(IF(lfValidaCEP(E1413)=TRUE,\"Válido\",\"Inválido\")),\"\")","v":""}]
[null,null,null,null,null,null,null,null,null,null,null,"",{"$f":"IF(C1414<>0,(IF(lfValidaCNPJ(C1414)=TRUE,\"Válido\",\"Inválido\")),\"\")","v":""},{"$f":"IF(E1414<>0,(IF(lfValidaCEP(E1414)=TRUE,\"Válido\",\"Inválido\")),\"\")","v":""}]
[null,null,null,null,null,null,null,null,null,null,null,"",{"$f":"IF(C1415<>0,(IF(lfValidaCNPJ(C1415)=TRUE,\"Válido\",\"Inválido\")),\"\")","v":""},{"$f":"IF(E1415<>0,(IF(lfValidaCEP(E1415)=TRUE,\"Válido\",\"Inválido\")),\"\")","v":""}]
[null,null,null,null,null,null,null,null,null,null,null,"",{"$f":"IF(C1416<>0,(IF(lfValidaCNPJ(C1416)=TRUE,\"Válido\",\"Inválido\")),\"\")","v":""},{"$f":"IF(E1416<>0,(IF(lfValidaCEP(E1416)=TRUE,\"Válido\",\"Inválido\")),\"\")","v":""}]
[null,null,null,null,null,null,null,null,null,null,null,"",{"$f":"IF(C1417<>0,(IF(lfValidaCNPJ(C1417)=TRUE,\"Válido\",\"Inválido\")),\"\")","v":""},{"$f":"IF(E1417<>0,(IF(lfValidaCEP(E1417)=TRUE,\"Válido\",\"Inválido\")),\"\")","v":""}]
[null,null,null,null,null,null,null,null,null,null,null,"",{"$f":"IF(C1418<>0,(IF(lfValidaCNPJ(C1418)=TRUE,\"Válido\",\"Inválido\")),\"\")","v":""},{"$f":"IF(E1418<>0,(IF(lfValidaCEP(E1418)=TRUE,\"Válido\",\"Inválido\")),\"\")","v":""}]
[null,null,null,null,null,null,null,null,null,null,null,"",{"$f":"IF(C1419<>0,(IF(lfValidaCNPJ(C1419)=TRUE,\"Válido\",\"Inválido\")),\"\")","v":""},{"$f":"IF(E1419<>0,(IF(lfValidaCEP(E1419)=TRUE,\"Válido\",\"Inválido\")),\"\")","v":""}]
[null,null,null,null,null,null,null,null,null,null,null,"",{"$f":"IF(C1420<>0,(IF(lfValidaCNPJ(C1420)=TRUE,\"Válido\",\"Inválido\")),\"\")","v":""},{"$f":"IF(E1420<>0,(IF(lfValidaCEP(E1420)=TRUE,\"Válido\",\"Inválido\")),\"\")","v":""}]
[null,null,null,null,null,null,null,null,null,null,null,"",{"$f":"IF(C1421<>0,(IF(lfValidaCNPJ(C1421)=TRUE,\"Válido\",\"Inválido\")),\"\")","v":""},{"$f":"IF(E1421<>0,(IF(lfValidaCEP(E1421)=TRUE,\"Válido\",\"Inválido\")),\"\")","v":""}]
[null,null,null,null,null,null,null,null,null,null,null,{"$f":"IF(COUNTA(B1422:J1422)<>0,IF(AND(B1422<>0,C1422<>0,D1422<>0,E1422<>0,F1422<>0,G1422<>0,H1422<>0,I1422<>0,J1422<>0),\"Completo\",\"Incompleto\"),\"\")","v":""},{"$f":"IF(C1422<>0,(IF(lfValidaCNPJ(C1422)=TRUE,\"Válido\",\"Inválido\")),\"\")","v":""},{"$f":"IF(E1422<>0,(IF(lfValidaCEP(E1422)=TRUE,\"Válido\",\"Inválido\")),\"\")","v":""}]
[null,null,null,null,null,null,null,null,null,null,null,"",{"$f":"IF(C1423<>0,(IF(lfValidaCNPJ(C1423)=TRUE,\"Válido\",\"Inválido\")),\"\")","v":""},{"$f":"IF(E1423<>0,(IF(lfValidaCEP(E1423)=TRUE,\"Válido\",\"Inválido\")),\"\")","v":""}]
[null,null,null,null,null,null,null,null,null,null,null,"",{"$f":"IF(C1424<>0,(IF(lfValidaCNPJ(C1424)=TRUE,\"Válido\",\"Inválido\")),\"\")","v":""},{"$f":"IF(E1424<>0,(IF(lfValidaCEP(E1424)=TRUE,\"Válido\",\"Inválido\")),\"\")","v":""}]
[null,null,null,null,null,null,null,null,null,null,null,"",{"$f":"IF(C1425<>0,(IF(lfValidaCNPJ(C1425)=TRUE,\"Válido\",\"Inválido\")),\"\")","v":""},{"$f":"IF(E1425<>0,(IF(lfValidaCEP(E1425)=TRUE,\"Válido\",\"Inválido\")),\"\")","v":""}]
[null,null,null,null,null,null,null,null,null,null,null,"",{"$f":"IF(C1426<>0,(IF(lfValidaCNPJ(C1426)=TRUE,\"Válido\",\"Inválido\")),\"\")","v":""},{"$f":"IF(E1426<>0,(IF(lfValidaCEP(E1426)=TRUE,\"Válido\",\"Inválido\")),\"\")","v":""}]
[null,null,null,null,null,null,null,null,null,null,null,"",{"$f":"IF(C1427<>0,(IF(lfValidaCNPJ(C1427)=TRUE,\"Válido\",\"Inválido\")),\"\")","v":""},{"$f":"IF(E1427<>0,(IF(lfValidaCEP(E1427)=TRUE,\"Válido\",\"Inválido\")),\"\")","v":""}]
[null,null,null,null,null,null,null,null,null,null,null,"",{"$f":"IF(C1428<>0,(IF(lfValidaCNPJ(C1428)=TRUE,\"Válido\",\"Inválido\")),\"\")","v":""},{"$f":"IF(E1428<>0,(IF(lfValidaCEP(E1428)=TRUE,\"Válido\",\"Inválido\")),\"\")","v":""}]
[null,null,null,null,null,null,null,null,null,null,null,"",{"$f":"IF(C1429<>0,(IF(lfValidaCNPJ(C1429)=TRUE,\"Válido\",\"Inválido\")),\"\")","v":""},{"$f":"IF(E1429<>0,(IF(lfValidaCEP(E1429)=TRUE,\"Válido\",\"Inválido\")),\"\")","v":""}]
[null,null,null,null,null,null,null,null,null,null,null,"",{"$f":"IF(C1430<>0,(IF(lfValidaCNPJ(C1430)=TRUE,\"Válido\",\"Inválido\")),\"\")","v":""},{"$f":"IF(E1430<>0,(IF(lfValidaCEP(E1430)=TRUE,\"Válido\",\"Inválido\")),\"\")","v":""}]
[null,null,null,null,null,null,null,null,null,null,null,"",{"$f":"IF(C1431<>0,(IF(lfValidaCNPJ(C1431)=TRUE,\"Válido\",\"Inválido\")),\"\")","v":""},{"$f":"IF(E1431<>0,(IF(lfValidaCEP(E1431)=TRUE,\"Válido\",\"Inválido\")),\"\")","v":""}]
[null,null,null,null,null,null,null,null,null,null,null,"",{"$f":"IF(C1432<>0,(IF(lfValidaCNPJ(C1432)=TRUE,\"Válido\",\"Inválido\")),\"\")","v":""},{"$f":"IF(E1432<>0,(IF(lfValidaCEP(E1432)=TRUE,\"Válido\",\"Inválido\")),\"\")","v":""}]
[null,null,null,null,null,null,null,null,null,null,null,"",{"$f":"IF(C1433<>0,(IF(lfValidaCNPJ(C1433)=TRUE,\"Válido\",\"Inválido\")),\"\")","v":""},{"$f":"IF(E1433<>0,(IF(lfValidaCEP(E1433)=TRUE,\"Válido\",\"Inválido\")),\"\")","v":""}]
[null,null,null,null,null,null,null,null,null,null,null,"",{"$f":"IF(C1434<>0,(IF(lfValidaCNPJ(C1434)=TRUE,\"Válido\",\"Inválido\")),\"\")","v":""},{"$f":"IF(E1434<>0,(IF(lfValidaCEP(E1434)=TRUE,\"Válido\",\"Inválido\")),\"\")","v":""}]
[null,null,null,null,null,null,null,null,null,null,null,"",{"$f":"IF(C1435<>0,(IF(lfValidaCNPJ(C1435)=TRUE,\"Válido\",\"Inválido\")),\"\")","v":""},{"$f":"IF(E1435<>0,(IF(lfValidaCEP(E1435)=TRUE,\"Válido\",\"Inválido\")),\"\")","v":""}]
[null,null,null,null,null,null,null,null,null,null,null,"",{"$f":"IF(C1436<>0,(IF(lfValidaCNPJ(C1436)=TRUE,\"Válido\",\"Inválido\")),\"\")","v":""},{"$f":"IF(E1436<>0,(IF(lfValidaCEP(E1436)=TRUE,\"Válido\",\"Inválido\")),\"\")","v":""}]
[null,null,null,null,null,null,null,null,null,null,null,"",{"$f":"IF(C1437<>0,(IF(lfValidaCNPJ(C1437)=TRUE,\"Válido\",\"Inválido\")),\"\")","v":""},{"$f":"IF(E1437<>0,(IF(lfValidaCEP(E1437)=TRUE,\"Válido\",\"Inválido\")),\"\")","v":""}]
[null,null,null,null,null,null,null,null,null,null,null,"",{"$f":"IF(C1438<>0,(IF(lfValidaCNPJ(C1438)=TRUE,\"Válido\",\"Inválido\")),\"\")","v":""},{"$f":"IF(E1438<>0,(IF(lfValidaCEP(E1438)=TRUE,\"Válido\",\"Inválido\")),\"\")","v":""}]
[null,null,null,null,null,null,null,null,null,null,null,"",{"$f":"IF(C1439<>0,(IF(lfValidaCNPJ(C1439)=TRUE,\"Válido\",\"Inválido\")),\"\")","v":""},{"$f":"IF(E1439<>0,(IF(lfValidaCEP(E1439)=TRUE,\"Válido\",\"Inválido\")),\"\")","v":""}]
[null,null,null,null,null,null,null,null,null,null,null,"",{"$f":"IF(C1440<>0,(IF(lfValidaCNPJ(C1440)=TRUE,\"Válido\",\"Inválido\")),\"\")","v":""},{"$f":"IF(E1440<>0,(IF(lfValidaCEP(E1440)=TRUE,\"Válido\",\"Inválido\")),\"\")","v":""}]
[null,null,null,null,null,null,null,null,null,null,null,"",{"$f":"IF(C1441<>0,(IF(lfValidaCNPJ(C1441)=TRUE,\"Válido\",\"Inválido\")),\"\")","v":""},{"$f":"IF(E1441<>0,(IF(lfValidaCEP(E1441)=TRUE,\"Válido\",\"Inválido\")),\"\")","v":""}]
[null,null,null,null,null,null,null,null,null,null,null,"",{"$f":"IF(C1442<>0,(IF(lfValidaCNPJ(C1442)=TRUE,\"Válido\",\"Inválido\")),\"\")","v":""},{"$f":"IF(E1442<>0,(IF(lfValidaCEP(E1442)=TRUE,\"Válido\",\"Inválido\")),\"\")","v":""}]
[null,null,null,null,null,null,null,null,null,null,null,"",{"$f":"IF(C1443<>0,(IF(lfValidaCNPJ(C1443)=TRUE,\"Válido\",\"Inválido\")),\"\")","v":""},{"$f":"IF(E1443<>0,(IF(lfValidaCEP(E1443)=TRUE,\"Válido\",\"Inválido\")),\"\")","v":""}]
[null,null,null,null,null,null,null,null,null,null,null,"",{"$f":"IF(C1444<>0,(IF(lfValidaCNPJ(C1444)=TRUE,\"Válido\",\"Inválido\")),\"\")","v":""},{"$f":"IF(E1444<>0,(IF(lfValidaCEP(E1444)=TRUE,\"Válido\",\"Inválido\")),\"\")","v":""}]
[null,null,null,null,null,null,null,null,null,null,null,"",{"$f":"IF(C1445<>0,(IF(lfValidaCNPJ(C1445)=TRUE,\"Válido\",\"Inválido\")),\"\")","v":""},{"$f":"IF(E1445<>0,(IF(lfValidaCEP(E1445)=TRUE,\"Válido\",\"Inválido\")),\"\")","v":""}]
[null,null,null,null,null,null,null,null,null,null,null,"",{"$f":"IF(C1446<>0,(IF(lfValidaCNPJ(C1446)=TRUE,\"Válido\",\"Inválido\")),\"\")","v":""},{"$f":"IF(E1446<>0,(IF(lfValidaCEP(E1446)=TRUE,\"Válido\",\"Inválido\")),\"\")","v":""}]
[null,null,null,null,null,null,null,null,null,null,null,"",{"$f":"IF(C1447<>0,(IF(lfValidaCNPJ(C1447)=TRUE,\"Válido\",\"Inválido\")),\"\")","v":""},{"$f":"IF(E1447<>0,(IF(lfValidaCEP(E1447)=TRUE,\"Válido\",\"Inválido\")),\"\")","v":""}]
[null,null,null,null,null,null,null,null,null,null,null,"",{"$f":"IF(C1448<>0,(IF(lfValidaCNPJ(C1448)=TRUE,\"Válido\",\"Inválido\")),\"\")","v":""},{"$f":"IF(E1448<>0,(IF(lfValidaCEP(E1448)=TRUE,\"Válido\",\"Inválido\")),\"\")","v":""}]
[null,null,null,null,null,null,null,null,null,null,null,"",{"$f":"IF(C1449<>0,(IF(lfValidaCNPJ(C1449)=TRUE,\"Válido\",\"Inválido\")),\"\")","v":""},{"$f":"IF(E1449<>0,(IF(lfValidaCEP(E1449)=TRUE,\"Válido\",\"Inválido\")),\"\")","v":""}]
[null,null,null,null,null,null,null,null,null,null,null,"",{"$f":"IF(C1450<>0,(IF(lfValidaCNPJ(C1450)=TRUE,\"Válido\",\"Inválido\")),\"\")","v":""},{"$f":"IF(E1450<>0,(IF(lfValidaCEP(E1450)=TRUE,\"Válido\",\"Inválido\")),\"\")","v":""}]
[null,null,null,null,null,null,null,null,null,null,null,"",{"$f":"IF(C1451<>0,(IF(lfValidaCNPJ(C1451)=TRUE,\"Válido\",\"Inválido\")),\"\")","v":""},{"$f":"IF(E1451<>0,(IF(lfValidaCEP(E1451)=TRUE,\"Válido\",\"Inválido\")),\"\")","v":""}]
[null,null,null,null,null,null,null,null,null,null,null,"",{"$f":"IF(C1452<>0,(IF(lfValidaCNPJ(C1452)=TRUE,\"Válido\",\"Inválido\")),\"\")","v":""},{"$f":"IF(E1452<>0,(IF(lfValidaCEP(E1452)=TRUE,\"Válido\",\"Inválido\")),\"\")","v":""}]
[null,null,null,null,null,null,null,null,null,null,null,"",{"$f":"IF(C1453<>0,(IF(lfValidaCNPJ(C1453)=TRUE,\"Válido\",\"Inválido\")),\"\")","v":""},{"$f":"IF(E1453<>0,(IF(lfValidaCEP(E1453)=TRUE,\"Válido\",\"Inválido\")),\"\")","v":""}]
[null,null,null,null,null,null,null,null,null,null,null,"",{"$f":"IF(C1454<>0,(IF(lfValidaCNPJ(C1454)=TRUE,\"Válido\",\"Inválido\")),\"\")","v":""},{"$f":"IF(E1454<>0,(IF(lfValidaCEP(E1454)=TRUE,\"Válido\",\"Inválido\")),\"\")","v":""}]
[null,null,null,null,null,null,null,null,null,null,null,"",{"$f":"IF(C1455<>0,(IF(lfValidaCNPJ(C1455)=TRUE,\"Válido\",\"Inválido\")),\"\")","v":""},{"$f":"IF(E1455<>0,(IF(lfValidaCEP(E1455)=TRUE,\"Válido\",\"Inválido\")),\"\")","v":""}]
[null,null,null,null,null,null,null,null,null,null,null,"",{"$f":"IF(C1456<>0,(IF(lfValidaCNPJ(C1456)=TRUE,\"Válido\",\"Inválido\")),\"\")","v":""},{"$f":"IF(E1456<>0,(IF(lfValidaCEP(E1456)=TRUE,\"Válido\",\"Inválido\")),\"\")","v":""}]
[null,null,null,null,null,null,null,null,null,null,null,"",{"$f":"IF(C1457<>0,(IF(lfValidaCNPJ(C1457)=TRUE,\"Válido\",\"Inválido\")),\"\")","v":""},{"$f":"IF(E1457<>0,(IF(lfValidaCEP(E1457)=TRUE,\"Válido\",\"Inválido\")),\"\")","v":""}]
[null,null,null,null,null,null,null,null,null,null,null,"",{"$f":"IF(C1458<>0,(IF(lfValidaCNPJ(C1458)=TRUE,\"Válido\",\"Inválido\")),\"\")","v":""},{"$f":"IF(E1458<>0,(IF(lfValidaCEP(E1458)=TRUE,\"Válido\",\"Inválido\")),\"\")","v":""}]
[null,null,null,null,null,null,null,null,null,null,null,"",{"$f":"IF(C1459<>0,(IF(lfValidaCNPJ(C1459)=TRUE,\"Válido\",\"Inválido\")),\"\")","v":""},{"$f":"IF(E1459<>0,(IF(lfValidaCEP(E1459)=TRUE,\"Válido\",\"Inválido\")),\"\")","v":""}]
[null,null,null,null,null,null,null,null,null,null,null,"",{"$f":"IF(C1460<>0,(IF(lfValidaCNPJ(C1460)=TRUE,\"Válido\",\"Inválido\")),\"\")","v":""},{"$f":"IF(E1460<>0,(IF(lfValidaCEP(E1460)=TRUE,\"Válido\",\"Inválido\")),\"\")","v":""}]
[null,null,null,null,null,null,null,null,null,null,null,"",{"$f":"IF(C1461<>0,(IF(lfValidaCNPJ(C1461)=TRUE,\"Válido\",\"Inválido\")),\"\")","v":""},{"$f":"IF(E1461<>0,(IF(lfValidaCEP(E1461)=TRUE,\"Válido\",\"Inválido\")),\"\")","v":""}]
[null,null,null,null,null,null,null,null,null,null,null,"",{"$f":"IF(C1462<>0,(IF(lfValidaCNPJ(C1462)=TRUE,\"Válido\",\"Inválido\")),\"\")","v":""},{"$f":"IF(E1462<>0,(IF(lfValidaCEP(E1462)=TRUE,\"Válido\",\"Inválido\")),\"\")","v":""}]
[null,null,null,null,null,null,null,null,null,null,null,"",{"$f":"IF(C1463<>0,(IF(lfValidaCNPJ(C1463)=TRUE,\"Válido\",\"Inválido\")),\"\")","v":""},{"$f":"IF(E1463<>0,(IF(lfValidaCEP(E1463)=TRUE,\"Válido\",\"Inválido\")),\"\")","v":""}]
[null,null,null,null,null,null,null,null,null,null,null,"",{"$f":"IF(C1464<>0,(IF(lfValidaCNPJ(C1464)=TRUE,\"Válido\",\"Inválido\")),\"\")","v":""},{"$f":"IF(E1464<>0,(IF(lfValidaCEP(E1464)=TRUE,\"Válido\",\"Inválido\")),\"\")","v":""}]
[null,null,null,null,null,null,null,null,null,null,null,"",{"$f":"IF(C1465<>0,(IF(lfValidaCNPJ(C1465)=TRUE,\"Válido\",\"Inválido\")),\"\")","v":""},{"$f":"IF(E1465<>0,(IF(lfValidaCEP(E1465)=TRUE,\"Válido\",\"Inválido\")),\"\")","v":""}]
[null,null,null,null,null,null,null,null,null,null,null,"",{"$f":"IF(C1466<>0,(IF(lfValidaCNPJ(C1466)=TRUE,\"Válido\",\"Inválido\")),\"\")","v":""},{"$f":"IF(E1466<>0,(IF(lfValidaCEP(E1466)=TRUE,\"Válido\",\"Inválido\")),\"\")","v":""}]
[null,null,null,null,null,null,null,null,null,null,null,"",{"$f":"IF(C1467<>0,(IF(lfValidaCNPJ(C1467)=TRUE,\"Válido\",\"Inválido\")),\"\")","v":""},{"$f":"IF(E1467<>0,(IF(lfValidaCEP(E1467)=TRUE,\"Válido\",\"Inválido\")),\"\")","v":""}]
[null,null,null,null,null,null,null,null,null,null,null,"",{"$f":"IF(C1468<>0,(IF(lfValidaCNPJ(C1468)=TRUE,\"Válido\",\"Inválido\")),\"\")","v":""},{"$f":"IF(E1468<>0,(IF(lfValidaCEP(E1468)=TRUE,\"Válido\",\"Inválido\")),\"\")","v":""}]
[null,null,null,null,null,null,null,null,null,null,null,"",{"$f":"IF(C1469<>0,(IF(lfValidaCNPJ(C1469)=TRUE,\"Válido\",\"Inválido\")),\"\")","v":""},{"$f":"IF(E1469<>0,(IF(lfValidaCEP(E1469)=TRUE,\"Válido\",\"Inválido\")),\"\")","v":""}]
[null,null,null,null,null,null,null,null,null,null,null,"",{"$f":"IF(C1470<>0,(IF(lfValidaCNPJ(C1470)=TRUE,\"Válido\",\"Inválido\")),\"\")","v":""},{"$f":"IF(E1470<>0,(IF(lfValidaCEP(E1470)=TRUE,\"Válido\",\"Inválido\")),\"\")","v":""}]
[null,null,null,null,null,null,null,null,null,null,null,"",{"$f":"IF(C1471<>0,(IF(lfValidaCNPJ(C1471)=TRUE,\"Válido\",\"Inválido\")),\"\")","v":""},{"$f":"IF(E1471<>0,(IF(lfValidaCEP(E1471)=TRUE,\"Válido\",\"Inválido\")),\"\")","v":""}]
[null,null,null,null,null,null,null,null,null,null,null,"",{"$f":"IF(C1472<>0,(IF(lfValidaCNPJ(C1472)=TRUE,\"Válido\",\"Inválido\")),\"\")","v":""},{"$f":"IF(E1472<>0,(IF(lfValidaCEP(E1472)=TRUE,\"Válido\",\"Inválido\")),\"\")","v":""}]
[null,null,null,null,null,null,null,null,null,null,null,"",{"$f":"IF(C1473<>0,(IF(lfValidaCNPJ(C1473)=TRUE,\"Válido\",\"Inválido\")),\"\")","v":""},{"$f":"IF(E1473<>0,(IF(lfValidaCEP(E1473)=TRUE,\"Válido\",\"Inválido\")),\"\")","v":""}]
[null,null,null,null,null,null,null,null,null,null,null,"",{"$f":"IF(C1474<>0,(IF(lfValidaCNPJ(C1474)=TRUE,\"Válido\",\"Inválido\")),\"\")","v":""},{"$f":"IF(E1474<>0,(IF(lfValidaCEP(E1474)=TRUE,\"Válido\",\"Inválido\")),\"\")","v":""}]
[null,null,null,null,null,null,null,null,null,null,null,"",{"$f":"IF(C1475<>0,(IF(lfValidaCNPJ(C1475)=TRUE,\"Válido\",\"Inválido\")),\"\")","v":""},{"$f":"IF(E1475<>0,(IF(lfValidaCEP(E1475)=TRUE,\"Válido\",\"Inválido\")),\"\")","v":""}]
[null,null,null,null,null,null,null,null,null,null,null,"",{"$f":"IF(C1476<>0,(IF(lfValidaCNPJ(C1476)=TRUE,\"Válido\",\"Inválido\")),\"\")","v":""},{"$f":"IF(E1476<>0,(IF(lfValidaCEP(E1476)=TRUE,\"Válido\",\"Inválido\")),\"\")","v":""}]
[null,null,null,null,null,null,null,null,null,null,null,"",{"$f":"IF(C1477<>0,(IF(lfValidaCNPJ(C1477)=TRUE,\"Válido\",\"Inválido\")),\"\")","v":""},{"$f":"IF(E1477<>0,(IF(lfValidaCEP(E1477)=TRUE,\"Válido\",\"Inválido\")),\"\")","v":""}]
[null,null,null,null,null,null,null,null,null,null,null,"",{"$f":"IF(C1478<>0,(IF(lfValidaCNPJ(C1478)=TRUE,\"Válido\",\"Inválido\")),\"\")","v":""},{"$f":"IF(E1478<>0,(IF(lfValidaCEP(E1478)=TRUE,\"Válido\",\"Inválido\")),\"\")","v":""}]
[null,null,null,null,null,null,null,null,null,null,null,"",{"$f":"IF(C1479<>0,(IF(lfValidaCNPJ(C1479)=TRUE,\"Válido\",\"Inválido\")),\"\")","v":""},{"$f":"IF(E1479<>0,(IF(lfValidaCEP(E1479)=TRUE,\"Válido\",\"Inválido\")),\"\")","v":""}]
[null,null,null,null,null,null,null,null,null,null,null,"",{"$f":"IF(C1480<>0,(IF(lfValidaCNPJ(C1480)=TRUE,\"Válido\",\"Inválido\")),\"\")","v":""},{"$f":"IF(E1480<>0,(IF(lfValidaCEP(E1480)=TRUE,\"Válido\",\"Inválido\")),\"\")","v":""}]
[null,null,null,null,null,null,null,null,null,null,null,"",{"$f":"IF(C1481<>0,(IF(lfValidaCNPJ(C1481)=TRUE,\"Válido\",\"Inválido\")),\"\")","v":""},{"$f":"IF(E1481<>0,(IF(lfValidaCEP(E1481)=TRUE,\"Válido\",\"Inválido\")),\"\")","v":""}]
[null,null,null,null,null,null,null,null,null,null,null,"",{"$f":"IF(C1482<>0,(IF(lfValidaCNPJ(C1482)=TRUE,\"Válido\",\"Inválido\")),\"\")","v":""},{"$f":"IF(E1482<>0,(IF(lfValidaCEP(E1482)=TRUE,\"Válido\",\"Inválido\")),\"\")","v":""}]
[null,null,null,null,null,null,null,null,null,null,null,"",{"$f":"IF(C1483<>0,(IF(lfValidaCNPJ(C1483)=TRUE,\"Válido\",\"Inválido\")),\"\")","v":""},{"$f":"IF(E1483<>0,(IF(lfValidaCEP(E1483)=TRUE,\"Válido\",\"Inválido\")),\"\")","v":""}]
[null,null,null,null,null,null,null,null,null,null,null,"",{"$f":"IF(C1484<>0,(IF(lfValidaCNPJ(C1484)=TRUE,\"Válido\",\"Inválido\")),\"\")","v":""},{"$f":"IF(E1484<>0,(IF(lfValidaCEP(E1484)=TRUE,\"Válido\",\"Inválido\")),\"\")","v":""}]
[null,null,null,null,null,null,null,null,null,null,null,"",{"$f":"IF(C1485<>0,(IF(lfValidaCNPJ(C1485)=TRUE,\"Válido\",\"Inválido\")),\"\")","v":""},{"$f":"IF(E1485<>0,(IF(lfValidaCEP(E1485)=TRUE,\"Válido\",\"Inválido\")),\"\")","v":""}]
[null,null,null,null,null,null,null,null,null,null,null,{"$f":"IF(COUNTA(B1486:J1486)<>0,IF(AND(B1486<>0,C1486<>0,D1486<>0,E1486<>0,F1486<>0,G1486<>0,H1486<>0,I1486<>0,J1486<>0),\"Completo\",\"Incompleto\"),\"\")","v":""},{"$f":"IF(C1486<>0,(IF(lfValidaCNPJ(C1486)=TRUE,\"Válido\",\"Inválido\")),\"\")","v":""},{"$f":"IF(E1486<>0,(IF(lfValidaCEP(E1486)=TRUE,\"Válido\",\"Inválido\")),\"\")","v":""}]
[null,null,null,null,null,null,null,null,null,null,null,"",{"$f":"IF(C1487<>0,(IF(lfValidaCNPJ(C1487)=TRUE,\"Válido\",\"Inválido\")),\"\")","v":""},{"$f":"IF(E1487<>0,(IF(lfValidaCEP(E1487)=TRUE,\"Válido\",\"Inválido\")),\"\")","v":""}]
[null,null,null,null,null,null,null,null,null,null,null,"",{"$f":"IF(C1488<>0,(IF(lfValidaCNPJ(C1488)=TRUE,\"Válido\",\"Inválido\")),\"\")","v":""},{"$f":"IF(E1488<>0,(IF(lfValidaCEP(E1488)=TRUE,\"Válido\",\"Inválido\")),\"\")","v":""}]
[null,null,null,null,null,null,null,null,null,null,null,"",{"$f":"IF(C1489<>0,(IF(lfValidaCNPJ(C1489)=TRUE,\"Válido\",\"Inválido\")),\"\")","v":""},{"$f":"IF(E1489<>0,(IF(lfValidaCEP(E1489)=TRUE,\"Válido\",\"Inválido\")),\"\")","v":""}]
[null,null,null,null,null,null,null,null,null,null,null,"",{"$f":"IF(C1490<>0,(IF(lfValidaCNPJ(C1490)=TRUE,\"Válido\",\"Inválido\")),\"\")","v":""},{"$f":"IF(E1490<>0,(IF(lfValidaCEP(E1490)=TRUE,\"Válido\",\"Inválido\")),\"\")","v":""}]
[null,null,null,null,null,null,null,null,null,null,null,"",{"$f":"IF(C1491<>0,(IF(lfValidaCNPJ(C1491)=TRUE,\"Válido\",\"Inválido\")),\"\")","v":""},{"$f":"IF(E1491<>0,(IF(lfValidaCEP(E1491)=TRUE,\"Válido\",\"Inválido\")),\"\")","v":""}]
[null,null,null,null,null,null,null,null,null,null,null,"",{"$f":"IF(C1492<>0,(IF(lfValidaCNPJ(C1492)=TRUE,\"Válido\",\"Inválido\")),\"\")","v":""},{"$f":"IF(E1492<>0,(IF(lfValidaCEP(E1492)=TRUE,\"Válido\",\"Inválido\")),\"\")","v":""}]
[null,null,null,null,null,null,null,null,null,null,null,"",{"$f":"IF(C1493<>0,(IF(lfValidaCNPJ(C1493)=TRUE,\"Válido\",\"Inválido\")),\"\")","v":""},{"$f":"IF(E1493<>0,(IF(lfValidaCEP(E1493)=TRUE,\"Válido\",\"Inválido\")),\"\")","v":""}]
[null,null,null,null,null,null,null,null,null,null,null,"",{"$f":"IF(C1494<>0,(IF(lfValidaCNPJ(C1494)=TRUE,\"Válido\",\"Inválido\")),\"\")","v":""},{"$f":"IF(E1494<>0,(IF(lfValidaCEP(E1494)=TRUE,\"Válido\",\"Inválido\")),\"\")","v":""}]
[null,null,null,null,null,null,null,null,null,null,null,"",{"$f":"IF(C1495<>0,(IF(lfValidaCNPJ(C1495)=TRUE,\"Válido\",\"Inválido\")),\"\")","v":""},{"$f":"IF(E1495<>0,(IF(lfValidaCEP(E1495)=TRUE,\"Válido\",\"Inválido\")),\"\")","v":""}]
[null,null,null,null,null,null,null,null,null,null,null,"",{"$f":"IF(C1496<>0,(IF(lfValidaCNPJ(C1496)=TRUE,\"Válido\",\"Inválido\")),\"\")","v":""},{"$f":"IF(E1496<>0,(IF(lfValidaCEP(E1496)=TRUE,\"Válido\",\"Inválido\")),\"\")","v":""}]
[null,null,null,null,null,null,null,null,null,null,null,"",{"$f":"IF(C1497<>0,(IF(lfValidaCNPJ(C1497)=TRUE,\"Válido\",\"Inválido\")),\"\")","v":""},{"$f":"IF(E1497<>0,(IF(lfValidaCEP(E1497)=TRUE,\"Válido\",\"Inválido\")),\"\")","v":""}]
[null,null,null,null,null,null,null,null,null,null,null,"",{"$f":"IF(C1498<>0,(IF(lfValidaCNPJ(C1498)=TRUE,\"Válido\",\"Inválido\")),\"\")","v":""},{"$f":"IF(E1498<>0,(IF(lfValidaCEP(E1498)=TRUE,\"Válido\",\"Inválido\")),\"\")","v":""}]
[null,null,null,null,null,null,null,null,null,null,null,"",{"$f":"IF(C1499<>0,(IF(lfValidaCNPJ(C1499)=TRUE,\"Válido\",\"Inválido\")),\"\")","v":""},{"$f":"IF(E1499<>0,(IF(lfValidaCEP(E1499)=TRUE,\"Válido\",\"Inválido\")),\"\")","v":""}]
[null,null,null,null,null,null,null,null,null,null,null,"",{"$f":"IF(C1500<>0,(IF(lfValidaCNPJ(C1500)=TRUE,\"Válido\",\"Inválido\")),\"\")","v":""},{"$f":"IF(E1500<>0,(IF(lfValidaCEP(E1500)=TRUE,\"Válido\",\"Inválido\")),\"\")","v":""}]

{"sheet":"B) Empresas Aderentes","index":3,"n_rows":1500,"n_cols":16,"rows_kept":1500,"cut":false,"hidden":false,"merged":[[8,13,8,15],[2,1,3,11],[4,1,4,11],[8,1,8,3],[8,4,8,7],[8,8,8,11],[6,3,6,4],[7,3,7,4],[6,1,6,2],[7,1,7,2]]}
[]
[]
[null,"RELATÓRIO COMPROBATÓRIO\nDO PLANO DE LOGÍSTICA REVERSA (RCPLR)"]
[]
[null,{"$f":"RELATÓRIO!$D$7","v":"< SELECIONAR TIPO >"}]
[]
[null,"Entidade ou Empresa Responsável pelo Sistema:",null,{"$f":"RELATÓRIO!B12","v":0}]
[null,"CNPJ:",null,{"$f":"RELATÓRIO!E12","v":0}]
[null,"1.7) Relação de Empresas Aderentes",null,null,null,null,null,null,null,null,null,null,null,"VERIFICAÇÃO"]
[null,"Razão Social","CNPJ\n(Ex. XX.XXX.XXX/0001-XX)","Marcas","Endereço \n(Ex. Logradouro, número, complemento e bairro)","CEP\n(Ex. XX.XXX-XXX)","Município","UF","Código CNAE","Nº Licença Ambiental","Data de Validade","Nº Registro em outros Órgãos",null,"Preenchimento","CNPJ","CEP"]
[null,null,null,null,null,null,null,null,null,null,null,null,null,{"$f":"IF(COUNTA(B11:J11)<>0,IF(AND(B11<>0,C11<>0,D11<>0,E11<>0,F11<>0,G11<>0,H11<>0,I11<>0,J11<>0),\"Completo\",\"Incompleto\"),\"\")","v":""},{"$f":"IF(C11<>0,(IF(lfValidaCNPJ(C11)=TRUE,\"Válido\",\"Inválido\")),\"\")","v":""},{"$f":"IF(F11<>0,(IF(lfValidaCEP(F11)=TRUE,\"Válido\",\"Inválido\")),\"\")","v":""}]
[null,null,null,null,null,null,null,null,null,null,null,null,null,{"$f":"IF(COUNTA(B12:J12)<>0,IF(AND(B12<>0,C12<>0,D12<>0,E12<>0,F12<>0,G12<>0,H12<>0,I12<>0,J12<>0),\"Completo\",\"Incompleto\"),\"\")","v":""},{"$f":"IF(C12<>0,(IF(lfValidaCNPJ(C12)=TRUE,\"Válido\",\"Inválido\")),\"\")","v":""},{"$f":"IF(F12<>0,(IF(lfValidaCEP(F12)=TRUE,\"Válido\",\"Inválido\")),\"\")","v":""}]
[null,null,null,null,null,null,null,null,null,null,null,null,null,"",{"$f":"IF(C13<>0,(IF(lfValidaCNPJ(C13)=TRUE,\"Válido\",\"Inválido\")),\"\")","v":""},{"$f":"IF(F13<>0,(IF(lfValidaCEP(F13)=TRUE,\"Válido\",\"Inválido\")),\"\")","v":""}]
[null,null,null,null,null,null,null,null,null,null,null,null,null,"",{"$f":"IF(C14<>0,(IF(lfValidaCNPJ(C14)=TRUE,\"Válido\",\"Inválido\")),\"\")","v":""},{"$f":"IF(F14<>0,(IF(lfValidaCEP(F14)=TRUE,\"Válido\",\"Inválido\")),\"\")","v":""}]
[null,null,null,null,null,null,null,null,null,null,null,null,null,"",{"$f":"IF(C15<>0,(IF(lfValidaCNPJ(C15)=TRUE,\"Válido\",\"Inválido\")),\"\")","v":""},{"$f":"IF(F15<>0,(IF(lfValidaCEP(F15)=TRUE,\"Válido\",\"Inválido\")),\"\")","v":""}]
[null,null,null,null,null,null,null,null,null,null,null,null,null,"",{"$f":"IF(C16<>0,(IF(lfValidaCNPJ(C16)=TRUE,\"Válido\",\"Inválido\")),\"\")","v":""},{"$f":"IF(F16<>0,(IF(lfValidaCEP(F16)=TRUE,\"Válido\",\"Inválido\")),\"\")","v":""}]
[null,null,null,null,null,null,null,null,null,null,null,null,null,"",{"$f":"IF(C17<>0,(IF(lfValidaCNPJ(C17)=TRUE,\"Válido\",\"Inválido\")),\"\")","v":""},{"$f":"IF(F17<>0,(IF(lfValidaCEP(F17)=TRUE,\"Válido\",\"Inválido\")),\"\")","v":""}]
[null,null,null,null,null,null,null,null,null,null,null,null,null,"",{"$f":"IF(C18<>0,(IF(lfValidaCNPJ(C18)=TRUE,\"Válido\",\"Inválido\")),\"\")","v":""},{"$f":"IF(F18<>0,(IF(lfValidaCEP(F18)=TRUE,\"Válido\",\"Inválido\")),\"\")","v":""}]
[null,null,null,null,null,null,null,null,null,null,null,null,null,"",{"$f":"IF(C19<>0,(IF(lfValidaCNPJ(C19)=TRUE,\"Válido\",\"Inválido\")),\"\")","v":""},{"$f":"IF(F19<>0,(IF(lfValidaCEP(F19)=TRUE,\"Válido\",\"Inválido\")),\"\")","v":""}]
[null,null,null,null,null,null,null,null,null,null,null,null,null,"",{"$f":"IF(C20<>0,(IF(lfValidaCNPJ(C20)=TRUE,\"Válido\",\"Inválido\")),\"\")","v":""},{"$f":"IF(F20<>0,(IF(lfValidaCEP(F20)=TRUE,\"Válido\",\"Inválido\")),\"\")","v":""}]
[null,null,null,null,null,null,null,null,null,null,null,null,null,"",{"$f":"IF(C21<>0,(IF(lfValidaCNPJ(C21)=TRUE,\"Válido\",\"Inválido\")),\"\")","v":""},{"$f":"IF(F21<>0,(IF(lfValidaCEP(F21)=TRUE,\"Válido\",\"Inválido\")),\"\")","v":""}]
[null,null,null,null,null,null,null,null,null,null,null,null,null,"",{"$f":"IF(C22<>0,(IF(lfValidaCNPJ(C22)=TRUE,\"Válido\",\"Inválido\")),\"\")","v":""},{"$f":"IF(F22<>0,(IF(lfValidaCEP(F22)=TRUE,\"Válido\",\"Inválido\")),\"\")","v":""}]
[null,null,null,null,null,null,null,null,null,null,null,null,null,"",{"$f":"IF(C23<>0,(IF(lfValidaCNPJ(C23)=TRUE,\"Válido\",\"Inválido\")),\"\")","v":""},{"$f":"IF(F23<>0,(IF(lfValidaCEP(F23)=TRUE,\"Válido\",\"Inválido\")),\"\")","v":""}]
[null,null,null,null,null,null,null,null,null,null,null,null,null,"",{"$f":"IF(C24<>0,(IF(lfValidaCNPJ(C24)=TRUE,\"Válido\",\"Inválido\")),\"\")","v":""},{"$f":"IF(F24<>0,(IF(lfValidaCEP(F24)=TRUE,\"Válido\",\"Inválido\")),\"\")","v":""}]
[null,null,null,null,null,null,null,null,null,null,null,null,null,"",{"$f":"IF(C25<>0,(IF(lfValidaCNPJ(C25)=TRUE,\"Válido\",\"Inválido\")),\"\")","v":""},{"$f":"IF(F25<>0,(IF(lfValidaCEP(F25)=TRUE,\"Válido\",\"Inválido\")),\"\")","v":""}]
[null,null,null,null,null,null,null,null,null,null,null,null,null,"",{"$f":"IF(C26<>0,(IF(lfValidaCNPJ(C26)=TRUE,\"Válido\",\"Inválido\")),\"\")","v":""},{"$f":"IF(F26<>0,(IF(lfValidaCEP(F26)=TRUE,\"Válido\",\"Inválido\")),\"\")","v":""}]
[null,null,null,null,null,null,null,null,null,null,null,null,null,"",{"$f":"IF(C27<>0,(IF(lfValidaCNPJ(C27)=TRUE,\"Válido\",\"Inválido\")),\"\")","v":""},{"$f":"IF(F27<>0,(IF(lfValidaCEP(F27)=TRUE,\"Válido\",\"Inválido\")),\"\")","v":""}]
[null,null,null,null,null,null,null,null,null,null,null,null,null,"",{"$f":"IF(C28<>0,(IF(lfValidaCNPJ(C28)=TRUE,\"Válido\",\"Inválido\")),\"\")","v":""},{"$f":"IF(F28<>0,(IF(lfValidaCEP(F28)=TRUE,\"Válido\",\"Inválido\")),\"\")","v":""}]
[null,null,null,null,null,null,null,null,null,null,null,null,null,"",{"$f":"IF(C29<>0,(IF(lfValidaCNPJ(C29)=TRUE,\"Válido\",\"Inválido\")),\"\")","v":""},{"$f":"IF(F29<>0,(IF(lfValidaCEP(F29)=TRUE,\"Válido\",\"Inválido\")),\"\")","v":""}]
[null,null,null,null,null,null,null,null,null,null,null,null,null,"",{"$f":"IF(C30<>0,(IF(lfValidaCNPJ(C30)=TRUE,\"Válido\",\"Inválido\")),\"\")","v":""},{"$f":"IF(F30<>0,(IF(lfValidaCEP(F30)=TRUE,\"Válido\",\"Inválido\")),\"\")","v":""}]
[null,null,null,null,null,null,null,null,null,null,null,null,null,"",{"$f":"IF(C31<>0,(IF(lfValidaCNPJ(C31)=TRUE,\"Válido\",\"Inválido\")),\"\")","v":""},{"$f":"IF(F31<>0,(IF(lfValidaCEP(F31)=TRUE,\"Válido\",\"Inválido\")),\"\")","v":""}]
[null,null,null,null,null,null,null,null,null,null,null,null,null,"",{"$f":"IF(C32<>0,(IF(lfValidaCNPJ(C32)=TRUE,\"Válido\",\"Inválido\")),\"\")","v":""},{"$f":"IF(F32<>0,(IF(lfValidaCEP(F32)=TRUE,\"Válido\",\"Inválido\")),\"\")","v":""}]
[null,null,null,null,null,null,null,null,null,null,null,null,null,"",{"$f":"IF(C33<>0,(IF(lfValidaCNPJ(C33)=TRUE,\"Válido\",\"Inválido\")),\"\")","v":""},{"$f":"IF(F33<>0,(IF(lfValidaCEP(F33)=TRUE,\"Válido\",\"Inválido\")),\"\")","v":""}]
[null,null,null,null,null,null,null,null,null,null,null,null,null,"",{"$f":"IF(C34<>0,(IF(lfValidaCNPJ(C34)=TRUE,\"Válido\",\"Inválido\")),\"\")","v":""},{"$f":"IF(F34<>0,(IF(lfValidaCEP(F34)=TRUE,\"Válido\",\"Inválido\")),\"\")","v":""}]
[null,null,null,null,null,null,null,null,null,null,null,null,null,"",{"$f":"IF(C35<>0,(IF(lfValidaCNPJ(C35)=TRUE,\"Válido\",\"Inválido\")),\"\")","v":""},{"$f":"IF(F35<>0,(IF(lfValidaCEP(F35)=TRUE,\"Válido\",\"Inválido\")),\"\")","v":""}]
[null,null,null,null,null,null,null,null,null,null,null,null,null,"",{"$f":"IF(C36<>0,(IF(lfValidaCNPJ(C36)=TRUE,\"Válido\",\"Inválido\")),\"\")","v":""},{"$f":"IF(F36<>0,(IF(lfValidaCEP(F36)=TRUE,\"Válido\",\"Inválido\")),\"\")","v":""}]
[null,null,null,null,null,null,null,null,null,null,null,null,null,"",{"$f":"IF(C37<>0,(IF(lfValidaCNPJ(C37)=TRUE,\"Válido\",\"Inválido\")),\"\")","v":""},{"$f":"IF(F37<>0,(IF(lfValidaCEP(F37)=TRUE,\"Válido\",\"Inválido\")),\"\")","v":""}]
[null,null,null,null,null,null,null,null,null,null,null,null,null,"",{"$f":"IF(C38<>0,(IF(lfValidaCNPJ(C38)=TRUE,\"Válido\",\"Inválido\")),\"\")","v":""},{"$f":"IF(F38<>0,(IF(lfValidaCEP(F38)=TRUE,\"Válido\",\"Inválido\")),\"\")","v":""}]
[null,null,null,null,null,null,null,null,null,null,null,null,null,"",{"$f":"IF(C39<>0,(IF(lfValidaCNPJ(C39)=TRUE,\"Válido\",\"Inválido\")),\"\")","v":""},{"$f":"IF(F39<>0,(IF(lfValidaCEP(F39)=TRUE,\"Válido\",\"Inválido\")),\"\")","v":""}]
[null,null,null,null,null,null,null,null,null,null,null,null,null,"",{"$f":"IF(C40<>0,(IF(lfValidaCNPJ(C40)=TRUE,\"Válido\",\"Inválido\")),\"\")","v":""},{"$f":"IF(F40<>0,(IF(lfValidaCEP(F40)=TRUE,\"Válido\",\"Inválido\")),\"\")","v":""}]
[null,null,null,null,null,null,null,null,null,null,null,null,null,"",{"$f":"IF(C41<>0,(IF(lfValidaCNPJ(C41)=TRUE,\"Válido\",\"Inválido\")),\"\")","v":""},{"$f":"IF(F41<>0,(IF(lfValidaCEP(F41)=TRUE,\"Válido\",\"Inválido\")),\"\")","v":""}]
[null,null,null,null,null,null,null,null,null,null,null,null,null,"",{"$f":"IF(C42<>0,(IF(lfValidaCNPJ(C42)=TRUE,\"Válido\",\"Inválido\")),\"\")","v":""},{"$f":"IF(F42<>0,(IF(lfValidaCEP(F42)=TRUE,\"Válido\",\"Inválido\")),\"\")","v":""}]
[null,null,null,null,null,null,null,null,null,null,null,null,null,"",{"$f":"IF(C43<>0,(IF(lfValidaCNPJ(C43)=TRUE,\"Válido\",\"Inválido\")),\"\")","v":""},{"$f":"IF(F43<>0,(IF(lfValidaCEP(F43)=TRUE,\"Válido\",\"Inválido\")),\"\")","v":""}]
[null,null,null,null,null,null,null,null,null,null,null,null,null,"",{"$f":"IF(C44<>0,(IF(lfValidaCNPJ(C44)=TRUE,\"Válido\",\"Inválido\")),\"\")","v":""},{"$f":"IF(F44<>0,(IF(lfValidaCEP(F44)=TRUE,\"Válido\",\"Inválido\")),\"\")","v":""}]
[null,null,null,null,null,null,null,null,null,null,null,null,null,"",{"$f":"IF(C45<>0,(IF(lfValidaCNPJ(C45)=TRUE,\"Válido\",\"Inválido\")),\"\")","v":""},{"$f":"IF(F45<>0,(IF(lfValidaCEP(F45)=TRUE,\"Válido\",\"Inválido\")),\"\")","v":""}]
[null,null,null,null,null,null,null,null,null,null,null,null,null,"",{"$f":"IF(C46<>0,(IF(lfValidaCNPJ(C46)=TRUE,\"Válido\",\"Inválido\")),\"\")","v":""},{"$f":"IF(F46<>0,(IF(lfValidaCEP(F46)=TRUE,\"Válido\",\"Inválido\")),\"\")","v":""}]
[null,null,null,null,null,null,null,null,null,null,null,null,null,"",{"$f":"IF(C47<>0,(IF(lfValidaCNPJ(C47)=TRUE,\"Válido\",\"Inválido\")),\"\")","v":""},{"$f":"IF(F47<>0,(IF(lfValidaCEP(F47)=TRUE,\"Válido\",\"Inválido\")),\"\")","v":""}]
[null,null,null,null,null,null,null,null,null,null,null,null,null,"",{"$f":"IF(C48<>0,(IF(lfValidaCNPJ(C48)=TRUE,\"Válido\",\"Inválido\")),\"\")","v":""},{"$f":"IF(F48<>0,(IF(lfValidaCEP(F48)=TRUE,\"Válido\",\"Inválido\")),\"\")","v":""}]
[null,null,null,null,null,null,null,null,null,null,null,null,null,"",{"$f":"IF(C49<>0,(IF(lfValidaCNPJ(C49)=TRUE,\"Válido\",\"Inválido\")),\"\")","v":""},{"$f":"IF(F49<>0,(IF(lfValidaCEP(F49)=TRUE,\"Válido\",\"Inválido\")),\"\")","v":""}]
[null,null,null,null,null,null,null,null,null,null,null,null,null,"",{"$f":"IF(C50<>0,(IF(lfValidaCNPJ(C50)=TRUE,\"Válido\",\"Inválido\")),\"\")","v":""},{"$f":"IF(F50<>0,(IF(lfValidaCEP(F50)=TRUE,\"Válido\",\"Inválido\")),\"\")","v":""}]
[null,null,null,null,null,null,null,null,null,null,null,null,null,"",{"$f":"IF(C51<>0,(IF(lfValidaCNPJ(C51)=TRUE,\"Válido\",\"Inválido\")),\"\")","v":""},{"$f":"IF(F51<>0,(IF(lfValidaCEP(F51)=TRUE,\"Válido\",\"Inválido\")),\"\")","v":""}]
[null,null,null,null,null,null,null,null,null,null,null,null,null,"",{"$f":"IF(C52<>0,(IF(lfValidaCNPJ(C52)=TRUE,\"Válido\",\"Inválido\")),\"\")","v":""},{"$f":"IF(F52<>0,(IF(lfValidaCEP(F52)=TRUE,\"Válido\",\"Inválido\")),\"\")","v":""}]
[null,null,null,null,null,null,null,null,null,null,null,null,null,"",{"$f":"IF(C53<>0,(IF(lfValidaCNPJ(C53)=TRUE,\"Válido\",\"Inválido\")),\"\")","v":""},{"$f":"IF(F53<>0,(IF(lfValidaCEP(F53)=TRUE,\"Válido\",\"Inválido\")),\"\")","v":""}]
[null,null,null,null,null,null,null,null,null,null,null,null,null,"",{"$f":"IF(C54<>0,(IF(lfValidaCNPJ(C54)=TRUE,\"Válido\",\"Inválido\")),\"\")","v":""},{"$f":"IF(F54<>0,(IF(lfValidaCEP(F54)=TRUE,\"Válido\",\"Inválido\")),\"\")","v":""}]
[null,null,null,null,null,null,null,null,null,null,null,null,null,"",{"$f":"IF(C55<>0,(IF(lfValidaCNPJ(C55)=TRUE,\"Válido\",\"Inválido\")),\"\")","v":""},{"$f":"IF(F55<>0,(IF(lfValidaCEP(F55)=TRUE,\"Válido\",\"Inválido\")),\"\")","v":""}]
[null,null,null,null,null,null,null,null,null,null,null,null,null,"",{"$f":"IF(C56<>0,(IF(lfValidaCNPJ(C56)=TRUE,\"Válido\",\"Inválido\")),\"\")","v":""},{"$f":"IF(F56<>0,(IF(lfValidaCEP(F56)=TRUE,\"Válido\",\"Inválido\")),\"\")","v":""}]
[null,null,null,null,null,null,null,null,null,null,null,null,null,"",{"$f":"IF(C57<>0,(IF(lfValidaCNPJ(C57)=TRUE,\"Válido\",\"Inválido\")),\"\")","v":""},{"$f":"IF(F57<>0,(IF(lfValidaCEP(F57)=TRUE,\"Válido\",\"Inválido\")),\"\")","v":""}]
[null,null,null,null,null,null,null,null,null,null,null,null,null,"",{"$f":"IF(C58<>0,(IF(lfValidaCNPJ(C58)=TRUE,\"Válido\",\"Inválido\")),\"\")","v":""},{"$f":"IF(F58<>0,(IF(lfValidaCEP(F58)=TRUE,\"Válido\",\"Inválido\")),\"\")","v":""}]
[null,null,null,null,null,null,null,null,null,null,null,null,null,"",{"$f":"IF(C59<>0,(IF(lfValidaCNPJ(C59)=TRUE,\"Válido\",\"Inválido\")),\"\")","v":""},{"$f":"IF(F59<>0,(IF(lfValidaCEP(F59)=TRUE,\"Válido\",\"Inválido\")),\"\")","v":""}]
[null,null,null,null,null,null,null,null,null,null,null,null,null,"",{"$f":"IF(C60<>0,(IF(lfValidaCNPJ(C60)=TRUE,\"Válido\",\"Inválido\")),\"\")","v":""},{"$f":"IF(F60<>0,(IF(lfValidaCEP(F60)=TRUE,\"Válido\",\"Inválido\")),\"\")","v":""}]
[null,null,null,null,null,null,null,null,null,null,null,null,null,"",{"$f":"IF(C61<>0,(IF(lfValidaCNPJ(C61)=TRUE,\"Válido\",\"Inválido\")),\"\")","v":""},{"$f":"IF(F61<>0,(IF(lfValidaCEP(F61)=TRUE,\"Válido\",\"Inválido\")),\"\")","v":""}]
[null,null,null,null,null,null,null,null,null,null,null,null,null,"",{"$f":"IF(C62<>0,(IF(lfValidaCNPJ(C62)=TRUE,\"Válido\",\"Inválido\")),\"\")","v":""},{"$f":"IF(F62<>0,(IF(lfValidaCEP(F62)=TRUE,\"Válido\",\"Inválido\")),\"\")","v":""}]
[null,null,null,null,null,null,null,null,null,null,null,null,null,"",{"$f":"IF(C63<>0,(IF(lfValidaCNPJ(C63)=TRUE,\"Válido\",\"Inválido\")),\"\")","v":""},{"$f":"IF(F63<>0,(IF(lfValidaCEP(F63)=TRUE,\"Válido\",\"Inválido\")),\"\")","v":""}]
[null,null,null,null,null,null,null,null,null,null,null,null,null,"",{"$f":"IF(C64<>0,(IF(lfValidaCNPJ(C64)=TRUE,\"Válido\",\"Inválido\")),\"\")","v":""},{"$f":"IF(F64<>0,(IF(lfValidaCEP(F64)=TRUE,\"Válido\",\"Inválido\")),\"\")","v":""}]
[null,null,null,null,null,null,null,null,null,null,null,null,null,"",{"$f":"IF(C65<>0,(IF(lfValidaCNPJ(C65)=TRUE,\"Válido\",\"Inválido\")),\"\")","v":""},{"$f":"IF(F65<>0,(IF(lfValidaCEP(F65)=TRUE,\"Válido\",\"Inválido\")),\"\")","v":""}]
[null,null,null,null,null,null,null,null,null,null,null,null,null,"",{"$f":"IF(C66<>0,(IF(lfValidaCNPJ(C66)=TRUE,\"Válido\",\"Inválido\")),\"\")","v":""},{"$f":"IF(F66<>0,(IF(lfValidaCEP(F66)=TRUE,\"Válido\",\"Inválido\")),\"\")","v":""}]
[null,null,null,null,null,null,null,null,null,null,null,null,null,"",{"$f":"IF(C67<>0,(IF(lfValidaCNPJ(C67)=TRUE,\"Válido\",\"Inválido\")),\"\")","v":""},{"$f":"IF(F67<>0,(IF(lfValidaCEP(F67)=TRUE,\"Válido\",\"Inválido\")),\"\")","v":""}]
[null,null,null,null,null,null,null,null,null,null,null,null,null,"",{"$f":"IF(C68<>0,(IF(lfValidaCNPJ(C68)=TRUE,\"Válido\",\"Inválido\")),\"\")","v":""},{"$f":"IF(F68<>0,(IF(lfValidaCEP(F68)=TRUE,\"Válido\",\"Inválido\")),\"\")","v":""}]
[null,null,null,null,null,null,null,null,null,null,null,null,null,"",{"$f":"IF(C69<>0,(IF(lfValidaCNPJ(C69)=TRUE,\"Válido\",\"Inválido\")),\"\")","v":""},{"$f":"IF(F69<>0,(IF(lfValidaCEP(F69)=TRUE,\"Válido\",\"Inválido\")),\"\")","v":""}]
[null,null,null,null,null,null,null,null,null,null,null,null,null,"",{"$f":"IF(C70<>0,(IF(lfValidaCNPJ(C70)=TRUE,\"Válido\",\"Inválido\")),\"\")","v":""},{"$f":"IF(F70<>0,(IF(lfValidaCEP(F70)=TRUE,\"Válido\",\"Inválido\")),\"\")","v":""}]
[null,null,null,null,null,null,null,null,null,null,null,null,null,"",{"$f":"IF(C71<>0,(IF(lfValidaCNPJ(C71)=TRUE,\"Válido\",\"Inválido\")),\"\")","v":""},{"$f":"IF(F71<>0,(IF(lfValidaCEP(F71)=TRUE,\"Válido\",\"Inválido\")),\"\")","v":""}]
[null,null,null,null,null,null,null,null,null,null,null,null,null,"",{"$f":"IF(C72<>0,(IF(lfValidaCNPJ(C72)=TRUE,\"Válido\",\"Inválido\")),\"\")","v":""},{"$f":"IF(F72<>0,(IF(lfValidaCEP(F72)=TRUE,\"Válido\",\"Inválido\")),\"\")","v":""}]
[null,null,null,null,null,null,null,null,null,null,null,null,null,"",{"$f":"IF(C73<>0,(IF(lfValidaCNPJ(C73)=TRUE,\"Válido\",\"Inválido\")),\"\")","v":""},{"$f":"IF(F73<>0,(IF(lfValidaCEP(F73)=TRUE,\"Válido\",\"Inválido\")),\"\")","v":""}]
[null,null,null,null,null,null,null,null,null,null,null,null,null,"",{"$f":"IF(C74<>0,(IF(lfValidaCNPJ(C74)=TRUE,\"Válido\",\"Inválido\")),\"\")","v":""},{"$f":"IF(F74<>0,(IF(lfValidaCEP(F74)=TRUE,\"Válido\",\"Inválido\")),\"\")","v":""}]
[null,null,null,null,null,null,null,null,null,null,null,null,null,"",{"$f":"IF(C75<>0,(IF(lfValidaCNPJ(C75)=TRUE,\"Válido\",\"Inválido\")),\"\")","v":""},{"$f":"IF(F75<>0,(IF(lfValidaCEP(F75)=TRUE,\"Válido\",\"Inválido\")),\"\")","v":""}]
[null,null,null,null,null,null,null,null,null,null,null,null,null,{"$f":"IF(COUNTA(B76:J76)<>0,IF(AND(B76<>0,C76<>0,D76<>0,E76<>0,F76<>0,G76<>0,H76<>0,I76<>0,J76<>0),\"Completo\",\"Incompleto\"),\"\")","v":""},{"$f":"IF(C76<>0,(IF(lfValidaCNPJ(C76)=TRUE,\"Válido\",\"Inválido\")),\"\")","v":""},{"$f":"IF(F76<>0,(IF(lfValidaCEP(F76)=TRUE,\"Válido\",\"Inválido\")),\"\")","v":""}]
[null,null,null,null,null,null,null,null,null,null,null,null,null,"",{"$f":"IF(C77<>0,(IF(lfValidaCNPJ(C77)=TRUE,\"Válido\",\"Inválido\")),\"\")","v":""},{"$f":"IF(F77<>0,(IF(lfValidaCEP(F77)=TRUE,\"Válido\",\"Inválido\")),\"\")","v":""}]
[null,null,null,null,null,null,null,null,null,null,null,null,null,"",{"$f":"IF(C78<>0,(IF(lfValidaCNPJ(C78)=TRUE,\"Válido\",\"Inválido\")),\"\")","v":""},{"$f":"IF(F78<>0,(IF(lfValidaCEP(F78)=TRUE,\"Válido\",\"Inválido\")),\"\")","v":""}]
[null,null,null,null,null,null,null,null,null,null,null,null,null,"",{"$f":"IF(C79<>0,(IF(lfValidaCNPJ(C79)=TRUE,\"Válido\",\"Inválido\")),\"\")","v":""},{"$f":"IF(F79<>0,(IF(lfValidaCEP(F79)=TRUE,\"Válido\",\"Inválido\")),\"\")","v":""}]
[null,null,null,null,null,null,null,null,null,null,null,null,null,"",{"$f":"IF(C80<>0,(IF(lfValidaCNPJ(C80)=TRUE,\"Válido\",\"Inválido\")),\"\")","v":""},{"$f":"IF(F80<>0,(IF(lfValidaCEP(F80)=TRUE,\"Válido\",\"Inválido\")),\"\")","v":""}]
[null,null,null,null,null,null,null,null,null,null,null,null,null,"",{"$f":"IF(C81<>0,(IF(lfValidaCNPJ(C81)=TRUE,\"Válido\",\"Inválido\")),\"\")","v":""},{"$f":"IF(F81<>0,(IF(lfValidaCEP(F81)=TRUE,\"Válido\",\"Inválido\")),\"\")","v":""}]
[null,null,null,null,null,null,null,null,null,null,null,null,null,"",{"$f":"IF(C82<>0,(IF(lfValidaCNPJ(C82)=TRUE,\"Válido\",\"Inválido\")),\"\")","v":""},{"$f":"IF(F82<>0,(IF(lfValidaCEP(F82)=TRUE,\"Válido\",\"Inválido\")),\"\")","v":""}]
[null,null,null,null,null,null,null,null,null,null,null,null,null,"",{"$f":"IF(C83<>0,(IF(lfValidaCNPJ(C83)=TRUE,\"Válido\",\"Inválido\")),\"\")","v":""},{"$f":"IF(F83<>0,(IF(lfValidaCEP(F83)=TRUE,\"Válido\",\"Inválido\")),\"\")","v":""}]
[null,null,null,null,null,null,null,null,null,null,null,null,null,"",{"$f":"IF(C84<>0,(IF(lfValidaCNPJ(C84)=TRUE,\"Válido\",\"Inválido\")),\"\")","v":""},{"$f":"IF(F84<>0,(IF(lfValidaCEP(F84)=TRUE,\"Válido\",\"Inválido\")),\"\")","v":""}]
[null,null,null,null,null,null,null,null,null,null,null,null,null,"",{"$f":"IF(C85<>0,(IF(lfValidaCNPJ(C85)=TRUE,\"Válido\",\"Inválido\")),\"\")","v":""},{"$f":"IF(F85<>0,(IF(lfValidaCEP(F85)=TRUE,\"Válido\",\"Inválido\")),\"\")","v":""}]
[null,null,null,null,null,null,null,null,null,null,null,null,null,"",{"$f":"IF(C86<>0,(IF(lfValidaCNPJ(C86)=TRUE,\"Válido\",\"Inválido\")),\"\")","v":""},{"$f":"IF(F86<>0,(IF(lfValidaCEP(F86)=TRUE,\"Válido\",\"Inválido\")),\"\")","v":""}]
[null,null,null,null,null,null,null,null,null,null,null,null,null,"",{"$f":"IF(C87<>0,(IF(lfValidaCNPJ(C87)=TRUE,\"Válido\",\"Inválido\")),\"\")","v":""},{"$f":"IF(F87<>0,(IF(lfValidaCEP(F87)=TRUE,\"Válido\",\"Inválido\")),\"\")","v":""}]
[null,null,null,null,null,null,null,null,null,null,null,null,null,"",{"$f":"IF(C88<>0,(IF(lfValidaCNPJ(C88)=TRUE,\"Válido\",\"Inválido\")),\"\")","v":""},{"$f":"IF(F88<>0,(IF(lfValidaCEP(F88)=TRUE,\"Válido\",\"Inválido\")),\"\")","v":""}]
[null,null,null,null,null,null,null,null,null,null,null,null,null,"",{"$f":"IF(C89<>0,(IF(lfValidaCNPJ(C89)=TRUE,\"Válido\",\"Inválido\")),\"\")","v":""},{"$f":"IF(F89<>0,(IF(lfValidaCEP(F89)=TRUE,\"Válido\",\"Inválido\")),\"\")","v":""}]
[null,null,null,null,null,null,null,null,null,null,null,null,null,"",{"$f":"IF(C90<>0,(IF(lfValidaCNPJ(C90)=TRUE,\"Válido\",\"Inválido\")),\"\")","v":""},{"$f":"IF(F90<>0,(IF(lfValidaCEP(F90)=TRUE,\"Válido\",\"Inválido\")),\"\")","v":""}]
[null,null,null,null,null,null,null,null,null,null,null,null,null,"",{"$f":"IF(C91<>0,(IF(lfValidaCNPJ(C91)=TRUE,\"Válido\",\"Inválido\")),\"\")","v":""},{"$f":"IF(F91<>0,(IF(lfValidaCEP(F91)=TRUE,\"Válido\",\"Inválido\")),\"\")","v":""}]
[null,null,null,null,null,null,null,null,null,null,null,null,null,"",{"$f":"IF(C92<>0,(IF(lfValidaCNPJ(C92)=TRUE,\"Válido\",\"Inválido\")),\"\")","v":""},{"$f":"IF(F92<>0,(IF(lfValidaCEP(F92)=TRUE,\"Válido\",\"Inválido\")),\"\")","v":""}]
[null,null,null,null,null,null,null,null,null,null,null,null,null,"",{"$f":"IF(C93<>0,(IF(lfValidaCNPJ(C93)=TRUE,\"Válido\",\"Inválido\")),\"\")","v":""},{"$f":"IF(F93<>0,(IF(lfValidaCEP(F93)=TRUE,\"Válido\",\"Inválido\")),\"\")","v":""}]
[null,null,null,null,null,null,null,null,null,null,null,null,null,"",{"$f":"IF(C94<>0,(IF(lfValidaCNPJ(C94)=TRUE,\"Válido\",\"Inválido\")),\"\")","v":""},{"$f":"IF(F94<>0,(IF(lfValidaCEP(F94)=TRUE,\"Válido\",\"Inválido\")),\"\")","v":""}]
[null,null,null,null,null,null,null,null,null,null,null,null,null,"",{"$f":"IF(C95<>0,(IF(lfValidaCNPJ(C95)=TRUE,\"Válido\",\"Inválido\")),\"\")","v":""},{"$f":"IF(F95<>0,(IF(lfValidaCEP(F95)=TRUE,\"Válido\",\"Inválido\")),\"\")","v":""}]
[null,null,null,null,null,null,null,null,null,null,null,null,null,"",{"$f":"IF(C96<>0,(IF(lfValidaCNPJ(C96)=TRUE,\"Válido\",\"Inválido\")),\"\")","v":""},{"$f":"IF(F96<>0,(IF(lfValidaCEP(F96)=TRUE,\"Válido\",\"Inválido\")),\"\")","v":""}]
[null,null,null,null,null,null,null,null,null,null,null,null,null,"",{"$f":"IF(C97<>0,(IF(lfValidaCNPJ(C97)=TRUE,\"Válido\",\"Inválido\")),\"\")","v":""},{"$f":"IF(F97<>0,(IF(lfValidaCEP(F97)=TRUE,\"Válido\",\"Inválido\")),\"\")","v":""}]
[null,null,null,null,null,null,null,null,null,null,null,null,null,"",{"$f":"IF(C98<>0,(IF(lfValidaCNPJ(C98)=TRUE,\"Válido\",\"Inválido\")),\"\")","v":""},{"$f":"IF(F98<>0,(IF(lfValidaCEP(F98)=TRUE,\"Válido\",\"Inválido\")),\"\")","v":""}]
[null,null,null,null,null,null,null,null,null,null,null,null,null,"",{"$f":"IF(C99<>0,(IF(lfValidaCNPJ(C99)=TRUE,\"Válido\",\"Inválido\")),\"\")","v":""},{"$f":"IF(F99<>0,(IF(lfValidaCEP(F99)=TRUE,\"Válido\",\"Inválido\")),\"\")","v":""}]
[null,null,null,null,null,null,null,null,null,null,null,null,null,"",{"$f":"IF(C100<>0,(IF(lfValidaCNPJ(C100)=TRUE,\"Válido\",\"Inválido\")),\"\")","v":""},{"$f":"IF(F100<>0,(IF(lfValidaCEP(F100)=TRUE,\"Válido\",\"Inválido\")),\"\")","v":""}]
[null,null,null,null,null,null,null,null,null,null,null,null,null,"",{"$f":"IF(C101<>0,(IF(lfValidaCNPJ(C101)=TRUE,\"Válido\",\"Inválido\")),\"\")","v":""},{"$f":"IF(F101<>0,(IF(lfValidaCEP(F101)=TRUE,\"Válido\",\"Inválido\")),\"\")","v":""}]
[null,null,null,null,null,null,null,null,null,null,null,null,null,"",{"$f":"IF(C102<>0,(IF(lfValidaCNPJ(C102)=TRUE,\"Válido\",\"Inválido\")),\"\")","v":""},{"$f":"IF(F102<>0,(IF(lfValidaCEP(F102)=TRUE,\"Válido\",\"Inválido\")),\"\")","v":""}]
[null,null,null,null,null,null,null,null,null,null,null,null,null,"",{"$f":"IF(C103<>0,(IF(lfValidaCNPJ(C103)=TRUE,\"Válido\",\"Inválido\")),\"\")","v":""},{"$f":"IF(F103<>0,(IF(lfValidaCEP(F103)=TRUE,\"Válido\",\"Inválido\")),\"\")","v":""}]
[null,null,null,null,null,null,null,null,null,null,null,null,null,"",{"$f":"IF(C104<>0,(IF(lfValidaCNPJ(C104)=TRUE,\"Válido\",\"Inválido\")),\"\")","v":""},{"$f":"IF(F104<>0,(IF(lfValidaCEP(F104)=TRUE,\"Válido\",\"Inválido\")),\"\")","v":""}]
[null,null,null,null,null,null,null,null,null,null,null,null,null,"",{"$f":"IF(C105<>0,(IF(lfValidaCNPJ(C105)=TRUE,\"Válido\",\"Inválido\")),\"\")","v":""},{"$f":"IF(F105<>0,(IF(lfValidaCEP(F105)=TRUE,\"Válido\",\"Inválido\")),\"\")","v":""}]
[null,null,null,null,null,null,null,null,null,null,null,null,null,"",{"$f":"IF(C106<>0,(IF(lfValidaCNPJ(C106)=TRUE,\"Válido\",\"Inválido\")),\"\")","v":""},{"$f":"IF(F106<>0,(IF(lfValidaCEP(F106)=TRUE,\"Válido\",\"Inválido\")),\"\")","v":""}]
[null,null,null,null,null,null,null,null,null,null,null,null,null,"",{"$f":"IF(C107<>0,(IF(lfValidaCNPJ(C107)=TRUE,\"Válido\",\"Inválido\")),\"\")","v":""},{"$f":"IF(F107<>0,(IF(lfValidaCEP(F107)=TRUE,\"Válido\",\"Inválido\")),\"\")","v":""}]
[null,null,null,null,null,null,null,null,null,null,null,null,null,"",{"$f":"IF(C108<>0,(IF(lfValidaCNPJ(C108)=TRUE,\"Válido\",\"Inválido\")),\"\")","v":""},{"$f":"IF(F108<>0,(IF(lfValidaCEP(F108)=TRUE,\"Válido\",\"Inválido\")),\"\")","v":""}]
[null,null,null,null,null,null,null,null,null,null,null,null,null,"",{"$f":"IF(C109<>0,(IF(lfValidaCNPJ(C109)=TRUE,\"Válido\",\"Inválido\")),\"\")","v":""},{"$f":"IF(F109<>0,(IF(lfValidaCEP(F109)=TRUE,\"Válido\",\"Inválido\")),\"\")","v":""}]
[null,null,null,null,null,null,null,null,null,null,null,null,null,"",{"$f":"IF(C110<>0,(IF(lfValidaCNPJ(C110)=TRUE,\"Válido\",\"Inválido\")),\"\")","v":""},{"$f":"IF(F110<>0,(IF(lfValidaCEP(F110)=TRUE,\"Válido\",\"Inválido\")),\"\")","v":""}]
[null,null,null,null,null,null,null,null,null,null,null,null,null,"",{"$f":"IF(C111<>0,(IF(lfValidaCNPJ(C111)=TRUE,\"Válido\",\"Inválido\")),\"\")","v":""},{"$f":"IF(F111<>0,(IF(lfValidaCEP(F111)=TRUE,\"Válido\",\"Inválido\")),\"\")","v":""}]
[null,null,null,null,null,null,null,null,null,null,null,null,null,"",{"$f":"IF(C112<>0,(IF(lfValidaCNPJ(C112)=TRUE,\"Válido\",\"Inválido\")),\"\")","v":""},{"$f":"IF(F112<>0,(IF(lfValidaCEP(F112)=TRUE,\"Válido\",\"Inválido\")),\"\")","v":""}]
[null,null,null,null,null,null,null,null,null,null,null,null,null,"",{"$f":"IF(C113<>0,(IF(lfValidaCNPJ(C113)=TRUE,\"Válido\",\"Inválido\")),\"\")","v":""},{"$f":"IF(F113<>0,(IF(lfValidaCEP(F113)=TRUE,\"Válido\",\"Inválido\")),\"\")","v":""}]
[null,null,null,null,null,null,null,null,null,null,null,null,null,"",{"$f":"IF(C114<>0,(IF(lfValidaCNPJ(C114)=TRUE,\"Válido\",\"Inválido\")),\"\")","v":""},{"$f":"IF(F114<>0,(IF(lfValidaCEP(F114)=TRUE,\"Válido\",\"Inválido\")),\"\")","v":""}]
[null,null,null,null,null,null,null,null,null,null,null,null,null,"",{"$f":"IF(C115<>0,(IF(lfValidaCNPJ(C115)=TRUE,\"Válido\",\"Inválido\")),\"\")","v":""},{"$f":"IF(F115<>0,(IF(lfValidaCEP(F115)=TRUE,\"Válido\",\"Inválido\")),\"\")","v":""}]
[null,null,null,null,null,null,null,null,null,null,null,null,null,"",{"$f":"IF(C116<>0,(IF(lfValidaCNPJ(C116)=TRUE,\"Válido\",\"Inválido\")),\"\")","v":""},{"$f":"IF(F116<>0,(IF(lfValidaCEP(F116)=TRUE,\"Válido\",\"Inválido\")),\"\")","v":""}]
[null,null,null,null,null,null,null,null,null,null,null,null,null,"",{"$f":"IF(C117<>0,(IF(lfValidaCNPJ(C117)=TRUE,\"Válido\",\"Inválido\")),\"\")","v":""},{"$f":"IF(F117<>0,(IF(lfValidaCEP(F117)=TRUE,\"Válido\",\"Inválido\")),\"\")","v":""}]
[null,null,null,null,null,null,null,null,null,null,null,null,null,"",{"$f":"IF(C118<>0,(IF(lfValidaCNPJ(C118)=TRUE,\"Válido\",\"Inválido\")),\"\")","v":""},{"$f":"IF(F118<>0,(IF(lfValidaCEP(F118)=TRUE,\"Válido\",\"Inválido\")),\"\")","v":""}]
[null,null,null,null,null,null,null,null,null,null,null,null,null,"",{"$f":"IF(C119<>0,(IF(lfValidaCNPJ(C119)=TRUE,\"Válido\",\"Inválido\")),\"\")","v":""},{"$f":"IF(F119<>0,(IF(lfValidaCEP(F119)=TRUE,\"Válido\",\"Inválido\")),\"\")","v":""}]
[null,null,null,null,null,null,null,null,null,null,null,null,null,"",{"$f":"IF(C120<>0,(IF(lfValidaCNPJ(C120)=TRUE,\"Válido\",\"Inválido\")),\"\")","v":""},{"$f":"IF(F120<>0,(IF(lfValidaCEP(F120)=TRUE,\"Válido\",\"Inválido\")),\"\")","v":""}]
[null,null,null,null,null,null,null,null,null,null,null,null,null,"",{"$f":"IF(C121<>0,(IF(lfValidaCNPJ(C121)=TRUE,\"Válido\",\"Inválido\")),\"\")","v":""},{"$f":"IF(F121<>0,(IF(lfValidaCEP(F121)=TRUE,\"Válido\",\"Inválido\")),\"\")","v":""}]
[null,null,null,null,null,null,null,null,null,null,null,null,null,"",{"$f":"IF(C122<>0,(IF(lfValidaCNPJ(C122)=TRUE,\"Válido\",\"Inválido\")),\"\")","v":""},{"$f":"IF(F122<>0,(IF(lfValidaCEP(F122)=TRUE,\"Válido\",\"Inválido\")),\"\")","v":""}]
[null,null,null,null,null,null,null,null,null,null,null,null,null,"",{"$f":"IF(C123<>0,(IF(lfValidaCNPJ(C123)=TRUE,\"Válido\",\"Inválido\")),\"\")","v":""},{"$f":"IF(F123<>0,(IF(lfValidaCEP(F123)=TRUE,\"Válido\",\"Inválido\")),\"\")","v":""}]
[null,null,null,null,null,null,null,null,null,null,null,null,null,"",{"$f":"IF(C124<>0,(IF(lfValidaCNPJ(C124)=TRUE,\"Válido\",\"Inválido\")),\"\")","v":""},{"$f":"IF(F124<>0,(IF(lfValidaCEP(F124)=TRUE,\"Válido\",\"Inválido\")),\"\")","v":""}]
[null,null,null,null,null,null,null,null,null,null,null,null,null,"",{"$f":"IF(C125<>0,(IF(lfValidaCNPJ(C125)=TRUE,\"Válido\",\"Inválido\")),\"\")","v":""},{"$f":"IF(F125<>0,(IF(lfValidaCEP(F125)=TRUE,\"Válido\",\"Inválido\")),\"\")","v":""}]
[null,null,null,null,null,null,null,null,null,null,null,null,null,"",{"$f":"IF(C126<>0,(IF(lfValidaCNPJ(C126)=TRUE,\"Válido\",\"Inválido\")),\"\")","v":""},{"$f":"IF(F126<>0,(IF(lfValidaCEP(F126)=TRUE,\"Válido\",\"Inválido\")),\"\")","v":""}]
[null,null,null,null,null,null,null,null,null,null,null,null,null,"",{"$f":"IF(C127<>0,(IF(lfValidaCNPJ(C127)=TRUE,\"Válido\",\"Inválido\")),\"\")","v":""},{"$f":"IF(F127<>0,(IF(lfValidaCEP(F127)=TRUE,\"Válido\",\"Inválido\")),\"\")","v":""}]
[null,null,null,null,null,null,null,null,null,null,null,null,null,"",{"$f":"IF(C128<>0,(IF(lfValidaCNPJ(C128)=TRUE,\"Válido\",\"Inválido\")),\"\")","v":""},{"$f":"IF(F128<>0,(IF(lfValidaCEP(F128)=TRUE,\"Válido\",\"Inválido\")),\"\")","v":""}]
[null,null,null,null,null,null,null,null,null,null,null,null,null,"",{"$f":"IF(C129<>0,(IF(lfValidaCNPJ(C129)=TRUE,\"Válido\",\"Inválido\")),\"\")","v":""},{"$f":"IF(F129<>0,(IF(lfValidaCEP(F129)=TRUE,\"Válido\",\"Inválido\")),\"\")","v":""}]
[null,null,null,null,null,null,null,null,null,null,null,null,null,"",{"$f":"IF(C130<>0,(IF(lfValidaCNPJ(C130)=TRUE,\"Válido\",\"Inválido\")),\"\")","v":""},{"$f":"IF(F130<>0,(IF(lfValidaCEP(F130)=TRUE,\"Válido\",\"Inválido\")),\"\")","v":""}]
[null,null,null,null,null,null,null,null,null,null,null,null,null,"",{"$f":"IF(C131<>0,(IF(lfValidaCNPJ(C131)=TRUE,\"Válido\",\"Inválido\")),\"\")","v":""},{"$f":"IF(F131<>0,(IF(lfValidaCEP(F131)=TRUE,\"Válido\",\"Inválido\")),\"\")","v":""}]
[null,null,null,null,null,null,null,null,null,null,null,null,null,"",{"$f":"IF(C132<>0,(IF(lfValidaCNPJ(C132)=TRUE,\"Válido\",\"Inválido\")),\"\")","v":""},{"$f":"IF(F132<>0,(IF(lfValidaCEP(F132)=TRUE,\"Válido\",\"Inválido\")),\"\")","v":""}]
[null,null,null,null,null,null,null,null,null,null,null,null,null,"",{"$f":"IF(C133<>0,(IF(lfValidaCNPJ(C133)=TRUE,\"Válido\",\"Inválido\")),\"\")","v":""},{"$f":"IF(F133<>0,(IF(lfValidaCEP(F133)=TRUE,\"Válido\",\"Inválido\")),\"\")","v":""}]
[null,null,null,null,null,null,null,null,null,null,null,null,null,"",{"$f":"IF(C134<>0,(IF(lfValidaCNPJ(C134)=TRUE,\"Válido\",\"Inválido\")),\"\")","v":""},{"$f":"IF(F134<>0,(IF(lfValidaCEP(F134)=TRUE,\"Válido\",\"Inválido\")),\"\")","v":""}]
[null,null,null,null,null,null,null,null,null,null,null,null,null,"",{"$f":"IF(C135<>0,(IF(lfValidaCNPJ(C135)=TRUE,\"Válido\",\"Inválido\")),\"\")","v":""},{"$f":"IF(F135<>0,(IF(lfValidaCEP(F135)=TRUE,\"Válido\",\"Inválido\")),\"\")","v":""}]
[null,null,null,null,null,null,null,null,null,null,null,null,null,"",{"$f":"IF(C136<>0,(IF(lfValidaCNPJ(C136)=TRUE,\"Válido\",\"Inválido\")),\"\")","v":""},{"$f":"IF(F136<>0,(IF(lfValidaCEP(F136)=TRUE,\"Válido\",\"Inválido\")),\"\")","v":""}]
[null,null,null,null,null,null,null,null,null,null,null,null,null,"",{"$f":"IF(C137<>0,(IF(lfValidaCNPJ(C137)=TRUE,\"Válido\",\"Inválido\")),\"\")","v":""},{"$f":"IF(F137<>0,(IF(lfValidaCEP(F137)=TRUE,\"Válido\",\"Inválido\")),\"\")","v":""}]
[null,null,null,null,null,null,null,null,null,null,null,null,null,"",{"$f":"IF(C138<>0,(IF(lfValidaCNPJ(C138)=TRUE,\"Válido\",\"Inválido\")),\"\")","v":""},{"$f":"IF(F138<>0,(IF(lfValidaCEP(F138)=TRUE,\"Válido\",\"Inválido\")),\"\")","v":""}]
[null,null,null,null,null,null,null,null,null,null,null,null,null,"",{"$f":"IF(C139<>0,(IF(lfValidaCNPJ(C139)=TRUE,\"Válido\",\"Inválido\")),\"\")","v":""},{"$f":"IF(F139<>0,(IF(lfValidaCEP(F139)=TRUE,\"Válido\",\"Inválido\")),\"\")","v":""}]
[null,null,null,null,null,null,null,null,null,null,null,null,null,{"$f":"IF(COUNTA(B140:J140)<>0,IF(AND(B140<>0,C140<>0,D140<>0,E140<>0,F140<>0,G140<>0,H140<>0,I140<>0,J140<>0),\"Completo\",\"Incompleto\"),\"\")","v":""},{"$f":"IF(C140<>0,(IF(lfValidaCNPJ(C140)=TRUE,\"Válido\",\"Inválido\")),\"\")","v":""},{"$f":"IF(F140<>0,(IF(lfValidaCEP(F140)=TRUE,\"Válido\",\"Inválido\")),\"\")","v":""}]
[null,null,null,null,null,null,null,null,null,null,null,null,null,"",{"$f":"IF(C141<>0,(IF(lfValidaCNPJ(C141)=TRUE,\"Válido\",\"Inválido\")),\"\")","v":""},{"$f":"IF(F141<>0,(IF(lfValidaCEP(F141)=TRUE,\"Válido\",\"Inválido\")),\"\")","v":""}]
[null,null,null,null,null,null,null,null,null,null,null,null,null,"",{"$f":"IF(C142<>0,(IF(lfValidaCNPJ(C142)=TRUE,\"Válido\",\"Inválido\")),\"\")","v":""},{"$f":"IF(F142<>0,(IF(lfValidaCEP(F142)=TRUE,\"Válido\",\"Inválido\")),\"\")","v":""}]
[null,null,null,null,null,null,null,null,null,null,null,null,null,"",{"$f":"IF(C143<>0,(IF(lfValidaCNPJ(C143)=TRUE,\"Válido\",\"Inválido\")),\"\")","v":""},{"$f":"IF(F143<>0,(IF(lfValidaCEP(F143)=TRUE,\"Válido\",\"Inválido\")),\"\")","v":""}]
[null,null,null,null,null,null,null,null,null,null,null,null,null,"",{"$f":"IF(C144<>0,(IF(lfValidaCNPJ(C144)=TRUE,\"Válido\",\"Inválido\")),\"\")","v":""},{"$f":"IF(F144<>0,(IF(lfValidaCEP(F144)=TRUE,\"Válido\",\"Inválido\")),\"\")","v":""}]
[null,null,null,null,null,null,null,null,null,null,null,null,null,"",{"$f":"IF(C145<>0,(IF(lfValidaCNPJ(C145)=TRUE,\"Válido\",\"Inválido\")),\"\")","v":""},{"$f":"IF(F145<>0,(IF(lfValidaCEP(F145)=TRUE,\"Válido\",\"Inválido\")),\"\")","v":""}]
[null,null,null,null,null,null,null,null,null,null,null,null,null,"",{"$f":"IF(C146<>0,(IF(lfValidaCNPJ(C146)=TRUE,\"Válido\",\"Inválido\")),\"\")","v":""},{"$f":"IF(F146<>0,(IF(lfValidaCEP(F146)=TRUE,\"Válido\",\"Inválido\")),\"\")","v":""}]
[null,null,null,null,null,null,null,null,null,null,null,null,null,"",{"$f":"IF(C147<>0,(IF(lfValidaCNPJ(C147)=TRUE,\"Válido\",\"Inválido\")),\"\")","v":""},{"$f":"IF(F147<>0,(IF(lfValidaCEP(F147)=TRUE,\"Válido\",\"Inválido\")),\"\")","v":""}]
[null,null,null,null,null,null,null,null,null,null,null,null,null,"",{"$f":"IF(C148<>0,(IF(lfValidaCNPJ(C148)=TRUE,\"Válido\",\"Inválido\")),\"\")","v":""},{"$f":"IF(F148<>0,(IF(lfValidaCEP(F148)=TRUE,\"Válido\",\"Inválido\")),\"\")","v":""}]
[null,null,null,null,null,null,null,null,null,null,null,null,null,"",{"$f":"IF(C149<>0,(IF(lfValidaCNPJ(C149)=TRUE,\"Válido\",\"Inválido\")),\"\")","v":""},{"$f":"IF(F149<>0,(IF(lfValidaCEP(F149)=TRUE,\"Válido\",\"Inválido\")),\"\")","v":""}]
[null,null,null,null,null,null,null,null,null,null,null,null,null,"",{"$f":"IF(C150<>0,(IF(lfValidaCNPJ(C150)=TRUE,\"Válido\",\"Inválido\")),\"\")","v":""},{"$f":"IF(F150<>0,(IF(lfValidaCEP(F150)=TRUE,\"Válido\",\"Inválido\")),\"\")","v":""}]
[null,null,null,null,null,null,null,null,null,null,null,null,null,"",{"$f":"IF(C151<>0,(IF(lfValidaCNPJ(C151)=TRUE,\"Válido\",\"Inválido\")),\"\")","v":""},{"$f":"IF(F151<>0,(IF(lfValidaCEP(F151)=TRUE,\"Válido\",\"Inválido\")),\"\")","v":""}]
[null,null,null,null,null,null,null,null,null,null,null,null,null,"",{"$f":"IF(C152<>0,(IF(lfValidaCNPJ(C152)=TRUE,\"Válido\",\"Inválido\")),\"\")","v":""},{"$f":"IF(F152<>0,(IF(lfValidaCEP(F152)=TRUE,\"Válido\",\"Inválido\")),\"\")","v":""}]
[null,null,null,null,null,null,null,null,null,null,null,null,null,"",{"$f":"IF(C153<>0,(IF(lfValidaCNPJ(C153)=TRUE,\"Válido\",\"Inválido\")),\"\")","v":""},{"$f":"IF(F153<>0,(IF(lfValidaCEP(F153)=TRUE,\"Válido\",\"Inválido\")),\"\")","v":""}]
[null,null,null,null,null,null,null,null,null,null,null,null,null,"",{"$f":"IF(C154<>0,(IF(lfValidaCNPJ(C154)=TRUE,\"Válido\",\"Inválido\")),\"\")","v":""},{"$f":"IF(F154<>0,(IF(lfValidaCEP(F154)=TRUE,\"Válido\",\"Inválido\")),\"\")","v":""}]
[null,null,null,null,null,null,null,null,null,null,null,null,null,"",{"$f":"IF(C155<>0,(IF(lfValidaCNPJ(C155)=TRUE,\"Válido\",\"Inválido\")),\"\")","v":""},{"$f":"IF(F155<>0,(IF(lfValidaCEP(F155)=TRUE,\"Válido\",\"Inválido\")),\"\")","v":""}]
[null,null,null,null,null,null,null,null,null,null,null,null,null,"",{"$f":"IF(C156<>0,(IF(lfValidaCNPJ(C156)=TRUE,\"Válido\",\"Inválido\")),\"\")","v":""},{"$f":"IF(F156<>0,(IF(lfValidaCEP(F156)=TRUE,\"Válido\",\"Inválido\")),\"\")","v":""}]
[null,null,null,null,null,null,null,null,null,null,null,null,null,"",{"$f":"IF(C157<>0,(IF(lfValidaCNPJ(C157)=TRUE,\"Válido\",\"Inválido\")),\"\")","v":""},{"$f":"IF(F157<>0,(IF(lfValidaCEP(F157)=TRUE,\"Válido\",\"Inválido\")),\"\")","v":""}]
[null,null,null,null,null,null,null,null,null,null,null,null,null,"",{"$f":"IF(C158<>0,(IF(lfValidaCNPJ(C158)=TRUE,\"Válido\",\"Inválido\")),\"\")","v":""},{"$f":"IF(F158<>0,(IF(lfValidaCEP(F158)=TRUE,\"Válido\",\"Inválido\")),\"\")","v":""}]
[null,null,null,null,null,null,null,null,null,null,null,null,null,"",{"$f":"IF(C159<>0,(IF(lfValidaCNPJ(C159)=TRUE,\"Válido\",\"Inválido\")),\"\")","v":""},{"$f":"IF(F159<>0,(IF(lfValidaCEP(F159)=TRUE,\"Válido\",\"Inválido\")),\"\")","v":""}]
[null,null,null,null,null,null,null,null,null,null,null,null,null,"",{"$f":"IF(C160<>0,(IF(lfValidaCNPJ(C160)=TRUE,\"Válido\",\"Inválido\")),\"\")","v":""},{"$f":"IF(F160<>0,(IF(lfValidaCEP(F160)=TRUE,\"Válido\",\"Inválido\")),\"\")","v":""}]
[null,null,null,null,null,null,null,null,null,null,null,null,null,"",{"$f":"IF(C161<>0,(IF(lfValidaCNPJ(C161)=TRUE,\"Válido\",\"Inválido\")),\"\")","v":""},{"$f":"IF(F161<>0,(IF(lfValidaCEP(F161)=TRUE,\"Válido\",\"Inválido\")),\"\")","v":""}]
[null,null,null,null,null,null,null,null,null,null,null,null,null,"",{"$f":"IF(C162<>0,(IF(lfValidaCNPJ(C162)=TRUE,\"Válido\",\"Inválido\")),\"\")","v":""},{"$f":"IF(F162<>0,(IF(lfValidaCEP(F162)=TRUE,\"Válido\",\"Inválido\")),\"\")","v":""}]
[null,null,null,null,null,null,null,null,null,null,null,null,null,"",{"$f":"IF(C163<>0,(IF(lfValidaCNPJ(C163)=TRUE,\"Válido\",\"Inválido\")),\"\")","v":""},{"$f":"IF(F163<>0,(IF(lfValidaCEP(F163)=TRUE,\"Válido\",\"Inválido\")),\"\")","v":""}]
[null,null,null,null,null,null,null,null,null,null,null,null,null,"",{"$f":"IF(C164<>0,(IF(lfValidaCNPJ(C164)=TRUE,\"Válido\",\"Inválido\")),\"\")","v":""},{"$f":"IF(F164<>0,(IF(lfValidaCEP(F164)=TRUE,\"Válido\",\"Inválido\")),\"\")","v":""}]
[null,null,null,null,null,null,null,null,null,null,null,null,null,"",{"$f":"IF(C165<>0,(IF(lfValidaCNPJ(C165)=TRUE,\"Válido\",\"Inválido\")),\"\")","v":""},{"$f":"IF(F165<>0,(IF(lfValidaCEP(F165)=TRUE,\"Válido\",\"Inválido\")),\"\")","v":""}]
[null,null,null,null,null,null,null,null,null,null,null,null,null,"",{"$f":"IF(C166<>0,(IF(lfValidaCNPJ(C166)=TRUE,\"Válido\",\"Inválido\")),\"\")","v":""},{"$f":"IF(F166<>0,(IF(lfValidaCEP(F166)=TRUE,\"Válido\",\"Inválido\")),\"\")","v":""}]
[null,null,null,null,null,null,null,null,null,null,null,null,null,"",{"$f":"IF(C167<>0,(IF(lfValidaCNPJ(C167)=TRUE,\"Válido\",\"Inválido\")),\"\")","v":""},{"$f":"IF(F167<>0,(IF(lfValidaCEP(F167)=TRUE,\"Válido\",\"Inválido\")),\"\")","v":""}]
[null,null,null,null,null,null,null,null,null,null,null,null,null,"",{"$f":"IF(C168<>0,(IF(lfValidaCNPJ(C168)=TRUE,\"Válido\",\"Inválido\")),\"\")","v":""},{"$f":"IF(F168<>0,(IF(lfValidaCEP(F168)=TRUE,\"Válido\",\"Inválido\")),\"\")","v":""}]
[null,null,null,null,null,null,null,null,null,null,null,null,null,"",{"$f":"IF(C169<>0,(IF(lfValidaCNPJ(C169)=TRUE,\"Válido\",\"Inválido\")),\"\")","v":""},{"$f":"IF(F169<>0,(IF(lfValidaCEP(F169)=TRUE,\"Válido\",\"Inválido\")),\"\")","v":""}]
[null,null,null,null,null,null,null,null,null,null,null,null,null,"",{"$f":"IF(C170<>0,(IF(lfValidaCNPJ(C170)=TRUE,\"Válido\",\"Inválido\")),\"\")","v":""},{"$f":"IF(F170<>0,(IF(lfValidaCEP(F170)=TRUE,\"Válido\",\"Inválido\")),\"\")","v":""}]
[null,null,null,null,null,null,null,null,null,null,null,null,null,"",{"$f":"IF(C171<>0,(IF(lfValidaCNPJ(C171)=TRUE,\"Válido\",\"Inválido\")),\"\")","v":""},{"$f":"IF(F171<>0,(IF(lfValidaCEP(F171)=TRUE,\"Válido\",\"Inválido\")),\"\")","v":""}]
[null,null,null,null,null,null,null,null,null,null,null,null,null,"",{"$f":"IF(C172<>0,(IF(lfValidaCNPJ(C172)=TRUE,\"Válido\",\"Inválido\")),\"\")","v":""},{"$f":"IF(F172<>0,(IF(lfValidaCEP(F172)=TRUE,\"Válido\",\"Inválido\")),\"\")","v":""}]
[null,null,null,null,null,null,null,null,null,null,null,null,null,"",{"$f":"IF(C173<>0,(IF(lfValidaCNPJ(C173)=TRUE,\"Válido\",\"Inválido\")),\"\")","v":""},{"$f":"IF(F173<>0,(IF(lfValidaCEP(F173)=TRUE,\"Válido\",\"Inválido\")),\"\")","v":""}]
[null,null,null,null,null,null,null,null,null,null,null,null,null,"",{"$f":"IF(C174<>0,(IF(lfValidaCNPJ(C174)=TRUE,\"Válido\",\"Inválido\")),\"\")","v":""},{"$f":"IF(F174<>0,(IF(lfValidaCEP(F174)=TRUE,\"Válido\",\"Inválido\")),\"\")","v":""}]
[null,null,null,null,null,null,null,null,null,null,null,null,null,"",{"$f":"IF(C175<>0,(IF(lfValidaCNPJ(C175)=TRUE,\"Válido\",\"Inválido\")),\"\")","v":""},{"$f":"IF(F175<>0,(IF(lfValidaCEP(F175)=TRUE,\"Válido\",\"Inválido\")),\"\")","v":""}]
[null,null,null,null,null,null,null,null,null,null,null,null,null,"",{"$f":"IF(C176<>0,(IF(lfValidaCNPJ(C176)=TRUE,\"Válido\",\"Inválido\")),\"\")","v":""},{"$f":"IF(F176<>0,(IF(lfValidaCEP(F176)=TRUE,\"Válido\",\"Inválido\")),\"\")","v":""}]
[null,null,null,null,null,null,null,null,null,null,null,null,null,"",{"$f":"IF(C177<>0,(IF(lfValidaCNPJ(C177)=TRUE,\"Válido\",\"Inválido\")),\"\")","v":""},{"$f":"IF(F177<>0,(IF(lfValidaCEP(F177)=TRUE,\"Válido\",\"Inválido\")),\"\")","v":""}]
[null,null,null,null,null,null,null,null,null,null,null,null,null,"",{"$f":"IF(C178<>0,(IF(lfValidaCNPJ(C178)=TRUE,\"Válido\",\"Inválido\")),\"\")","v":""},{"$f":"IF(F178<>0,(IF(lfValidaCEP(F178)=TRUE,\"Válido\",\"Inválido\")),\"\")","v":""}]
[null,null,null,null,null,null,null,null,null,null,null,null,null,"",{"$f":"IF(C179<>0,(IF(lfValidaCNPJ(C179)=TRUE,\"Válido\",\"Inválido\")),\"\")","v":""},{"$f":"IF(F179<>0,(IF(lfValidaCEP(F179)=TRUE,\"Válido\",\"Inválido\")),\"\")","v":""}]
[null,null,null,null,null,null,null,null,null,null,null,null,null,"",{"$f":"IF(C180<>0,(IF(lfValidaCNPJ(C180)=TRUE,\"Válido\",\"Inválido\")),\"\")","v":""},{"$f":"IF(F180<>0,(IF(lfValidaCEP(F180)=TRUE,\"Válido\",\"Inválido\")),\"\")","v":""}]
[null,null,null,null,null,null,null,null,null,null,null,null,null,"",{"$f":"IF(C181<>0,(IF(lfValidaCNPJ(C181)=TRUE,\"Válido\",\"Inválido\")),\"\")","v":""},{"$f":"IF(F181<>0,(IF(lfValidaCEP(F181)=TRUE,\"Válido\",\"Inválido\")),\"\")","v":""}]
[null,null,null,null,null,null,null,null,null,null,null,null,null,"",{"$f":"IF(C182<>0,(IF(lfValidaCNPJ(C182)=TRUE,\"Válido\",\"Inválido\")),\"\")","v":""},{"$f":"IF(F182<>0,(IF(lfValidaCEP(F182)=TRUE,\"Válido\",\"Inválido\")),\"\")","v":""}]
[null,null,null,null,null,null,null,null,null,null,null,null,null,"",{"$f":"IF(C183<>0,(IF(lfValidaCNPJ(C183)=TRUE,\"Válido\",\"Inválido\")),\"\")","v":""},{"$f":"IF(F183<>0,(IF(lfValidaCEP(F183)=TRUE,\"Válido\",\"Inválido\")),\"\")","v":""}]
[null,null,null,null,null,null,null,null,null,null,null,null,null,"",{"$f":"IF(C184<>0,(IF(lfValidaCNPJ(C184)=TRUE,\"Válido\",\"Inválido\")),\"\")","v":""},{"$f":"IF(F184<>0,(IF(lfValidaCEP(F184)=TRUE,\"Válido\",\"Inválido\")),\"\")","v":""}]
[null,null,null,null,null,null,null,null,null,null,null,null,null,"",{"$f":"IF(C185<>0,(IF(lfValidaCNPJ(C185)=TRUE,\"Válido\",\"Inválido\")),\"\")","v":""},{"$f":"IF(F185<>0,(IF(lfValidaCEP(F185)=TRUE,\"Válido\",\"Inválido\")),\"\")","v":""}]
[null,null,null,null,null,null,null,null,null,null,null,null,null,"",{"$f":"IF(C186<>0,(IF(lfValidaCNPJ(C186)=TRUE,\"Válido\",\"Inválido\")),\"\")","v":""},{"$f":"IF(F186<>0,(IF(lfValidaCEP(F186)=TRUE,\"Válido\",\"Inválido\")),\"\")","v":""}]
[null,null,null,null,null,null,null,null,null,null,null,null,null,"",{"$f":"IF(C187<>0,(IF(lfValidaCNPJ(C187)=TRUE,\"Válido\",\"Inválido\")),\"\")","v":""},{"$f":"IF(F187<>0,(IF(lfValidaCEP(F187)=TRUE,\"Válido\",\"Inválido\")),\"\")","v":""}]
[null,null,null,null,null,null,null,null,null,null,null,null,null,"",{"$f":"IF(C188<>0,(IF(lfValidaCNPJ(C188)=TRUE,\"Válido\",\"Inválido\")),\"\")","v":""},{"$f":"IF(F188<>0,(IF(lfValidaCEP(F188)=TRUE,\"Válido\",\"Inválido\")),\"\")","v":""}]
[null,null,null,null,null,null,null,null,null,null,null,null,null,"",{"$f":"IF(C189<>0,(IF(lfValidaCNPJ(C189)=TRUE,\"Válido\",\"Inválido\")),\"\")","v":""},{"$f":"IF(F189<>0,(IF(lfValidaCEP(F189)=TRUE,\"Válido\",\"Inválido\")),\"\")","v":""}]
[null,null,null,null,null,null,null,null,null,null,null,null,null,"",{"$f":"IF(C190<>0,(IF(lfValidaCNPJ(C190)=TRUE,\"Válido\",\"Inválido\")),\"\")","v":""},{"$f":"IF(F190<>0,(IF(lfValidaCEP(F190)=TRUE,\"Válido\",\"Inválido\")),\"\")","v":""}]
[null,null,null,null,null,null,null,null,null,null,null,null,null,"",{"$f":"IF(C191<>0,(IF(lfValidaCNPJ(C191)=TRUE,\"Válido\",\"Inválido\")),\"\")","v":""},{"$f":"IF(F191<>0,(IF(lfValidaCEP(F191)=TRUE,\"Válido\",\"Inválido\")),\"\")","v":""}]
[null,null,null,null,null,null,null,null,null,null,null,null,null,"",{"$f":"IF(C192<>0,(IF(lfValidaCNPJ(C192)=TRUE,\"Válido\",\"Inválido\")),\"\")","v":""},{"$f":"IF(F192<>0,(IF(lfValidaCEP(F192)=TRUE,\"Válido\",\"Inválido\")),\"\")","v":""}]
[null,null,null,null,null,null,null,null,null,null,null,null,null,"",{"$f":"IF(C193<>0,(IF(lfValidaCNPJ(C193)=TRUE,\"Válido\",\"Inválido\")),\"\")","v":""},{"$f":"IF(F193<>0,(IF(lfValidaCEP(F193)=TRUE,\"Válido\",\"Inválido\")),\"\")","v":""}]
[null,null,null,null,null,null,null,null,null,null,null,null,null,"",{"$f":"IF(C194<>0,(IF(lfValidaCNPJ(C194)=TRUE,\"Válido\",\"Inválido\")),\"\")","v":""},{"$f":"IF(F194<>0,(IF(lfValidaCEP(F194)=TRUE,\"Válido\",\"Inválido\")),\"\")","v":""}]
[null,null,null,null,null,null,null,null,null,null,null,null,null,"",{"$f":"IF(C195<>0,(IF(lfValidaCNPJ(C195)=TRUE,\"Válido\",\"Inválido\")),\"\")","v":""},{"$f":"IF(F195<>0,(IF(lfValidaCEP(F195)=TRUE,\"Válido\",\"Inválido\")),\"\")","v":""}]
[null,null,null,null,null,null,null,null,null,null,null,null,null,"",{"$f":"IF(C196<>0,(IF(lfValidaCNPJ(C196)=TRUE,\"Válido\",\"Inválido\")),\"\")","v":""},{"$f":"IF(F196<>0,(IF(lfValidaCEP(F196)=TRUE,\"Válido\",\"Inválido\")),\"\")","v":""}]
[null,null,null,null,null,null,null,null,null,null,null,null,null,"",{"$f":"IF(C197<>0,(IF(lfValidaCNPJ(C197)=TRUE,\"Válido\",\"Inválido\")),\"\")","v":""},{"$f":"IF(F197<>0,(IF(lfValidaCEP(F197)=TRUE,\"Válido\",\"Inválido\")),\"\")","v":""}]
[null,null,null,null,null,null,null,null,null,null,null,null,null,"",{"$f":"IF(C198<>0,(IF(lfValidaCNPJ(C198)=TRUE,\"Válido\",\"Inválido\")),\"\")","v":""},{"$f":"IF(F198<>0,(IF(lfValidaCEP(F198)=TRUE,\"Válido\",\"Inválido\")),\"\")","v":""}]
[null,null,null,null,null,null,null,null,null,null,null,null,null,"",{"$f":"IF(C199<>0,(IF(lfValidaCNPJ(C199)=TRUE,\"Válido\",\"Inválido\")),\"\")","v":""},{"$f":"IF(F199<>0,(IF(lfValidaCEP(F199)=TRUE,\"Válido\",\"Inválido\")),\"\")","v":""}]
[null,null,null,null,null,null,null,null,null,null,null,null,null,"",{"$f":"IF(C200<>0,(IF(lfValidaCNPJ(C200)=TRUE,\"Válido\",\"Inválido\")),\"\")","v":""},{"$f":"IF(F200<>0,(IF(lfValidaCEP(F200)=TRUE,\"Válido\",\"Inválido\")),\"\")","v":""}]
[null,null,null,null,null,null,null,null,null,null,null,null,null,"",{"$f":"IF(C201<>0,(IF(lfValidaCNPJ(C201)=TRUE,\"Válido\",\"Inválido\")),\"\")","v":""},{"$f":"IF(F201<>0,(IF(lfValidaCEP(F201)=TRUE,\"Válido\",\"Inválido\")),\"\")","v":""}]
[null,null,null,null,null,null,null,null,null,null,null,null,null,"",{"$f":"IF(C202<>0,(IF(lfValidaCNPJ(C202)=TRUE,\"Válido\",\"Inválido\")),\"\")","v":""},{"$f":"IF(F202<>0,(IF(lfValidaCEP(F202)=TRUE,\"Válido\",\"Inválido\")),\"\")","v":""}]
[null,null,null,null,null,null,null,null,null,null,null,null,null,"",{"$f":"IF(C203<>0,(IF(lfValidaCNPJ(C203)=TRUE,\"Válido\",\"Inválido\")),\"\")","v":""},{"$f":"IF(F203<>0,(IF(lfValidaCEP(F203)=TRUE,\"Válido\",\"Inválido\")),\"\")","v":""}]
[null,null,null,null,null,null,null,null,null,null,null,null,null,{"$f":"IF(COUNTA(B204:J204)<>0,IF(AND(B204<>0,C204<>0,D204<>0,E204<>0,F204<>0,G204<>0,H204<>0,I204<>0,J204<>0),\"Completo\",\"Incompleto\"),\"\")","v":""},{"$f":"IF(C204<>0,(IF(lfValidaCNPJ(C204)=TRUE,\"Válido\",\"Inválido\")),\"\")","v":""},{"$f":"IF(F204<>0,(IF(lfValidaCEP(F204)=TRUE,\"Válido\",\"Inválido\")),\"\")","v":""}]
[null,null,null,null,null,null,null,null,null,null,null,null,null,"",{"$f":"IF(C205<>0,(IF(lfValidaCNPJ(C205)=TRUE,\"Válido\",\"Inválido\")),\"\")","v":""},{"$f":"IF(F205<>0,(IF(lfValidaCEP(F205)=TRUE,\"Válido\",\"Inválido\")),\"\")","v":""}]
[null,null,null,null,null,null,null,null,null,null,null,null,null,"",{"$f":"IF(C206<>0,(IF(lfValidaCNPJ(C206)=TRUE,\"Válido\",\"Inválido\")),\"\")","v":""},{"$f":"IF(F206<>0,(IF(lfValidaCEP(F206)=TRUE,\"Válido\",\"Inválido\")),\"\")","v":""}]
[null,null,null,null,null,null,null,null,null,null,null,null,null,"",{"$f":"IF(C207<>0,(IF(lfValidaCNPJ(C207)=TRUE,\"Válido\",\"Inválido\")),\"\")","v":""},{"$f":"IF(F207<>0,(IF(lfValidaCEP(F207)=TRUE,\"Válido\",\"Inválido\")),\"\")","v":""}]
[null,null,null,null,null,null,null,null,null,null,null,null,null,"",{"$f":"IF(C208<>0,(IF(lfValidaCNPJ(C208)=TRUE,\"Válido\",\"Inválido\")),\"\")","v":""},{"$f":"IF(F208<>0,(IF(lfValidaCEP(F208)=TRUE,\"Válido\",\"Inválido\")),\"\")","v":""}]
[null,null,null,null,null,null,null,null,null,null,null,null,null,"",{"$f":"IF(C209<>0,(IF(lfValidaCNPJ(C209)=TRUE,\"Válido\",\"Inválido\")),\"\")","v":""},{"$f":"IF(F209<>0,(IF(lfValidaCEP(F209)=TRUE,\"Válido\",\"Inválido\")),\"\")","v":""}]
[null,null,null,null,null,null,null,null,null,null,null,null,null,"",{"$f":"IF(C210<>0,(IF(lfValidaCNPJ(C210)=TRUE,\"Válido\",\"Inválido\")),\"\")","v":""},{"$f":"IF(F210<>0,(IF(lfValidaCEP(F210)=TRUE,\"Válido\",\"Inválido\")),\"\")","v":""}]
[null,null,null,null,null,null,null,null,null,null,null,null,null,"",{"$f":"IF(C211<>0,(IF(lfValidaCNPJ(C211)=TRUE,\"Válido\",\"Inválido\")),\"\")","v":""},{"$f":"IF(F211<>0,(IF(lfValidaCEP(F211)=TRUE,\"Válido\",\"Inválido\")),\"\")","v":""}]
[null,null,null,null,null,null,null,null,null,null,null,null,null,"",{"$f":"IF(C212<>0,(IF(lfValidaCNPJ(C212)=TRUE,\"Válido\",\"Inválido\")),\"\")","v":""},{"$f":"IF(F212<>0,(IF(lfValidaCEP(F212)=TRUE,\"Válido\",\"Inválido\")),\"\")","v":""}]
[null,null,null,null,null,null,null,null,null,null,null,null,null,"",{"$f":"IF(C213<>0,(IF(lfValidaCNPJ(C213)=TRUE,\"Válido\",\"Inválido\")),\"\")","v":""},{"$f":"IF(F213<>0,(IF(lfValidaCEP(F213)=TRUE,\"Válido\",\"Inválido\")),\"\")","v":""}]
[null,null,null,null,null,null,null,null,null,null,null,null,null,"",{"$f":"IF(C214<>0,(IF(lfValidaCNPJ(C214)=TRUE,\"Válido\",\"Inválido\")),\"\")","v":""},{"$f":"IF(F214<>0,(IF(lfValidaCEP(F214)=TRUE,\"Válido\",\"Inválido\")),\"\")","v":""}]
[null,null,null,null,null,null,null,null,null,null,null,null,null,"",{"$f":"IF(C215<>0,(IF(lfValidaCNPJ(C215)=TRUE,\"Válido\",\"Inválido\")),\"\")","v":""},{"$f":"IF(F215<>0,(IF(lfValidaCEP(F215)=TRUE,\"Válido\",\"Inválido\")),\"\")","v":""}]
[null,null,null,null,null,null,null,null,null,null,null,null,null,"",{"$f":"IF(C216<>0,(IF(lfValidaCNPJ(C216)=TRUE,\"Válido\",\"Inválido\")),\"\")","v":""},{"$f":"IF(F216<>0,(IF(lfValidaCEP(F216)=TRUE,\"Válido\",\"Inválido\")),\"\")","v":""}]
[null,null,null,null,null,null,null,null,null,null,null,null,null,"",{"$f":"IF(C217<>0,(IF(lfValidaCNPJ(C217)=TRUE,\"Válido\",\"Inválido\")),\"\")","v":""},{"$f":"IF(F217<>0,(IF(lfValidaCEP(F217)=TRUE,\"Válido\",\"Inválido\")),\"\")","v":""}]
[null,null,null,null,null,null,null,null,null,null,null,null,null,"",{"$f":"IF(C218<>0,(IF(lfValidaCNPJ(C218)=TRUE,\"Válido\",\"Inválido\")),\"\")","v":""},{"$f":"IF(F218<>0,(IF(lfValidaCEP(F218)=TRUE,\"Válido\",\"Inválido\")),\"\")","v":""}]
[null,null,null,null,null,null,null,null,null,null,null,null,null,"",{"$f":"IF(C219<>0,(IF(lfValidaCNPJ(C219)=TRUE,\"Válido\",\"Inválido\")),\"\")","v":""},{"$f":"IF(F219<>0,(IF(lfValidaCEP(F219)=TRUE,\"Válido\",\"Inválido\")),\"\")","v":""}]
[null,null,null,null,null,null,null,null,null,null,null,null,null,"",{"$f":"IF(C220<>0,(IF(lfValidaCNPJ(C220)=TRUE,\"Válido\",\"Inválido\")),\"\")","v":""},{"$f":"IF(F220<>0,(IF(lfValidaCEP(F220)=TRUE,\"Válido\",\"Inválido\")),\"\")","v":""}]
[null,null,null,null,null,null,null,null,null,null,null,null,null,"",{"$f":"IF(C221<>0,(IF(lfValidaCNPJ(C221)=TRUE,\"Válido\",\"Inválido\")),\"\")","v":""},{"$f":"IF(F221<>0,(IF(lfValidaCEP(F221)=TRUE,\"Válido\",\"Inválido\")),\"\")","v":""}]
[null,null,null,null,null,null,null,null,null,null,null,null,null,"",{"$f":"IF(C222<>0,(IF(lfValidaCNPJ(C222)=TRUE,\"Válido\",\"Inválido\")),\"\")","v":""},{"$f":"IF(F222<>0,(IF(lfValidaCEP(F222)=TRUE,\"Válido\",\"Inválido\")),\"\")","v":""}]
[null,null,null,null,null,null,null,null,null,null,null,null,null,"",{"$f":"IF(C223<>0,(IF(lfValidaCNPJ(C223)=TRUE,\"Válido\",\"Inválido\")),\"\")","v":""},{"$f":"IF(F223<>0,(IF(lfValidaCEP(F223)=TRUE,\"Válido\",\"Inválido\")),\"\")","v":""}]
[null,null,null,null,null,null,null,null,null,null,null,null,null,"",{"$f":"IF(C224<>0,(IF(lfValidaCNPJ(C224)=TRUE,\"Válido\",\"Inválido\")),\"\")","v":""},{"$f":"IF(F224<>0,(IF(lfValidaCEP(F224)=TRUE,\"Válido\",\"Inválido\")),\"\")","v":""}]
[null,null,null,null,null,null,null,null,null,null,null,null,null,"",{"$f":"IF(C225<>0,(IF(lfValidaCNPJ(C225)=TRUE,\"Válido\",\"Inválido\")),\"\")","v":""},{"$f":"IF(F225<>0,(IF(lfValidaCEP(F225)=TRUE,\"Válido\",\"Inválido\")),\"\")","v":""}]
[null,null,null,null,null,null,null,null,null,null,null,null,null,"",{"$f":"IF(C226<>0,(IF(lfValidaCNPJ(C226)=TRUE,\"Válido\",\"Inválido\")),\"\")","v":""},{"$f":"IF(F226<>0,(IF(lfValidaCEP(F226)=TRUE,\"Válido\",\"Inválido\")),\"\")","v":""}]
[null,null,null,null,null,null,null,null,null,null,null,null,null,"",{"$f":"IF(C227<>0,(IF(lfValidaCNPJ(C227)=TRUE,\"Válido\",\"Inválido\")),\"\")","v":""},{"$f":"IF(F227<>0,(IF(lfValidaCEP(F227)=TRUE,\"Válido\",\"Inválido\")),\"\")","v":""}]
[null,null,null,null,null,null,null,null,null,null,null,null,null,"",{"$f":"IF(C228<>0,(IF(lfValidaCNPJ(C228)=TRUE,\"Válido\",\"Inválido\")),\"\")","v":""},{"$f":"IF(F228<>0,(IF(lfValidaCEP(F228)=TRUE,\"Válido\",\"Inválido\")),\"\")","v":""}]
[null,null,null,null,null,null,null,null,null,null,null,null,null,"",{"$f":"IF(C229<>0,(IF(lfValidaCNPJ(C229)=TRUE,\"Válido\",\"Inválido\")),\"\")","v":""},{"$f":"IF(F229<>0,(IF(lfValidaCEP(F229)=TRUE,\"Válido\",\"Inválido\")),\"\")","v":""}]
[null,null,null,null,null,null,null,null,null,null,null,null,null,"",{"$f":"IF(C230<>0,(IF(lfValidaCNPJ(C230)=TRUE,\"Válido\",\"Inválido\")),\"\")","v":""},{"$f":"IF(F230<>0,(IF(lfValidaCEP(F230)=TRUE,\"Válido\",\"Inválido\")),\"\")","v":""}]
[null,null,null,null,null,null,null,null,null,null,null,null,null,"",{"$f":"IF(C231<>0,(IF(lfValidaCNPJ(C231)=TRUE,\"Válido\",\"Inválido\")),\"\")","v":""},{"$f":"IF(F231<>0,(IF(lfValidaCEP(F231)=TRUE,\"Válido\",\"Inválido\")),\"\")","v":""}]
[null,null,null,null,null,null,null,null,null,null,null,null,null,"",{"$f":"IF(C232<>0,(IF(lfValidaCNPJ(C232)=TRUE,\"Válido\",\"Inválido\")),\"\")","v":""},{"$f":"IF(F232<>0,(IF(lfValidaCEP(F232)=TRUE,\"Válido\",\"Inválido\")),\"\")","v":""}]
[null,null,null,null,null,null,null,null,null,null,null,null,null,"",{"$f":"IF(C233<>0,(IF(lfValidaCNPJ(C233)=TRUE,\"Válido\",\"Inválido\")),\"\")","v":""},{"$f":"IF(F233<>0,(IF(lfValidaCEP(F233)=TRUE,\"Válido\",\"Inválido\")),\"\")","v":""}]
[null,null,null,null,null,null,null,null,null,null,null,null,null,"",{"$f":"IF(C234<>0,(IF(lfValidaCNPJ(C234)=TRUE,\"Válido\",\"Inválido\")),\"\")","v":""},{"$f":"IF(F234<>0,(IF(lfValidaCEP(F234)=TRUE,\"Válido\",\"Inválido\")),\"\")","v":""}]
[null,null,null,null,null,null,null,null,null,null,null,null,null,"",{"$f":"IF(C235<>0,(IF(lfValidaCNPJ(C235)=TRUE,\"Válido\",\"Inválido\")),\"\")","v":""},{"$f":"IF(F235<>0,(IF(lfValidaCEP(F235)=TRUE,\"Válido\",\"Inválido\")),\"\")","v":""}]
[null,null,null,null,null,null,null,null,null,null,null,null,null,"",{"$f":"IF(C236<>0,(IF(lfValidaCNPJ(C236)=TRUE,\"Válido\",\"Inválido\")),\"\")","v":""},{"$f":"IF(F236<>0,(IF(lfValidaCEP(F236)=TRUE,\"Válido\",\"Inválido\")),\"\")","v":""}]
[null,null,null,null,null,null,null,null,null,null,null,null,null,"",{"$f":"IF(C237<>0,(IF(lfValidaCNPJ(C237)=TRUE,\"Válido\",\"Inválido\")),\"\")","v":""},{"$f":"IF(F237<>0,(IF(lfValidaCEP(F237)=TRUE,\"Válido\",\"Inválido\")),\"\")","v":""}]
[null,null,null,null,null,null,null,null,null,null,null,null,null,"",{"$f":"IF(C238<>0,(IF(lfValidaCNPJ(C238)=TRUE,\"Válido\",\"Inválido\")),\"\")","v":""},{"$f":"IF(F238<>0,(IF(lfValidaCEP(F238)=TRUE,\"Válido\",\"Inválido\")),\"\")","v":""}]
[null,null,null,null,null,null,null,null,null,null,null,null,null,"",{"$f":"IF(C239<>0,(IF(lfValidaCNPJ(C239)=TRUE,\"Válido\",\"Inválido\")),\"\")","v":""},{"$f":"IF(F239<>0,(IF(lfValidaCEP(F239)=TRUE,\"Válido\",\"Inválido\")),\"\")","v":""}]
[null,null,null,null,null,null,null,null,null,null,null,null,null,"",{"$f":"IF(C240<>0,(IF(lfValidaCNPJ(C240)=TRUE,\"Válido\",\"Inválido\")),\"\")","v":""},{"$f":"IF(F240<>0,(IF(lfValidaCEP(F240)=TRUE,\"Válido\",\"Inválido\")),\"\")","v":""}]
[null,null,null,null,null,null,null,null,null,null,null,null,null,"",{"$f":"IF(C241<>0,(IF(lfValidaCNPJ(C241)=TRUE,\"Válido\",\"Inválido\")),\"\")","v":""},{"$f":"IF(F241<>0,(IF(lfValidaCEP(F241)=TRUE,\"Válido\",\"Inválido\")),\"\")","v":""}]
[null,null,null,null,null,null,null,null,null,null,null,null,null,"",{"$f":"IF(C242<>0,(IF(lfValidaCNPJ(C242)=TRUE,\"Válido\",\"Inválido\")),\"\")","v":""},{"$f":"IF(F242<>0,(IF(lfValidaCEP(F242)=TRUE,\"Válido\",\"Inválido\")),\"\")","v":""}]
[null,null,null,null,null,null,null,null,null,null,null,null,null,"",{"$f":"IF(C243<>0,(IF(lfValidaCNPJ(C243)=TRUE,\"Válido\",\"Inválido\")),\"\")","v":""},{"$f":"IF(F243<>0,(IF(lfValidaCEP(F243)=TRUE,\"Válido\",\"Inválido\")),\"\")","v":""}]
[null,null,null,null,null,null,null,null,null,null,null,null,null,"",{"$f":"IF(C244<>0,(IF(lfValidaCNPJ(C244)=TRUE,\"Válido\",\"Inválido\")),\"\")","v":""},{"$f":"IF(F244<>0,(IF(lfValidaCEP(F244)=TRUE,\"Válido\",\"Inválido\")),\"\")","v":""}]
[null,null,null,null,null,null,null,null,null,null,null,null,null,"",{"$f":"IF(C245<>0,(IF(lfValidaCNPJ(C245)=TRUE,\"Válido\",\"Inválido\")),\"\")","v":""},{"$f":"IF(F245<>0,(IF(lfValidaCEP(F245)=TRUE,\"Válido\",\"Inválido\")),\"\")","v":""}]
[null,null,null,null,null,null,null,null,null,null,null,null,null,"",{"$f":"IF(C246<>0,(IF(lfValidaCNPJ(C246)=TRUE,\"Válido\",\"Inválido\")),\"\")","v":""},{"$f":"IF(F246<>0,(IF(lfValidaCEP(F246)=TRUE,\"Válido\",\"Inválido\")),\"\")","v":""}]
[null,null,null,null,null,null,null,null,null,null,null,null,null,"",{"$f":"IF(C247<>0,(IF(lfValidaCNPJ(C247)=TRUE,\"Válido\",\"Inválido\")),\"\")","v":""},{"$f":"IF(F247<>0,(IF(lfValidaCEP(F247)=TRUE,\"Válido\",\"Inválido\")),\"\")","v":""}]
[null,null,null,null,null,null,null,null,null,null,null,null,null,"",{"$f":"IF(C248<>0,(IF(lfValidaCNPJ(C248)=TRUE,\"Válido\",\"Inválido\")),\"\")","v":""},{"$f":"IF(F248<>0,(IF(lfValidaCEP(F248)=TRUE,\"Válido\",\"Inválido\")),\"\")","v":""}]
[null,null,null,null,null,null,null,null,null,null,null,null,null,"",{"$f":"IF(C249<>0,(IF(lfValidaCNPJ(C249)=TRUE,\"Válido\",\"Inválido\")),\"\")","v":""},{"$f":"IF(F249<>0,(IF(lfValidaCEP(F249)=TRUE,\"Válido\",\"Inválido\")),\"\")","v":""}]
[null,null,null,null,null,null,null,null,null,null,null,null,null,"",{"$f":"IF(C250<>0,(IF(lfValidaCNPJ(C250)=TRUE,\"Válido\",\"Inválido\")),\"\")","v":""},{"$f":"IF(F250<>0,(IF(lfValidaCEP(F250)=TRUE,\"Válido\",\"Inválido\")),\"\")","v":""}]
[null,null,null,null,null,null,null,null,null,null,null,null,null,"",{"$f":"IF(C251<>0,(IF(lfValidaCNPJ(C251)=TRUE,\"Válido\",\"Inválido\")),\"\")","v":""},{"$f":"IF(F251<>0,(IF(lfValidaCEP(F251)=TRUE,\"Válido\",\"Inválido\")),\"\")","v":""}]
[null,null,null,null,null,null,null,null,null,null,null,null,null,"",{"$f":"IF(C252<>0,(IF(lfValidaCNPJ(C252)=TRUE,\"Válido\",\"Inválido\")),\"\")","v":""},{"$f":"IF(F252<>0,(IF(lfValidaCEP(F252)=TRUE,\"Válido\",\"Inválido\")),\"\")","v":""}]
[null,null,null,null,null,null,null,null,null,null,null,null,null,"",{"$f":"IF(C253<>0,(IF(lfValidaCNPJ(C253)=TRUE,\"Válido\",\"Inválido\")),\"\")","v":""},{"$f":"IF(F253<>0,(IF(lfValidaCEP(F253)=TRUE,\"Válido\",\"Inválido\")),\"\")","v":""}]
[null,null,null,null,null,null,null,null,null,null,null,null,null,"",{"$f":"IF(C254<>0,(IF(lfValidaCNPJ(C254)=TRUE,\"Válido\",\"Inválido\")),\"\")","v":""},{"$f":"IF(F254<>0,(IF(lfValidaCEP(F254)=TRUE,\"Válido\",\"Inválido\")),\"\")","v":""}]
[null,null,null,null,null,null,null,null,null,null,null,null,null,"",{"$f":"IF(C255<>0,(IF(lfValidaCNPJ(C255)=TRUE,\"Válido\",\"Inválido\")),\"\")","v":""},{"$f":"IF(F255<>0,(IF(lfValidaCEP(F255)=TRUE,\"Válido\",\"Inválido\")),\"\")","v":""}]
[null,null,null,null,null,null,null,null,null,null,null,null,null,"",{"$f":"IF(C256<>0,(IF(lfValidaCNPJ(C256)=TRUE,\"Válido\",\"Inválido\")),\"\")","v":""},{"$f":"IF(F256<>0,(IF(lfValidaCEP(F256)=TRUE,\"Válido\",\"Inválido\")),\"\")","v":""}]
[null,null,null,null,null,null,null,null,null,null,null,null,null,"",{"$f":"IF(C257<>0,(IF(lfValidaCNPJ(C257)=TRUE,\"Válido\",\"Inválido\")),\"\")","v":""},{"$f":"IF(F257<>0,(IF(lfValidaCEP(F257)=TRUE,\"Válido\",\"Inválido\")),\"\")","v":""}]
[null,null,null,null,null,null,null,null,null,null,null,null,null,"",{"$f":"IF(C258<>0,(IF(lfValidaCNPJ(C258)=TRUE,\"Válido\",\"Inválido\")),\"\")","v":""},{"$f":"IF(F258<>0,(IF(lfValidaCEP(F258)=TRUE,\"Válido\",\"Inválido\")),\"\")","v":""}]
[null,null,null,null,null,null,null,null,null,null,null,null,null,"",{"$f":"IF(C259<>0,(IF(lfValidaCNPJ(C259)=TRUE,\"Válido\",\"Inválido\")),\"\")","v":""},{"$f":"IF(F259<>0,(IF(lfValidaCEP(F259)=TRUE,\"Válido\",\"Inválido\")),\"\")","v":""}]
[null,null,null,null,null,null,null,null,null,null,null,null,null,"",{"$f":"IF(C260<>0,(IF(lfValidaCNPJ(C260)=TRUE,\"Válido\",\"Inválido\")),\"\")","v":""},{"$f":"IF(F260<>0,(IF(lfValidaCEP(F260)=TRUE,\"Válido\",\"Inválido\")),\"\")","v":""}]
[null,null,null,null,null,null,null,null,null,null,null,null,null,"",{"$f":"IF(C261<>0,(IF(lfValidaCNPJ(C261)=TRUE,\"Válido\",\"Inválido\")),\"\")","v":""},{"$f":"IF(F261<>0,(IF(lfValidaCEP(F261)=TRUE,\"Válido\",\"Inválido\")),\"\")","v":""}]
[null,null,null,null,null,null,null,null,null,null,null,null,null,"",{"$f":"IF(C262<>0,(IF(lfValidaCNPJ(C262)=TRUE,\"Válido\",\"Inválido\")),\"\")","v":""},{"$f":"IF(F262<>0,(IF(lfValidaCEP(F262)=TRUE,\"Válido\",\"Inválido\")),\"\")","v":""}]
[null,null,null,null,null,null,null,null,null,null,null,null,null,"",{"$f":"IF(C263<>0,(IF(lfValidaCNPJ(C263)=TRUE,\"Válido\",\"Inválido\")),\"\")","v":""},{"$f":"IF(F263<>0,(IF(lfValidaCEP(F263)=TRUE,\"Válido\",\"Inválido\")),\"\")","v":""}]
[null,null,null,null,null,null,null,null,null,null,null,null,null,"",{"$f":"IF(C264<>0,(IF(lfValidaCNPJ(C264)=TRUE,\"Válido\",\"Inválido\")),\"\")","v":""},{"$f":"IF(F264<>0,(IF(lfValidaCEP(F264)=TRUE,\"Válido\",\"Inválido\")),\"\")","v":""}]
[null,null,null,null,null,null,null,null,null,null,null,null,null,"",{"$f":"IF(C265<>0,(IF(lfValidaCNPJ(C265)=TRUE,\"Válido\",\"Inválido\")),\"\")","v":""},{"$f":"IF(F265<>0,(IF(lfValidaCEP(F265)=TRUE,\"Válido\",\"Inválido\")),\"\")","v":""}]
[null,null,null,null,null,null,null,null,null,null,null,null,null,"",{"$f":"IF(C266<>0,(IF(lfValidaCNPJ(C266)=TRUE,\"Válido\",\"Inválido\")),\"\")","v":""},{"$f":"IF(F266<>0,(IF(lfValidaCEP(F266)=TRUE,\"Válido\",\"Inválido\")),\"\")","v":""}]
[null,null,null,null,null,null,null,null,null,null,null,null,null,"",{"$f":"IF(C267<>0,(IF(lfValidaCNPJ(C267)=TRUE,\"Válido\",\"Inválido\")),\"\")","v":""},{"$f":"IF(F267<>0,(IF(lfValidaCEP(F267)=TRUE,\"Válido\",\"Inválido\")),\"\")","v":""}]
[null,null,null,null,null,null,null,null,null,null,null,null,null,{"$f":"IF(COUNTA(B268:J268)<>0,IF(AND(B268<>0,C268<>0,D268<>0,E268<>0,F268<>0,G268<>0,H268<>0,I268<>0,J268<>0),\"Completo\",\"Incompleto\"),\"\")","v":""},{"$f":"IF(C268<>0,(IF(lfValidaCNPJ(C268)=TRUE,\"Válido\",\"Inválido\")),\"\")","v":""},{"$f":"IF(F268<>0,(IF(lfValidaCEP(F268)=TRUE,\"Válido\",\"Inválido\")),\"\")","v":""}]
[null,null,null,null,null,null,null,null,null,null,null,null,null,"",{"$f":"IF(C269<>0,(IF(lfValidaCNPJ(C269)=TRUE,\"Válido\",\"Inválido\")),\"\")","v":""},{"$f":"IF(F269<>0,(IF(lfValidaCEP(F269)=TRUE,\"Válido\",\"Inválido\")),\"\")","v":""}]
[null,null,null,null,null,null,null,null,null,null,null,null,null,"",{"$f":"IF(C270<>0,(IF(lfValidaCNPJ(C270)=TRUE,\"Válido\",\"Inválido\")),\"\")","v":""},{"$f":"IF(F270<>0,(IF(lfValidaCEP(F270)=TRUE,\"Válido\",\"Inválido\")),\"\")","v":""}]
[null,null,null,null,null,null,null,null,null,null,null,null,null,"",{"$f":"IF(C271<>0,(IF(lfValidaCNPJ(C271)=TRUE,\"Válido\",\"Inválido\")),\"\")","v":""},{"$f":"IF(F271<>0,(IF(lfValidaCEP(F271)=TRUE,\"Válido\",\"Inválido\")),\"\")","v":""}]
[null,null,null,null,null,null,null,null,null,null,null,null,null,"",{"$f":"IF(C272<>0,(IF(lfValidaCNPJ(C272)=TRUE,\"Válido\",\"Inválido\")),\"\")","v":""},{"$f":"IF(F272<>0,(IF(lfValidaCEP(F272)=TRUE,\"Válido\",\"Inválido\")),\"\")","v":""}]
[null,null,null,null,null,null,null,null,null,null,null,null,null,"",{"$f":"IF(C273<>0,(IF(lfValidaCNPJ(C273)=TRUE,\"Válido\",\"Inválido\")),\"\")","v":""},{"$f":"IF(F273<>0,(IF(lfValidaCEP(F273)=TRUE,\"Válido\",\"Inválido\")),\"\")","v":""}]
[null,null,null,null,null,null,null,null,null,null,null,null,null,"",{"$f":"IF(C274<>0,(IF(lfValidaCNPJ(C274)=TRUE,\"Válido\",\"Inválido\")),\"\")","v":""},{"$f":"IF(F274<>0,(IF(lfValidaCEP(F274)=TRUE,\"Válido\",\"Inválido\")),\"\")","v":""}]
[null,null,null,null,null,null,null,null,null,null,null,null,null,"",{"$f":"IF(C275<>0,(IF(lfValidaCNPJ(C275)=TRUE,\"Válido\",\"Inválido\")),\"\")","v":""},{"$f":"IF(F275<>0,(IF(lfValidaCEP(F275)=TRUE,\"Válido\",\"Inválido\")),\"\")","v":""}]
[null,null,null,null,null,null,null,null,null,null,null,null,null,"",{"$f":"IF(C276<>0,(IF(lfValidaCNPJ(C276)=TRUE,\"Válido\",\"Inválido\")),\"\")","v":""},{"$f":"IF(F276<>0,(IF(lfValidaCEP(F276)=TRUE,\"Válido\",\"Inválido\")),\"\")","v":""}]
[null,null,null,null,null,null,null,null,null,null,null,null,null,"",{"$f":"IF(C277<>0,(IF(lfValidaCNPJ(C277)=TRUE,\"Válido\",\"Inválido\")),\"\")","v":""},{"$f":"IF(F277<>0,(IF(lfValidaCEP(F277)=TRUE,\"Válido\",\"Inválido\")),\"\")","v":""}]
[null,null,null,null,null,null,null,null,null,null,null,null,null,"",{"$f":"IF(C278<>0,(IF(lfValidaCNPJ(C278)=TRUE,\"Válido\",\"Inválido\")),\"\")","v":""},{"$f":"IF(F278<>0,(IF(lfValidaCEP(F278)=TRUE,\"Válido\",\"Inválido\")),\"\")","v":""}]
[null,null,null,null,null,null,null,null,null,null,null,null,null,"",{"$f":"IF(C279<>0,(IF(lfValidaCNPJ(C279)=TRUE,\"Válido\",\"Inválido\")),\"\")","v":""},{"$f":"IF(F279<>0,(IF(lfValidaCEP(F279)=TRUE,\"Válido\",\"Inválido\")),\"\")","v":""}]
[null,null,null,null,null,null,null,null,null,null,null,null,null,"",{"$f":"IF(C280<>0,(IF(lfValidaCNPJ(C280)=TRUE,\"Válido\",\"Inválido\")),\"\")","v":""},{"$f":"IF(F280<>0,(IF(lfValidaCEP(F280)=TRUE,\"Válido\",\"Inválido\")),\"\")","v":""}]
[null,null,null,null,null,null,null,null,null,null,null,null,null,"",{"$f":"IF(C281<>0,(IF(lfValidaCNPJ(C281)=TRUE,\"Válido\",\"Inválido\")),\"\")","v":""},{"$f":"IF(F281<>0,(IF(lfValidaCEP(F281)=TRUE,\"Válido\",\"Inválido\")),\"\")","v":""}]
[null,null,null,null,null,null,null,null,null,null,null,null,null,"",{"$f":"IF(C282<>0,(IF(lfValidaCNPJ(C282)=TRUE,\"Válido\",\"Inválido\")),\"\")","v":""},{"$f":"IF(F282<>0,(IF(lfValidaCEP(F282)=TRUE,\"Válido\",\"Inválido\")),\"\")","v":""}]
[null,null,null,null,null,null,null,null,null,null,null,null,null,"",{"$f":"IF(C283<>0,(IF(lfValidaCNPJ(C283)=TRUE,\"Válido\",\"Inválido\")),\"\")","v":""},{"$f":"IF(F283<>0,(IF(lfValidaCEP(F283)=TRUE,\"Válido\",\"Inválido\")),\"\")","v":""}]
[null,null,null,null,null,null,null,null,null,null,null,null,null,"",{"$f":"IF(C284<>0,(IF(lfValidaCNPJ(C284)=TRUE,\"Válido\",\"Inválido\")),\"\")","v":""},{"$f":"IF(F284<>0,(IF(lfValidaCEP(F284)=TRUE,\"Válido\",\"Inválido\")),\"\")","v":""}]
[null,null,null,null,null,null,null,null,null,null,null,null,null,"",{"$f":"IF(C285<>0,(IF(lfValidaCNPJ(C285)=TRUE,\"Válido\",\"Inválido\")),\"\")","v":""},{"$f":"IF(F285<>0,(IF(lfValidaCEP(F285)=TRUE,\"Válido\",\"Inválido\")),\"\")","v":""}]
[null,null,null,null,null,null,null,null,null,null,null,null,null,"",{"$f":"IF(C286<>0,(IF(lfValidaCNPJ(C286)=TRUE,\"Válido\",\"Inválido\")),\"\")","v":""},{"$f":"IF(F286<>0,(IF(lfValidaCEP(F286)=TRUE,\"Válido\",\"Inválido\")),\"\")","v":""}]
[null,null,null,null,null,null,null,null,null,null,null,null,null,"",{"$f":"IF(C287<>0,(IF(lfValidaCNPJ(C287)=TRUE,\"Válido\",\"Inválido\")),\"\")","v":""},{"$f":"IF(F287<>0,(IF(lfValidaCEP(F287)=TRUE,\"Válido\",\"Inválido\")),\"\")","v":""}]
[null,null,null,null,null,null,null,null,null,null,null,null,null,"",{"$f":"IF(C288<>0,(IF(lfValidaCNPJ(C288)=TRUE,\"Válido\",\"Inválido\")),\"\")","v":""},{"$f":"IF(F288<>0,(IF(lfValidaCEP(F288)=TRUE,\"Válido\",\"Inválido\")),\"\")","v":""}]
[null,null,null,null,null,null,null,null,null,null,null,null,null,"",{"$f":"IF(C289<>0,(IF(lfValidaCNPJ(C289)=TRUE,\"Válido\",\"Inválido\")),\"\")","v":""},{"$f":"IF(F289<>0,(IF(lfValidaCEP(F289)=TRUE,\"Válido\",\"Inválido\")),\"\")","v":""}]
[null,null,null,null,null,null,null,null,null,null,null,null,null,"",{"$f":"IF(C290<>0,(IF(lfValidaCNPJ(C290)=TRUE,\"Válido\",\"Inválido\")),\"\")","v":""},{"$f":"IF(F290<>0,(IF(lfValidaCEP(F290)=TRUE,\"Válido\",\"Inválido\")),\"\")","v":""}]
[null,null,null,null,null,null,null,null,null,null,null,null,null,"",{"$f":"IF(C291<>0,(IF(lfValidaCNPJ(C291)=TRUE,\"Válido\",\"Inválido\")),\"\")","v":""},{"$f":"IF(F291<>0,(IF(lfValidaCEP(F291)=TRUE,\"Válido\",\"Inválido\")),\"\")","v":""}]
[null,null,null,null,null,null,null,null,null,null,null,null,null,"",{"$f":"IF(C292<>0,(IF(lfValidaCNPJ(C292)=TRUE,\"Válido\",\"Inválido\")),\"\")","v":""},{"$f":"IF(F292<>0,(IF(lfValidaCEP(F292)=TRUE,\"Válido\",\"Inválido\")),\"\")","v":""}]
[null,null,null,null,null,null,null,null,null,null,null,null,null,"",{"$f":"IF(C293<>0,(IF(lfValidaCNPJ(C293)=TRUE,\"Válido\",\"Inválido\")),\"\")","v":""},{"$f":"IF(F293<>0,(IF(lfValidaCEP(F293)=TRUE,\"Válido\",\"Inválido\")),\"\")","v":""}]
[null,null,null,null,null,null,null,null,null,null,null,null,null,"",{"$f":"IF(C294<>0,(IF(lfValidaCNPJ(C294)=TRUE,\"Válido\",\"Inválido\")),\"\")","v":""},{"$f":"IF(F294<>0,(IF(lfValidaCEP(F294)=TRUE,\"Válido\",\"Inválido\")),\"\")","v":""}]
[null,null,null,null,null,null,null,null,null,null,null,null,null,"",{"$f":"IF(C295<>0,(IF(lfValidaCNPJ(C295)=TRUE,\"Válido\",\"Inválido\")),\"\")","v":""},{"$f":"IF(F295<>0,(IF(lfValidaCEP(F295)=TRUE,\"Válido\",\"Inválido\")),\"\")","v":""}]
[null,null,null,null,null,null,null,null,null,null,null,null,null,"",{"$f":"IF(C296<>0,(IF(lfValidaCNPJ(C296)=TRUE,\"Válido\",\"Inválido\")),\"\")","v":""},{"$f":"IF(F296<>0,(IF(lfValidaCEP(F296)=TRUE,\"Válido\",\"Inválido\")),\"\")","v":""}]
[null,null,null,null,null,null,null,null,null,null,null,null,null,"",{"$f":"IF(C297<>0,(IF(lfValidaCNPJ(C297)=TRUE,\"Válido\",\"Inválido\")),\"\")","v":""},{"$f":"IF(F297<>0,(IF(lfValidaCEP(F297)=TRUE,\"Válido\",\"Inválido\")),\"\")","v":""}]
[null,null,null,null,null,null,null,null,null,null,null,null,null,"",{"$f":"IF(C298<>0,(IF(lfValidaCNPJ(C298)=TRUE,\"Válido\",\"Inválido\")),\"\")","v":""},{"$f":"IF(F298<>0,(IF(lfValidaCEP(F298)=TRUE,\"Válido\",\"Inválido\")),\"\")","v":""}]
[null,null,null,null,null,null,null,null,null,null,null,null,null,"",{"$f":"IF(C299<>0,(IF(lfValidaCNPJ(C299)=TRUE,\"Válido\",\"Inválido\")),\"\")","v":""},{"$f":"IF(F299<>0,(IF(lfValidaCEP(F299)=TRUE,\"Válido\",\"Inválido\")),\"\")","v":""}]
[null,null,null,null,null,null,null,null,null,null,null,null,null,"",{"$f":"IF(C300<>0,(IF(lfValidaCNPJ(C300)=TRUE,\"Válido\",\"Inválido\")),\"\")","v":""},{"$f":"IF(F300<>0,(IF(lfValidaCEP(F300)=TRUE,\"Válido\",\"Inválido\")),\"\")","v":""}]
[null,null,null,null,null,null,null,null,null,null,null,null,null,"",{"$f":"IF(C301<>0,(IF(lfValidaCNPJ(C301)=TRUE,\"Válido\",\"Inválido\")),\"\")","v":""},{"$f":"IF(F301<>0,(IF(lfValidaCEP(F301)=TRUE,\"Válido\",\"Inválido\")),\"\")","v":""}]
[null,null,null,null,null,null,null,null,null,null,null,null,null,"",{"$f":"IF(C302<>0,(IF(lfValidaCNPJ(C302)=TRUE,\"Válido\",\"Inválido\")),\"\")","v":""},{"$f":"IF(F302<>0,(IF(lfValidaCEP(F302)=TRUE,\"Válido\",\"Inválido\")),\"\")","v":""}]
[null,null,null,null,null,null,null,null,null,null,null,null,null,"",{"$f":"IF(C303<>0,(IF(lfValidaCNPJ(C303)=TRUE,\"Válido\",\"Inválido\")),\"\")","v":""},{"$f":"IF(F303<>0,(IF(lfValidaCEP(F303)=TRUE,\"Válido\",\"Inválido\")),\"\")","v":""}]
[null,null,null,null,null,null,null,null,null,null,null,null,null,"",{"$f":"IF(C304<>0,(IF(lfValidaCNPJ(C304)=TRUE,\"Válido\",\"Inválido\")),\"\")","v":""},{"$f":"IF(F304<>0,(IF(lfValidaCEP(F304)=TRUE,\"Válido\",\"Inválido\")),\"\")","v":""}]
[null,null,null,null,null,null,null,null,null,null,null,null,null,"",{"$f":"IF(C305<>0,(IF(lfValidaCNPJ(C305)=TRUE,\"Válido\",\"Inválido\")),\"\")","v":""},{"$f":"IF(F305<>0,(IF(lfValidaCEP(F305)=TRUE,\"Válido\",\"Inválido\")),\"\")","v":""}]
[null,null,null,null,null,null,null,null,null,null,null,null,null,"",{"$f":"IF(C306<>0,(IF(lfValidaCNPJ(C306)=TRUE,\"Válido\",\"Inválido\")),\"\")","v":""},{"$f":"IF(F306<>0,(IF(lfValidaCEP(F306)=TRUE,\"Válido\",\"Inválido\")),\"\")","v":""}]
[null,null,null,null,null,null,null,null,null,null,null,null,null,"",{"$f":"IF(C307<>0,(IF(lfValidaCNPJ(C307)=TRUE,\"Válido\",\"Inválido\")),\"\")","v":""},{"$f":"IF(F307<>0,(IF(lfValidaCEP(F307)=TRUE,\"Válido\",\"Inválido\")),\"\")","v":""}]
[null,null,null,null,null,null,null,null,null,null,null,null,null,"",{"$f":"IF(C308<>0,(IF(lfValidaCNPJ(C308)=TRUE,\"Válido\",\"Inválido\")),\"\")","v":""},{"$f":"IF(F308<>0,(IF(lfValidaCEP(F308)=TRUE,\"Válido\",\"Inválido\")),\"\")","v":""}]
[null,null,null,null,null,null,null,null,null,null,null,null,null,"",{"$f":"IF(C309<>0,(IF(lfValidaCNPJ(C309)=TRUE,\"Válido\",\"Inválido\")),\"\")","v":""},{"$f":"IF(F309<>0,(IF(lfValidaCEP(F309)=TRUE,\"Válido\",\"Inválido\")),\"\")","v":""}]
[null,null,null,null,null,null,null,null,null,null,null,null,null,"",{"$f":"IF(C310<>0,(IF(lfValidaCNPJ(C310)=TRUE,\"Válido\",\"Inválido\")),\"\")","v":""},{"$f":"IF(F310<>0,(IF(lfValidaCEP(F310)=TRUE,\"Válido\",\"Inválido\")),\"\")","v":""}]
[null,null,null,null,null,null,null,null,null,null,null,null,null,"",{"$f":"IF(C311<>0,(IF(lfValidaCNPJ(C311)=TRUE,\"Válido\",\"Inválido\")),\"\")","v":""},{"$f":"IF(F311<>0,(IF(lfValidaCEP(F311)=TRUE,\"Válido\",\"Inválido\")),\"\")","v":""}]
[null,null,null,null,null,null,null,null,null,null,null,null,null,"",{"$f":"IF(C312<>0,(IF(lfValidaCNPJ(C312)=TRUE,\"Válido\",\"Inválido\")),\"\")","v":""},{"$f":"IF(F312<>0,(IF(lfValidaCEP(F312)=TRUE,\"Válido\",\"Inválido\")),\"\")","v":""}]
[null,null,null,null,null,null,null,null,null,null,null,null,null,"",{"$f":"IF(C313<>0,(IF(lfValidaCNPJ(C313)=TRUE,\"Válido\",\"Inválido\")),\"\")","v":""},{"$f":"IF(F313<>0,(IF(lfValidaCEP(F313)=TRUE,\"Válido\",\"Inválido\")),\"\")","v":""}]
[null,null,null,null,null,null,null,null,null,null,null,null,null,"",{"$f":"IF(C314<>0,(IF(lfValidaCNPJ(C314)=TRUE,\"Válido\",\"Inválido\")),\"\")","v":""},{"$f":"IF(F314<>0,(IF(lfValidaCEP(F314)=TRUE,\"Válido\",\"Inválido\")),\"\")","v":""}]
[null,null,null,null,null,null,null,null,null,null,null,null,null,"",{"$f":"IF(C315<>0,(IF(lfValidaCNPJ(C315)=TRUE,\"Válido\",\"Inválido\")),\"\")","v":""},{"$f":"IF(F315<>0,(IF(lfValidaCEP(F315)=TRUE,\"Válido\",\"Inválido\")),\"\")","v":""}]
[null,null,null,null,null,null,null,null,null,null,null,null,null,"",{"$f":"IF(C316<>0,(IF(lfValidaCNPJ(C316)=TRUE,\"Válido\",\"Inválido\")),\"\")","v":""},{"$f":"IF(F316<>0,(IF(lfValidaCEP(F316)=TRUE,\"Válido\",\"Inválido\")),\"\")","v":""}]
[null,null,null,null,null,null,null,null,null,null,null,null,null,"",{"$f":"IF(C317<>0,(IF(lfValidaCNPJ(C317)=TRUE,\"Válido\",\"Inválido\")),\"\")","v":""},{"$f":"IF(F317<>0,(IF(lfValidaCEP(F317)=TRUE,\"Válido\",\"Inválido\")),\"\")","v":""}]
[null,null,null,null,null,null,null,null,null,null,null,null,null,"",{"$f":"IF(C318<>0,(IF(lfValidaCNPJ(C318)=TRUE,\"Válido\",\"Inválido\")),\"\")","v":""},{"$f":"IF(F318<>0,(IF(lfValidaCEP(F318)=TRUE,\"Válido\",\"Inválido\")),\"\")","v":""}]
[null,null,null,null,null,null,null,null,null,null,null,null,null,"",{"$f":"IF(C319<>0,(IF(lfValidaCNPJ(C319)=TRUE,\"Válido\",\"Inválido\")),\"\")","v":""},{"$f":"IF(F319<>0,(IF(lfValidaCEP(F319)=TRUE,\"Válido\",\"Inválido\")),\"\")","v":""}]
[null,null,null,null,null,null,null,null,null,null,null,null,null,"",{"$f":"IF(C320<>0,(IF(lfValidaCNPJ(C320)=TRUE,\"Válido\",\"Inválido\")),\"\")","v":""},{"$f":"IF(F320<>0,(IF(lfValidaCEP(F320)=TRUE,\"Válido\",\"Inválido\")),\"\")","v":""}]
[null,null,null,null,null,null,null,null,null,null,null,null,null,"",{"$f":"IF(C321<>0,(IF(lfValidaCNPJ(C321)=TRUE,\"Válido\",\"Inválido\")),\"\")","v":""},{"$f":"IF(F321<>0,(IF(lfValidaCEP(F321)=TRUE,\"Válido\",\"Inválido\")),\"\")","v":""}]
[null,null,null,null,null,null,null,null,null,null,null,null,null,"",{"$f":"IF(C322<>0,(IF(lfValidaCNPJ(C322)=TRUE,\"Válido\",\"Inválido\")),\"\")","v":""},{"$f":"IF(F322<>0,(IF(lfValidaCEP(F322)=TRUE,\"Válido\",\"Inválido\")),\"\")","v":""}]
[null,null,null,null,null,null,null,null,null,null,null,null,null,"",{"$f":"IF(C323<>0,(IF(lfValidaCNPJ(C323)=TRUE,\"Válido\",\"Inválido\")),\"\")","v":""},{"$f":"IF(F323<>0,(IF(lfValidaCEP(F323)=TRUE,\"Válido\",\"Inválido\")),\"\")","v":""}]
[null,null,null,null,null,null,null,null,null,null,null,null,null,"",{"$f":"IF(C324<>0,(IF(lfValidaCNPJ(C324)=TRUE,\"Válido\",\"Inválido\")),\"\")","v":""},{"$f":"IF(F324<>0,(IF(lfValidaCEP(F324)=TRUE,\"Válido\",\"Inválido\")),\"\")","v":""}]
[null,null,null,null,null,null,null,null,null,null,null,null,null,"",{"$f":"IF(C325<>0,(IF(lfValidaCNPJ(C325)=TRUE,\"Válido\",\"Inválido\")),\"\")","v":""},{"$f":"IF(F325<>0,(IF(lfValidaCEP(F325)=TRUE,\"Válido\",\"Inválido\")),\"\")","v":""}]
[null,null,null,null,null,null,null,null,null,null,null,null,null,"",{"$f":"IF(C326<>0,(IF(lfValidaCNPJ(C326)=TRUE,\"Válido\",\"Inválido\")),\"\")","v":""},{"$f":"IF(F326<>0,(IF(lfValidaCEP(F326)=TRUE,\"Válido\",\"Inválido\")),\"\")","v":""}]
[null,null,null,null,null,null,null,null,null,null,null,null,null,"",{"$f":"IF(C327<>0,(IF(lfValidaCNPJ(C327)=TRUE,\"Válido\",\"Inválido\")),\"\")","v":""},{"$f":"IF(F327<>0,(IF(lfValidaCEP(F327)=TRUE,\"Válido\",\"Inválido\")),\"\")","v":""}]
[null,null,null,null,null,null,null,null,null,null,null,null,null,"",{"$f":"IF(C328<>0,(IF(lfValidaCNPJ(C328)=TRUE,\"Válido\",\"Inválido\")),\"\")","v":""},{"$f":"IF(F328<>0,(IF(lfValidaCEP(F328)=TRUE,\"Válido\",\"Inválido\")),\"\")","v":""}]
[null,null,null,null,null,null,null,null,null,null,null,null,null,"",{"$f":"IF(C329<>0,(IF(lfValidaCNPJ(C329)=TRUE,\"Válido\",\"Inválido\")),\"\")","v":""},{"$f":"IF(F329<>0,(IF(lfValidaCEP(F329)=TRUE,\"Válido\",\"Inválido\")),\"\")","v":""}]
[null,null,null,null,null,null,null,null,null,null,null,null,null,"",{"$f":"IF(C330<>0,(IF(lfValidaCNPJ(C330)=TRUE,\"Válido\",\"Inválido\")),\"\")","v":""},{"$f":"IF(F330<>0,(IF(lfValidaCEP(F330)=TRUE,\"Válido\",\"Inválido\")),\"\")","v":""}]
[null,null,null,null,null,null,null,null,null,null,null,null,null,"",{"$f":"IF(C331<>0,(IF(lfValidaCNPJ(C331)=TRUE,\"Válido\",\"Inválido\")),\"\")","v":""},{"$f":"IF(F331<>0,(IF(lfValidaCEP(F331)=TRUE,\"Válido\",\"Inválido\")),\"\")","v":""}]
[null,null,null,null,null,null,null,null,null,null,null,null,null,{"$f":"IF(COUNTA(B332:J332)<>0,IF(AND(B332<>0,C332<>0,D332<>0,E332<>0,F332<>0,G332<>0,H332<>0,I332<>0,J332<>0),\"Completo\",\"Incompleto\"),\"\")","v":""},{"$f":"IF(C332<>0,(IF(lfValidaCNPJ(C332)=TRUE,\"Válido\",\"Inválido\")),\"\")","v":""},{"$f":"IF(F332<>0,(IF(lfValidaCEP(F332)=TRUE,\"Válido\",\"Inválido\")),\"\")","v":""}]
[null,null,null,null,null,null,null,null,null,null,null,null,null,"",{"$f":"IF(C333<>0,(IF(lfValidaCNPJ(C333)=TRUE,\"Válido\",\"Inválido\")),\"\")","v":""},{"$f":"IF(F333<>0,(IF(lfValidaCEP(F333)=TRUE,\"Válido\",\"Inválido\")),\"\")","v":""}]
[null,null,null,null,null,null,null,null,null,null,null,null,null,"",{"$f":"IF(C334<>0,(IF(lfValidaCNPJ(C334)=TRUE,\"Válido\",\"Inválido\")),\"\")","v":""},{"$f":"IF(F334<>0,(IF(lfValidaCEP(F334)=TRUE,\"Válido\",\"Inválido\")),\"\")","v":""}]
[null,null,null,null,null,null,null,null,null,null,null,null,null,"",{"$f":"IF(C335<>0,(IF(lfValidaCNPJ(C335)=TRUE,\"Válido\",\"Inválido\")),\"\")","v":""},{"$f":"IF(F335<>0,(IF(lfValidaCEP(F335)=TRUE,\"Válido\",\"Inválido\")),\"\")","v":""}]
[null,null,null,null,null,null,null,null,null,null,null,null,null,"",{"$f":"IF(C336<>0,(IF(lfValidaCNPJ(C336)=TRUE,\"Válido\",\"Inválido\")),\"\")","v":""},{"$f":"IF(F336<>0,(IF(lfValidaCEP(F336)=TRUE,\"Válido\",\"Inválido\")),\"\")","v":""}]
[null,null,null,null,null,null,null,null,null,null,null,null,null,"",{"$f":"IF(C337<>0,(IF(lfValidaCNPJ(C337)=TRUE,\"Válido\",\"Inválido\")),\"\")","v":""},{"$f":"IF(F337<>0,(IF(lfValidaCEP(F337)=TRUE,\"Válido\",\"Inválido\")),\"\")","v":""}]
[null,null,null,null,null,null,null,null,null,null,null,null,null,"",{"$f":"IF(C338<>0,(IF(lfValidaCNPJ(C338)=TRUE,\"Válido\",\"Inválido\")),\"\")","v":""},{"$f":"IF(F338<>0,(IF(lfValidaCEP(F338)=TRUE,\"Válido\",\"Inválido\")),\"\")","v":""}]
[null,null,null,null,null,null,null,null,null,null,null,null,null,"",{"$f":"IF(C339<>0,(IF(lfValidaCNPJ(C339)=TRUE,\"Válido\",\"Inválido\")),\"\")","v":""},{"$f":"IF(F339<>0,(IF(lfValidaCEP(F339)=TRUE,\"Válido\",\"Inválido\")),\"\")","v":""}]
[null,null,null,null,null,null,null,null,null,null,null,null,null,"",{"$f":"IF(C340<>0,(IF(lfValidaCNPJ(C340)=TRUE,\"Válido\",\"Inválido\")),\"\")","v":""},{"$f":"IF(F340<>0,(IF(lfValidaCEP(F340)=TRUE,\"Válido\",\"Inválido\")),\"\")","v":""}]
[null,null,null,null,null,null,null,null,null,null,null,null,null,"",{"$f":"IF(C341<>0,(IF(lfValidaCNPJ(C341)=TRUE,\"Válido\",\"Inválido\")),\"\")","v":""},{"$f":"IF(F341<>0,(IF(lfValidaCEP(F341)=TRUE,\"Válido\",\"Inválido\")),\"\")","v":""}]
[null,null,null,null,null,null,null,null,null,null,null,null,null,"",{"$f":"IF(C342<>0,(IF(lfValidaCNPJ(C342)=TRUE,\"Válido\",\"Inválido\")),\"\")","v":""},{"$f":"IF(F342<>0,(IF(lfValidaCEP(F342)=TRUE,\"Válido\",\"Inválido\")),\"\")","v":""}]
[null,null,null,null,null,null,null,null,null,null,null,null,null,"",{"$f":"IF(C343<>0,(IF(lfValidaCNPJ(C343)=TRUE,\"Válido\",\"Inválido\")),\"\")","v":""},{"$f":"IF(F343<>0,(IF(lfValidaCEP(F343)=TRUE,\"Válido\",\"Inválido\")),\"\")","v":""}]
[null,null,null,null,null,null,null,null,null,null,null,null,null,"",{"$f":"IF(C344<>0,(IF(lfValidaCNPJ(C344)=TRUE,\"Válido\",\"Inválido\")),\"\")","v":""},{"$f":"IF(F344<>0,(IF(lfValidaCEP(F344)=TRUE,\"Válido\",\"Inválido\")),\"\")","v":""}]
[null,null,null,null,null,null,null,null,null,null,null,null,null,"",{"$f":"IF(C345<>0,(IF(lfValidaCNPJ(C345)=TRUE,\"Válido\",\"Inválido\")),\"\")","v":""},{"$f":"IF(F345<>0,(IF(lfValidaCEP(F345)=TRUE,\"Válido\",\"Inválido\")),\"\")","v":""}]
[null,null,null,null,null,null,null,null,null,null,null,null,null,"",{"$f":"IF(C346<>0,(IF(lfValidaCNPJ(C346)=TRUE,\"Válido\",\"Inválido\")),\"\")","v":""},{"$f":"IF(F346<>0,(IF(lfValidaCEP(F346)=TRUE,\"Válido\",\"Inválido\")),\"\")","v":""}]
[null,null,null,null,null,null,null,null,null,null,null,null,null,"",{"$f":"IF(C347<>0,(IF(lfValidaCNPJ(C347)=TRUE,\"Válido\",\"Inválido\")),\"\")","v":""},{"$f":"IF(F347<>0,(IF(lfValidaCEP(F347)=TRUE,\"Válido\",\"Inválido\")),\"\")","v":""}]
[null,null,null,null,null,null,null,null,null,null,null,null,null,"",{"$f":"IF(C348<>0,(IF(lfValidaCNPJ(C348)=TRUE,\"Válido\",\"Inválido\")),\"\")","v":""},{"$f":"IF(F348<>0,(IF(lfValidaCEP(F348)=TRUE,\"Válido\",\"Inválido\")),\"\")","v":""}]
[null,null,null,null,null,null,null,null,null,null,null,null,null,"",{"$f":"IF(C349<>0,(IF(lfValidaCNPJ(C349)=TRUE,\"Válido\",\"Inválido\")),\"\")","v":""},{"$f":"IF(F349<>0,(IF(lfValidaCEP(F349)=TRUE,\"Válido\",\"Inválido\")),\"\")","v":""}]
[null,null,null,null,null,null,null,null,null,null,null,null,null,"",{"$f":"IF(C350<>0,(IF(lfValidaCNPJ(C350)=TRUE,\"Válido\",\"Inválido\")),\"\")","v":""},{"$f":"IF(F350<>0,(IF(lfValidaCEP(F350)=TRUE,\"Válido\",\"Inválido\")),\"\")","v":""}]
[null,null,null,null,null,null,null,null,null,null,null,null,null,"",{"$f":"IF(C351<>0,(IF(lfValidaCNPJ(C351)=TRUE,\"Válido\",\"Inválido\")),\"\")","v":""},{"$f":"IF(F351<>0,(IF(lfValidaCEP(F351)=TRUE,\"Válido\",\"Inválido\")),\"\")","v":""}]
[null,null,null,null,null,null,null,null,null,null,null,null,null,"",{"$f":"IF(C352<>0,(IF(lfValidaCNPJ(C352)=TRUE,\"Válido\",\"Inválido\")),\"\")","v":""},{"$f":"IF(F352<>0,(IF(lfValidaCEP(F352)=TRUE,\"Válido\",\"Inválido\")),\"\")","v":""}]
[null,null,null,null,null,null,null,null,null,null,null,null,null,"",{"$f":"IF(C353<>0,(IF(lfValidaCNPJ(C353)=TRUE,\"Válido\",\"Inválido\")),\"\")","v":""},{"$f":"IF(F353<>0,(IF(lfValidaCEP(F353)=TRUE,\"Válido\",\"Inválido\")),\"\")","v":""}]
[null,null,null,null,null,null,null,null,null,null,null,null,null,"",{"$f":"IF(C354<>0,(IF(lfValidaCNPJ(C354)=TRUE,\"Válido\",\"Inválido\")),\"\")","v":""},{"$f":"IF(F354<>0,(IF(lfValidaCEP(F354)=TRUE,\"Válido\",\"Inválido\")),\"\")","v":""}]
[null,null,null,null,null,null,null,null,null,null,null,null,null,"",{"$f":"IF(C355<>0,(IF(lfValidaCNPJ(C355)=TRUE,\"Válido\",\"Inválido\")),\"\")","v":""},{"$f":"IF(F355<>0,(IF(lfValidaCEP(F355)=TRUE,\"Válido\",\"Inválido\")),\"\")","v":""}]
[null,null,null,null,null,null,null,null,null,null,null,null,null,"",{"$f":"IF(C356<>0,(IF(lfValidaCNPJ(C356)=TRUE,\"Válido\",\"Inválido\")),\"\")","v":""},{"$f":"IF(F356<>0,(IF(lfValidaCEP(F356)=TRUE,\"Válido\",\"Inválido\")),\"\")","v":""}]
[null,null,null,null,null,null,null,null,null,null,null,null,null,"",{"$f":"IF(C357<>0,(IF(lfValidaCNPJ(C357)=TRUE,\"Válido\",\"Inválido\")),\"\")","v":""},{"$f":"IF(F357<>0,(IF(lfValidaCEP(F357)=TRUE,\"Válido\",\"Inválido\")),\"\")","v":""}]
[null,null,null,null,null,null,null,null,null,null,null,null,null,"",{"$f":"IF(C358<>0,(IF(lfValidaCNPJ(C358)=TRUE,\"Válido\",\"Inválido\")),\"\")","v":""},{"$f":"IF(F358<>0,(IF(lfValidaCEP(F358)=TRUE,\"Válido\",\"Inválido\")),\"\")","v":""}]
[null,null,null,null,null,null,null,null,null,null,null,null,null,"",{"$f":"IF(C359<>0,(IF(lfValidaCNPJ(C359)=TRUE,\"Válido\",\"Inválido\")),\"\")","v":""},{"$f":"IF(F359<>0,(IF(lfValidaCEP(F359)=TRUE,\"Válido\",\"Inválido\")),\"\")","v":""}]
[null,null,null,null,null,null,null,null,null,null,null,null,null,"",{"$f":"IF(C360<>0,(IF(lfValidaCNPJ(C360)=TRUE,\"Válido\",\"Inválido\")),\"\")","v":""},{"$f":"IF(F360<>0,(IF(lfValidaCEP(F360)=TRUE,\"Válido\",\"Inválido\")),\"\")","v":""}]
[null,null,null,null,null,null,null,null,null,null,null,null,null,"",{"$f":"IF(C361<>0,(IF(lfValidaCNPJ(C361)=TRUE,\"Válido\",\"Inválido\")),\"\")","v":""},{"$f":"IF(F361<>0,(IF(lfValidaCEP(F361)=TRUE,\"Válido\",\"Inválido\")),\"\")","v":""}]
[null,null,null,null,null,null,null,null,null,null,null,null,null,"",{"$f":"IF(C362<>0,(IF(lfValidaCNPJ(C362)=TRUE,\"Válido\",\"Inválido\")),\"\")","v":""},{"$f":"IF(F362<>0,(IF(lfValidaCEP(F362)=TRUE,\"Válido\",\"Inválido\")),\"\")","v":""}]
[null,null,null,null,null,null,null,null,null,null,null,null,null,"",{"$f":"IF(C363<>0,(IF(lfValidaCNPJ(C363)=TRUE,\"Válido\",\"Inválido\")),\"\")","v":""},{"$f":"IF(F363<>0,(IF(lfValidaCEP(F363)=TRUE,\"Válido\",\"Inválido\")),\"\")","v":""}]
[null,null,null,null,null,null,null,null,null,null,null,null,null,"",{"$f":"IF(C364<>0,(IF(lfValidaCNPJ(C364)=TRUE,\"Válido\",\"Inválido\")),\"\")","v":""},{"$f":"IF(F364<>0,(IF(lfValidaCEP(F364)=TRUE,\"Válido\",\"Inválido\")),\"\")","v":""}]
[null,null,null,null,null,null,null,null,null,null,null,null,null,"",{"$f":"IF(C365<>0,(IF(lfValidaCNPJ(C365)=TRUE,\"Válido\",\"Inválido\")),\"\")","v":""},{"$f":"IF(F365<>0,(IF(lfValidaCEP(F365)=TRUE,\"Válido\",\"Inválido\")),\"\")","v":""}]
[null,null,null,null,null,null,null,null,null,null,null,null,null,"",{"$f":"IF(C366<>0,(IF(lfValidaCNPJ(C366)=TRUE,\"Válido\",\"Inválido\")),\"\")","v":""},{"$f":"IF(F366<>0,(IF(lfValidaCEP(F366)=TRUE,\"Válido\",\"Inválido\")),\"\")","v":""}]
[null,null,null,null,null,null,null,null,null,null,null,null,null,"",{"$f":"IF(C367<>0,(IF(lfValidaCNPJ(C367)=TRUE,\"Válido\",\"Inválido\")),\"\")","v":""},{"$f":"IF(F367<>0,(IF(lfValidaCEP(F367)=TRUE,\"Válido\",\"Inválido\")),\"\")","v":""}]
[null,null,null,null,null,null,null,null,null,null,null,null,null,"",{"$f":"IF(C368<>0,(IF(lfValidaCNPJ(C368)=TRUE,\"Válido\",\"Inválido\")),\"\")","v":""},{"$f":"IF(F368<>0,(IF(lfValidaCEP(F368)=TRUE,\"Válido\",\"Inválido\")),\"\")","v":""}]
[null,null,null,null,null,null,null,null,null,null,null,null,null,"",{"$f":"IF(C369<>0,(IF(lfValidaCNPJ(C369)=TRUE,\"Válido\",\"Inválido\")),\"\")","v":""},{"$f":"IF(F369<>0,(IF(lfValidaCEP(F369)=TRUE,\"Válido\",\"Inválido\")),\"\")","v":""}]
[null,null,null,null,null,null,null,null,null,null,null,null,null,"",{"$f":"IF(C370<>0,(IF(lfValidaCNPJ(C370)=TRUE,\"Válido\",\"Inválido\")),\"\")","v":""},{"$f":"IF(F370<>0,(IF(lfValidaCEP(F370)=TRUE,\"Válido\",\"Inválido\")),\"\")","v":""}]
[null,null,null,null,null,null,null,null,null,null,null,null,null,"",{"$f":"IF(C371<>0,(IF(lfValidaCNPJ(C371)=TRUE,\"Válido\",\"Inválido\")),\"\")","v":""},{"$f":"IF(F371<>0,(IF(lfValidaCEP(F371)=TRUE,\"Válido\",\"Inválido\")),\"\")","v":""}]
[null,null,null,null,null,null,null,null,null,null,null,null,null,"",{"$f":"IF(C372<>0,(IF(lfValidaCNPJ(C372)=TRUE,\"Válido\",\"Inválido\")),\"\")","v":""},{"$f":"IF(F372<>0,(IF(lfValidaCEP(F372)=TRUE,\"Válido\",\"Inválido\")),\"\")","v":""}]
[null,null,null,null,null,null,null,null,null,null,null,null,null,"",{"$f":"IF(C373<>0,(IF(lfValidaCNPJ(C373)=TRUE,\"Válido\",\"Inválido\")),\"\")","v":""},{"$f":"IF(F373<>0,(IF(lfValidaCEP(F373)=TRUE,\"Válido\",\"Inválido\")),\"\")","v":""}]
[null,null,null,null,null,null,null,null,null,null,null,null,null,"",{"$f":"IF(C374<>0,(IF(lfValidaCNPJ(C374)=TRUE,\"Válido\",\"Inválido\")),\"\")","v":""},{"$f":"IF(F374<>0,(IF(lfValidaCEP(F374)=TRUE,\"Válido\",\"Inválido\")),\"\")","v":""}]
[null,null,null,null,null,null,null,null,null,null,null,null,null,"",{"$f":"IF(C375<>0,(IF(lfValidaCNPJ(C375)=TRUE,\"Válido\",\"Inválido\")),\"\")","v":""},{"$f":"IF(F375<>0,(IF(lfValidaCEP(F375)=TRUE,\"Válido\",\"Inválido\")),\"\")","v":""}]
[null,null,null,null,null,null,null,null,null,null,null,null,null,"",{"$f":"IF(C376<>0,(IF(lfValidaCNPJ(C376)=TRUE,\"Válido\",\"Inválido\")),\"\")","v":""},{"$f":"IF(F376<>0,(IF(lfValidaCEP(F376)=TRUE,\"Válido\",\"Inválido\")),\"\")","v":""}]
[null,null,null,null,null,null,null,null,null,null,null,null,null,"",{"$f":"IF(C377<>0,(IF(lfValidaCNPJ(C377)=TRUE,\"Válido\",\"Inválido\")),\"\")","v":""},{"$f":"IF(F377<>0,(IF(lfValidaCEP(F377)=TRUE,\"Válido\",\"Inválido\")),\"\")","v":""}]
[null,null,null,null,null,null,null,null,null,null,null,null,null,"",{"$f":"IF(C378<>0,(IF(lfValidaCNPJ(C378)=TRUE,\"Válido\",\"Inválido\")),\"\")","v":""},{"$f":"IF(F378<>0,(IF(lfValidaCEP(F378)=TRUE,\"Válido\",\"Inválido\")),\"\")","v":""}]
[null,null,null,null,null,null,null,null,null,null,null,null,null,"",{"$f":"IF(C379<>0,(IF(lfValidaCNPJ(C379)=TRUE,\"Válido\",\"Inválido\")),\"\")","v":""},{"$f":"IF(F379<>0,(IF(lfValidaCEP(F379)=TRUE,\"Válido\",\"Inválido\")),\"\")","v":""}]
[null,null,null,null,null,null,null,null,null,null,null,null,null,"",{"$f":"IF(C380<>0,(IF(lfValidaCNPJ(C380)=TRUE,\"Válido\",\"Inválido\")),\"\")","v":""},{"$f":"IF(F380<>0,(IF(lfValidaCEP(F380)=TRUE,\"Válido\",\"Inválido\")),\"\")","v":""}]
[null,null,null,null,null,null,null,null,null,null,null,null,null,"",{"$f":"IF(C381<>0,(IF(lfValidaCNPJ(C381)=TRUE,\"Válido\",\"Inválido\")),\"\")","v":""},{"$f":"IF(F381<>0,(IF(lfValidaCEP(F381)=TRUE,\"Válido\",\"Inválido\")),\"\")","v":""}]
[null,null,null,null,null,null,null,null,null,null,null,null,null,"",{"$f":"IF(C382<>0,(IF(lfValidaCNPJ(C382)=TRUE,\"Válido\",\"Inválido\")),\"\")","v":""},{"$f":"IF(F382<>0,(IF(lfValidaCEP(F382)=TRUE,\"Válido\",\"Inválido\")),\"\")","v":""}]
[null,null,null,null,null,null,null,null,null,null,null,null,null,"",{"$f":"IF(C383<>0,(IF(lfValidaCNPJ(C383)=TRUE,\"Válido\",\"Inválido\")),\"\")","v":""},{"$f":"IF(F383<>0,(IF(lfValidaCEP(F383)=TRUE,\"Válido\",\"Inválido\")),\"\")","v":""}]
[null,null,null,null,null,null,null,null,null,null,null,null,null,"",{"$f":"IF(C384<>0,(IF(lfValidaCNPJ(C384)=TRUE,\"Válido\",\"Inválido\")),\"\")","v":""},{"$f":"IF(F384<>0,(IF(lfValidaCEP(F384)=TRUE,\"Válido\",\"Inválido\")),\"\")","v":""}]
[null,null,null,null,null,null,null,null,null,null,null,null,null,"",{"$f":"IF(C385<>0,(IF(lfValidaCNPJ(C385)=TRUE,\"Válido\",\"Inválido\")),\"\")","v":""},{"$f":"IF(F385<>0,(IF(lfValidaCEP(F385)=TRUE,\"Válido\",\"Inválido\")),\"\")","v":""}]
[null,null,null,null,null,null,null,null,null,null,null,null,null,"",{"$f":"IF(C386<>0,(IF(lfValidaCNPJ(C386)=TRUE,\"Válido\",\"Inválido\")),\"\")","v":""},{"$f":"IF(F386<>0,(IF(lfValidaCEP(F386)=TRUE,\"Válido\",\"Inválido\")),\"\")","v":""}]
[null,null,null,null,null,null,null,null,null,null,null,null,null,"",{"$f":"IF(C387<>0,(IF(lfValidaCNPJ(C387)=TRUE,\"Válido\",\"Inválido\")),\"\")","v":""},{"$f":"IF(F387<>0,(IF(lfValidaCEP(F387)=TRUE,\"Válido\",\"Inválido\")),\"\")","v":""}]
[null,null,null,null,null,null,null,null,null,null,null,null,null,"",{"$f":"IF(C388<>0,(IF(lfValidaCNPJ(C388)=TRUE,\"Válido\",\"Inválido\")),\"\")","v":""},{"$f":"IF(F388<>0,(IF(lfValidaCEP(F388)=TRUE,\"Válido\",\"Inválido\")),\"\")","v":""}]
[null,null,null,null,null,null,null,null,null,null,null,null,null,"",{"$f":"IF(C389<>0,(IF(lfValidaCNPJ(C389)=TRUE,\"Válido\",\"Inválido\")),\"\")","v":""},{"$f":"IF(F389<>0,(IF(lfValidaCEP(F389)=TRUE,\"Válido\",\"Inválido\")),\"\")","v":""}]
[null,null,null,null,null,null,null,null,null,null,null,null,null,"",{"$f":"IF(C390<>0,(IF(lfValidaCNPJ(C390)=TRUE,\"Válido\",\"Inválido\")),\"\")","v":""},{"$f":"IF(F390<>0,(IF(lfValidaCEP(F390)=TRUE,\"Válido\",\"Inválido\")),\"\")","v":""}]
[null,null,null,null,null,null,null,null,null,null,null,null,null,"",{"$f":"IF(C391<>0,(IF(lfValidaCNPJ(C391)=TRUE,\"Válido\",\"Inválido\")),\"\")","v":""},{"$f":"IF(F391<>0,(IF(lfValidaCEP(F391)=TRUE,\"Válido\",\"Inválido\")),\"\")","v":""}]
[null,null,null,null,null,null,null,null,null,null,null,null,null,"",{"$f":"IF(C392<>0,(IF(lfValidaCNPJ(C392)=TRUE,\"Válido\",\"Inválido\")),\"\")","v":""},{"$f":"IF(F392<>0,(IF(lfValidaCEP(F392)=TRUE,\"Válido\",\"Inválido\")),\"\")","v":""}]
[null,null,null,null,null,null,null,null,null,null,null,null,null,"",{"$f":"IF(C393<>0,(IF(lfValidaCNPJ(C393)=TRUE,\"Válido\",\"Inválido\")),\"\")","v":""},{"$f":"IF(F393<>0,(IF(lfValidaCEP(F393)=TRUE,\"Válido\",\"Inválido\")),\"\")","v":""}]
[null,null,null,null,null,null,null,null,null,null,null,null,null,"",{"$f":"IF(C394<>0,(IF(lfValidaCNPJ(C394)=TRUE,\"Válido\",\"Inválido\")),\"\")","v":""},{"$f":"IF(F394<>0,(IF(lfValidaCEP(F394)=TRUE,\"Válido\",\"Inválido\")),\"\")","v":""}]
[null,null,null,null,null,null,null,null,null,null,null,null,null,"",{"$f":"IF(C395<>0,(IF(lfValidaCNPJ(C395)=TRUE,\"Válido\",\"Inválido\")),\"\")","v":""},{"$f":"IF(F395<>0,(IF(lfValidaCEP(F395)=TRUE,\"Válido\",\"Inválido\")),\"\")","v":""}]
[null,null,null,null,null,null,null,null,null,null,null,null,null,{"$f":"IF(COUNTA(B396:J396)<>0,IF(AND(B396<>0,C396<>0,D396<>0,E396<>0,F396<>0,G396<>0,H396<>0,I396<>0,J396<>0),\"Completo\",\"Incompleto\"),\"\")","v":""},{"$f":"IF(C396<>0,(IF(lfValidaCNPJ(C396)=TRUE,\"Válido\",\"Inválido\")),\"\")","v":""},{"$f":"IF(F396<>0,(IF(lfValidaCEP(F396)=TRUE,\"Válido\",\"Inválido\")),\"\")","v":""}]
[null,null,null,null,null,null,null,null,null,null,null,null,null,"",{"$f":"IF(C397<>0,(IF(lfValidaCNPJ(C397)=TRUE,\"Válido\",\"Inválido\")),\"\")","v":""},{"$f":"IF(F397<>0,(IF(lfValidaCEP(F397)=TRUE,\"Válido\",\"Inválido\")),\"\")","v":""}]
[null,null,null,null,null,null,null,null,null,null,null,null,null,"",{"$f":"IF(C398<>0,(IF(lfValidaCNPJ(C398)=TRUE,\"Válido\",\"Inválido\")),\"\")","v":""},{"$f":"IF(F398<>0,(IF(lfValidaCEP(F398)=TRUE,\"Válido\",\"Inválido\")),\"\")","v":""}]
[null,null,null,null,null,null,null,null,null,null,null,null,null,"",{"$f":"IF(C399<>0,(IF(lfValidaCNPJ(C399)=TRUE,\"Válido\",\"Inválido\")),\"\")","v":""},{"$f":"IF(F399<>0,(IF(lfValidaCEP(F399)=TRUE,\"Válido\",\"Inválido\")),\"\")","v":""}]
[null,null,null,null,null,null,null,null,null,null,null,null,null,"",{"$f":"IF(C400<>0,(IF(lfValidaCNPJ(C400)=TRUE,\"Válido\",\"Inválido\")),\"\")","v":""},{"$f":"IF(F400<>0,(IF(lfValidaCEP(F400)=TRUE,\"Válido\",\"Inválido\")),\"\")","v":""}]
[null,null,null,null,null,null,null,null,null,null,null,null,null,"",{"$f":"IF(C401<>0,(IF(lfValidaCNPJ(C401)=TRUE,\"Válido\",\"Inválido\")),\"\")","v":""},{"$f":"IF(F401<>0,(IF(lfValidaCEP(F401)=TRUE,\"Válido\",\"Inválido\")),\"\")","v":""}]
[null,null,null,null,null,null,null,null,null,null,null,null,null,"",{"$f":"IF(C402<>0,(IF(lfValidaCNPJ(C402)=TRUE,\"Válido\",\"Inválido\")),\"\")","v":""},{"$f":"IF(F402<>0,(IF(lfValidaCEP(F402)=TRUE,\"Válido\",\"Inválido\")),\"\")","v":""}]
[null,null,null,null,null,null,null,null,null,null,null,null,null,"",{"$f":"IF(C403<>0,(IF(lfValidaCNPJ(C403)=TRUE,\"Válido\",\"Inválido\")),\"\")","v":""},{"$f":"IF(F403<>0,(IF(lfValidaCEP(F403)=TRUE,\"Válido\",\"Inválido\")),\"\")","v":""}]
[null,null,null,null,null,null,null,null,null,null,null,null,null,"",{"$f":"IF(C404<>0,(IF(lfValidaCNPJ(C404)=TRUE,\"Válido\",\"Inválido\")),\"\")","v":""},{"$f":"IF(F404<>0,(IF(lfValidaCEP(F404)=TRUE,\"Válido\",\"Inválido\")),\"\")","v":""}]
[null,null,null,null,null,null,null,null,null,null,null,null,null,"",{"$f":"IF(C405<>0,(IF(lfValidaCNPJ(C405)=TRUE,\"Válido\",\"Inválido\")),\"\")","v":""},{"$f":"IF(F405<>0,(IF(lfValidaCEP(F405)=TRUE,\"Válido\",\"Inválido\")),\"\")","v":""}]
[null,null,null,null,null,null,null,null,null,null,null,null,null,"",{"$f":"IF(C406<>0,(IF(lfValidaCNPJ(C406)=TRUE,\"Válido\",\"Inválido\")),\"\")","v":""},{"$f":"IF(F406<>0,(IF(lfValidaCEP(F406)=TRUE,\"Válido\",\"Inválido\")),\"\")","v":""}]
[null,null,null,null,null,null,null,null,null,null,null,null,null,"",{"$f":"IF(C407<>0,(IF(lfValidaCNPJ(C407)=TRUE,\"Válido\",\"Inválido\")),\"\")","v":""},{"$f":"IF(F407<>0,(IF(lfValidaCEP(F407)=TRUE,\"Válido\",\"Inválido\")),\"\")","v":""}]
[null,null,null,null,null,null,null,null,null,null,null,null,null,"",{"$f":"IF(C408<>0,(IF(lfValidaCNPJ(C408)=TRUE,\"Válido\",\"Inválido\")),\"\")","v":""},{"$f":"IF(F408<>0,(IF(lfValidaCEP(F408)=TRUE,\"Válido\",\"Inválido\")),\"\")","v":""}]
[null,null,null,null,null,null,null,null,null,null,null,null,null,"",{"$f":"IF(C409<>0,(IF(lfValidaCNPJ(C409)=TRUE,\"Válido\",\"Inválido\")),\"\")","v":""},{"$f":"IF(F409<>0,(IF(lfValidaCEP(F409)=TRUE,\"Válido\",\"Inválido\")),\"\")","v":""}]
[null,null,null,null,null,null,null,null,null,null,null,null,null,"",{"$f":"IF(C410<>0,(IF(lfValidaCNPJ(C410)=TRUE,\"Válido\",\"Inválido\")),\"\")","v":""},{"$f":"IF(F410<>0,(IF(lfValidaCEP(F410)=TRUE,\"Válido\",\"Inválido\")),\"\")","v":""}]
[null,null,null,null,null,null,null,null,null,null,null,null,null,"",{"$f":"IF(C411<>0,(IF(lfValidaCNPJ(C411)=TRUE,\"Válido\",\"Inválido\")),\"\")","v":""},{"$f":"IF(F411<>0,(IF(lfValidaCEP(F411)=TRUE,\"Válido\",\"Inválido\")),\"\")","v":""}]
[null,null,null,null,null,null,null,null,null,null,null,null,null,"",{"$f":"IF(C412<>0,(IF(lfValidaCNPJ(C412)=TRUE,\"Válido\",\"Inválido\")),\"\")","v":""},{"$f":"IF(F412<>0,(IF(lfValidaCEP(F412)=TRUE,\"Válido\",\"Inválido\")),\"\")","v":""}]
[null,null,null,null,null,null,null,null,null,null,null,null,null,"",{"$f":"IF(C413<>0,(IF(lfValidaCNPJ(C413)=TRUE,\"Válido\",\"Inválido\")),\"\")","v":""},{"$f":"IF(F413<>0,(IF(lfValidaCEP(F413)=TRUE,\"Válido\",\"Inválido\")),\"\")","v":""}]
[null,null,null,null,null,null,null,null,null,null,null,null,null,"",{"$f":"IF(C414<>0,(IF(lfValidaCNPJ(C414)=TRUE,\"Válido\",\"Inválido\")),\"\")","v":""},{"$f":"IF(F414<>0,(IF(lfValidaCEP(F414)=TRUE,\"Válido\",\"Inválido\")),\"\")","v":""}]
[null,null,null,null,null,null,null,null,null,null,null,null,null,"",{"$f":"IF(C415<>0,(IF(lfValidaCNPJ(C415)=TRUE,\"Válido\",\"Inválido\")),\"\")","v":""},{"$f":"IF(F415<>0,(IF(lfValidaCEP(F415)=TRUE,\"Válido\",\"Inválido\")),\"\")","v":""}]
[null,null,null,null,null,null,null,null,null,null,null,null,null,"",{"$f":"IF(C416<>0,(IF(lfValidaCNPJ(C416)=TRUE,\"Válido\",\"Inválido\")),\"\")","v":""},{"$f":"IF(F416<>0,(IF(lfValidaCEP(F416)=TRUE,\"Válido\",\"Inválido\")),\"\")","v":""}]
[null,null,null,null,null,null,null,null,null,null,null,null,null,"",{"$f":"IF(C417<>0,(IF(lfValidaCNPJ(C417)=TRUE,\"Válido\",\"Inválido\")),\"\")","v":""},{"$f":"IF(F417<>0,(IF(lfValidaCEP(F417)=TRUE,\"Válido\",\"Inválido\")),\"\")","v":""}]
[null,null,null,null,null,null,null,null,null,null,null,null,null,"",{"$f":"IF(C418<>0,(IF(lfValidaCNPJ(C418)=TRUE,\"Válido\",\"Inválido\")),\"\")","v":""},{"$f":"IF(F418<>0,(IF(lfValidaCEP(F418)=TRUE,\"Válido\",\"Inválido\")),\"\")","v":""}]
[null,null,null,null,null,null,null,null,null,null,null,null,null,"",{"$f":"IF(C419<>0,(IF(lfValidaCNPJ(C419)=TRUE,\"Válido\",\"Inválido\")),\"\")","v":""},{"$f":"IF(F419<>0,(IF(lfValidaCEP(F419)=TRUE,\"Válido\",\"Inválido\")),\"\")","v":""}]
[null,null,null,null,null,null,null,null,null,null,null,null,null,"",{"$f":"IF(C420<>0,(IF(lfValidaCNPJ(C420)=TRUE,\"Válido\",\"Inválido\")),\"\")","v":""},{"$f":"IF(F420<>0,(IF(lfValidaCEP(F420)=TRUE,\"Válido\",\"Inválido\")),\"\")","v":""}]
[null,null,null,null,null,null,null,null,null,null,null,null,null,"",{"$f":"IF(C421<>0,(IF(lfValidaCNPJ(C421)=TRUE,\"Válido\",\"Inválido\")),\"\")","v":""},{"$f":"IF(F421<>0,(IF(lfValidaCEP(F421)=TRUE,\"Válido\",\"Inválido\")),\"\")","v":""}]
[null,null,null,null,null,null,null,null,null,null,null,null,null,"",{"$f":"IF(C422<>0,(IF(lfValidaCNPJ(C422)=TRUE,\"Válido\",\"Inválido\")),\"\")","v":""},{"$f":"IF(F422<>0,(IF(lfValidaCEP(F422)=TRUE,\"Válido\",\"Inválido\")),\"\")","v":""}]
[null,null,null,null,null,null,null,null,null,null,null,null,null,"",{"$f":"IF(C423<>0,(IF(lfValidaCNPJ(C423)=TRUE,\"Válido\",\"Inválido\")),\"\")","v":""},{"$f":"IF(F423<>0,(IF(lfValidaCEP(F423)=TRUE,\"Válido\",\"Inválido\")),\"\")","v":""}]
[null,null,null,null,null,null,null,null,null,null,null,null,null,"",{"$f":"IF(C424<>0,(IF(lfValidaCNPJ(C424)=TRUE,\"Válido\",\"Inválido\")),\"\")","v":""},{"$f":"IF(F424<>0,(IF(lfValidaCEP(F424)=TRUE,\"Válido\",\"Inválido\")),\"\")","v":""}]
[null,null,null,null,null,null,null,null,null,null,null,null,null,"",{"$f":"IF(C425<>0,(IF(lfValidaCNPJ(C425)=TRUE,\"Válido\",\"Inválido\")),\"\")","v":""},{"$f":"IF(F425<>0,(IF(lfValidaCEP(F425)=TRUE,\"Válido\",\"Inválido\")),\"\")","v":""}]
[null,null,null,null,null,null,null,null,null,null,null,null,null,"",{"$f":"IF(C426<>0,(IF(lfValidaCNPJ(C426)=TRUE,\"Válido\",\"Inválido\")),\"\")","v":""},{"$f":"IF(F426<>0,(IF(lfValidaCEP(F426)=TRUE,\"Válido\",\"Inválido\")),\"\")","v":""}]
[null,null,null,null,null,null,null,null,null,null,null,null,null,"",{"$f":"IF(C427<>0,(IF(lfValidaCNPJ(C427)=TRUE,\"Válido\",\"Inválido\")),\"\")","v":""},{"$f":"IF(F427<>0,(IF(lfValidaCEP(F427)=TRUE,\"Válido\",\"Inválido\")),\"\")","v":""}]
[null,null,null,null,null,null,null,null,null,null,null,null,null,"",{"$f":"IF(C428<>0,(IF(lfValidaCNPJ(C428)=TRUE,\"Válido\",\"Inválido\")),\"\")","v":""},{"$f":"IF(F428<>0,(IF(lfValidaCEP(F428)=TRUE,\"Válido\",\"Inválido\")),\"\")","v":""}]
[null,null,null,null,null,null,null,null,null,null,null,null,null,"",{"$f":"IF(C429<>0,(IF(lfValidaCNPJ(C429)=TRUE,\"Válido\",\"Inválido\")),\"\")","v":""},{"$f":"IF(F429<>0,(IF(lfValidaCEP(F429)=TRUE,\"Válido\",\"Inválido\")),\"\")","v":""}]
[null,null,null,null,null,null,null,null,null,null,null,null,null,"",{"$f":"IF(C430<>0,(IF(lfValidaCNPJ(C430)=TRUE,\"Válido\",\"Inválido\")),\"\")","v":""},{"$f":"IF(F430<>0,(IF(lfValidaCEP(F430)=TRUE,\"Válido\",\"Inválido\")),\"\")","v":""}]
[null,null,null,null,null,null,null,null,null,null,null,null,null,"",{"$f":"IF(C431<>0,(IF(lfValidaCNPJ(C431)=TRUE,\"Válido\",\"Inválido\")),\"\")","v":""},{"$f":"IF(F431<>0,(IF(lfValidaCEP(F431)=TRUE,\"Válido\",\"Inválido\")),\"\")","v":""}]
[null,null,null,null,null,null,null,null,null,null,null,null,null,"",{"$f":"IF(C432<>0,(IF(lfValidaCNPJ(C432)=TRUE,\"Válido\",\"Inválido\")),\"\")","v":""},{"$f":"IF(F432<>0,(IF(lfValidaCEP(F432)=TRUE,\"Válido\",\"Inválido\")),\"\")","v":""}]
[null,null,null,null,null,null,null,null,null,null,null,null,null,"",{"$f":"IF(C433<>0,(IF(lfValidaCNPJ(C433)=TRUE,\"Válido\",\"Inválido\")),\"\")","v":""},{"$f":"IF(F433<>0,(IF(lfValidaCEP(F433)=TRUE,\"Válido\",\"Inválido\")),\"\")","v":""}]
[null,null,null,null,null,null,null,null,null,null,null,null,null,"",{"$f":"IF(C434<>0,(IF(lfValidaCNPJ(C434)=TRUE,\"Válido\",\"Inválido\")),\"\")","v":""},{"$f":"IF(F434<>0,(IF(lfValidaCEP(F434)=TRUE,\"Válido\",\"Inválido\")),\"\")","v":""}]
[null,null,null,null,null,null,null,null,null,null,null,null,null,"",{"$f":"IF(C435<>0,(IF(lfValidaCNPJ(C435)=TRUE,\"Válido\",\"Inválido\")),\"\")","v":""},{"$f":"IF(F435<>0,(IF(lfValidaCEP(F435)=TRUE,\"Válido\",\"Inválido\")),\"\")","v":""}]
[null,null,null,null,null,null,null,null,null,null,null,null,null,"",{"$f":"IF(C436<>0,(IF(lfValidaCNPJ(C436)=TRUE,\"Válido\",\"Inválido\")),\"\")","v":""},{"$f":"IF(F436<>0,(IF(lfValidaCEP(F436)=TRUE,\"Válido\",\"Inválido\")),\"\")","v":""}]
[null,null,null,null,null,null,null,null,null,null,null,null,null,"",{"$f":"IF(C437<>0,(IF(lfValidaCNPJ(C437)=TRUE,\"Válido\",\"Inválido\")),\"\")","v":""},{"$f":"IF(F437<>0,(IF(lfValidaCEP(F437)=TRUE,\"Válido\",\"Inválido\")),\"\")","v":""}]
[null,null,null,null,null,null,null,null,null,null,null,null,null,"",{"$f":"IF(C438<>0,(IF(lfValidaCNPJ(C438)=TRUE,\"Válido\",\"Inválido\")),\"\")","v":""},{"$f":"IF(F438<>0,(IF(lfValidaCEP(F438)=TRUE,\"Válido\",\"Inválido\")),\"\")","v":""}]
[null,null,null,null,null,null,null,null,null,null,null,null,null,"",{"$f":"IF(C439<>0,(IF(lfValidaCNPJ(C439)=TRUE,\"Válido\",\"Inválido\")),\"\")","v":""},{"$f":"IF(F439<>0,(IF(lfValidaCEP(F439)=TRUE,\"Válido\",\"Inválido\")),\"\")","v":""}]
[null,null,null,null,null,null,null,null,null,null,null,null,null,"",{"$f":"IF(C440<>0,(IF(lfValidaCNPJ(C440)=TRUE,\"Válido\",\"Inválido\")),\"\")","v":""},{"$f":"IF(F440<>0,(IF(lfValidaCEP(F440)=TRUE,\"Válido\",\"Inválido\")),\"\")","v":""}]
[null,null,null,null,null,null,null,null,null,null,null,null,null,"",{"$f":"IF(C441<>0,(IF(lfValidaCNPJ(C441)=TRUE,\"Válido\",\"Inválido\")),\"\")","v":""},{"$f":"IF(F441<>0,(IF(lfValidaCEP(F441)=TRUE,\"Válido\",\"Inválido\")),\"\")","v":""}]
[null,null,null,null,null,null,null,null,null,null,null,null,null,"",{"$f":"IF(C442<>0,(IF(lfValidaCNPJ(C442)=TRUE,\"Válido\",\"Inválido\")),\"\")","v":""},{"$f":"IF(F442<>0,(IF(lfValidaCEP(F442)=TRUE,\"Válido\",\"Inválido\")),\"\")","v":""}]
[null,null,null,null,null,null,null,null,null,null,null,null,null,"",{"$f":"IF(C443<>0,(IF(lfValidaCNPJ(C443)=TRUE,\"Válido\",\"Inválido\")),\"\")","v":""},{"$f":"IF(F443<>0,(IF(lfValidaCEP(F443)=TRUE,\"Válido\",\"Inválido\")),\"\")","v":""}]
[null,null,null,null,null,null,null,null,null,null,null,null,null,"",{"$f":"IF(C444<>0,(IF(lfValidaCNPJ(C444)=TRUE,\"Válido\",\"Inválido\")),\"\")","v":""},{"$f":"IF(F444<>0,(IF(lfValidaCEP(F444)=TRUE,\"Válido\",\"Inválido\")),\"\")","v":""}]
[null,null,null,null,null,null,null,null,null,null,null,null,null,"",{"$f":"IF(C445<>0,(IF(lfValidaCNPJ(C445)=TRUE,\"Válido\",\"Inválido\")),\"\")","v":""},{"$f":"IF(F445<>0,(IF(lfValidaCEP(F445)=TRUE,\"Válido\",\"Inválido\")),\"\")","v":""}]
[null,null,null,null,null,null,null,null,null,null,null,null,null,"",{"$f":"IF(C446<>0,(IF(lfValidaCNPJ(C446)=TRUE,\"Válido\",\"Inválido\")),\"\")","v":""},{"$f":"IF(F446<>0,(IF(lfValidaCEP(F446)=TRUE,\"Válido\",\"Inválido\")),\"\")","v":""}]
[null,null,null,null,null,null,null,null,null,null,null,null,null,"",{"$f":"IF(C447<>0,(IF(lfValidaCNPJ(C447)=TRUE,\"Válido\",\"Inválido\")),\"\")","v":""},{"$f":"IF(F447<>0,(IF(lfValidaCEP(F447)=TRUE,\"Válido\",\"Inválido\")),\"\")","v":""}]
[null,null,null,null,null,null,null,null,null,null,null,null,null,"",{"$f":"IF(C448<>0,(IF(lfValidaCNPJ(C448)=TRUE,\"Válido\",\"Inválido\")),\"\")","v":""},{"$f":"IF(F448<>0,(IF(lfValidaCEP(F448)=TRUE,\"Válido\",\"Inválido\")),\"\")","v":""}]
[null,null,null,null,null,null,null,null,null,null,null,null,null,"",{"$f":"IF(C449<>0,(IF(lfValidaCNPJ(C449)=TRUE,\"Válido\",\"Inválido\")),\"\")","v":""},{"$f":"IF(F449<>0,(IF(lfValidaCEP(F449)=TRUE,\"Válido\",\"Inválido\")),\"\")","v":""}]
[null,null,null,null,null,null,null,null,null,null,null,null,null,"",{"$f":"IF(C450<>0,(IF(lfValidaCNPJ(C450)=TRUE,\"Válido\",\"Inválido\")),\"\")","v":""},{"$f":"IF(F450<>0,(IF(lfValidaCEP(F450)=TRUE,\"Válido\",\"Inválido\")),\"\")","v":""}]
[null,null,null,null,null,null,null,null,null,null,null,null,null,"",{"$f":"IF(C451<>0,(IF(lfValidaCNPJ(C451)=TRUE,\"Válido\",\"Inválido\")),\"\")","v":""},{"$f":"IF(F451<>0,(IF(lfValidaCEP(F451)=TRUE,\"Válido\",\"Inválido\")),\"\")","v":""}]
[null,null,null,null,null,null,null,null,null,null,null,null,null,"",{"$f":"IF(C452<>0,(IF(lfValidaCNPJ(C452)=TRUE,\"Válido\",\"Inválido\")),\"\")","v":""},{"$f":"IF(F452<>0,(IF(lfValidaCEP(F452)=TRUE,\"Válido\",\"Inválido\")),\"\")","v":""}]
[null,null,null,null,null,null,null,null,null,null,null,null,null,"",{"$f":"IF(C453<>0,(IF(lfValidaCNPJ(C453)=TRUE,\"Válido\",\"Inválido\")),\"\")","v":""},{"$f":"IF(F453<>0,(IF(lfValidaCEP(F453)=TRUE,\"Válido\",\"Inválido\")),\"\")","v":""}]
[null,null,null,null,null,null,null,null,null,null,null,null,null,"",{"$f":"IF(C454<>0,(IF(lfValidaCNPJ(C454)=TRUE,\"Válido\",\"Inválido\")),\"\")","v":""},{"$f":"IF(F454<>0,(IF(lfValidaCEP(F454)=TRUE,\"Válido\",\"Inválido\")),\"\")","v":""}]
[null,null,null,null,null,null,null,null,null,null,null,null,null,"",{"$f":"IF(C455<>0,(IF(lfValidaCNPJ(C455)=TRUE,\"Válido\",\"Inválido\")),\"\")","v":""},{"$f":"IF(F455<>0,(IF(lfValidaCEP(F455)=TRUE,\"Válido\",\"Inválido\")),\"\")","v":""}]
[null,null,null,null,null,null,null,null,null,null,null,null,null,"",{"$f":"IF(C456<>0,(IF(lfValidaCNPJ(C456)=TRUE,\"Válido\",\"Inválido\")),\"\")","v":""},{"$f":"IF(F456<>0,(IF(lfValidaCEP(F456)=TRUE,\"Válido\",\"Inválido\")),\"\")","v":""}]
[null,null,null,null,null,null,null,null,null,null,null,null,null,"",{"$f":"IF(C457<>0,(IF(lfValidaCNPJ(C457)=TRUE,\"Válido\",\"Inválido\")),\"\")","v":""},{"$f":"IF(F457<>0,(IF(lfValidaCEP(F457)=TRUE,\"Válido\",\"Inválido\")),\"\")","v":""}]
[null,null,null,null,null,null,null,null,null,null,null,null,null,"",{"$f":"IF(C458<>0,(IF(lfValidaCNPJ(C458)=TRUE,\"Válido\",\"Inválido\")),\"\")","v":""},{"$f":"IF(F458<>0,(IF(lfValidaCEP(F458)=TRUE,\"Válido\",\"Inválido\")),\"\")","v":""}]
[null,null,null,null,null,null,null,null,null,null,null,null,null,"",{"$f":"IF(C459<>0,(IF(lfValidaCNPJ(C459)=TRUE,\"Válido\",\"Inválido\")),\"\")","v":""},{"$f":"IF(F459<>0,(IF(lfValidaCEP(F459)=TRUE,\"Válido\",\"Inválido\")),\"\")","v":""}]
[null,null,null,null,null,null,null,null,null,null,null,null,null,{"$f":"IF(COUNTA(B460:J460)<>0,IF(AND(B460<>0,C460<>0,D460<>0,E460<>0,F460<>0,G460<>0,H460<>0,I460<>0,J460<>0),\"Completo\",\"Incompleto\"),\"\")","v":""},{"$f":"IF(C460<>0,(IF(lfValidaCNPJ(C460)=TRUE,\"Válido\",\"Inválido\")),\"\")","v":""},{"$f":"IF(F460<>0,(IF(lfValidaCEP(F460)=TRUE,\"Válido\",\"Inválido\")),\"\")","v":""}]
[null,null,null,null,null,null,null,null,null,null,null,null,null,"",{"$f":"IF(C461<>0,(IF(lfValidaCNPJ(C461)=TRUE,\"Válido\",\"Inválido\")),\"\")","v":""},{"$f":"IF(F461<>0,(IF(lfValidaCEP(F461)=TRUE,\"Válido\",\"Inválido\")),\"\")","v":""}]
[null,null,null,null,null,null,null,null,null,null,null,null,null,"",{"$f":"IF(C462<>0,(IF(lfValidaCNPJ(C462)=TRUE,\"Válido\",\"Inválido\")),\"\")","v":""},{"$f":"IF(F462<>0,(IF(lfValidaCEP(F462)=TRUE,\"Válido\",\"Inválido\")),\"\")","v":""}]
[null,null,null,null,null,null,null,null,null,null,null,null,null,"",{"$f":"IF(C463<>0,(IF(lfValidaCNPJ(C463)=TRUE,\"Válido\",\"Inválido\")),\"\")","v":""},{"$f":"IF(F463<>0,(IF(lfValidaCEP(F463)=TRUE,\"Válido\",\"Inválido\")),\"\")","v":""}]
[null,null,null,null,null,null,null,null,null,null,null,null,null,"",{"$f":"IF(C464<>0,(IF(lfValidaCNPJ(C464)=TRUE,\"Válido\",\"Inválido\")),\"\")","v":""},{"$f":"IF(F464<>0,(IF(lfValidaCEP(F464)=TRUE,\"Válido\",\"Inválido\")),\"\")","v":""}]
[null,null,null,null,null,null,null,null,null,null,null,null,null,"",{"$f":"IF(C465<>0,(IF(lfValidaCNPJ(C465)=TRUE,\"Válido\",\"Inválido\")),\"\")","v":""},{"$f":"IF(F465<>0,(IF(lfValidaCEP(F465)=TRUE,\"Válido\",\"Inválido\")),\"\")","v":""}]
[null,null,null,null,null,null,null,null,null,null,null,null,null,"",{"$f":"IF(C466<>0,(IF(lfValidaCNPJ(C466)=TRUE,\"Válido\",\"Inválido\")),\"\")","v":""},{"$f":"IF(F466<>0,(IF(lfValidaCEP(F466)=TRUE,\"Válido\",\"Inválido\")),\"\")","v":""}]
[null,null,null,null,null,null,null,null,null,null,null,null,null,"",{"$f":"IF(C467<>0,(IF(lfValidaCNPJ(C467)=TRUE,\"Válido\",\"Inválido\")),\"\")","v":""},{"$f":"IF(F467<>0,(IF(lfValidaCEP(F467)=TRUE,\"Válido\",\"Inválido\")),\"\")","v":""}]
[null,null,null,null,null,null,null,null,null,null,null,null,null,"",{"$f":"IF(C468<>0,(IF(lfValidaCNPJ(C468)=TRUE,\"Válido\",\"Inválido\")),\"\")","v":""},{"$f":"IF(F468<>0,(IF(lfValidaCEP(F468)=TRUE,\"Válido\",\"Inválido\")),\"\")","v":""}]
[null,null,null,null,null,null,null,null,null,null,null,null,null,"",{"$f":"IF(C469<>0,(IF(lfValidaCNPJ(C469)=TRUE,\"Válido\",\"Inválido\")),\"\")","v":""},{"$f":"IF(F469<>0,(IF(lfValidaCEP(F469)=TRUE,\"Válido\",\"Inválido\")),\"\")","v":""}]
[null,null,null,null,null,null,null,null,null,null,null,null,null,"",{"$f":"IF(C470<>0,(IF(lfValidaCNPJ(C470)=TRUE,\"Válido\",\"Inválido\")),\"\")","v":""},{"$f":"IF(F470<>0,(IF(lfValidaCEP(F470)=TRUE,\"Válido\",\"Inválido\")),\"\")","v":""}]
[null,null,null,null,null,null,null,null,null,null,null,null,null,"",{"$f":"IF(C471<>0,(IF(lfValidaCNPJ(C471)=TRUE,\"Válido\",\"Inválido\")),\"\")","v":""},{"$f":"IF(F471<>0,(IF(lfValidaCEP(F471)=TRUE,\"Válido\",\"Inválido\")),\"\")","v":""}]
[null,null,null,null,null,null,null,null,null,null,null,null,null,"",{"$f":"IF(C472<>0,(IF(lfValidaCNPJ(C472)=TRUE,\"Válido\",\"Inválido\")),\"\")","v":""},{"$f":"IF(F472<>0,(IF(lfValidaCEP(F472)=TRUE,\"Válido\",\"Inválido\")),\"\")","v":""}]
[null,null,null,null,null,null,null,null,null,null,null,null,null,"",{"$f":"IF(C473<>0,(IF(lfValidaCNPJ(C473)=TRUE,\"Válido\",\"Inválido\")),\"\")","v":""},{"$f":"IF(F473<>0,(IF(lfValidaCEP(F473)=TRUE,\"Válido\",\"Inválido\")),\"\")","v":""}]
[null,null,null,null,null,null,null,null,null,null,null,null,null,"",{"$f":"IF(C474<>0,(IF(lfValidaCNPJ(C474)=TRUE,\"Válido\",\"Inválido\")),\"\")","v":""},{"$f":"IF(F474<>0,(IF(lfValidaCEP(F474)=TRUE,\"Válido\",\"Inválido\")),\"\")","v":""}]
[null,null,null,null,null,null,null,null,null,null,null,null,null,"",{"$f":"IF(C475<>0,(IF(lfValidaCNPJ(C475)=TRUE,\"Válido\",\"Inválido\")),\"\")","v":""},{"$f":"IF(F475<>0,(IF(lfValidaCEP(F475)=TRUE,\"Válido\",\"Inválido\")),\"\")","v":""}]
[null,null,null,null,null,null,null,null,null,null,null,null,null,"",{"$f":"IF(C476<>0,(IF(lfValidaCNPJ(C476)=TRUE,\"Válido\",\"Inválido\")),\"\")","v":""},{"$f":"IF(F476<>0,(IF(lfValidaCEP(F476)=TRUE,\"Válido\",\"Inválido\")),\"\")","v":""}]
[null,null,null,null,null,null,null,null,null,null,null,null,null,"",{"$f":"IF(C477<>0,(IF(lfValidaCNPJ(C477)=TRUE,\"Válido\",\"Inválido\")),\"\")","v":""},{"$f":"IF(F477<>0,(IF(lfValidaCEP(F477)=TRUE,\"Válido\",\"Inválido\")),\"\")","v":""}]
[null,null,null,null,null,null,null,null,null,null,null,null,null,"",{"$f":"IF(C478<>0,(IF(lfValidaCNPJ(C478)=TRUE,\"Válido\",\"Inválido\")),\"\")","v":""},{"$f":"IF(F478<>0,(IF(lfValidaCEP(F478)=TRUE,\"Válido\",\"Inválido\")),\"\")","v":""}]
[null,null,null,null,null,null,null,null,null,null,null,null,null,"",{"$f":"IF(C479<>0,(IF(lfValidaCNPJ(C479)=TRUE,\"Válido\",\"Inválido\")),\"\")","v":""},{"$f":"IF(F479<>0,(IF(lfValidaCEP(F479)=TRUE,\"Válido\",\"Inválido\")),\"\")","v":""}]
[null,null,null,null,null,null,null,null,null,null,null,null,null,"",{"$f":"IF(C480<>0,(IF(lfValidaCNPJ(C480)=TRUE,\"Válido\",\"Inválido\")),\"\")","v":""},{"$f":"IF(F480<>0,(IF(lfValidaCEP(F480)=TRUE,\"Válido\",\"Inválido\")),\"\")","v":""}]
[null,null,null,null,null,null,null,null,null,null,null,null,null,"",{"$f":"IF(C481<>0,(IF(lfValidaCNPJ(C481)=TRUE,\"Válido\",\"Inválido\")),\"\")","v":""},{"$f":"IF(F481<>0,(IF(lfValidaCEP(F481)=TRUE,\"Válido\",\"Inválido\")),\"\")","v":""}]
[null,null,null,null,null,null,null,null,null,null,null,null,null,"",{"$f":"IF(C482<>0,(IF(lfValidaCNPJ(C482)=TRUE,\"Válido\",\"Inválido\")),\"\")","v":""},{"$f":"IF(F482<>0,(IF(lfValidaCEP(F482)=TRUE,\"Válido\",\"Inválido\")),\"\")","v":""}]
[null,null,null,null,null,null,null,null,null,null,null,null,null,"",{"$f":"IF(C483<>0,(IF(lfValidaCNPJ(C483)=TRUE,\"Válido\",\"Inválido\")),\"\")","v":""},{"$f":"IF(F483<>0,(IF(lfValidaCEP(F483)=TRUE,\"Válido\",\"Inválido\")),\"\")","v":""}]
[null,null,null,null,null,null,null,null,null,null,null,null,null,"",{"$f":"IF(C484<>0,(IF(lfValidaCNPJ(C484)=TRUE,\"Válido\",\"Inválido\")),\"\")","v":""},{"$f":"IF(F484<>0,(IF(lfValidaCEP(F484)=TRUE,\"Válido\",\"Inválido\")),\"\")","v":""}]
[null,null,null,null,null,null,null,null,null,null,null,null,null,"",{"$f":"IF(C485<>0,(IF(lfValidaCNPJ(C485)=TRUE,\"Válido\",\"Inválido\")),\"\")","v":""},{"$f":"IF(F485<>0,(IF(lfValidaCEP(F485)=TRUE,\"Válido\",\"Inválido\")),\"\")","v":""}]
[null,null,null,null,null,null,null,null,null,null,null,null,null,"",{"$f":"IF(C486<>0,(IF(lfValidaCNPJ(C486)=TRUE,\"Válido\",\"Inválido\")),\"\")","v":""},{"$f":"IF(F486<>0,(IF(lfValidaCEP(F486)=TRUE,\"Válido\",\"Inválido\")),\"\")","v":""}]
[null,null,null,null,null,null,null,null,null,null,null,null,null,"",{"$f":"IF(C487<>0,(IF(lfValidaCNPJ(C487)=TRUE,\"Válido\",\"Inválido\")),\"\")","v":""},{"$f":"IF(F487<>0,(IF(lfValidaCEP(F487)=TRUE,\"Válido\",\"Inválido\")),\"\")","v":""}]
[null,null,null,null,null,null,null,null,null,null,null,null,null,"",{"$f":"IF(C488<>0,(IF(lfValidaCNPJ(C488)=TRUE,\"Válido\",\"Inválido\")),\"\")","v":""},{"$f":"IF(F488<>0,(IF(lfValidaCEP(F488)=TRUE,\"Válido\",\"Inválido\")),\"\")","v":""}]
[null,null,null,null,null,null,null,null,null,null,null,null,null,"",{"$f":"IF(C489<>0,(IF(lfValidaCNPJ(C489)=TRUE,\"Válido\",\"Inválido\")),\"\")","v":""},{"$f":"IF(F489<>0,(IF(lfValidaCEP(F489)=TRUE,\"Válido\",\"Inválido\")),\"\")","v":""}]
[null,null,null,null,null,null,null,null,null,null,null,null,null,"",{"$f":"IF(C490<>0,(IF(lfValidaCNPJ(C490)=TRUE,\"Válido\",\"Inválido\")),\"\")","v":""},{"$f":"IF(F490<>0,(IF(lfValidaCEP(F490)=TRUE,\"Válido\",\"Inválido\")),\"\")","v":""}]
[null,null,null,null,null,null,null,null,null,null,null,null,null,"",{"$f":"IF(C491<>0,(IF(lfValidaCNPJ(C491)=TRUE,\"Válido\",\"Inválido\")),\"\")","v":""},{"$f":"IF(F491<>0,(IF(lfValidaCEP(F491)=TRUE,\"Válido\",\"Inválido\")),\"\")","v":""}]
[null,null,null,null,null,null,null,null,null,null,null,null,null,"",{"$f":"IF(C492<>0,(IF(lfValidaCNPJ(C492)=TRUE,\"Válido\",\"Inválido\")),\"\")","v":""},{"$f":"IF(F492<>0,(IF(lfValidaCEP(F492)=TRUE,\"Válido\",\"Inválido\")),\"\")","v":""}]
[null,null,null,null,null,null,null,null,null,null,null,null,null,"",{"$f":"IF(C493<>0,(IF(lfValidaCNPJ(C493)=TRUE,\"Válido\",\"Inválido\")),\"\")","v":""},{"$f":"IF(F493<>0,(IF(lfValidaCEP(F493)=TRUE,\"Válido\",\"Inválido\")),\"\")","v":""}]
[null,null,null,null,null,null,null,null,null,null,null,null,null,"",{"$f":"IF(C494<>0,(IF(lfValidaCNPJ(C494)=TRUE,\"Válido\",\"Inválido\")),\"\")","v":""},{"$f":"IF(F494<>0,(IF(lfValidaCEP(F494)=TRUE,\"Válido\",\"Inválido\")),\"\")","v":""}]
[null,null,null,null,null,null,null,null,null,null,null,null,null,"",{"$f":"IF(C495<>0,(IF(lfValidaCNPJ(C495)=TRUE,\"Válido\",\"Inválido\")),\"\")","v":""},{"$f":"IF(F495<>0,(IF(lfValidaCEP(F495)=TRUE,\"Válido\",\"Inválido\")),\"\")","v":""}]
[null,null,null,null,null,null,null,null,null,null,null,null,null,"",{"$f":"IF(C496<>0,(IF(lfValidaCNPJ(C496)=TRUE,\"Válido\",\"Inválido\")),\"\")","v":""},{"$f":"IF(F496<>0,(IF(lfValidaCEP(F496)=TRUE,\"Válido\",\"Inválido\")),\"\")","v":""}]
[null,null,null,null,null,null,null,null,null,null,null,null,null,"",{"$f":"IF(C497<>0,(IF(lfValidaCNPJ(C497)=TRUE,\"Válido\",\"Inválido\")),\"\")","v":""},{"$f":"IF(F497<>0,(IF(lfValidaCEP(F497)=TRUE,\"Válido\",\"Inválido\")),\"\")","v":""}]
[null,null,null,null,null,null,null,null,null,null,null,null,null,"",{"$f":"IF(C498<>0,(IF(lfValidaCNPJ(C498)=TRUE,\"Válido\",\"Inválido\")),\"\")","v":""},{"$f":"IF(F498<>0,(IF(lfValidaCEP(F498)=TRUE,\"Válido\",\"Inválido\")),\"\")","v":""}]
[null,null,null,null,null,null,null,null,null,null,null,null,null,"",{"$f":"IF(C499<>0,(IF(lfValidaCNPJ(C499)=TRUE,\"Válido\",\"Inválido\")),\"\")","v":""},{"$f":"IF(F499<>0,(IF(lfValidaCEP(F499)=TRUE,\"Válido\",\"Inválido\")),\"\")","v":""}]
[null,null,null,null,null,null,null,null,null,null,null,null,null,"",{"$f":"IF(C500<>0,(IF(lfValidaCNPJ(C500)=TRUE,\"Válido\",\"Inválido\")),\"\")","v":""},{"$f":"IF(F500<>0,(IF(lfValidaCEP(F500)=TRUE,\"Válido\",\"Inválido\")),\"\")","v":""}]
[null,null,null,null,null,null,null,null,null,null,null,null,null,"",{"$f":"IF(C501<>0,(IF(lfValidaCNPJ(C501)=TRUE,\"Válido\",\"Inválido\")),\"\")","v":""},{"$f":"IF(F501<>0,(IF(lfValidaCEP(F501)=TRUE,\"Válido\",\"Inválido\")),\"\")","v":""}]
[null,null,null,null,null,null,null,null,null,null,null,null,null,"",{"$f":"IF(C502<>0,(IF(lfValidaCNPJ(C502)=TRUE,\"Válido\",\"Inválido\")),\"\")","v":""},{"$f":"IF(F502<>0,(IF(lfValidaCEP(F502)=TRUE,\"Válido\",\"Inválido\")),\"\")","v":""}]
[null,null,null,null,null,null,null,null,null,null,null,null,null,"",{"$f":"IF(C503<>0,(IF(lfValidaCNPJ(C503)=TRUE,\"Válido\",\"Inválido\")),\"\")","v":""},{"$f":"IF(F503<>0,(IF(lfValidaCEP(F503)=TRUE,\"Válido\",\"Inválido\")),\"\")","v":""}]
[null,null,null,null,null,null,null,null,null,null,null,null,null,"",{"$f":"IF(C504<>0,(IF(lfValidaCNPJ(C504)=TRUE,\"Válido\",\"Inválido\")),\"\")","v":""},{"$f":"IF(F504<>0,(IF(lfValidaCEP(F504)=TRUE,\"Válido\",\"Inválido\")),\"\")","v":""}]
[null,null,null,null,null,null,null,null,null,null,null,null,null,"",{"$f":"IF(C505<>0,(IF(lfValidaCNPJ(C505)=TRUE,\"Válido\",\"Inválido\")),\"\")","v":""},{"$f":"IF(F505<>0,(IF(lfValidaCEP(F505)=TRUE,\"Válido\",\"Inválido\")),\"\")","v":""}]
[null,null,null,null,null,null,null,null,null,null,null,null,null,"",{"$f":"IF(C506<>0,(IF(lfValidaCNPJ(C506)=TRUE,\"Válido\",\"Inválido\")),\"\")","v":""},{"$f":"IF(F506<>0,(IF(lfValidaCEP(F506)=TRUE,\"Válido\",\"Inválido\")),\"\")","v":""}]
[null,null,null,null,null,null,null,null,null,null,null,null,null,"",{"$f":"IF(C507<>0,(IF(lfValidaCNPJ(C507)=TRUE,\"Válido\",\"Inválido\")),\"\")","v":""},{"$f":"IF(F507<>0,(IF(lfValidaCEP(F507)=TRUE,\"Válido\",\"Inválido\")),\"\")","v":""}]
[null,null,null,null,null,null,null,null,null,null,null,null,null,"",{"$f":"IF(C508<>0,(IF(lfValidaCNPJ(C508)=TRUE,\"Válido\",\"Inválido\")),\"\")","v":""},{"$f":"IF(F508<>0,(IF(lfValidaCEP(F508)=TRUE,\"Válido\",\"Inválido\")),\"\")","v":""}]
[null,null,null,null,null,null,null,null,null,null,null,null,null,"",{"$f":"IF(C509<>0,(IF(lfValidaCNPJ(C509)=TRUE,\"Válido\",\"Inválido\")),\"\")","v":""},{"$f":"IF(F509<>0,(IF(lfValidaCEP(F509)=TRUE,\"Válido\",\"Inválido\")),\"\")","v":""}]
[null,null,null,null,null,null,null,null,null,null,null,null,null,"",{"$f":"IF(C510<>0,(IF(lfValidaCNPJ(C510)=TRUE,\"Válido\",\"Inválido\")),\"\")","v":""},{"$f":"IF(F510<>0,(IF(lfValidaCEP(F510)=TRUE,\"Válido\",\"Inválido\")),\"\")","v":""}]
[null,null,null,null,null,null,null,null,null,null,null,null,null,"",{"$f":"IF(C511<>0,(IF(lfValidaCNPJ(C511)=TRUE,\"Válido\",\"Inválido\")),\"\")","v":""},{"$f":"IF(F511<>0,(IF(lfValidaCEP(F511)=TRUE,\"Válido\",\"Inválido\")),\"\")","v":""}]
[null,null,null,null,null,null,null,null,null,null,null,null,null,"",{"$f":"IF(C512<>0,(IF(lfValidaCNPJ(C512)=TRUE,\"Válido\",\"Inválido\")),\"\")","v":""},{"$f":"IF(F512<>0,(IF(lfValidaCEP(F512)=TRUE,\"Válido\",\"Inválido\")),\"\")","v":""}]
[null,null,null,null,null,null,null,null,null,null,null,null,null,"",{"$f":"IF(C513<>0,(IF(lfValidaCNPJ(C513)=TRUE,\"Válido\",\"Inválido\")),\"\")","v":""},{"$f":"IF(F513<>0,(IF(lfValidaCEP(F513)=TRUE,\"Válido\",\"Inválido\")),\"\")","v":""}]
[null,null,null,null,null,null,null,null,null,null,null,null,null,"",{"$f":"IF(C514<>0,(IF(lfValidaCNPJ(C514)=TRUE,\"Válido\",\"Inválido\")),\"\")","v":""},{"$f":"IF(F514<>0,(IF(lfValidaCEP(F514)=TRUE,\"Válido\",\"Inválido\")),\"\")","v":""}]
[null,null,null,null,null,null,null,null,null,null,null,null,null,"",{"$f":"IF(C515<>0,(IF(lfValidaCNPJ(C515)=TRUE,\"Válido\",\"Inválido\")),\"\")","v":""},{"$f":"IF(F515<>0,(IF(lfValidaCEP(F515)=TRUE,\"Válido\",\"Inválido\")),\"\")","v":""}]
[null,null,null,null,null,null,null,null,null,null,null,null,null,"",{"$f":"IF(C516<>0,(IF(lfValidaCNPJ(C516)=TRUE,\"Válido\",\"Inválido\")),\"\")","v":""},{"$f":"IF(F516<>0,(IF(lfValidaCEP(F516)=TRUE,\"Válido\",\"Inválido\")),\"\")","v":""}]
[null,null,null,null,null,null,null,null,null,null,null,null,null,"",{"$f":"IF(C517<>0,(IF(lfValidaCNPJ(C517)=TRUE,\"Válido\",\"Inválido\")),\"\")","v":""},{"$f":"IF(F517<>0,(IF(lfValidaCEP(F517)=TRUE,\"Válido\",\"Inválido\")),\"\")","v":""}]
[null,null,null,null,null,null,null,null,null,null,null,null,null,"",{"$f":"IF(C518<>0,(IF(lfValidaCNPJ(C518)=TRUE,\"Válido\",\"Inválido\")),\"\")","v":""},{"$f":"IF(F518<>0,(IF(lfValidaCEP(F518)=TRUE,\"Válido\",\"Inválido\")),\"\")","v":""}]
[null,null,null,null,null,null,null,null,null,null,null,null,null,"",{"$f":"IF(C519<>0,(IF(lfValidaCNPJ(C519)=TRUE,\"Válido\",\"Inválido\")),\"\")","v":""},{"$f":"IF(F519<>0,(IF(lfValidaCEP(F519)=TRUE,\"Válido\",\"Inválido\")),\"\")","v":""}]
[null,null,null,null,null,null,null,null,null,null,null,null,null,"",{"$f":"IF(C520<>0,(IF(lfValidaCNPJ(C520)=TRUE,\"Válido\",\"Inválido\")),\"\")","v":""},{"$f":"IF(F520<>0,(IF(lfValidaCEP(F520)=TRUE,\"Válido\",\"Inválido\")),\"\")","v":""}]
[null,null,null,null,null,null,null,null,null,null,null,null,null,"",{"$f":"IF(C521<>0,(IF(lfValidaCNPJ(C521)=TRUE,\"Válido\",\"Inválido\")),\"\")","v":""},{"$f":"IF(F521<>0,(IF(lfValidaCEP(F521)=TRUE,\"Válido\",\"Inválido\")),\"\")","v":""}]
[null,null,null,null,null,null,null,null,null,null,null,null,null,"",{"$f":"IF(C522<>0,(IF(lfValidaCNPJ(C522)=TRUE,\"Válido\",\"Inválido\")),\"\")","v":""},{"$f":"IF(F522<>0,(IF(lfValidaCEP(F522)=TRUE,\"Válido\",\"Inválido\")),\"\")","v":""}]
[null,null,null,null,null,null,null,null,null,null,null,null,null,"",{"$f":"IF(C523<>0,(IF(lfValidaCNPJ(C523)=TRUE,\"Válido\",\"Inválido\")),\"\")","v":""},{"$f":"IF(F523<>0,(IF(lfValidaCEP(F523)=TRUE,\"Válido\",\"Inválido\")),\"\")","v":""}]
[null,null,null,null,null,null,null,null,null,null,null,null,null,{"$f":"IF(COUNTA(B524:J524)<>0,IF(AND(B524<>0,C524<>0,D524<>0,E524<>0,F524<>0,G524<>0,H524<>0,I524<>0,J524<>0),\"Completo\",\"Incompleto\"),\"\")","v":""},{"$f":"IF(C524<>0,(IF(lfValidaCNPJ(C524)=TRUE,\"Válido\",\"Inválido\")),\"\")","v":""},{"$f":"IF(F524<>0,(IF(lfValidaCEP(F524)=TRUE,\"Válido\",\"Inválido\")),\"\")","v":""}]
[null,null,null,null,null,null,null,null,null,null,null,null,null,"",{"$f":"IF(C525<>0,(IF(lfValidaCNPJ(C525)=TRUE,\"Válido\",\"Inválido\")),\"\")","v":""},{"$f":"IF(F525<>0,(IF(lfValidaCEP(F525)=TRUE,\"Válido\",\"Inválido\")),\"\")","v":""}]
[null,null,null,null,null,null,null,null,null,null,null,null,null,"",{"$f":"IF(C526<>0,(IF(lfValidaCNPJ(C526)=TRUE,\"Válido\",\"Inválido\")),\"\")","v":""},{"$f":"IF(F526<>0,(IF(lfValidaCEP(F526)=TRUE,\"Válido\",\"Inválido\")),\"\")","v":""}]
[null,null,null,null,null,null,null,null,null,null,null,null,null,"",{"$f":"IF(C527<>0,(IF(lfValidaCNPJ(C527)=TRUE,\"Válido\",\"Inválido\")),\"\")","v":""},{"$f":"IF(F527<>0,(IF(lfValidaCEP(F527)=TRUE,\"Válido\",\"Inválido\")),\"\")","v":""}]
[null,null,null,null,null,null,null,null,null,null,null,null,null,"",{"$f":"IF(C528<>0,(IF(lfValidaCNPJ(C528)=TRUE,\"Válido\",\"Inválido\")),\"\")","v":""},{"$f":"IF(F528<>0,(IF(lfValidaCEP(F528)=TRUE,\"Válido\",\"Inválido\")),\"\")","v":""}]
[null,null,null,null,null,null,null,null,null,null,null,null,null,"",{"$f":"IF(C529<>0,(IF(lfValidaCNPJ(C529)=TRUE,\"Válido\",\"Inválido\")),\"\")","v":""},{"$f":"IF(F529<>0,(IF(lfValidaCEP(F529)=TRUE,\"Válido\",\"Inválido\")),\"\")","v":""}]
[null,null,null,null,null,null,null,null,null,null,null,null,null,"",{"$f":"IF(C530<>0,(IF(lfValidaCNPJ(C530)=TRUE,\"Válido\",\"Inválido\")),\"\")","v":""},{"$f":"IF(F530<>0,(IF(lfValidaCEP(F530)=TRUE,\"Válido\",\"Inválido\")),\"\")","v":""}]
[null,null,null,null,null,null,null,null,null,null,null,null,null,"",{"$f":"IF(C531<>0,(IF(lfValidaCNPJ(C531)=TRUE,\"Válido\",\"Inválido\")),\"\")","v":""},{"$f":"IF(F531<>0,(IF(lfValidaCEP(F531)=TRUE,\"Válido\",\"Inválido\")),\"\")","v":""}]
[null,null,null,null,null,null,null,null,null,null,null,null,null,"",{"$f":"IF(C532<>0,(IF(lfValidaCNPJ(C532)=TRUE,\"Válido\",\"Inválido\")),\"\")","v":""},{"$f":"IF(F532<>0,(IF(lfValidaCEP(F532)=TRUE,\"Válido\",\"Inválido\")),\"\")","v":""}]
[null,null,null,null,null,null,null,null,null,null,null,null,null,"",{"$f":"IF(C533<>0,(IF(lfValidaCNPJ(C533)=TRUE,\"Válido\",\"Inválido\")),\"\")","v":""},{"$f":"IF(F533<>0,(IF(lfValidaCEP(F533)=TRUE,\"Válido\",\"Inválido\")),\"\")","v":""}]
[null,null,null,null,null,null,null,null,null,null,null,null,null,"",{"$f":"IF(C534<>0,(IF(lfValidaCNPJ(C534)=TRUE,\"Válido\",\"Inválido\")),\"\")","v":""},{"$f":"IF(F534<>0,(IF(lfValidaCEP(F534)=TRUE,\"Válido\",\"Inválido\")),\"\")","v":""}]
[null,null,null,null,null,null,null,null,null,null,null,null,null,"",{"$f":"IF(C535<>0,(IF(lfValidaCNPJ(C535)=TRUE,\"Válido\",\"Inválido\")),\"\")","v":""},{"$f":"IF(F535<>0,(IF(lfValidaCEP(F535)=TRUE,\"Válido\",\"Inválido\")),\"\")","v":""}]
[null,null,null,null,null,null,null,null,null,null,null,null,null,"",{"$f":"IF(C536<>0,(IF(lfValidaCNPJ(C536)=TRUE,\"Válido\",\"Inválido\")),\"\")","v":""},{"$f":"IF(F536<>0,(IF(lfValidaCEP(F536)=TRUE,\"Válido\",\"Inválido\")),\"\")","v":""}]
[null,null,null,null,null,null,null,null,null,null,null,null,null,"",{"$f":"IF(C537<>0,(IF(lfValidaCNPJ(C537)=TRUE,\"Válido\",\"Inválido\")),\"\")","v":""},{"$f":"IF(F537<>0,(IF(lfValidaCEP(F537)=TRUE,\"Válido\",\"Inválido\")),\"\")","v":""}]
[null,null,null,null,null,null,null,null,null,null,null,null,null,"",{"$f":"IF(C538<>0,(IF(lfValidaCNPJ(C538)=TRUE,\"Válido\",\"Inválido\")),\"\")","v":""},{"$f":"IF(F538<>0,(IF(lfValidaCEP(F538)=TRUE,\"Válido\",\"Inválido\")),\"\")","v":""}]
[null,null,null,null,null,null,null,null,null,null,null,null,null,"",{"$f":"IF(C539<>0,(IF(lfValidaCNPJ(C539)=TRUE,\"Válido\",\"Inválido\")),\"\")","v":""},{"$f":"IF(F539<>0,(IF(lfValidaCEP(F539)=TRUE,\"Válido\",\"Inválido\")),\"\")","v":""}]
[null,null,null,null,null,null,null,null,null,null,null,null,null,"",{"$f":"IF(C540<>0,(IF(lfValidaCNPJ(C540)=TRUE,\"Válido\",\"Inválido\")),\"\")","v":""},{"$f":"IF(F540<>0,(IF(lfValidaCEP(F540)=TRUE,\"Válido\",\"Inválido\")),\"\")","v":""}]
[null,null,null,null,null,null,null,null,null,null,null,null,null,"",{"$f":"IF(C541<>0,(IF(lfValidaCNPJ(C541)=TRUE,\"Válido\",\"Inválido\")),\"\")","v":""},{"$f":"IF(F541<>0,(IF(lfValidaCEP(F541)=TRUE,\"Válido\",\"Inválido\")),\"\")","v":""}]
[null,null,null,null,null,null,null,null,null,null,null,null,null,"",{"$f":"IF(C542<>0,(IF(lfValidaCNPJ(C542)=TRUE,\"Válido\",\"Inválido\")),\"\")","v":""},{"$f":"IF(F542<>0,(IF(lfValidaCEP(F542)=TRUE,\"Válido\",\"Inválido\")),\"\")","v":""}]
[null,null,null,null,null,null,null,null,null,null,null,null,null,"",{"$f":"IF(C543<>0,(IF(lfValidaCNPJ(C543)=TRUE,\"Válido\",\"Inválido\")),\"\")","v":""},{"$f":"IF(F543<>0,(IF(lfValidaCEP(F543)=TRUE,\"Válido\",\"Inválido\")),\"\")","v":""}]
[null,null,null,null,null,null,null,null,null,null,null,null,null,"",{"$f":"IF(C544<>0,(IF(lfValidaCNPJ(C544)=TRUE,\"Válido\",\"Inválido\")),\"\")","v":""},{"$f":"IF(F544<>0,(IF(lfValidaCEP(F544)=TRUE,\"Válido\",\"Inválido\")),\"\")","v":""}]
[null,null,null,null,null,null,null,null,null,null,null,null,null,"",{"$f":"IF(C545<>0,(IF(lfValidaCNPJ(C545)=TRUE,\"Válido\",\"Inválido\")),\"\")","v":""},{"$f":"IF(F545<>0,(IF(lfValidaCEP(F545)=TRUE,\"Válido\",\"Inválido\")),\"\")","v":""}]
[null,null,null,null,null,null,null,null,null,null,null,null,null,"",{"$f":"IF(C546<>0,(IF(lfValidaCNPJ(C546)=TRUE,\"Válido\",\"Inválido\")),\"\")","v":""},{"$f":"IF(F546<>0,(IF(lfValidaCEP(F546)=TRUE,\"Válido\",\"Inválido\")),\"\")","v":""}]
[null,null,null,null,null,null,null,null,null,null,null,null,null,"",{"$f":"IF(C547<>0,(IF(lfValidaCNPJ(C547)=TRUE,\"Válido\",\"Inválido\")),\"\")","v":""},{"$f":"IF(F547<>0,(IF(lfValidaCEP(F547)=TRUE,\"Válido\",\"Inválido\")),\"\")","v":""}]
[null,null,null,null,null,null,null,null,null,null,null,null,null,"",{"$f":"IF(C548<>0,(IF(lfValidaCNPJ(C548)=TRUE,\"Válido\",\"Inválido\")),\"\")","v":""},{"$f":"IF(F548<>0,(IF(lfValidaCEP(F548)=TRUE,\"Válido\",\"Inválido\")),\"\")","v":""}]
[null,null,null,null,null,null,null,null,null,null,null,null,null,"",{"$f":"IF(C549<>0,(IF(lfValidaCNPJ(C549)=TRUE,\"Válido\",\"Inválido\")),\"\")","v":""},{"$f":"IF(F549<>0,(IF(lfValidaCEP(F549)=TRUE,\"Válido\",\"Inválido\")),\"\")","v":""}]
[null,null,null,null,null,null,null,null,null,null,null,null,null,"",{"$f":"IF(C550<>0,(IF(lfValidaCNPJ(C550)=TRUE,\"Válido\",\"Inválido\")),\"\")","v":""},{"$f":"IF(F550<>0,(IF(lfValidaCEP(F550)=TRUE,\"Válido\",\"Inválido\")),\"\")","v":""}]
[null,null,null,null,null,null,null,null,null,null,null,null,null,"",{"$f":"IF(C551<>0,(IF(lfValidaCNPJ(C551)=TRUE,\"Válido\",\"Inválido\")),\"\")","v":""},{"$f":"IF(F551<>0,(IF(lfValidaCEP(F551)=TRUE,\"Válido\",\"Inválido\")),\"\")","v":""}]
[null,null,null,null,null,null,null,null,null,null,null,null,null,"",{"$f":"IF(C552<>0,(IF(lfValidaCNPJ(C552)=TRUE,\"Válido\",\"Inválido\")),\"\")","v":""},{"$f":"IF(F552<>0,(IF(lfValidaCEP(F552)=TRUE,\"Válido\",\"Inválido\")),\"\")","v":""}]
[null,null,null,null,null,null,null,null,null,null,null,null,null,"",{"$f":"IF(C553<>0,(IF(lfValidaCNPJ(C553)=TRUE,\"Válido\",\"Inválido\")),\"\")","v":""},{"$f":"IF(F553<>0,(IF(lfValidaCEP(F553)=TRUE,\"Válido\",\"Inválido\")),\"\")","v":""}]
[null,null,null,null,null,null,null,null,null,null,null,null,null,"",{"$f":"IF(C554<>0,(IF(lfValidaCNPJ(C554)=TRUE,\"Válido\",\"Inválido\")),\"\")","v":""},{"$f":"IF(F554<>0,(IF(lfValidaCEP(F554)=TRUE,\"Válido\",\"Inválido\")),\"\")","v":""}]
[null,null,null,null,null,null,null,null,null,null,null,null,null,"",{"$f":"IF(C555<>0,(IF(lfValidaCNPJ(C555)=TRUE,\"Válido\",\"Inválido\")),\"\")","v":""},{"$f":"IF(F555<>0,(IF(lfValidaCEP(F555)=TRUE,\"Válido\",\"Inválido\")),\"\")","v":""}]
[null,null,null,null,null,null,null,null,null,null,null,null,null,"",{"$f":"IF(C556<>0,(IF(lfValidaCNPJ(C556)=TRUE,\"Válido\",\"Inválido\")),\"\")","v":""},{"$f":"IF(F556<>0,(IF(lfValidaCEP(F556)=TRUE,\"Válido\",\"Inválido\")),\"\")","v":""}]
[null,null,null,null,null,null,null,null,null,null,null,null,null,"",{"$f":"IF(C557<>0,(IF(lfValidaCNPJ(C557)=TRUE,\"Válido\",\"Inválido\")),\"\")","v":""},{"$f":"IF(F557<>0,(IF(lfValidaCEP(F557)=TRUE,\"Válido\",\"Inválido\")),\"\")","v":""}]
[null,null,null,null,null,null,null,null,null,null,null,null,null,"",{"$f":"IF(C558<>0,(IF(lfValidaCNPJ(C558)=TRUE,\"Válido\",\"Inválido\")),\"\")","v":""},{"$f":"IF(F558<>0,(IF(lfValidaCEP(F558)=TRUE,\"Válido\",\"Inválido\")),\"\")","v":""}]
[null,null,null,null,null,null,null,null,null,null,null,null,null,"",{"$f":"IF(C559<>0,(IF(lfValidaCNPJ(C559)=TRUE,\"Válido\",\"Inválido\")),\"\")","v":""},{"$f":"IF(F559<>0,(IF(lfValidaCEP(F559)=TRUE,\"Válido\",\"Inválido\")),\"\")","v":""}]
[null,null,null,null,null,null,null,null,null,null,null,null,null,"",{"$f":"IF(C560<>0,(IF(lfValidaCNPJ(C560)=TRUE,\"Válido\",\"Inválido\")),\"\")","v":""},{"$f":"IF(F560<>0,(IF(lfValidaCEP(F560)=TRUE,\"Válido\",\"Inválido\")),\"\")","v":""}]
[null,null,null,null,null,null,null,null,null,null,null,null,null,"",{"$f":"IF(C561<>0,(IF(lfValidaCNPJ(C561)=TRUE,\"Válido\",\"Inválido\")),\"\")","v":""},{"$f":"IF(F561<>0,(IF(lfValidaCEP(F561)=TRUE,\"Válido\",\"Inválido\")),\"\")","v":""}]
[null,null,null,null,null,null,null,null,null,null,null,null,null,"",{"$f":"IF(C562<>0,(IF(lfValidaCNPJ(C562)=TRUE,\"Válido\",\"Inválido\")),\"\")","v":""},{"$f":"IF(F562<>0,(IF(lfValidaCEP(F562)=TRUE,\"Válido\",\"Inválido\")),\"\")","v":""}]
[null,null,null,null,null,null,null,null,null,null,null,null,null,"",{"$f":"IF(C563<>0,(IF(lfValidaCNPJ(C563)=TRUE,\"Válido\",\"Inválido\")),\"\")","v":""},{"$f":"IF(F563<>0,(IF(lfValidaCEP(F563)=TRUE,\"Válido\",\"Inválido\")),\"\")","v":""}]
[null,null,null,null,null,null,null,null,null,null,null,null,null,"",{"$f":"IF(C564<>0,(IF(lfValidaCNPJ(C564)=TRUE,\"Válido\",\"Inválido\")),\"\")","v":""},{"$f":"IF(F564<>0,(IF(lfValidaCEP(F564)=TRUE,\"Válido\",\"Inválido\")),\"\")","v":""}]
[null,null,null,null,null,null,null,null,null,null,null,null,null,"",{"$f":"IF(C565<>0,(IF(lfValidaCNPJ(C565)=TRUE,\"Válido\",\"Inválido\")),\"\")","v":""},{"$f":"IF(F565<>0,(IF(lfValidaCEP(F565)=TRUE,\"Válido\",\"Inválido\")),\"\")","v":""}]
[null,null,null,null,null,null,null,null,null,null,null,null,null,"",{"$f":"IF(C566<>0,(IF(lfValidaCNPJ(C566)=TRUE,\"Válido\",\"Inválido\")),\"\")","v":""},{"$f":"IF(F566<>0,(IF(lfValidaCEP(F566)=TRUE,\"Válido\",\"Inválido\")),\"\")","v":""}]
[null,null,null,null,null,null,null,null,null,null,null,null,null,"",{"$f":"IF(C567<>0,(IF(lfValidaCNPJ(C567)=TRUE,\"Válido\",\"Inválido\")),\"\")","v":""},{"$f":"IF(F567<>0,(IF(lfValidaCEP(F567)=TRUE,\"Válido\",\"Inválido\")),\"\")","v":""}]
[null,null,null,null,null,null,null,null,null,null,null,null,null,"",{"$f":"IF(C568<>0,(IF(lfValidaCNPJ(C568)=TRUE,\"Válido\",\"Inválido\")),\"\")","v":""},{"$f":"IF(F568<>0,(IF(lfValidaCEP(F568)=TRUE,\"Válido\",\"Inválido\")),\"\")","v":""}]
[null,null,null,null,null,null,null,null,null,null,null,null,null,"",{"$f":"IF(C569<>0,(IF(lfValidaCNPJ(C569)=TRUE,\"Válido\",\"Inválido\")),\"\")","v":""},{"$f":"IF(F569<>0,(IF(lfValidaCEP(F569)=TRUE,\"Válido\",\"Inválido\")),\"\")","v":""}]
[null,null,null,null,null,null,null,null,null,null,null,null,null,"",{"$f":"IF(C570<>0,(IF(lfValidaCNPJ(C570)=TRUE,\"Válido\",\"Inválido\")),\"\")","v":""},{"$f":"IF(F570<>0,(IF(lfValidaCEP(F570)=TRUE,\"Válido\",\"Inválido\")),\"\")","v":""}]
[null,null,null,null,null,null,null,null,null,null,null,null,null,"",{"$f":"IF(C571<>0,(IF(lfValidaCNPJ(C571)=TRUE,\"Válido\",\"Inválido\")),\"\")","v":""},{"$f":"IF(F571<>0,(IF(lfValidaCEP(F571)=TRUE,\"Válido\",\"Inválido\")),\"\")","v":""}]
[null,null,null,null,null,null,null,null,null,null,null,null,null,"",{"$f":"IF(C572<>0,(IF(lfValidaCNPJ(C572)=TRUE,\"Válido\",\"Inválido\")),\"\")","v":""},{"$f":"IF(F572<>0,(IF(lfValidaCEP(F572)=TRUE,\"Válido\",\"Inválido\")),\"\")","v":""}]
[null,null,null,null,null,null,null,null,null,null,null,null,null,"",{"$f":"IF(C573<>0,(IF(lfValidaCNPJ(C573)=TRUE,\"Válido\",\"Inválido\")),\"\")","v":""},{"$f":"IF(F573<>0,(IF(lfValidaCEP(F573)=TRUE,\"Válido\",\"Inválido\")),\"\")","v":""}]
[null,null,null,null,null,null,null,null,null,null,null,null,null,"",{"$f":"IF(C574<>0,(IF(lfValidaCNPJ(C574)=TRUE,\"Válido\",\"Inválido\")),\"\")","v":""},{"$f":"IF(F574<>0,(IF(lfValidaCEP(F574)=TRUE,\"Válido\",\"Inválido\")),\"\")","v":""}]
[null,null,null,null,null,null,null,null,null,null,null,null,null,"",{"$f":"IF(C575<>0,(IF(lfValidaCNPJ(C575)=TRUE,\"Válido\",\"Inválido\")),\"\")","v":""},{"$f":"IF(F575<>0,(IF(lfValidaCEP(F575)=TRUE,\"Válido\",\"Inválido\")),\"\")","v":""}]
[null,null,null,null,null,null,null,null,null,null,null,null,null,"",{"$f":"IF(C576<>0,(IF(lfValidaCNPJ(C576)=TRUE,\"Válido\",\"Inválido\")),\"\")","v":""},{"$f":"IF(F576<>0,(IF(lfValidaCEP(F576)=TRUE,\"Válido\",\"Inválido\")),\"\")","v":""}]
[null,null,null,null,null,null,null,null,null,null,null,null,null,"",{"$f":"IF(C577<>0,(IF(lfValidaCNPJ(C577)=TRUE,\"Válido\",\"Inválido\")),\"\")","v":""},{"$f":"IF(F577<>0,(IF(lfValidaCEP(F577)=TRUE,\"Válido\",\"Inválido\")),\"\")","v":""}]
[null,null,null,null,null,null,null,null,null,null,null,null,null,"",{"$f":"IF(C578<>0,(IF(lfValidaCNPJ(C578)=TRUE,\"Válido\",\"Inválido\")),\"\")","v":""},{"$f":"IF(F578<>0,(IF(lfValidaCEP(F578)=TRUE,\"Válido\",\"Inválido\")),\"\")","v":""}]
[null,null,null,null,null,null,null,null,null,null,null,null,null,"",{"$f":"IF(C579<>0,(IF(lfValidaCNPJ(C579)=TRUE,\"Válido\",\"Inválido\")),\"\")","v":""},{"$f":"IF(F579<>0,(IF(lfValidaCEP(F579)=TRUE,\"Válido\",\"Inválido\")),\"\")","v":""}]
[null,null,null,null,null,null,null,null,null,null,null,null,null,"",{"$f":"IF(C580<>0,(IF(lfValidaCNPJ(C580)=TRUE,\"Válido\",\"Inválido\")),\"\")","v":""},{"$f":"IF(F580<>0,(IF(lfValidaCEP(F580)=TRUE,\"Válido\",\"Inválido\")),\"\")","v":""}]
[null,null,null,null,null,null,null,null,null,null,null,null,null,"",{"$f":"IF(C581<>0,(IF(lfValidaCNPJ(C581)=TRUE,\"Válido\",\"Inválido\")),\"\")","v":""},{"$f":"IF(F581<>0,(IF(lfValidaCEP(F581)=TRUE,\"Válido\",\"Inválido\")),\"\")","v":""}]
[null,null,null,null,null,null,null,null,null,null,null,null,null,"",{"$f":"IF(C582<>0,(IF(lfValidaCNPJ(C582)=TRUE,\"Válido\",\"Inválido\")),\"\")","v":""},{"$f":"IF(F582<>0,(IF(lfValidaCEP(F582)=TRUE,\"Válido\",\"Inválido\")),\"\")","v":""}]
[null,null,null,null,null,null,null,null,null,null,null,null,null,"",{"$f":"IF(C583<>0,(IF(lfValidaCNPJ(C583)=TRUE,\"Válido\",\"Inválido\")),\"\")","v":""},{"$f":"IF(F583<>0,(IF(lfValidaCEP(F583)=TRUE,\"Válido\",\"Inválido\")),\"\")","v":""}]
[null,null,null,null,null,null,null,null,null,null,null,null,null,"",{"$f":"IF(C584<>0,(IF(lfValidaCNPJ(C584)=TRUE,\"Válido\",\"Inválido\")),\"\")","v":""},{"$f":"IF(F584<>0,(IF(lfValidaCEP(F584)=TRUE,\"Válido\",\"Inválido\")),\"\")","v":""}]
[null,null,null,null,null,null,null,null,null,null,null,null,null,"",{"$f":"IF(C585<>0,(IF(lfValidaCNPJ(C585)=TRUE,\"Válido\",\"Inválido\")),\"\")","v":""},{"$f":"IF(F585<>0,(IF(lfValidaCEP(F585)=TRUE,\"Válido\",\"Inválido\")),\"\")","v":""}]
[null,null,null,null,null,null,null,null,null,null,null,null,null,"",{"$f":"IF(C586<>0,(IF(lfValidaCNPJ(C586)=TRUE,\"Válido\",\"Inválido\")),\"\")","v":""},{"$f":"IF(F586<>0,(IF(lfValidaCEP(F586)=TRUE,\"Válido\",\"Inválido\")),\"\")","v":""}]
[null,null,null,null,null,null,null,null,null,null,null,null,null,"",{"$f":"IF(C587<>0,(IF(lfValidaCNPJ(C587)=TRUE,\"Válido\",\"Inválido\")),\"\")","v":""},{"$f":"IF(F587<>0,(IF(lfValidaCEP(F587)=TRUE,\"Válido\",\"Inválido\")),\"\")","v":""}]
[null,null,null,null,null,null,null,null,null,null,null,null,null,{"$f":"IF(COUNTA(B588:J588)<>0,IF(AND(B588<>0,C588<>0,D588<>0,E588<>0,F588<>0,G588<>0,H588<>0,I588<>0,J588<>0),\"Completo\",\"Incompleto\"),\"\")","v":""},{"$f":"IF(C588<>0,(IF(lfValidaCNPJ(C588)=TRUE,\"Válido\",\"Inválido\")),\"\")","v":""},{"$f":"IF(F588<>0,(IF(lfValidaCEP(F588)=TRUE,\"Válido\",\"Inválido\")),\"\")","v":""}]
[null,null,null,null,null,null,null,null,null,null,null,null,null,"",{"$f":"IF(C589<>0,(IF(lfValidaCNPJ(C589)=TRUE,\"Válido\",\"Inválido\")),\"\")","v":""},{"$f":"IF(F589<>0,(IF(lfValidaCEP(F589)=TRUE,\"Válido\",\"Inválido\")),\"\")","v":""}]
[null,null,null,null,null,null,null,null,null,null,null,null,null,"",{"$f":"IF(C590<>0,(IF(lfValidaCNPJ(C590)=TRUE,\"Válido\",\"Inválido\")),\"\")","v":""},{"$f":"IF(F590<>0,(IF(lfValidaCEP(F590)=TRUE,\"Válido\",\"Inválido\")),\"\")","v":""}]
[null,null,null,null,null,null,null,null,null,null,null,null,null,"",{"$f":"IF(C591<>0,(IF(lfValidaCNPJ(C591)=TRUE,\"Válido\",\"Inválido\")),\"\")","v":""},{"$f":"IF(F591<>0,(IF(lfValidaCEP(F591)=TRUE,\"Válido\",\"Inválido\")),\"\")","v":""}]
[null,null,null,null,null,null,null,null,null,null,null,null,null,"",{"$f":"IF(C592<>0,(IF(lfValidaCNPJ(C592)=TRUE,\"Válido\",\"Inválido\")),\"\")","v":""},{"$f":"IF(F592<>0,(IF(lfValidaCEP(F592)=TRUE,\"Válido\",\"Inválido\")),\"\")","v":""}]
[null,null,null,null,null,null,null,null,null,null,null,null,null,"",{"$f":"IF(C593<>0,(IF(lfValidaCNPJ(C593)=TRUE,\"Válido\",\"Inválido\")),\"\")","v":""},{"$f":"IF(F593<>0,(IF(lfValidaCEP(F593)=TRUE,\"Válido\",\"Inválido\")),\"\")","v":""}]
[null,null,null,null,null,null,null,null,null,null,null,null,null,"",{"$f":"IF(C594<>0,(IF(lfValidaCNPJ(C594)=TRUE,\"Válido\",\"Inválido\")),\"\")","v":""},{"$f":"IF(F594<>0,(IF(lfValidaCEP(F594)=TRUE,\"Válido\",\"Inválido\")),\"\")","v":""}]
[null,null,null,null,null,null,null,null,null,null,null,null,null,"",{"$f":"IF(C595<>0,(IF(lfValidaCNPJ(C595)=TRUE,\"Válido\",\"Inválido\")),\"\")","v":""},{"$f":"IF(F595<>0,(IF(lfValidaCEP(F595)=TRUE,\"Válido\",\"Inválido\")),\"\")","v":""}]
[null,null,null,null,null,null,null,null,null,null,null,null,null,"",{"$f":"IF(C596<>0,(IF(lfValidaCNPJ(C596)=TRUE,\"Válido\",\"Inválido\")),\"\")","v":""},{"$f":"IF(F596<>0,(IF(lfValidaCEP(F596)=TRUE,\"Válido\",\"Inválido\")),\"\")","v":""}]
[null,null,null,null,null,null,null,null,null,null,null,null,null,"",{"$f":"IF(C597<>0,(IF(lfValidaCNPJ(C597)=TRUE,\"Válido\",\"Inválido\")),\"\")","v":""},{"$f":"IF(F597<>0,(IF(lfValidaCEP(F597)=TRUE,\"Válido\",\"Inválido\")),\"\")","v":""}]
[null,null,null,null,null,null,null,null,null,null,null,null,null,"",{"$f":"IF(C598<>0,(IF(lfValidaCNPJ(C598)=TRUE,\"Válido\",\"Inválido\")),\"\")","v":""},{"$f":"IF(F598<>0,(IF(lfValidaCEP(F598)=TRUE,\"Válido\",\"Inválido\")),\"\")","v":""}]
[null,null,null,null,null,null,null,null,null,null,null,null,null,"",{"$f":"IF(C599<>0,(IF(lfValidaCNPJ(C599)=TRUE,\"Válido\",\"Inválido\")),\"\")","v":""},{"$f":"IF(F599<>0,(IF(lfValidaCEP(F599)=TRUE,\"Válido\",\"Inválido\")),\"\")","v":""}]
[null,null,null,null,null,null,null,null,null,null,null,null,null,"",{"$f":"IF(C600<>0,(IF(lfValidaCNPJ(C600)=TRUE,\"Válido\",\"Inválido\")),\"\")","v":""},{"$f":"IF(F600<>0,(IF(lfValidaCEP(F600)=TRUE,\"Válido\",\"Inválido\")),\"\")","v":""}]
[null,null,null,null,null,null,null,null,null,null,null,null,null,"",{"$f":"IF(C601<>0,(IF(lfValidaCNPJ(C601)=TRUE,\"Válido\",\"Inválido\")),\"\")","v":""},{"$f":"IF(F601<>0,(IF(lfValidaCEP(F601)=TRUE,\"Válido\",\"Inválido\")),\"\")","v":""}]
[null,null,null,null,null,null,null,null,null,null,null,null,null,"",{"$f":"IF(C602<>0,(IF(lfValidaCNPJ(C602)=TRUE,\"Válido\",\"Inválido\")),\"\")","v":""},{"$f":"IF(F602<>0,(IF(lfValidaCEP(F602)=TRUE,\"Válido\",\"Inválido\")),\"\")","v":""}]
[null,null,null,null,null,null,null,null,null,null,null,null,null,"",{"$f":"IF(C603<>0,(IF(lfValidaCNPJ(C603)=TRUE,\"Válido\",\"Inválido\")),\"\")","v":""},{"$f":"IF(F603<>0,(IF(lfValidaCEP(F603)=TRUE,\"Válido\",\"Inválido\")),\"\")","v":""}]
[null,null,null,null,null,null,null,null,null,null,null,null,null,"",{"$f":"IF(C604<>0,(IF(lfValidaCNPJ(C604)=TRUE,\"Válido\",\"Inválido\")),\"\")","v":""},{"$f":"IF(F604<>0,(IF(lfValidaCEP(F604)=TRUE,\"Válido\",\"Inválido\")),\"\")","v":""}]
[null,null,null,null,null,null,null,null,null,null,null,null,null,"",{"$f":"IF(C605<>0,(IF(lfValidaCNPJ(C605)=TRUE,\"Válido\",\"Inválido\")),\"\")","v":""},{"$f":"IF(F605<>0,(IF(lfValidaCEP(F605)=TRUE,\"Válido\",\"Inválido\")),\"\")","v":""}]
[null,null,null,null,null,null,null,null,null,null,null,null,null,"",{"$f":"IF(C606<>0,(IF(lfValidaCNPJ(C606)=TRUE,\"Válido\",\"Inválido\")),\"\")","v":""},{"$f":"IF(F606<>0,(IF(lfValidaCEP(F606)=TRUE,\"Válido\",\"Inválido\")),\"\")","v":""}]
[null,null,null,null,null,null,null,null,null,null,null,null,null,"",{"$f":"IF(C607<>0,(IF(lfValidaCNPJ(C607)=TRUE,\"Válido\",\"Inválido\")),\"\")","v":""},{"$f":"IF(F607<>0,(IF(lfValidaCEP(F607)=TRUE,\"Válido\",\"Inválido\")),\"\")","v":""}]
[null,null,null,null,null,null,null,null,null,null,null,null,null,"",{"$f":"IF(C608<>0,(IF(lfValidaCNPJ(C608)=TRUE,\"Válido\",\"Inválido\")),\"\")","v":""},{"$f":"IF(F608<>0,(IF(lfValidaCEP(F608)=TRUE,\"Válido\",\"Inválido\")),\"\")","v":""}]
[null,null,null,null,null,null,null,null,null,null,null,null,null,"",{"$f":"IF(C609<>0,(IF(lfValidaCNPJ(C609)=TRUE,\"Válido\",\"Inválido\")),\"\")","v":""},{"$f":"IF(F609<>0,(IF(lfValidaCEP(F609)=TRUE,\"Válido\",\"Inválido\")),\"\")","v":""}]
[null,null,null,null,null,null,null,null,null,null,null,null,null,"",{"$f":"IF(C610<>0,(IF(lfValidaCNPJ(C610)=TRUE,\"Válido\",\"Inválido\")),\"\")","v":""},{"$f":"IF(F610<>0,(IF(lfValidaCEP(F610)=TRUE,\"Válido\",\"Inválido\")),\"\")","v":""}]
[null,null,null,null,null,null,null,null,null,null,null,null,null,"",{"$f":"IF(C611<>0,(IF(lfValidaCNPJ(C611)=TRUE,\"Válido\",\"Inválido\")),\"\")","v":""},{"$f":"IF(F611<>0,(IF(lfValidaCEP(F611)=TRUE,\"Válido\",\"Inválido\")),\"\")","v":""}]
[null,null,null,null,null,null,null,null,null,null,null,null,null,"",{"$f":"IF(C612<>0,(IF(lfValidaCNPJ(C612)=TRUE,\"Válido\",\"Inválido\")),\"\")","v":""},{"$f":"IF(F612<>0,(IF(lfValidaCEP(F612)=TRUE,\"Válido\",\"Inválido\")),\"\")","v":""}]
[null,null,null,null,null,null,null,null,null,null,null,null,null,"",{"$f":"IF(C613<>0,(IF(lfValidaCNPJ(C613)=TRUE,\"Válido\",\"Inválido\")),\"\")","v":""},{"$f":"IF(F613<>0,(IF(lfValidaCEP(F613)=TRUE,\"Válido\",\"Inválido\")),\"\")","v":""}]
[null,null,null,null,null,null,null,null,null,null,null,null,null,"",{"$f":"IF(C614<>0,(IF(lfValidaCNPJ(C614)=TRUE,\"Válido\",\"Inválido\")),\"\")","v":""},{"$f":"IF(F614<>0,(IF(lfValidaCEP(F614)=TRUE,\"Válido\",\"Inválido\")),\"\")","v":""}]
[null,null,null,null,null,null,null,null,null,null,null,null,null,"",{"$f":"IF(C615<>0,(IF(lfValidaCNPJ(C615)=TRUE,\"Válido\",\"Inválido\")),\"\")","v":""},{"$f":"IF(F615<>0,(IF(lfValidaCEP(F615)=TRUE,\"Válido\",\"Inválido\")),\"\")","v":""}]
[null,null,null,null,null,null,null,null,null,null,null,null,null,"",{"$f":"IF(C616<>0,(IF(lfValidaCNPJ(C616)=TRUE,\"Válido\",\"Inválido\")),\"\")","v":""},{"$f":"IF(F616<>0,(IF(lfValidaCEP(F616)=TRUE,\"Válido\",\"Inválido\")),\"\")","v":""}]
[null,null,null,null,null,null,null,null,null,null,null,null,null,"",{"$f":"IF(C617<>0,(IF(lfValidaCNPJ(C617)=TRUE,\"Válido\",\"Inválido\")),\"\")","v":""},{"$f":"IF(F617<>0,(IF(lfValidaCEP(F617)=TRUE,\"Válido\",\"Inválido\")),\"\")","v":""}]
[null,null,null,null,null,null,null,null,null,null,null,null,null,"",{"$f":"IF(C618<>0,(IF(lfValidaCNPJ(C618)=TRUE,\"Válido\",\"Inválido\")),\"\")","v":""},{"$f":"IF(F618<>0,(IF(lfValidaCEP(F618)=TRUE,\"Válido\",\"Inválido\")),\"\")","v":""}]
[null,null,null,null,null,null,null,null,null,null,null,null,null,"",{"$f":"IF(C619<>0,(IF(lfValidaCNPJ(C619)=TRUE,\"Válido\",\"Inválido\")),\"\")","v":""},{"$f":"IF(F619<>0,(IF(lfValidaCEP(F619)=TRUE,\"Válido\",\"Inválido\")),\"\")","v":""}]
[null,null,null,null,null,null,null,null,null,null,null,null,null,"",{"$f":"IF(C620<>0,(IF(lfValidaCNPJ(C620)=TRUE,\"Válido\",\"Inválido\")),\"\")","v":""},{"$f":"IF(F620<>0,(IF(lfValidaCEP(F620)=TRUE,\"Válido\",\"Inválido\")),\"\")","v":""}]
[null,null,null,null,null,null,null,null,null,null,null,null,null,"",{"$f":"IF(C621<>0,(IF(lfValidaCNPJ(C621)=TRUE,\"Válido\",\"Inválido\")),\"\")","v":""},{"$f":"IF(F621<>0,(IF(lfValidaCEP(F621)=TRUE,\"Válido\",\"Inválido\")),\"\")","v":""}]
[null,null,null,null,null,null,null,null,null,null,null,null,null,"",{"$f":"IF(C622<>0,(IF(lfValidaCNPJ(C622)=TRUE,\"Válido\",\"Inválido\")),\"\")","v":""},{"$f":"IF(F622<>0,(IF(lfValidaCEP(F622)=TRUE,\"Válido\",\"Inválido\")),\"\")","v":""}]
[null,null,null,null,null,null,null,null,null,null,null,null,null,"",{"$f":"IF(C623<>0,(IF(lfValidaCNPJ(C623)=TRUE,\"Válido\",\"Inválido\")),\"\")","v":""},{"$f":"IF(F623<>0,(IF(lfValidaCEP(F623)=TRUE,\"Válido\",\"Inválido\")),\"\")","v":""}]
[null,null,null,null,null,null,null,null,null,null,null,null,null,"",{"$f":"IF(C624<>0,(IF(lfValidaCNPJ(C624)=TRUE,\"Válido\",\"Inválido\")),\"\")","v":""},{"$f":"IF(F624<>0,(IF(lfValidaCEP(F624)=TRUE,\"Válido\",\"Inválido\")),\"\")","v":""}]
[null,null,null,null,null,null,null,null,null,null,null,null,null,"",{"$f":"IF(C625<>0,(IF(lfValidaCNPJ(C625)=TRUE,\"Válido\",\"Inválido\")),\"\")","v":""},{"$f":"IF(F625<>0,(IF(lfValidaCEP(F625)=TRUE,\"Válido\",\"Inválido\")),\"\")","v":""}]
[null,null,null,null,null,null,null,null,null,null,null,null,null,"",{"$f":"IF(C626<>0,(IF(lfValidaCNPJ(C626)=TRUE,\"Válido\",\"Inválido\")),\"\")","v":""},{"$f":"IF(F626<>0,(IF(lfValidaCEP(F626)=TRUE,\"Válido\",\"Inválido\")),\"\")","v":""}]
[null,null,null,null,null,null,null,null,null,null,null,null,null,"",{"$f":"IF(C627<>0,(IF(lfValidaCNPJ(C627)=TRUE,\"Válido\",\"Inválido\")),\"\")","v":""},{"$f":"IF(F627<>0,(IF(lfValidaCEP(F627)=TRUE,\"Válido\",\"Inválido\")),\"\")","v":""}]
[null,null,null,null,null,null,null,null,null,null,null,null,null,"",{"$f":"IF(C628<>0,(IF(lfValidaCNPJ(C628)=TRUE,\"Válido\",\"Inválido\")),\"\")","v":""},{"$f":"IF(F628<>0,(IF(lfValidaCEP(F628)=TRUE,\"Válido\",\"Inválido\")),\"\")","v":""}]
[null,null,null,null,null,null,null,null,null,null,null,null,null,"",{"$f":"IF(C629<>0,(IF(lfValidaCNPJ(C629)=TRUE,\"Válido\",\"Inválido\")),\"\")","v":""},{"$f":"IF(F629<>0,(IF(lfValidaCEP(F629)=TRUE,\"Válido\",\"Inválido\")),\"\")","v":""}]
[null,null,null,null,null,null,null,null,null,null,null,null,null,"",{"$f":"IF(C630<>0,(IF(lfValidaCNPJ(C630)=TRUE,\"Válido\",\"Inválido\")),\"\")","v":""},{"$f":"IF(F630<>0,(IF(lfValidaCEP(F630)=TRUE,\"Válido\",\"Inválido\")),\"\")","v":""}]
[null,null,null,null,null,null,null,null,null,null,null,null,null,"",{"$f":"IF(C631<>0,(IF(lfValidaCNPJ(C631)=TRUE,\"Válido\",\"Inválido\")),\"\")","v":""},{"$f":"IF(F631<>0,(IF(lfValidaCEP(F631)=TRUE,\"Válido\",\"Inválido\")),\"\")","v":""}]
[null,null,null,null,null,null,null,null,null,null,null,null,null,"",{"$f":"IF(C632<>0,(IF(lfValidaCNPJ(C632)=TRUE,\"Válido\",\"Inválido\")),\"\")","v":""},{"$f":"IF(F632<>0,(IF(lfValidaCEP(F632)=TRUE,\"Válido\",\"Inválido\")),\"\")","v":""}]
[null,null,null,null,null,null,null,null,null,null,null,null,null,"",{"$f":"IF(C633<>0,(IF(lfValidaCNPJ(C633)=TRUE,\"Válido\",\"Inválido\")),\"\")","v":""},{"$f":"IF(F633<>0,(IF(lfValidaCEP(F633)=TRUE,\"Válido\",\"Inválido\")),\"\")","v":""}]
[null,null,null,null,null,null,null,null,null,null,null,null,null,"",{"$f":"IF(C634<>0,(IF(lfValidaCNPJ(C634)=TRUE,\"Válido\",\"Inválido\")),\"\")","v":""},{"$f":"IF(F634<>0,(IF(lfValidaCEP(F634)=TRUE,\"Válido\",\"Inválido\")),\"\")","v":""}]
[null,null,null,null,null,null,null,null,null,null,null,null,null,"",{"$f":"IF(C635<>0,(IF(lfValidaCNPJ(C635)=TRUE,\"Válido\",\"Inválido\")),\"\")","v":""},{"$f":"IF(F635<>0,(IF(lfValidaCEP(F635)=TRUE,\"Válido\",\"Inválido\")),\"\")","v":""}]
[null,null,null,null,null,null,null,null,null,null,null,null,null,"",{"$f":"IF(C636<>0,(IF(lfValidaCNPJ(C636)=TRUE,\"Válido\",\"Inválido\")),\"\")","v":""},{"$f":"IF(F636<>0,(IF(lfValidaCEP(F636)=TRUE,\"Válido\",\"Inválido\")),\"\")","v":""}]
[null,null,null,null,null,null,null,null,null,null,null,null,null,"",{"$f":"IF(C637<>0,(IF(lfValidaCNPJ(C637)=TRUE,\"Válido\",\"Inválido\")),\"\")","v":""},{"$f":"IF(F637<>0,(IF(lfValidaCEP(F637)=TRUE,\"Válido\",\"Inválido\")),\"\")","v":""}]
[null,null,null,null,null,null,null,null,null,null,null,null,null,"",{"$f":"IF(C638<>0,(IF(lfValidaCNPJ(C638)=TRUE,\"Válido\",\"Inválido\")),\"\")","v":""},{"$f":"IF(F638<>0,(IF(lfValidaCEP(F638)=TRUE,\"Válido\",\"Inválido\")),\"\")","v":""}]
[null,null,null,null,null,null,null,null,null,null,null,null,null,"",{"$f":"IF(C639<>0,(IF(lfValidaCNPJ(C639)=TRUE,\"Válido\",\"Inválido\")),\"\")","v":""},{"$f":"IF(F639<>0,(IF(lfValidaCEP(F639)=TRUE,\"Válido\",\"Inválido\")),\"\")","v":""}]
[null,null,null,null,null,null,null,null,null,null,null,null,null,"",{"$f":"IF(C640<>0,(IF(lfValidaCNPJ(C640)=TRUE,\"Válido\",\"Inválido\")),\"\")","v":""},{"$f":"IF(F640<>0,(IF(lfValidaCEP(F640)=TRUE,\"Válido\",\"Inválido\")),\"\")","v":""}]
[null,null,null,null,null,null,null,null,null,null,null,null,null,"",{"$f":"IF(C641<>0,(IF(lfValidaCNPJ(C641)=TRUE,\"Válido\",\"Inválido\")),\"\")","v":""},{"$f":"IF(F641<>0,(IF(lfValidaCEP(F641)=TRUE,\"Válido\",\"Inválido\")),\"\")","v":""}]
[null,null,null,null,null,null,null,null,null,null,null,null,null,"",{"$f":"IF(C642<>0,(IF(lfValidaCNPJ(C642)=TRUE,\"Válido\",\"Inválido\")),\"\")","v":""},{"$f":"IF(F642<>0,(IF(lfValidaCEP(F642)=TRUE,\"Válido\",\"Inválido\")),\"\")","v":""}]
[null,null,null,null,null,null,null,null,null,null,null,null,null,"",{"$f":"IF(C643<>0,(IF(lfValidaCNPJ(C643)=TRUE,\"Válido\",\"Inválido\")),\"\")","v":""},{"$f":"IF(F643<>0,(IF(lfValidaCEP(F643)=TRUE,\"Válido\",\"Inválido\")),\"\")","v":""}]
[null,null,null,null,null,null,null,null,null,null,null,null,null,"",{"$f":"IF(C644<>0,(IF(lfValidaCNPJ(C644)=TRUE,\"Válido\",\"Inválido\")),\"\")","v":""},{"$f":"IF(F644<>0,(IF(lfValidaCEP(F644)=TRUE,\"Válido\",\"Inválido\")),\"\")","v":""}]
[null,null,null,null,null,null,null,null,null,null,null,null,null,"",{"$f":"IF(C645<>0,(IF(lfValidaCNPJ(C645)=TRUE,\"Válido\",\"Inválido\")),\"\")","v":""},{"$f":"IF(F645<>0,(IF(lfValidaCEP(F645)=TRUE,\"Válido\",\"Inválido\")),\"\")","v":""}]
[null,null,null,null,null,null,null,null,null,null,null,null,null,"",{"$f":"IF(C646<>0,(IF(lfValidaCNPJ(C646)=TRUE,\"Válido\",\"Inválido\")),\"\")","v":""},{"$f":"IF(F646<>0,(IF(lfValidaCEP(F646)=TRUE,\"Válido\",\"Inválido\")),\"\")","v":""}]
[null,null,null,null,null,null,null,null,null,null,null,null,null,"",{"$f":"IF(C647<>0,(IF(lfValidaCNPJ(C647)=TRUE,\"Válido\",\"Inválido\")),\"\")","v":""},{"$f":"IF(F647<>0,(IF(lfValidaCEP(F647)=TRUE,\"Válido\",\"Inválido\")),\"\")","v":""}]
[null,null,null,null,null,null,null,null,null,null,null,null,null,"",{"$f":"IF(C648<>0,(IF(lfValidaCNPJ(C648)=TRUE,\"Válido\",\"Inválido\")),\"\")","v":""},{"$f":"IF(F648<>0,(IF(lfValidaCEP(F648)=TRUE,\"Válido\",\"Inválido\")),\"\")","v":""}]
[null,null,null,null,null,null,null,null,null,null,null,null,null,"",{"$f":"IF(C649<>0,(IF(lfValidaCNPJ(C649)=TRUE,\"Válido\",\"Inválido\")),\"\")","v":""},{"$f":"IF(F649<>0,(IF(lfValidaCEP(F649)=TRUE,\"Válido\",\"Inválido\")),\"\")","v":""}]
[null,null,null,null,null,null,null,null,null,null,null,null,null,"",{"$f":"IF(C650<>0,(IF(lfValidaCNPJ(C650)=TRUE,\"Válido\",\"Inválido\")),\"\")","v":""},{"$f":"IF(F650<>0,(IF(lfValidaCEP(F650)=TRUE,\"Válido\",\"Inválido\")),\"\")","v":""}]
[null,null,null,null,null,null,null,null,null,null,null,null,null,"",{"$f":"IF(C651<>0,(IF(lfValidaCNPJ(C651)=TRUE,\"Válido\",\"Inválido\")),\"\")","v":""},{"$f":"IF(F651<>0,(IF(lfValidaCEP(F651)=TRUE,\"Válido\",\"Inválido\")),\"\")","v":""}]
[null,null,null,null,null,null,null,null,null,null,null,null,null,{"$f":"IF(COUNTA(B652:J652)<>0,IF(AND(B652<>0,C652<>0,D652<>0,E652<>0,F652<>0,G652<>0,H652<>0,I652<>0,J652<>0),\"Completo\",\"Incompleto\"),\"\")","v":""},{"$f":"IF(C652<>0,(IF(lfValidaCNPJ(C652)=TRUE,\"Válido\",\"Inválido\")),\"\")","v":""},{"$f":"IF(F652<>0,(IF(lfValidaCEP(F652)=TRUE,\"Válido\",\"Inválido\")),\"\")","v":""}]
[null,null,null,null,null,null,null,null,null,null,null,null,null,"",{"$f":"IF(C653<>0,(IF(lfValidaCNPJ(C653)=TRUE,\"Válido\",\"Inválido\")),\"\")","v":""},{"$f":"IF(F653<>0,(IF(lfValidaCEP(F653)=TRUE,\"Válido\",\"Inválido\")),\"\")","v":""}]
[null,null,null,null,null,null,null,null,null,null,null,null,null,"",{"$f":"IF(C654<>0,(IF(lfValidaCNPJ(C654)=TRUE,\"Válido\",\"Inválido\")),\"\")","v":""},{"$f":"IF(F654<>0,(IF(lfValidaCEP(F654)=TRUE,\"Válido\",\"Inválido\")),\"\")","v":""}]
[null,null,null,null,null,null,null,null,null,null,null,null,null,"",{"$f":"IF(C655<>0,(IF(lfValidaCNPJ(C655)=TRUE,\"Válido\",\"Inválido\")),\"\")","v":""},{"$f":"IF(F655<>0,(IF(lfValidaCEP(F655)=TRUE,\"Válido\",\"Inválido\")),\"\")","v":""}]
[null,null,null,null,null,null,null,null,null,null,null,null,null,"",{"$f":"IF(C656<>0,(IF(lfValidaCNPJ(C656)=TRUE,\"Válido\",\"Inválido\")),\"\")","v":""},{"$f":"IF(F656<>0,(IF(lfValidaCEP(F656)=TRUE,\"Válido\",\"Inválido\")),\"\")","v":""}]
[null,null,null,null,null,null,null,null,null,null,null,null,null,"",{"$f":"IF(C657<>0,(IF(lfValidaCNPJ(C657)=TRUE,\"Válido\",\"Inválido\")),\"\")","v":""},{"$f":"IF(F657<>0,(IF(lfValidaCEP(F657)=TRUE,\"Válido\",\"Inválido\")),\"\")","v":""}]
[null,null,null,null,null,null,null,null,null,null,null,null,null,"",{"$f":"IF(C658<>0,(IF(lfValidaCNPJ(C658)=TRUE,\"Válido\",\"Inválido\")),\"\")","v":""},{"$f":"IF(F658<>0,(IF(lfValidaCEP(F658)=TRUE,\"Válido\",\"Inválido\")),\"\")","v":""}]
[null,null,null,null,null,null,null,null,null,null,null,null,null,"",{"$f":"IF(C659<>0,(IF(lfValidaCNPJ(C659)=TRUE,\"Válido\",\"Inválido\")),\"\")","v":""},{"$f":"IF(F659<>0,(IF(lfValidaCEP(F659)=TRUE,\"Válido\",\"Inválido\")),\"\")","v":""}]
[null,null,null,null,null,null,null,null,null,null,null,null,null,"",{"$f":"IF(C660<>0,(IF(lfValidaCNPJ(C660)=TRUE,\"Válido\",\"Inválido\")),\"\")","v":""},{"$f":"IF(F660<>0,(IF(lfValidaCEP(F660)=TRUE,\"Válido\",\"Inválido\")),\"\")","v":""}]
[null,null,null,null,null,null,null,null,null,null,null,null,null,"",{"$f":"IF(C661<>0,(IF(lfValidaCNPJ(C661)=TRUE,\"Válido\",\"Inválido\")),\"\")","v":""},{"$f":"IF(F661<>0,(IF(lfValidaCEP(F661)=TRUE,\"Válido\",\"Inválido\")),\"\")","v":""}]
[null,null,null,null,null,null,null,null,null,null,null,null,null,"",{"$f":"IF(C662<>0,(IF(lfValidaCNPJ(C662)=TRUE,\"Válido\",\"Inválido\")),\"\")","v":""},{"$f":"IF(F662<>0,(IF(lfValidaCEP(F662)=TRUE,\"Válido\",\"Inválido\")),\"\")","v":""}]
[null,null,null,null,null,null,null,null,null,null,null,null,null,"",{"$f":"IF(C663<>0,(IF(lfValidaCNPJ(C663)=TRUE,\"Válido\",\"Inválido\")),\"\")","v":""},{"$f":"IF(F663<>0,(IF(lfValidaCEP(F663)=TRUE,\"Válido\",\"Inválido\")),\"\")","v":""}]
[null,null,null,null,null,null,null,null,null,null,null,null,null,"",{"$f":"IF(C664<>0,(IF(lfValidaCNPJ(C664)=TRUE,\"Válido\",\"Inválido\")),\"\")","v":""},{"$f":"IF(F664<>0,(IF(lfValidaCEP(F664)=TRUE,\"Válido\",\"Inválido\")),\"\")","v":""}]
[null,null,null,null,null,null,null,null,null,null,null,null,null,"",{"$f":"IF(C665<>0,(IF(lfValidaCNPJ(C665)=TRUE,\"Válido\",\"Inválido\")),\"\")","v":""},{"$f":"IF(F665<>0,(IF(lfValidaCEP(F665)=TRUE,\"Válido\",\"Inválido\")),\"\")","v":""}]
[null,null,null,null,null,null,null,null,null,null,null,null,null,"",{"$f":"IF(C666<>0,(IF(lfValidaCNPJ(C666)=TRUE,\"Válido\",\"Inválido\")),\"\")","v":""},{"$f":"IF(F666<>0,(IF(lfValidaCEP(F666)=TRUE,\"Válido\",\"Inválido\")),\"\")","v":""}]
[null,null,null,null,null,null,null,null,null,null,null,null,null,"",{"$f":"IF(C667<>0,(IF(lfValidaCNPJ(C667)=TRUE,\"Válido\",\"Inválido\")),\"\")","v":""},{"$f":"IF(F667<>0,(IF(lfValidaCEP(F667)=TRUE,\"Válido\",\"Inválido\")),\"\")","v":""}]
[null,null,null,null,null,null,null,null,null,null,null,null,null,"",{"$f":"IF(C668<>0,(IF(lfValidaCNPJ(C668)=TRUE,\"Válido\",\"Inválido\")),\"\")","v":""},{"$f":"IF(F668<>0,(IF(lfValidaCEP(F668)=TRUE,\"Válido\",\"Inválido\")),\"\")","v":""}]
[null,null,null,null,null,null,null,null,null,null,null,null,null,"",{"$f":"IF(C669<>0,(IF(lfValidaCNPJ(C669)=TRUE,\"Válido\",\"Inválido\")),\"\")","v":""},{"$f":"IF(F669<>0,(IF(lfValidaCEP(F669)=TRUE,\"Válido\",\"Inválido\")),\"\")","v":""}]
[null,null,null,null,null,null,null,null,null,null,null,null,null,"",{"$f":"IF(C670<>0,(IF(lfValidaCNPJ(C670)=TRUE,\"Válido\",\"Inválido\")),\"\")","v":""},{"$f":"IF(F670<>0,(IF(lfValidaCEP(F670)=TRUE,\"Válido\",\"Inválido\")),\"\")","v":""}]
[null,null,null,null,null,null,null,null,null,null,null,null,null,"",{"$f":"IF(C671<>0,(IF(lfValidaCNPJ(C671)=TRUE,\"Válido\",\"Inválido\")),\"\")","v":""},{"$f":"IF(F671<>0,(IF(lfValidaCEP(F671)=TRUE,\"Válido\",\"Inválido\")),\"\")","v":""}]
[null,null,null,null,null,null,null,null,null,null,null,null,null,"",{"$f":"IF(C672<>0,(IF(lfValidaCNPJ(C672)=TRUE,\"Válido\",\"Inválido\")),\"\")","v":""},{"$f":"IF(F672<>0,(IF(lfValidaCEP(F672)=TRUE,\"Válido\",\"Inválido\")),\"\")","v":""}]
[null,null,null,null,null,null,null,null,null,null,null,null,null,"",{"$f":"IF(C673<>0,(IF(lfValidaCNPJ(C673)=TRUE,\"Válido\",\"Inválido\")),\"\")","v":""},{"$f":"IF(F673<>0,(IF(lfValidaCEP(F673)=TRUE,\"Válido\",\"Inválido\")),\"\")","v":""}]
[null,null,null,null,null,null,null,null,null,null,null,null,null,"",{"$f":"IF(C674<>0,(IF(lfValidaCNPJ(C674)=TRUE,\"Válido\",\"Inválido\")),\"\")","v":""},{"$f":"IF(F674<>0,(IF(lfValidaCEP(F674)=TRUE,\"Válido\",\"Inválido\")),\"\")","v":""}]
[null,null,null,null,null,null,null,null,null,null,null,null,null,"",{"$f":"IF(C675<>0,(IF(lfValidaCNPJ(C675)=TRUE,\"Válido\",\"Inválido\")),\"\")","v":""},{"$f":"IF(F675<>0,(IF(lfValidaCEP(F675)=TRUE,\"Válido\",\"Inválido\")),\"\")","v":""}]
[null,null,null,null,null,null,null,null,null,null,null,null,null,"",{"$f":"IF(C676<>0,(IF(lfValidaCNPJ(C676)=TRUE,\"Válido\",\"Inválido\")),\"\")","v":""},{"$f":"IF(F676<>0,(IF(lfValidaCEP(F676)=TRUE,\"Válido\",\"Inválido\")),\"\")","v":""}]
[null,null,null,null,null,null,null,null,null,null,null,null,null,"",{"$f":"IF(C677<>0,(IF(lfValidaCNPJ(C677)=TRUE,\"Válido\",\"Inválido\")),\"\")","v":""},{"$f":"IF(F677<>0,(IF(lfValidaCEP(F677)=TRUE,\"Válido\",\"Inválido\")),\"\")","v":""}]
[null,null,null,null,null,null,null,null,null,null,null,null,null,"",{"$f":"IF(C678<>0,(IF(lfValidaCNPJ(C678)=TRUE,\"Válido\",\"Inválido\")),\"\")","v":""},{"$f":"IF(F678<>0,(IF(lfValidaCEP(F678)=TRUE,\"Válido\",\"Inválido\")),\"\")","v":""}]
[null,null,null,null,null,null,null,null,null,null,null,null,null,"",{"$f":"IF(C679<>0,(IF(lfValidaCNPJ(C679)=TRUE,\"Válido\",\"Inválido\")),\"\")","v":""},{"$f":"IF(F679<>0,(IF(lfValidaCEP(F679)=TRUE,\"Válido\",\"Inválido\")),\"\")","v":""}]
[null,null,null,null,null,null,null,null,null,null,null,null,null,"",{"$f":"IF(C680<>0,(IF(lfValidaCNPJ(C680)=TRUE,\"Válido\",\"Inválido\")),\"\")","v":""},{"$f":"IF(F680<>0,(IF(lfValidaCEP(F680)=TRUE,\"Válido\",\"Inválido\")),\"\")","v":""}]
[null,null,null,null,null,null,null,null,null,null,null,null,null,"",{"$f":"IF(C681<>0,(IF(lfValidaCNPJ(C681)=TRUE,\"Válido\",\"Inválido\")),\"\")","v":""},{"$f":"IF(F681<>0,(IF(lfValidaCEP(F681)=TRUE,\"Válido\",\"Inválido\")),\"\")","v":""}]
[null,null,null,null,null,null,null,null,null,null,null,null,null,"",{"$f":"IF(C682<>0,(IF(lfValidaCNPJ(C682)=TRUE,\"Válido\",\"Inválido\")),\"\")","v":""},{"$f":"IF(F682<>0,(IF(lfValidaCEP(F682)=TRUE,\"Válido\",\"Inválido\")),\"\")","v":""}]
[null,null,null,null,null,null,null,null,null,null,null,null,null,"",{"$f":"IF(C683<>0,(IF(lfValidaCNPJ(C683)=TRUE,\"Válido\",\"Inválido\")),\"\")","v":""},{"$f":"IF(F683<>0,(IF(lfValidaCEP(F683)=TRUE,\"Válido\",\"Inválido\")),\"\")","v":""}]
[null,null,null,null,null,null,null,null,null,null,null,null,null,"",{"$f":"IF(C684<>0,(IF(lfValidaCNPJ(C684)=TRUE,\"Válido\",\"Inválido\")),\"\")","v":""},{"$f":"IF(F684<>0,(IF(lfValidaCEP(F684)=TRUE,\"Válido\",\"Inválido\")),\"\")","v":""}]
[null,null,null,null,null,null,null,null,null,null,null,null,null,"",{"$f":"IF(C685<>0,(IF(lfValidaCNPJ(C685)=TRUE,\"Válido\",\"Inválido\")),\"\")","v":""},{"$f":"IF(F685<>0,(IF(lfValidaCEP(F685)=TRUE,\"Válido\",\"Inválido\")),\"\")","v":""}]
[null,null,null,null,null,null,null,null,null,null,null,null,null,"",{"$f":"IF(C686<>0,(IF(lfValidaCNPJ(C686)=TRUE,\"Válido\",\"Inválido\")),\"\")","v":""},{"$f":"IF(F686<>0,(IF(lfValidaCEP(F686)=TRUE,\"Válido\",\"Inválido\")),\"\")","v":""}]
[null,null,null,null,null,null,null,null,null,null,null,null,null,"",{"$f":"IF(C687<>0,(IF(lfValidaCNPJ(C687)=TRUE,\"Válido\",\"Inválido\")),\"\")","v":""},{"$f":"IF(F687<>0,(IF(lfValidaCEP(F687)=TRUE,\"Válido\",\"Inválido\")),\"\")","v":""}]
[null,null,null,null,null,null,null,null,null,null,null,null,null,"",{"$f":"IF(C688<>0,(IF(lfValidaCNPJ(C688)=TRUE,\"Válido\",\"Inválido\")),\"\")","v":""},{"$f":"IF(F688<>0,(IF(lfValidaCEP(F688)=TRUE,\"Válido\",\"Inválido\")),\"\")","v":""}]
[null,null,null,null,null,null,null,null,null,null,null,null,null,"",{"$f":"IF(C689<>0,(IF(lfValidaCNPJ(C689)=TRUE,\"Válido\",\"Inválido\")),\"\")","v":""},{"$f":"IF(F689<>0,(IF(lfValidaCEP(F689)=TRUE,\"Válido\",\"Inválido\")),\"\")","v":""}]
[null,null,null,null,null,null,null,null,null,null,null,null,null,"",{"$f":"IF(C690<>0,(IF(lfValidaCNPJ(C690)=TRUE,\"Válido\",\"Inválido\")),\"\")","v":""},{"$f":"IF(F690<>0,(IF(lfValidaCEP(F690)=TRUE,\"Válido\",\"Inválido\")),\"\")","v":""}]
[null,null,null,null,null,null,null,null,null,null,null,null,null,"",{"$f":"IF(C691<>0,(IF(lfValidaCNPJ(C691)=TRUE,\"Válido\",\"Inválido\")),\"\")","v":""},{"$f":"IF(F691<>0,(IF(lfValidaCEP(F691)=TRUE,\"Válido\",\"Inválido\")),\"\")","v":""}]
[null,null,null,null,null,null,null,null,null,null,null,null,null,"",{"$f":"IF(C692<>0,(IF(lfValidaCNPJ(C692)=TRUE,\"Válido\",\"Inválido\")),\"\")","v":""},{"$f":"IF(F692<>0,(IF(lfValidaCEP(F692)=TRUE,\"Válido\",\"Inválido\")),\"\")","v":""}]
[null,null,null,null,null,null,null,null,null,null,null,null,null,"",{"$f":"IF(C693<>0,(IF(lfValidaCNPJ(C693)=TRUE,\"Válido\",\"Inválido\")),\"\")","v":""},{"$f":"IF(F693<>0,(IF(lfValidaCEP(F693)=TRUE,\"Válido\",\"Inválido\")),\"\")","v":""}]
[null,null,null,null,null,null,null,null,null,null,null,null,null,"",{"$f":"IF(C694<>0,(IF(lfValidaCNPJ(C694)=TRUE,\"Válido\",\"Inválido\")),\"\")","v":""},{"$f":"IF(F694<>0,(IF(lfValidaCEP(F694)=TRUE,\"Válido\",\"Inválido\")),\"\")","v":""}]
[null,null,null,null,null,null,null,null,null,null,null,null,null,"",{"$f":"IF(C695<>0,(IF(lfValidaCNPJ(C695)=TRUE,\"Válido\",\"Inválido\")),\"\")","v":""},{"$f":"IF(F695<>0,(IF(lfValidaCEP(F695)=TRUE,\"Válido\",\"Inválido\")),\"\")","v":""}]
[null,null,null,null,null,null,null,null,null,null,null,null,null,"",{"$f":"IF(C696<>0,(IF(lfValidaCNPJ(C696)=TRUE,\"Válido\",\"Inválido\")),\"\")","v":""},{"$f":"IF(F696<>0,(IF(lfValidaCEP(F696)=TRUE,\"Válido\",\"Inválido\")),\"\")","v":""}]
[null,null,null,null,null,null,null,null,null,null,null,null,null,"",{"$f":"IF(C697<>0,(IF(lfValidaCNPJ(C697)=TRUE,\"Válido\",\"Inválido\")),\"\")","v":""},{"$f":"IF(F697<>0,(IF(lfValidaCEP(F697)=TRUE,\"Válido\",\"Inválido\")),\"\")","v":""}]
[null,null,null,null,null,null,null,null,null,null,null,null,null,"",{"$f":"IF(C698<>0,(IF(lfValidaCNPJ(C698)=TRUE,\"Válido\",\"Inválido\")),\"\")","v":""},{"$f":"IF(F698<>0,(IF(lfValidaCEP(F698)=TRUE,\"Válido\",\"Inválido\")),\"\")","v":""}]
[null,null,null,null,null,null,null,null,null,null,null,null,null,"",{"$f":"IF(C699<>0,(IF(lfValidaCNPJ(C699)=TRUE,\"Válido\",\"Inválido\")),\"\")","v":""},{"$f":"IF(F699<>0,(IF(lfValidaCEP(F699)=TRUE,\"Válido\",\"Inválido\")),\"\")","v":""}]
[null,null,null,null,null,null,null,null,null,null,null,null,null,"",{"$f":"IF(C700<>0,(IF(lfValidaCNPJ(C700)=TRUE,\"Válido\",\"Inválido\")),\"\")","v":""},{"$f":"IF(F700<>0,(IF(lfValidaCEP(F700)=TRUE,\"Válido\",\"Inválido\")),\"\")","v":""}]
[null,null,null,null,null,null,null,null,null,null,null,null,null,"",{"$f":"IF(C701<>0,(IF(lfValidaCNPJ(C701)=TRUE,\"Válido\",\"Inválido\")),\"\")","v":""},{"$f":"IF(F701<>0,(IF(lfValidaCEP(F701)=TRUE,\"Válido\",\"Inválido\")),\"\")","v":""}]
[null,null,null,null,null,null,null,null,null,null,null,null,null,"",{"$f":"IF(C702<>0,(IF(lfValidaCNPJ(C702)=TRUE,\"Válido\",\"Inválido\")),\"\")","v":""},{"$f":"IF(F702<>0,(IF(lfValidaCEP(F702)=TRUE,\"Válido\",\"Inválido\")),\"\")","v":""}]
[null,null,null,null,null,null,null,null,null,null,null,null,null,"",{"$f":"IF(C703<>0,(IF(lfValidaCNPJ(C703)=TRUE,\"Válido\",\"Inválido\")),\"\")","v":""},{"$f":"IF(F703<>0,(IF(lfValidaCEP(F703)=TRUE,\"Válido\",\"Inválido\")),\"\")","v":""}]
[null,null,null,null,null,null,null,null,null,null,null,null,null,"",{"$f":"IF(C704<>0,(IF(lfValidaCNPJ(C704)=TRUE,\"Válido\",\"Inválido\")),\"\")","v":""},{"$f":"IF(F704<>0,(IF(lfValidaCEP(F704)=TRUE,\"Válido\",\"Inválido\")),\"\")","v":""}]
[null,null,null,null,null,null,null,null,null,null,null,null,null,"",{"$f":"IF(C705<>0,(IF(lfValidaCNPJ(C705)=TRUE,\"Válido\",\"Inválido\")),\"\")","v":""},{"$f":"IF(F705<>0,(IF(lfValidaCEP(F705)=TRUE,\"Válido\",\"Inválido\")),\"\")","v":""}]
[null,null,null,null,null,null,null,null,null,null,null,null,null,"",{"$f":"IF(C706<>0,(IF(lfValidaCNPJ(C706)=TRUE,\"Válido\",\"Inválido\")),\"\")","v":""},{"$f":"IF(F706<>0,(IF(lfValidaCEP(F706)=TRUE,\"Válido\",\"Inválido\")),\"\")","v":""}]
[null,null,null,null,null,null,null,null,null,null,null,null,null,"",{"$f":"IF(C707<>0,(IF(lfValidaCNPJ(C707)=TRUE,\"Válido\",\"Inválido\")),\"\")","v":""},{"$f":"IF(F707<>0,(IF(lfValidaCEP(F707)=TRUE,\"Válido\",\"Inválido\")),\"\")","v":""}]
[null,null,null,null,null,null,null,null,null,null,null,null,null,"",{"$f":"IF(C708<>0,(IF(lfValidaCNPJ(C708)=TRUE,\"Válido\",\"Inválido\")),\"\")","v":""},{"$f":"IF(F708<>0,(IF(lfValidaCEP(F708)=TRUE,\"Válido\",\"Inválido\")),\"\")","v":""}]
[null,null,null,null,null,null,null,null,null,null,null,null,null,"",{"$f":"IF(C709<>0,(IF(lfValidaCNPJ(C709)=TRUE,\"Válido\",\"Inválido\")),\"\")","v":""},{"$f":"IF(F709<>0,(IF(lfValidaCEP(F709)=TRUE,\"Válido\",\"Inválido\")),\"\")","v":""}]
[null,null,null,null,null,null,null,null,null,null,null,null,null,"",{"$f":"IF(C710<>0,(IF(lfValidaCNPJ(C710)=TRUE,\"Válido\",\"Inválido\")),\"\")","v":""},{"$f":"IF(F710<>0,(IF(lfValidaCEP(F710)=TRUE,\"Válido\",\"Inválido\")),\"\")","v":""}]
[null,null,null,null,null,null,null,null,null,null,null,null,null,"",{"$f":"IF(C711<>0,(IF(lfValidaCNPJ(C711)=TRUE,\"Válido\",\"Inválido\")),\"\")","v":""},{"$f":"IF(F711<>0,(IF(lfValidaCEP(F711)=TRUE,\"Válido\",\"Inválido\")),\"\")","v":""}]
[null,null,null,null,null,null,null,null,null,null,null,null,null,"",{"$f":"IF(C712<>0,(IF(lfValidaCNPJ(C712)=TRUE,\"Válido\",\"Inválido\")),\"\")","v":""},{"$f":"IF(F712<>0,(IF(lfValidaCEP(F712)=TRUE,\"Válido\",\"Inválido\")),\"\")","v":""}]
[null,null,null,null,null,null,null,null,null,null,null,null,null,"",{"$f":"IF(C713<>0,(IF(lfValidaCNPJ(C713)=TRUE,\"Válido\",\"Inválido\")),\"\")","v":""},{"$f":"IF(F713<>0,(IF(lfValidaCEP(F713)=TRUE,\"Válido\",\"Inválido\")),\"\")","v":""}]
[null,null,null,null,null,null,null,null,null,null,null,null,null,"",{"$f":"IF(C714<>0,(IF(lfValidaCNPJ(C714)=TRUE,\"Válido\",\"Inválido\")),\"\")","v":""},{"$f":"IF(F714<>0,(IF(lfValidaCEP(F714)=TRUE,\"Válido\",\"Inválido\")),\"\")","v":""}]
[null,null,null,null,null,null,null,null,null,null,null,null,null,"",{"$f":"IF(C715<>0,(IF(lfValidaCNPJ(C715)=TRUE,\"Válido\",\"Inválido\")),\"\")","v":""},{"$f":"IF(F715<>0,(IF(lfValidaCEP(F715)=TRUE,\"Válido\",\"Inválido\")),\"\")","v":""}]
[null,null,null,null,null,null,null,null,null,null,null,null,null,{"$f":"IF(COUNTA(B716:J716)<>0,IF(AND(B716<>0,C716<>0,D716<>0,E716<>0,F716<>0,G716<>0,H716<>0,I716<>0,J716<>0),\"Completo\",\"Incompleto\"),\"\")","v":""},{"$f":"IF(C716<>0,(IF(lfValidaCNPJ(C716)=TRUE,\"Válido\",\"Inválido\")),\"\")","v":""},{"$f":"IF(F716<>0,(IF(lfValidaCEP(F716)=TRUE,\"Válido\",\"Inválido\")),\"\")","v":""}]
[null,null,null,null,null,null,null,null,null,null,null,null,null,"",{"$f":"IF(C717<>0,(IF(lfValidaCNPJ(C717)=TRUE,\"Válido\",\"Inválido\")),\"\")","v":""},{"$f":"IF(F717<>0,(IF(lfValidaCEP(F717)=TRUE,\"Válido\",\"Inválido\")),\"\")","v":""}]
[null,null,null,null,null,null,null,null,null,null,null,null,null,"",{"$f":"IF(C718<>0,(IF(lfValidaCNPJ(C718)=TRUE,\"Válido\",\"Inválido\")),\"\")","v":""},{"$f":"IF(F718<>0,(IF(lfValidaCEP(F718)=TRUE,\"Válido\",\"Inválido\")),\"\")","v":""}]
[null,null,null,null,null,null,null,null,null,null,null,null,null,"",{"$f":"IF(C719<>0,(IF(lfValidaCNPJ(C719)=TRUE,\"Válido\",\"Inválido\")),\"\")","v":""},{"$f":"IF(F719<>0,(IF(lfValidaCEP(F719)=TRUE,\"Válido\",\"Inválido\")),\"\")","v":""}]
[null,null,null,null,null,null,null,null,null,null,null,null,null,"",{"$f":"IF(C720<>0,(IF(lfValidaCNPJ(C720)=TRUE,\"Válido\",\"Inválido\")),\"\")","v":""},{"$f":"IF(F720<>0,(IF(lfValidaCEP(F720)=TRUE,\"Válido\",\"Inválido\")),\"\")","v":""}]
[null,null,null,null,null,null,null,null,null,null,null,null,null,"",{"$f":"IF(C721<>0,(IF(lfValidaCNPJ(C721)=TRUE,\"Válido\",\"Inválido\")),\"\")","v":""},{"$f":"IF(F721<>0,(IF(lfValidaCEP(F721)=TRUE,\"Válido\",\"Inválido\")),\"\")","v":""}]
[null,null,null,null,null,null,null,null,null,null,null,null,null,"",{"$f":"IF(C722<>0,(IF(lfValidaCNPJ(C722)=TRUE,\"Válido\",\"Inválido\")),\"\")","v":""},{"$f":"IF(F722<>0,(IF(lfValidaCEP(F722)=TRUE,\"Válido\",\"Inválido\")),\"\")","v":""}]
[null,null,null,null,null,null,null,null,null,null,null,null,null,"",{"$f":"IF(C723<>0,(IF(lfValidaCNPJ(C723)=TRUE,\"Válido\",\"Inválido\")),\"\")","v":""},{"$f":"IF(F723<>0,(IF(lfValidaCEP(F723)=TRUE,\"Válido\",\"Inválido\")),\"\")","v":""}]
[null,null,null,null,null,null,null,null,null,null,null,null,null,"",{"$f":"IF(C724<>0,(IF(lfValidaCNPJ(C724)=TRUE,\"Válido\",\"Inválido\")),\"\")","v":""},{"$f":"IF(F724<>0,(IF(lfValidaCEP(F724)=TRUE,\"Válido\",\"Inválido\")),\"\")","v":""}]
[null,null,null,null,null,null,null,null,null,null,null,null,null,"",{"$f":"IF(C725<>0,(IF(lfValidaCNPJ(C725)=TRUE,\"Válido\",\"Inválido\")),\"\")","v":""},{"$f":"IF(F725<>0,(IF(lfValidaCEP(F725)=TRUE,\"Válido\",\"Inválido\")),\"\")","v":""}]
[null,null,null,null,null,null,null,null,null,null,null,null,null,"",{"$f":"IF(C726<>0,(IF(lfValidaCNPJ(C726)=TRUE,\"Válido\",\"Inválido\")),\"\")","v":""},{"$f":"IF(F726<>0,(IF(lfValidaCEP(F726)=TRUE,\"Válido\",\"Inválido\")),\"\")","v":""}]
[null,null,null,null,null,null,null,null,null,null,null,null,null,"",{"$f":"IF(C727<>0,(IF(lfValidaCNPJ(C727)=TRUE,\"Válido\",\"Inválido\")),\"\")","v":""},{"$f":"IF(F727<>0,(IF(lfValidaCEP(F727)=TRUE,\"Válido\",\"Inválido\")),\"\")","v":""}]
[null,null,null,null,null,null,null,null,null,null,null,null,null,"",{"$f":"IF(C728<>0,(IF(lfValidaCNPJ(C728)=TRUE,\"Válido\",\"Inválido\")),\"\")","v":""},{"$f":"IF(F728<>0,(IF(lfValidaCEP(F728)=TRUE,\"Válido\",\"Inválido\")),\"\")","v":""}]
[null,null,null,null,null,null,null,null,null,null,null,null,null,"",{"$f":"IF(C729<>0,(IF(lfValidaCNPJ(C729)=TRUE,\"Válido\",\"Inválido\")),\"\")","v":""},{"$f":"IF(F729<>0,(IF(lfValidaCEP(F729)=TRUE,\"Válido\",\"Inválido\")),\"\")","v":""}]
[null,null,null,null,null,null,null,null,null,null,null,null,null,"",{"$f":"IF(C730<>0,(IF(lfValidaCNPJ(C730)=TRUE,\"Válido\",\"Inválido\")),\"\")","v":""},{"$f":"IF(F730<>0,(IF(lfValidaCEP(F730)=TRUE,\"Válido\",\"Inválido\")),\"\")","v":""}]
[null,null,null,null,null,null,null,null,null,null,null,null,null,"",{"$f":"IF(C731<>0,(IF(lfValidaCNPJ(C731)=TRUE,\"Válido\",\"Inválido\")),\"\")","v":""},{"$f":"IF(F731<>0,(IF(lfValidaCEP(F731)=TRUE,\"Válido\",\"Inválido\")),\"\")","v":""}]
[null,null,null,null,null,null,null,null,null,null,null,null,null,"",{"$f":"IF(C732<>0,(IF(lfValidaCNPJ(C732)=TRUE,\"Válido\",\"Inválido\")),\"\")","v":""},{"$f":"IF(F732<>0,(IF(lfValidaCEP(F732)=TRUE,\"Válido\",\"Inválido\")),\"\")","v":""}]
[null,null,null,null,null,null,null,null,null,null,null,null,null,"",{"$f":"IF(C733<>0,(IF(lfValidaCNPJ(C733)=TRUE,\"Válido\",\"Inválido\")),\"\")","v":""},{"$f":"IF(F733<>0,(IF(lfValidaCEP(F733)=TRUE,\"Válido\",\"Inválido\")),\"\")","v":""}]
[null,null,null,null,null,null,null,null,null,null,null,null,null,"",{"$f":"IF(C734<>0,(IF(lfValidaCNPJ(C734)=TRUE,\"Válido\",\"Inválido\")),\"\")","v":""},{"$f":"IF(F734<>0,(IF(lfValidaCEP(F734)=TRUE,\"Válido\",\"Inválido\")),\"\")","v":""}]
[null,null,null,null,null,null,null,null,null,null,null,null,null,"",{"$f":"IF(C735<>0,(IF(lfValidaCNPJ(C735)=TRUE,\"Válido\",\"Inválido\")),\"\")","v":""},{"$f":"IF(F735<>0,(IF(lfValidaCEP(F735)=TRUE,\"Válido\",\"Inválido\")),\"\")","v":""}]
[null,null,null,null,null,null,null,null,null,null,null,null,null,"",{"$f":"IF(C736<>0,(IF(lfValidaCNPJ(C736)=TRUE,\"Válido\",\"Inválido\")),\"\")","v":""},{"$f":"IF(F736<>0,(IF(lfValidaCEP(F736)=TRUE,\"Válido\",\"Inválido\")),\"\")","v":""}]
[null,null,null,null,null,null,null,null,null,null,null,null,null,"",{"$f":"IF(C737<>0,(IF(lfValidaCNPJ(C737)=TRUE,\"Válido\",\"Inválido\")),\"\")","v":""},{"$f":"IF(F737<>0,(IF(lfValidaCEP(F737)=TRUE,\"Válido\",\"Inválido\")),\"\")","v":""}]
[null,null,null,null,null,null,null,null,null,null,null,null,null,"",{"$f":"IF(C738<>0,(IF(lfValidaCNPJ(C738)=TRUE,\"Válido\",\"Inválido\")),\"\")","v":""},{"$f":"IF(F738<>0,(IF(lfValidaCEP(F738)=TRUE,\"Válido\",\"Inválido\")),\"\")","v":""}]
[null,null,null,null,null,null,null,null,null,null,null,null,null,"",{"$f":"IF(C739<>0,(IF(lfValidaCNPJ(C739)=TRUE,\"Válido\",\"Inválido\")),\"\")","v":""},{"$f":"IF(F739<>0,(IF(lfValidaCEP(F739)=TRUE,\"Válido\",\"Inválido\")),\"\")","v":""}]
[null,null,null,null,null,null,null,null,null,null,null,null,null,"",{"$f":"IF(C740<>0,(IF(lfValidaCNPJ(C740)=TRUE,\"Válido\",\"Inválido\")),\"\")","v":""},{"$f":"IF(F740<>0,(IF(lfValidaCEP(F740)=TRUE,\"Válido\",\"Inválido\")),\"\")","v":""}]
[null,null,null,null,null,null,null,null,null,null,null,null,null,"",{"$f":"IF(C741<>0,(IF(lfValidaCNPJ(C741)=TRUE,\"Válido\",\"Inválido\")),\"\")","v":""},{"$f":"IF(F741<>0,(IF(lfValidaCEP(F741)=TRUE,\"Válido\",\"Inválido\")),\"\")","v":""}]
[null,null,null,null,null,null,null,null,null,null,null,null,null,"",{"$f":"IF(C742<>0,(IF(lfValidaCNPJ(C742)=TRUE,\"Válido\",\"Inválido\")),\"\")","v":""},{"$f":"IF(F742<>0,(IF(lfValidaCEP(F742)=TRUE,\"Válido\",\"Inválido\")),\"\")","v":""}]
[null,null,null,null,null,null,null,null,null,null,null,null,null,"",{"$f":"IF(C743<>0,(IF(lfValidaCNPJ(C743)=TRUE,\"Válido\",\"Inválido\")),\"\")","v":""},{"$f":"IF(F743<>0,(IF(lfValidaCEP(F743)=TRUE,\"Válido\",\"Inválido\")),\"\")","v":""}]
[null,null,null,null,null,null,null,null,null,null,null,null,null,"",{"$f":"IF(C744<>0,(IF(lfValidaCNPJ(C744)=TRUE,\"Válido\",\"Inválido\")),\"\")","v":""},{"$f":"IF(F744<>0,(IF(lfValidaCEP(F744)=TRUE,\"Válido\",\"Inválido\")),\"\")","v":""}]
[null,null,null,null,null,null,null,null,null,null,null,null,null,"",{"$f":"IF(C745<>0,(IF(lfValidaCNPJ(C745)=TRUE,\"Válido\",\"Inválido\")),\"\")","v":""},{"$f":"IF(F745<>0,(IF(lfValidaCEP(F745)=TRUE,\"Válido\",\"Inválido\")),\"\")","v":""}]
[null,null,null,null,null,null,null,null,null,null,null,null,null,"",{"$f":"IF(C746<>0,(IF(lfValidaCNPJ(C746)=TRUE,\"Válido\",\"Inválido\")),\"\")","v":""},{"$f":"IF(F746<>0,(IF(lfValidaCEP(F746)=TRUE,\"Válido\",\"Inválido\")),\"\")","v":""}]
[null,null,null,null,null,null,null,null,null,null,null,null,null,"",{"$f":"IF(C747<>0,(IF(lfValidaCNPJ(C747)=TRUE,\"Válido\",\"Inválido\")),\"\")","v":""},{"$f":"IF(F747<>0,(IF(lfValidaCEP(F747)=TRUE,\"Válido\",\"Inválido\")),\"\")","v":""}]
[null,null,null,null,null,null,null,null,null,null,null,null,null,"",{"$f":"IF(C748<>0,(IF(lfValidaCNPJ(C748)=TRUE,\"Válido\",\"Inválido\")),\"\")","v":""},{"$f":"IF(F748<>0,(IF(lfValidaCEP(F748)=TRUE,\"Válido\",\"Inválido\")),\"\")","v":""}]
[null,null,null,null,null,null,null,null,null,null,null,null,null,"",{"$f":"IF(C749<>0,(IF(lfValidaCNPJ(C749)=TRUE,\"Válido\",\"Inválido\")),\"\")","v":""},{"$f":"IF(F749<>0,(IF(lfValidaCEP(F749)=TRUE,\"Válido\",\"Inválido\")),\"\")","v":""}]
[null,null,null,null,null,null,null,null,null,null,null,null,null,"",{"$f":"IF(C750<>0,(IF(lfValidaCNPJ(C750)=TRUE,\"Válido\",\"Inválido\")),\"\")","v":""},{"$f":"IF(F750<>0,(IF(lfValidaCEP(F750)=TRUE,\"Válido\",\"Inválido\")),\"\")","v":""}]
[null,null,null,null,null,null,null,null,null,null,null,null,null,"",{"$f":"IF(C751<>0,(IF(lfValidaCNPJ(C751)=TRUE,\"Válido\",\"Inválido\")),\"\")","v":""},{"$f":"IF(F751<>0,(IF(lfValidaCEP(F751)=TRUE,\"Válido\",\"Inválido\")),\"\")","v":""}]
[null,null,null,null,null,null,null,null,null,null,null,null,null,"",{"$f":"IF(C752<>0,(IF(lfValidaCNPJ(C752)=TRUE,\"Válido\",\"Inválido\")),\"\")","v":""},{"$f":"IF(F752<>0,(IF(lfValidaCEP(F752)=TRUE,\"Válido\",\"Inválido\")),\"\")","v":""}]
[null,null,null,null,null,null,null,null,null,null,null,null,null,"",{"$f":"IF(C753<>0,(IF(lfValidaCNPJ(C753)=TRUE,\"Válido\",\"Inválido\")),\"\")","v":""},{"$f":"IF(F753<>0,(IF(lfValidaCEP(F753)=TRUE,\"Válido\",\"Inválido\")),\"\")","v":""}]
[null,null,null,null,null,null,null,null,null,null,null,null,null,"",{"$f":"IF(C754<>0,(IF(lfValidaCNPJ(C754)=TRUE,\"Válido\",\"Inválido\")),\"\")","v":""},{"$f":"IF(F754<>0,(IF(lfValidaCEP(F754)=TRUE,\"Válido\",\"Inválido\")),\"\")","v":""}]
[null,null,null,null,null,null,null,null,null,null,null,null,null,"",{"$f":"IF(C755<>0,(IF(lfValidaCNPJ(C755)=TRUE,\"Válido\",\"Inválido\")),\"\")","v":""},{"$f":"IF(F755<>0,(IF(lfValidaCEP(F755)=TRUE,\"Válido\",\"Inválido\")),\"\")","v":""}]
[null,null,null,null,null,null,null,null,null,null,null,null,null,"",{"$f":"IF(C756<>0,(IF(lfValidaCNPJ(C756)=TRUE,\"Válido\",\"Inválido\")),\"\")","v":""},{"$f":"IF(F756<>0,(IF(lfValidaCEP(F756)=TRUE,\"Válido\",\"Inválido\")),\"\")","v":""}]
[null,null,null,null,null,null,null,null,null,null,null,null,null,"",{"$f":"IF(C757<>0,(IF(lfValidaCNPJ(C757)=TRUE,\"Válido\",\"Inválido\")),\"\")","v":""},{"$f":"IF(F757<>0,(IF(lfValidaCEP(F757)=TRUE,\"Válido\",\"Inválido\")),\"\")","v":""}]
[null,null,null,null,null,null,null,null,null,null,null,null,null,"",{"$f":"IF(C758<>0,(IF(lfValidaCNPJ(C758)=TRUE,\"Válido\",\"Inválido\")),\"\")","v":""},{"$f":"IF(F758<>0,(IF(lfValidaCEP(F758)=TRUE,\"Válido\",\"Inválido\")),\"\")","v":""}]
[null,null,null,null,null,null,null,null,null,null,null,null,null,"",{"$f":"IF(C759<>0,(IF(lfValidaCNPJ(C759)=TRUE,\"Válido\",\"Inválido\")),\"\")","v":""},{"$f":"IF(F759<>0,(IF(lfValidaCEP(F759)=TRUE,\"Válido\",\"Inválido\")),\"\")","v":""}]
[null,null,null,null,null,null,null,null,null,null,null,null,null,"",{"$f":"IF(C760<>0,(IF(lfValidaCNPJ(C760)=TRUE,\"Válido\",\"Inválido\")),\"\")","v":""},{"$f":"IF(F760<>0,(IF(lfValidaCEP(F760)=TRUE,\"Válido\",\"Inválido\")),\"\")","v":""}]
[null,null,null,null,null,null,null,null,null,null,null,null,null,"",{"$f":"IF(C761<>0,(IF(lfValidaCNPJ(C761)=TRUE,\"Válido\",\"Inválido\")),\"\")","v":""},{"$f":"IF(F761<>0,(IF(lfValidaCEP(F761)=TRUE,\"Válido\",\"Inválido\")),\"\")","v":""}]
[null,null,null,null,null,null,null,null,null,null,null,null,null,"",{"$f":"IF(C762<>0,(IF(lfValidaCNPJ(C762)=TRUE,\"Válido\",\"Inválido\")),\"\")","v":""},{"$f":"IF(F762<>0,(IF(lfValidaCEP(F762)=TRUE,\"Válido\",\"Inválido\")),\"\")","v":""}]
[null,null,null,null,null,null,null,null,null,null,null,null,null,"",{"$f":"IF(C763<>0,(IF(lfValidaCNPJ(C763)=TRUE,\"Válido\",\"Inválido\")),\"\")","v":""},{"$f":"IF(F763<>0,(IF(lfValidaCEP(F763)=TRUE,\"Válido\",\"Inválido\")),\"\")","v":""}]
[null,null,null,null,null,null,null,null,null,null,null,null,null,"",{"$f":"IF(C764<>0,(IF(lfValidaCNPJ(C764)=TRUE,\"Válido\",\"Inválido\")),\"\")","v":""},{"$f":"IF(F764<>0,(IF(lfValidaCEP(F764)=TRUE,\"Válido\",\"Inválido\")),\"\")","v":""}]
[null,null,null,null,null,null,null,null,null,null,null,null,null,"",{"$f":"IF(C765<>0,(IF(lfValidaCNPJ(C765)=TRUE,\"Válido\",\"Inválido\")),\"\")","v":""},{"$f":"IF(F765<>0,(IF(lfValidaCEP(F765)=TRUE,\"Válido\",\"Inválido\")),\"\")","v":""}]
[null,null,null,null,null,null,null,null,null,null,null,null,null,"",{"$f":"IF(C766<>0,(IF(lfValidaCNPJ(C766)=TRUE,\"Válido\",\"Inválido\")),\"\")","v":""},{"$f":"IF(F766<>0,(IF(lfValidaCEP(F766)=TRUE,\"Válido\",\"Inválido\")),\"\")","v":""}]
[null,null,null,null,null,null,null,null,null,null,null,null,null,"",{"$f":"IF(C767<>0,(IF(lfValidaCNPJ(C767)=TRUE,\"Válido\",\"Inválido\")),\"\")","v":""},{"$f":"IF(F767<>0,(IF(lfValidaCEP(F767)=TRUE,\"Válido\",\"Inválido\")),\"\")","v":""}]
[null,null,null,null,null,null,null,null,null,null,null,null,null,"",{"$f":"IF(C768<>0,(IF(lfValidaCNPJ(C768)=TRUE,\"Válido\",\"Inválido\")),\"\")","v":""},{"$f":"IF(F768<>0,(IF(lfValidaCEP(F768)=TRUE,\"Válido\",\"Inválido\")),\"\")","v":""}]
[null,null,null,null,null,null,null,null,null,null,null,null,null,"",{"$f":"IF(C769<>0,(IF(lfValidaCNPJ(C769)=TRUE,\"Válido\",\"Inválido\")),\"\")","v":""},{"$f":"IF(F769<>0,(IF(lfValidaCEP(F769)=TRUE,\"Válido\",\"Inválido\")),\"\")","v":""}]
[null,null,null,null,null,null,null,null,null,null,null,null,null,"",{"$f":"IF(C770<>0,(IF(lfValidaCNPJ(C770)=TRUE,\"Válido\",\"Inválido\")),\"\")","v":""},{"$f":"IF(F770<>0,(IF(lfValidaCEP(F770)=TRUE,\"Válido\",\"Inválido\")),\"\")","v":""}]
[null,null,null,null,null,null,null,null,null,null,null,null,null,"",{"$f":"IF(C771<>0,(IF(lfValidaCNPJ(C771)=TRUE,\"Válido\",\"Inválido\")),\"\")","v":""},{"$f":"IF(F771<>0,(IF(lfValidaCEP(F771)=TRUE,\"Válido\",\"Inválido\")),\"\")","v":""}]
[null,null,null,null,null,null,null,null,null,null,null,null,null,"",{"$f":"IF(C772<>0,(IF(lfValidaCNPJ(C772)=TRUE,\"Válido\",\"Inválido\")),\"\")","v":""},{"$f":"IF(F772<>0,(IF(lfValidaCEP(F772)=TRUE,\"Válido\",\"Inválido\")),\"\")","v":""}]
[null,null,null,null,null,null,null,null,null,null,null,null,null,"",{"$f":"IF(C773<>0,(IF(lfValidaCNPJ(C773)=TRUE,\"Válido\",\"Inválido\")),\"\")","v":""},{"$f":"IF(F773<>0,(IF(lfValidaCEP(F773)=TRUE,\"Válido\",\"Inválido\")),\"\")","v":""}]
[null,null,null,null,null,null,null,null,null,null,null,null,null,"",{"$f":"IF(C774<>0,(IF(lfValidaCNPJ(C774)=TRUE,\"Válido\",\"Inválido\")),\"\")","v":""},{"$f":"IF(F774<>0,(IF(lfValidaCEP(F774)=TRUE,\"Válido\",\"Inválido\")),\"\")","v":""}]
[null,null,null,null,null,null,null,null,null,null,null,null,null,"",{"$f":"IF(C775<>0,(IF(lfValidaCNPJ(C775)=TRUE,\"Válido\",\"Inválido\")),\"\")","v":""},{"$f":"IF(F775<>0,(IF(lfValidaCEP(F775)=TRUE,\"Válido\",\"Inválido\")),\"\")","v":""}]
[null,null,null,null,null,null,null,null,null,null,null,null,null,"",{"$f":"IF(C776<>0,(IF(lfValidaCNPJ(C776)=TRUE,\"Válido\",\"Inválido\")),\"\")","v":""},{"$f":"IF(F776<>0,(IF(lfValidaCEP(F776)=TRUE,\"Válido\",\"Inválido\")),\"\")","v":""}]
[null,null,null,null,null,null,null,null,null,null,null,null,null,"",{"$f":"IF(C777<>0,(IF(lfValidaCNPJ(C777)=TRUE,\"Válido\",\"Inválido\")),\"\")","v":""},{"$f":"IF(F777<>0,(IF(lfValidaCEP(F777)=TRUE,\"Válido\",\"Inválido\")),\"\")","v":""}]
[null,null,null,null,null,null,null,null,null,null,null,null,null,"",{"$f":"IF(C778<>0,(IF(lfValidaCNPJ(C778)=TRUE,\"Válido\",\"Inválido\")),\"\")","v":""},{"$f":"IF(F778<>0,(IF(lfValidaCEP(F778)=TRUE,\"Válido\",\"Inválido\")),\"\")","v":""}]
[null,null,null,null,null,null,null,null,null,null,null,null,null,"",{"$f":"IF(C779<>0,(IF(lfValidaCNPJ(C779)=TRUE,\"Válido\",\"Inválido\")),\"\")","v":""},{"$f":"IF(F779<>0,(IF(lfValidaCEP(F779)=TRUE,\"Válido\",\"Inválido\")),\"\")","v":""}]
[null,null,null,null,null,null,null,null,null,null,null,null,null,{"$f":"IF(COUNTA(B780:J780)<>0,IF(AND(B780<>0,C780<>0,D780<>0,E780<>0,F780<>0,G780<>0,H780<>0,I780<>0,J780<>0),\"Completo\",\"Incompleto\"),\"\")","v":""},{"$f":"IF(C780<>0,(IF(lfValidaCNPJ(C780)=TRUE,\"Válido\",\"Inválido\")),\"\")","v":""},{"$f":"IF(F780<>0,(IF(lfValidaCEP(F780)=TRUE,\"Válido\",\"Inválido\")),\"\")","v":""}]
[null,null,null,null,null,null,null,null,null,null,null,null,null,"",{"$f":"IF(C781<>0,(IF(lfValidaCNPJ(C781)=TRUE,\"Válido\",\"Inválido\")),\"\")","v":""},{"$f":"IF(F781<>0,(IF(lfValidaCEP(F781)=TRUE,\"Válido\",\"Inválido\")),\"\")","v":""}]
[null,null,null,null,null,null,null,null,null,null,null,null,null,"",{"$f":"IF(C782<>0,(IF(lfValidaCNPJ(C782)=TRUE,\"Válido\",\"Inválido\")),\"\")","v":""},{"$f":"IF(F782<>0,(IF(lfValidaCEP(F782)=TRUE,\"Válido\",\"Inválido\")),\"\")","v":""}]
[null,null,null,null,null,null,null,null,null,null,null,null,null,"",{"$f":"IF(C783<>0,(IF(lfValidaCNPJ(C783)=TRUE,\"Válido\",\"Inválido\")),\"\")","v":""},{"$f":"IF(F783<>0,(IF(lfValidaCEP(F783)=TRUE,\"Válido\",\"Inválido\")),\"\")","v":""}]
[null,null,null,null,null,null,null,null,null,null,null,null,null,"",{"$f":"IF(C784<>0,(IF(lfValidaCNPJ(C784)=TRUE,\"Válido\",\"Inválido\")),\"\")","v":""},{"$f":"IF(F784<>0,(IF(lfValidaCEP(F784)=TRUE,\"Válido\",\"Inválido\")),\"\")","v":""}]
[null,null,null,null,null,null,null,null,null,null,null,null,null,"",{"$f":"IF(C785<>0,(IF(lfValidaCNPJ(C785)=TRUE,\"Válido\",\"Inválido\")),\"\")","v":""},{"$f":"IF(F785<>0,(IF(lfValidaCEP(F785)=TRUE,\"Válido\",\"Inválido\")),\"\")","v":""}]
[null,null,null,null,null,null,null,null,null,null,null,null,null,"",{"$f":"IF(C786<>0,(IF(lfValidaCNPJ(C786)=TRUE,\"Válido\",\"Inválido\")),\"\")","v":""},{"$f":"IF(F786<>0,(IF(lfValidaCEP(F786)=TRUE,\"Válido\",\"Inválido\")),\"\")","v":""}]
[null,null,null,null,null,null,null,null,null,null,null,null,null,"",{"$f":"IF(C787<>0,(IF(lfValidaCNPJ(C787)=TRUE,\"Válido\",\"Inválido\")),\"\")","v":""},{"$f":"IF(F787<>0,(IF(lfValidaCEP(F787)=TRUE,\"Válido\",\"Inválido\")),\"\")","v":""}]
[null,null,null,null,null,null,null,null,null,null,null,null,null,"",{"$f":"IF(C788<>0,(IF(lfValidaCNPJ(C788)=TRUE,\"Válido\",\"Inválido\")),\"\")","v":""},{"$f":"IF(F788<>0,(IF(lfValidaCEP(F788)=TRUE,\"Válido\",\"Inválido\")),\"\")","v":""}]
[null,null,null,null,null,null,null,null,null,null,null,null,null,"",{"$f":"IF(C789<>0,(IF(lfValidaCNPJ(C789)=TRUE,\"Válido\",\"Inválido\")),\"\")","v":""},{"$f":"IF(F789<>0,(IF(lfValidaCEP(F789)=TRUE,\"Válido\",\"Inválido\")),\"\")","v":""}]
[null,null,null,null,null,null,null,null,null,null,null,null,null,"",{"$f":"IF(C790<>0,(IF(lfValidaCNPJ(C790)=TRUE,\"Válido\",\"Inválido\")),\"\")","v":""},{"$f":"IF(F790<>0,(IF(lfValidaCEP(F790)=TRUE,\"Válido\",\"Inválido\")),\"\")","v":""}]
[null,null,null,null,null,null,null,null,null,null,null,null,null,"",{"$f":"IF(C791<>0,(IF(lfValidaCNPJ(C791)=TRUE,\"Válido\",\"Inválido\")),\"\")","v":""},{"$f":"IF(F791<>0,(IF(lfValidaCEP(F791)=TRUE,\"Válido\",\"Inválido\")),\"\")","v":""}]
[null,null,null,null,null,null,null,null,null,null,null,null,null,"",{"$f":"IF(C792<>0,(IF(lfValidaCNPJ(C792)=TRUE,\"Válido\",\"Inválido\")),\"\")","v":""},{"$f":"IF(F792<>0,(IF(lfValidaCEP(F792)=TRUE,\"Válido\",\"Inválido\")),\"\")","v":""}]
[null,null,null,null,null,null,null,null,null,null,null,null,null,"",{"$f":"IF(C793<>0,(IF(lfValidaCNPJ(C793)=TRUE,\"Válido\",\"Inválido\")),\"\")","v":""},{"$f":"IF(F793<>0,(IF(lfValidaCEP(F793)=TRUE,\"Válido\",\"Inválido\")),\"\")","v":""}]
[null,null,null,null,null,null,null,null,null,null,null,null,null,"",{"$f":"IF(C794<>0,(IF(lfValidaCNPJ(C794)=TRUE,\"Válido\",\"Inválido\")),\"\")","v":""},{"$f":"IF(F794<>0,(IF(lfValidaCEP(F794)=TRUE,\"Válido\",\"Inválido\")),\"\")","v":""}]
[null,null,null,null,null,null,null,null,null,null,null,null,null,"",{"$f":"IF(C795<>0,(IF(lfValidaCNPJ(C795)=TRUE,\"Válido\",\"Inválido\")),\"\")","v":""},{"$f":"IF(F795<>0,(IF(lfValidaCEP(F795)=TRUE,\"Válido\",\"Inválido\")),\"\")","v":""}]
[null,null,null,null,null,null,null,null,null,null,null,null,null,"",{"$f":"IF(C796<>0,(IF(lfValidaCNPJ(C796)=TRUE,\"Válido\",\"Inválido\")),\"\")","v":""},{"$f":"IF(F796<>0,(IF(lfValidaCEP(F796)=TRUE,\"Válido\",\"Inválido\")),\"\")","v":""}]
[null,null,null,null,null,null,null,null,null,null,null,null,null,"",{"$f":"IF(C797<>0,(IF(lfValidaCNPJ(C797)=TRUE,\"Válido\",\"Inválido\")),\"\")","v":""},{"$f":"IF(F797<>0,(IF(lfValidaCEP(F797)=TRUE,\"Válido\",\"Inválido\")),\"\")","v":""}]
[null,null,null,null,null,null,null,null,null,null,null,null,null,"",{"$f":"IF(C798<>0,(IF(lfValidaCNPJ(C798)=TRUE,\"Válido\",\"Inválido\")),\"\")","v":""},{"$f":"IF(F798<>0,(IF(lfValidaCEP(F798)=TRUE,\"Válido\",\"Inválido\")),\"\")","v":""}]
[null,null,null,null,null,null,null,null,null,null,null,null,null,"",{"$f":"IF(C799<>0,(IF(lfValidaCNPJ(C799)=TRUE,\"Válido\",\"Inválido\")),\"\")","v":""},{"$f":"IF(F799<>0,(IF(lfValidaCEP(F799)=TRUE,\"Válido\",\"Inválido\")),\"\")","v":""}]
[null,null,null,null,null,null,null,null,null,null,null,null,null,"",{"$f":"IF(C800<>0,(IF(lfValidaCNPJ(C800)=TRUE,\"Válido\",\"Inválido\")),\"\")","v":""},{"$f":"IF(F800<>0,(IF(lfValidaCEP(F800)=TRUE,\"Válido\",\"Inválido\")),\"\")","v":""}]
[null,null,null,null,null,null,null,null,null,null,null,null,null,"",{"$f":"IF(C801<>0,(IF(lfValidaCNPJ(C801)=TRUE,\"Válido\",\"Inválido\")),\"\")","v":""},{"$f":"IF(F801<>0,(IF(lfValidaCEP(F801)=TRUE,\"Válido\",\"Inválido\")),\"\")","v":""}]
[null,null,null,null,null,null,null,null,null,null,null,null,null,"",{"$f":"IF(C802<>0,(IF(lfValidaCNPJ(C802)=TRUE,\"Válido\",\"Inválido\")),\"\")","v":""},{"$f":"IF(F802<>0,(IF(lfValidaCEP(F802)=TRUE,\"Válido\",\"Inválido\")),\"\")","v":""}]
[null,null,null,null,null,null,null,null,null,null,null,null,null,"",{"$f":"IF(C803<>0,(IF(lfValidaCNPJ(C803)=TRUE,\"Válido\",\"Inválido\")),\"\")","v":""},{"$f":"IF(F803<>0,(IF(lfValidaCEP(F803)=TRUE,\"Válido\",\"Inválido\")),\"\")","v":""}]
[null,null,null,null,null,null,null,null,null,null,null,null,null,"",{"$f":"IF(C804<>0,(IF(lfValidaCNPJ(C804)=TRUE,\"Válido\",\"Inválido\")),\"\")","v":""},{"$f":"IF(F804<>0,(IF(lfValidaCEP(F804)=TRUE,\"Válido\",\"Inválido\")),\"\")","v":""}]
[null,null,null,null,null,null,null,null,null,null,null,null,null,"",{"$f":"IF(C805<>0,(IF(lfValidaCNPJ(C805)=TRUE,\"Válido\",\"Inválido\")),\"\")","v":""},{"$f":"IF(F805<>0,(IF(lfValidaCEP(F805)=TRUE,\"Válido\",\"Inválido\")),\"\")","v":""}]
[null,null,null,null,null,null,null,null,null,null,null,null,null,"",{"$f":"IF(C806<>0,(IF(lfValidaCNPJ(C806)=TRUE,\"Válido\",\"Inválido\")),\"\")","v":""},{"$f":"IF(F806<>0,(IF(lfValidaCEP(F806)=TRUE,\"Válido\",\"Inválido\")),\"\")","v":""}]
[null,null,null,null,null,null,null,null,null,null,null,null,null,"",{"$f":"IF(C807<>0,(IF(lfValidaCNPJ(C807)=TRUE,\"Válido\",\"Inválido\")),\"\")","v":""},{"$f":"IF(F807<>0,(IF(lfValidaCEP(F807)=TRUE,\"Válido\",\"Inválido\")),\"\")","v":""}]
[null,null,null,null,null,null,null,null,null,null,null,null,null,"",{"$f":"IF(C808<>0,(IF(lfValidaCNPJ(C808)=TRUE,\"Válido\",\"Inválido\")),\"\")","v":""},{"$f":"IF(F808<>0,(IF(lfValidaCEP(F808)=TRUE,\"Válido\",\"Inválido\")),\"\")","v":""}]
[null,null,null,null,null,null,null,null,null,null,null,null,null,"",{"$f":"IF(C809<>0,(IF(lfValidaCNPJ(C809)=TRUE,\"Válido\",\"Inválido\")),\"\")","v":""},{"$f":"IF(F809<>0,(IF(lfValidaCEP(F809)=TRUE,\"Válido\",\"Inválido\")),\"\")","v":""}]
[null,null,null,null,null,null,null,null,null,null,null,null,null,"",{"$f":"IF(C810<>0,(IF(lfValidaCNPJ(C810)=TRUE,\"Válido\",\"Inválido\")),\"\")","v":""},{"$f":"IF(F810<>0,(IF(lfValidaCEP(F810)=TRUE,\"Válido\",\"Inválido\")),\"\")","v":""}]
[null,null,null,null,null,null,null,null,null,null,null,null,null,"",{"$f":"IF(C811<>0,(IF(lfValidaCNPJ(C811)=TRUE,\"Válido\",\"Inválido\")),\"\")","v":""},{"$f":"IF(F811<>0,(IF(lfValidaCEP(F811)=TRUE,\"Válido\",\"Inválido\")),\"\")","v":""}]
[null,null,null,null,null,null,null,null,null,null,null,null,null,"",{"$f":"IF(C812<>0,(IF(lfValidaCNPJ(C812)=TRUE,\"Válido\",\"Inválido\")),\"\")","v":""},{"$f":"IF(F812<>0,(IF(lfValidaCEP(F812)=TRUE,\"Válido\",\"Inválido\")),\"\")","v":""}]
[null,null,null,null,null,null,null,null,null,null,null,null,null,"",{"$f":"IF(C813<>0,(IF(lfValidaCNPJ(C813)=TRUE,\"Válido\",\"Inválido\")),\"\")","v":""},{"$f":"IF(F813<>0,(IF(lfValidaCEP(F813)=TRUE,\"Válido\",\"Inválido\")),\"\")","v":""}]
[null,null,null,null,null,null,null,null,null,null,null,null,null,"",{"$f":"IF(C814<>0,(IF(lfValidaCNPJ(C814)=TRUE,\"Válido\",\"Inválido\")),\"\")","v":""},{"$f":"IF(F814<>0,(IF(lfValidaCEP(F814)=TRUE,\"Válido\",\"Inválido\")),\"\")","v":""}]
[null,null,null,null,null,null,null,null,null,null,null,null,null,"",{"$f":"IF(C815<>0,(IF(lfValidaCNPJ(C815)=TRUE,\"Válido\",\"Inválido\")),\"\")","v":""},{"$f":"IF(F815<>0,(IF(lfValidaCEP(F815)=TRUE,\"Válido\",\"Inválido\")),\"\")","v":""}]
[null,null,null,null,null,null,null,null,null,null,null,null,null,"",{"$f":"IF(C816<>0,(IF(lfValidaCNPJ(C816)=TRUE,\"Válido\",\"Inválido\")),\"\")","v":""},{"$f":"IF(F816<>0,(IF(lfValidaCEP(F816)=TRUE,\"Válido\",\"Inválido\")),\"\")","v":""}]
[null,null,null,null,null,null,null,null,null,null,null,null,null,"",{"$f":"IF(C817<>0,(IF(lfValidaCNPJ(C817)=TRUE,\"Válido\",\"Inválido\")),\"\")","v":""},{"$f":"IF(F817<>0,(IF(lfValidaCEP(F817)=TRUE,\"Válido\",\"Inválido\")),\"\")","v":""}]
[null,null,null,null,null,null,null,null,null,null,null,null,null,"",{"$f":"IF(C818<>0,(IF(lfValidaCNPJ(C818)=TRUE,\"Válido\",\"Inválido\")),\"\")","v":""},{"$f":"IF(F818<>0,(IF(lfValidaCEP(F818)=TRUE,\"Válido\",\"Inválido\")),\"\")","v":""}]
[null,null,null,null,null,null,null,null,null,null,null,null,null,"",{"$f":"IF(C819<>0,(IF(lfValidaCNPJ(C819)=TRUE,\"Válido\",\"Inválido\")),\"\")","v":""},{"$f":"IF(F819<>0,(IF(lfValidaCEP(F819)=TRUE,\"Válido\",\"Inválido\")),\"\")","v":""}]
[null,null,null,null,null,null,null,null,null,null,null,null,null,"",{"$f":"IF(C820<>0,(IF(lfValidaCNPJ(C820)=TRUE,\"Válido\",\"Inválido\")),\"\")","v":""},{"$f":"IF(F820<>0,(IF(lfValidaCEP(F820)=TRUE,\"Válido\",\"Inválido\")),\"\")","v":""}]
[null,null,null,null,null,null,null,null,null,null,null,null,null,"",{"$f":"IF(C821<>0,(IF(lfValidaCNPJ(C821)=TRUE,\"Válido\",\"Inválido\")),\"\")","v":""},{"$f":"IF(F821<>0,(IF(lfValidaCEP(F821)=TRUE,\"Válido\",\"Inválido\")),\"\")","v":""}]
[null,null,null,null,null,null,null,null,null,null,null,null,null,"",{"$f":"IF(C822<>0,(IF(lfValidaCNPJ(C822)=TRUE,\"Válido\",\"Inválido\")),\"\")","v":""},{"$f":"IF(F822<>0,(IF(lfValidaCEP(F822)=TRUE,\"Válido\",\"Inválido\")),\"\")","v":""}]
[null,null,null,null,null,null,null,null,null,null,null,null,null,"",{"$f":"IF(C823<>0,(IF(lfValidaCNPJ(C823)=TRUE,\"Válido\",\"Inválido\")),\"\")","v":""},{"$f":"IF(F823<>0,(IF(lfValidaCEP(F823)=TRUE,\"Válido\",\"Inválido\")),\"\")","v":""}]
[null,null,null,null,null,null,null,null,null,null,null,null,null,"",{"$f":"IF(C824<>0,(IF(lfValidaCNPJ(C824)=TRUE,\"Válido\",\"Inválido\")),\"\")","v":""},{"$f":"IF(F824<>0,(IF(lfValidaCEP(F824)=TRUE,\"Válido\",\"Inválido\")),\"\")","v":""}]
[null,null,null,null,null,null,null,null,null,null,null,null,null,"",{"$f":"IF(C825<>0,(IF(lfValidaCNPJ(C825)=TRUE,\"Válido\",\"Inválido\")),\"\")","v":""},{"$f":"IF(F825<>0,(IF(lfValidaCEP(F825)=TRUE,\"Válido\",\"Inválido\")),\"\")","v":""}]
[null,null,null,null,null,null,null,null,null,null,null,null,null,"",{"$f":"IF(C826<>0,(IF(lfValidaCNPJ(C826)=TRUE,\"Válido\",\"Inválido\")),\"\")","v":""},{"$f":"IF(F826<>0,(IF(lfValidaCEP(F826)=TRUE,\"Válido\",\"Inválido\")),\"\")","v":""}]
[null,null,null,null,null,null,null,null,null,null,null,null,null,"",{"$f":"IF(C827<>0,(IF(lfValidaCNPJ(C827)=TRUE,\"Válido\",\"Inválido\")),\"\")","v":""},{"$f":"IF(F827<>0,(IF(lfValidaCEP(F827)=TRUE,\"Válido\",\"Inválido\")),\"\")","v":""}]
[null,null,null,null,null,null,null,null,null,null,null,null,null,"",{"$f":"IF(C828<>0,(IF(lfValidaCNPJ(C828)=TRUE,\"Válido\",\"Inválido\")),\"\")","v":""},{"$f":"IF(F828<>0,(IF(lfValidaCEP(F828)=TRUE,\"Válido\",\"Inválido\")),\"\")","v":""}]
[null,null,null,null,null,null,null,null,null,null,null,null,null,"",{"$f":"IF(C829<>0,(IF(lfValidaCNPJ(C829)=TRUE,\"Válido\",\"Inválido\")),\"\")","v":""},{"$f":"IF(F829<>0,(IF(lfValidaCEP(F829)=TRUE,\"Válido\",\"Inválido\")),\"\")","v":""}]
[null,null,null,null,null,null,null,null,null,null,null,null,null,"",{"$f":"IF(C830<>0,(IF(lfValidaCNPJ(C830)=TRUE,\"Válido\",\"Inválido\")),\"\")","v":""},{"$f":"IF(F830<>0,(IF(lfValidaCEP(F830)=TRUE,\"Válido\",\"Inválido\")),\"\")","v":""}]
[null,null,null,null,null,null,null,null,null,null,null,null,null,"",{"$f":"IF(C831<>0,(IF(lfValidaCNPJ(C831)=TRUE,\"Válido\",\"Inválido\")),\"\")","v":""},{"$f":"IF(F831<>0,(IF(lfValidaCEP(F831)=TRUE,\"Válido\",\"Inválido\")),\"\")","v":""}]
[null,null,null,null,null,null,null,null,null,null,null,null,null,"",{"$f":"IF(C832<>0,(IF(lfValidaCNPJ(C832)=TRUE,\"Válido\",\"Inválido\")),\"\")","v":""},{"$f":"IF(F832<>0,(IF(lfValidaCEP(F832)=TRUE,\"Válido\",\"Inválido\")),\"\")","v":""}]
[null,null,null,null,null,null,null,null,null,null,null,null,null,"",{"$f":"IF(C833<>0,(IF(lfValidaCNPJ(C833)=TRUE,\"Válido\",\"Inválido\")),\"\")","v":""},{"$f":"IF(F833<>0,(IF(lfValidaCEP(F833)=TRUE,\"Válido\",\"Inválido\")),\"\")","v":""}]
[null,null,null,null,null,null,null,null,null,null,null,null,null,"",{"$f":"IF(C834<>0,(IF(lfValidaCNPJ(C834)=TRUE,\"Válido\",\"Inválido\")),\"\")","v":""},{"$f":"IF(F834<>0,(IF(lfValidaCEP(F834)=TRUE,\"Válido\",\"Inválido\")),\"\")","v":""}]
[null,null,null,null,null,null,null,null,null,null,null,null,null,"",{"$f":"IF(C835<>0,(IF(lfValidaCNPJ(C835)=TRUE,\"Válido\",\"Inválido\")),\"\")","v":""},{"$f":"IF(F835<>0,(IF(lfValidaCEP(F835)=TRUE,\"Válido\",\"Inválido\")),\"\")","v":""}]
[null,null,null,null,null,null,null,null,null,null,null,null,null,"",{"$f":"IF(C836<>0,(IF(lfValidaCNPJ(C836)=TRUE,\"Válido\",\"Inválido\")),\"\")","v":""},{"$f":"IF(F836<>0,(IF(lfValidaCEP(F836)=TRUE,\"Válido\",\"Inválido\")),\"\")","v":""}]
[null,null,null,null,null,null,null,null,null,null,null,null,null,"",{"$f":"IF(C837<>0,(IF(lfValidaCNPJ(C837)=TRUE,\"Válido\",\"Inválido\")),\"\")","v":""},{"$f":"IF(F837<>0,(IF(lfValidaCEP(F837)=TRUE,\"Válido\",\"Inválido\")),\"\")","v":""}]
[null,null,null,null,null,null,null,null,null,null,null,null,null,"",{"$f":"IF(C838<>0,(IF(lfValidaCNPJ(C838)=TRUE,\"Válido\",\"Inválido\")),\"\")","v":""},{"$f":"IF(F838<>0,(IF(lfValidaCEP(F838)=TRUE,\"Válido\",\"Inválido\")),\"\")","v":""}]
[null,null,null,null,null,null,null,null,null,null,null,null,null,"",{"$f":"IF(C839<>0,(IF(lfValidaCNPJ(C839)=TRUE,\"Válido\",\"Inválido\")),\"\")","v":""},{"$f":"IF(F839<>0,(IF(lfValidaCEP(F839)=TRUE,\"Válido\",\"Inválido\")),\"\")","v":""}]
[null,null,null,null,null,null,null,null,null,null,null,null,null,"",{"$f":"IF(C840<>0,(IF(lfValidaCNPJ(C840)=TRUE,\"Válido\",\"Inválido\")),\"\")","v":""},{"$f":"IF(F840<>0,(IF(lfValidaCEP(F840)=TRUE,\"Válido\",\"Inválido\")),\"\")","v":""}]
[null,null,null,null,null,null,null,null,null,null,null,null,null,"",{"$f":"IF(C841<>0,(IF(lfValidaCNPJ(C841)=TRUE,\"Válido\",\"Inválido\")),\"\")","v":""},{"$f":"IF(F841<>0,(IF(lfValidaCEP(F841)=TRUE,\"Válido\",\"Inválido\")),\"\")","v":""}]
[null,null,null,null,null,null,null,null,null,null,null,null,null,"",{"$f":"IF(C842<>0,(IF(lfValidaCNPJ(C842)=TRUE,\"Válido\",\"Inválido\")),\"\")","v":""},{"$f":"IF(F842<>0,(IF(lfValidaCEP(F842)=TRUE,\"Válido\",\"Inválido\")),\"\")","v":""}]
[null,null,null,null,null,null,null,null,null,null,null,null,null,"",{"$f":"IF(C843<>0,(IF(lfValidaCNPJ(C843)=TRUE,\"Válido\",\"Inválido\")),\"\")","v":""},{"$f":"IF(F843<>0,(IF(lfValidaCEP(F843)=TRUE,\"Válido\",\"Inválido\")),\"\")","v":""}]
[null,null,null,null,null,null,null,null,null,null,null,null,null,{"$f":"IF(COUNTA(B844:J844)<>0,IF(AND(B844<>0,C844<>0,D844<>0,E844<>0,F844<>0,G844<>0,H844<>0,I844<>0,J844<>0),\"Completo\",\"Incompleto\"),\"\")","v":""},{"$f":"IF(C844<>0,(IF(lfValidaCNPJ(C844)=TRUE,\"Válido\",\"Inválido\")),\"\")","v":""},{"$f":"IF(F844<>0,(IF(lfValidaCEP(F844)=TRUE,\"Válido\",\"Inválido\")),\"\")","v":""}]
[null,null,null,null,null,null,null,null,null,null,null,null,null,"",{"$f":"IF(C845<>0,(IF(lfValidaCNPJ(C845)=TRUE,\"Válido\",\"Inválido\")),\"\")","v":""},{"$f":"IF(F845<>0,(IF(lfValidaCEP(F845)=TRUE,\"Válido\",\"Inválido\")),\"\")","v":""}]
[null,null,null,null,null,null,null,null,null,null,null,null,null,"",{"$f":"IF(C846<>0,(IF(lfValidaCNPJ(C846)=TRUE,\"Válido\",\"Inválido\")),\"\")","v":""},{"$f":"IF(F846<>0,(IF(lfValidaCEP(F846)=TRUE,\"Válido\",\"Inválido\")),\"\")","v":""}]
[null,null,null,null,null,null,null,null,null,null,null,null,null,"",{"$f":"IF(C847<>0,(IF(lfValidaCNPJ(C847)=TRUE,\"Válido\",\"Inválido\")),\"\")","v":""},{"$f":"IF(F847<>0,(IF(lfValidaCEP(F847)=TRUE,\"Válido\",\"Inválido\")),\"\")","v":""}]
[null,null,null,null,null,null,null,null,null,null,null,null,null,"",{"$f":"IF(C848<>0,(IF(lfValidaCNPJ(C848)=TRUE,\"Válido\",\"Inválido\")),\"\")","v":""},{"$f":"IF(F848<>0,(IF(lfValidaCEP(F848)=TRUE,\"Válido\",\"Inválido\")),\"\")","v":""}]
[null,null,null,null,null,null,null,null,null,null,null,null,null,"",{"$f":"IF(C849<>0,(IF(lfValidaCNPJ(C849)=TRUE,\"Válido\",\"Inválido\")),\"\")","v":""},{"$f":"IF(F849<>0,(IF(lfValidaCEP(F849)=TRUE,\"Válido\",\"Inválido\")),\"\")","v":""}]
[null,null,null,null,null,null,null,null,null,null,null,null,null,"",{"$f":"IF(C850<>0,(IF(lfValidaCNPJ(C850)=TRUE,\"Válido\",\"Inválido\")),\"\")","v":""},{"$f":"IF(F850<>0,(IF(lfValidaCEP(F850)=TRUE,\"Válido\",\"Inválido\")),\"\")","v":""}]
[null,null,null,null,null,null,null,null,null,null,null,null,null,"",{"$f":"IF(C851<>0,(IF(lfValidaCNPJ(C851)=TRUE,\"Válido\",\"Inválido\")),\"\")","v":""},{"$f":"IF(F851<>0,(IF(lfValidaCEP(F851)=TRUE,\"Válido\",\"Inválido\")),\"\")","v":""}]
[null,null,null,null,null,null,null,null,null,null,null,null,null,"",{"$f":"IF(C852<>0,(IF(lfValidaCNPJ(C852)=TRUE,\"Válido\",\"Inválido\")),\"\")","v":""},{"$f":"IF(F852<>0,(IF(lfValidaCEP(F852)=TRUE,\"Válido\",\"Inválido\")),\"\")","v":""}]
[null,null,null,null,null,null,null,null,null,null,null,null,null,"",{"$f":"IF(C853<>0,(IF(lfValidaCNPJ(C853)=TRUE,\"Válido\",\"Inválido\")),\"\")","v":""},{"$f":"IF(F853<>0,(IF(lfValidaCEP(F853)=TRUE,\"Válido\",\"Inválido\")),\"\")","v":""}]
[null,null,null,null,null,null,null,null,null,null,null,null,null,"",{"$f":"IF(C854<>0,(IF(lfValidaCNPJ(C854)=TRUE,\"Válido\",\"Inválido\")),\"\")","v":""},{"$f":"IF(F854<>0,(IF(lfValidaCEP(F854)=TRUE,\"Válido\",\"Inválido\")),\"\")","v":""}]
[null,null,null,null,null,null,null,null,null,null,null,null,null,"",{"$f":"IF(C855<>0,(IF(lfValidaCNPJ(C855)=TRUE,\"Válido\",\"Inválido\")),\"\")","v":""},{"$f":"IF(F855<>0,(IF(lfValidaCEP(F855)=TRUE,\"Válido\",\"Inválido\")),\"\")","v":""}]
[null,null,null,null,null,null,null,null,null,null,null,null,null,"",{"$f":"IF(C856<>0,(IF(lfValidaCNPJ(C856)=TRUE,\"Válido\",\"Inválido\")),\"\")","v":""},{"$f":"IF(F856<>0,(IF(lfValidaCEP(F856)=TRUE,\"Válido\",\"Inválido\")),\"\")","v":""}]
[null,null,null,null,null,null,null,null,null,null,null,null,null,"",{"$f":"IF(C857<>0,(IF(lfValidaCNPJ(C857)=TRUE,\"Válido\",\"Inválido\")),\"\")","v":""},{"$f":"IF(F857<>0,(IF(lfValidaCEP(F857)=TRUE,\"Válido\",\"Inválido\")),\"\")","v":""}]
[null,null,null,null,null,null,null,null,null,null,null,null,null,"",{"$f":"IF(C858<>0,(IF(lfValidaCNPJ(C858)=TRUE,\"Válido\",\"Inválido\")),\"\")","v":""},{"$f":"IF(F858<>0,(IF(lfValidaCEP(F858)=TRUE,\"Válido\",\"Inválido\")),\"\")","v":""}]
[null,null,null,null,null,null,null,null,null,null,null,null,null,"",{"$f":"IF(C859<>0,(IF(lfValidaCNPJ(C859)=TRUE,\"Válido\",\"Inválido\")),\"\")","v":""},{"$f":"IF(F859<>0,(IF(lfValidaCEP(F859)=TRUE,\"Válido\",\"Inválido\")),\"\")","v":""}]
[null,null,null,null,null,null,null,null,null,null,null,null,null,"",{"$f":"IF(C860<>0,(IF(lfValidaCNPJ(C860)=TRUE,\"Válido\",\"Inválido\")),\"\")","v":""},{"$f":"IF(F860<>0,(IF(lfValidaCEP(F860)=TRUE,\"Válido\",\"Inválido\")),\"\")","v":""}]
[null,null,null,null,null,null,null,null,null,null,null,null,null,"",{"$f":"IF(C861<>0,(IF(lfValidaCNPJ(C861)=TRUE,\"Válido\",\"Inválido\")),\"\")","v":""},{"$f":"IF(F861<>0,(IF(lfValidaCEP(F861)=TRUE,\"Válido\",\"Inválido\")),\"\")","v":""}]
[null,null,null,null,null,null,null,null,null,null,null,null,null,"",{"$f":"IF(C862<>0,(IF(lfValidaCNPJ(C862)=TRUE,\"Válido\",\"Inválido\")),\"\")","v":""},{"$f":"IF(F862<>0,(IF(lfValidaCEP(F862)=TRUE,\"Válido\",\"Inválido\")),\"\")","v":""}]
[null,null,null,null,null,null,null,null,null,null,null,null,null,"",{"$f":"IF(C863<>0,(IF(lfValidaCNPJ(C863)=TRUE,\"Válido\",\"Inválido\")),\"\")","v":""},{"$f":"IF(F863<>0,(IF(lfValidaCEP(F863)=TRUE,\"Válido\",\"Inválido\")),\"\")","v":""}]
[null,null,null,null,null,null,null,null,null,null,null,null,null,"",{"$f":"IF(C864<>0,(IF(lfValidaCNPJ(C864)=TRUE,\"Válido\",\"Inválido\")),\"\")","v":""},{"$f":"IF(F864<>0,(IF(lfValidaCEP(F864)=TRUE,\"Válido\",\"Inválido\")),\"\")","v":""}]
[null,null,null,null,null,null,null,null,null,null,null,null,null,"",{"$f":"IF(C865<>0,(IF(lfValidaCNPJ(C865)=TRUE,\"Válido\",\"Inválido\")),\"\")","v":""},{"$f":"IF(F865<>0,(IF(lfValidaCEP(F865)=TRUE,\"Válido\",\"Inválido\")),\"\")","v":""}]
[null,null,null,null,null,null,null,null,null,null,null,null,null,"",{"$f":"IF(C866<>0,(IF(lfValidaCNPJ(C866)=TRUE,\"Válido\",\"Inválido\")),\"\")","v":""},{"$f":"IF(F866<>0,(IF(lfValidaCEP(F866)=TRUE,\"Válido\",\"Inválido\")),\"\")","v":""}]
[null,null,null,null,null,null,null,null,null,null,null,null,null,"",{"$f":"IF(C867<>0,(IF(lfValidaCNPJ(C867)=TRUE,\"Válido\",\"Inválido\")),\"\")","v":""},{"$f":"IF(F867<>0,(IF(lfValidaCEP(F867)=TRUE,\"Válido\",\"Inválido\")),\"\")","v":""}]
[null,null,null,null,null,null,null,null,null,null,null,null,null,"",{"$f":"IF(C868<>0,(IF(lfValidaCNPJ(C868)=TRUE,\"Válido\",\"Inválido\")),\"\")","v":""},{"$f":"IF(F868<>0,(IF(lfValidaCEP(F868)=TRUE,\"Válido\",\"Inválido\")),\"\")","v":""}]
[null,null,null,null,null,null,null,null,null,null,null,null,null,"",{"$f":"IF(C869<>0,(IF(lfValidaCNPJ(C869)=TRUE,\"Válido\",\"Inválido\")),\"\")","v":""},{"$f":"IF(F869<>0,(IF(lfValidaCEP(F869)=TRUE,\"Válido\",\"Inválido\")),\"\")","v":""}]
[null,null,null,null,null,null,null,null,null,null,null,null,null,"",{"$f":"IF(C870<>0,(IF(lfValidaCNPJ(C870)=TRUE,\"Válido\",\"Inválido\")),\"\")","v":""},{"$f":"IF(F870<>0,(IF(lfValidaCEP(F870)=TRUE,\"Válido\",\"Inválido\")),\"\")","v":""}]
[null,null,null,null,null,null,null,null,null,null,null,null,null,"",{"$f":"IF(C871<>0,(IF(lfValidaCNPJ(C871)=TRUE,\"Válido\",\"Inválido\")),\"\")","v":""},{"$f":"IF(F871<>0,(IF(lfValidaCEP(F871)=TRUE,\"Válido\",\"Inválido\")),\"\")","v":""}]
[null,null,null,null,null,null,null,null,null,null,null,null,null,"",{"$f":"IF(C872<>0,(IF(lfValidaCNPJ(C872)=TRUE,\"Válido\",\"Inválido\")),\"\")","v":""},{"$f":"IF(F872<>0,(IF(lfValidaCEP(F872)=TRUE,\"Válido\",\"Inválido\")),\"\")","v":""}]
[null,null,null,null,null,null,null,null,null,null,null,null,null,"",{"$f":"IF(C873<>0,(IF(lfValidaCNPJ(C873)=TRUE,\"Válido\",\"Inválido\")),\"\")","v":""},{"$f":"IF(F873<>0,(IF(lfValidaCEP(F873)=TRUE,\"Válido\",\"Inválido\")),\"\")","v":""}]
[null,null,null,null,null,null,null,null,null,null,null,null,null,"",{"$f":"IF(C874<>0,(IF(lfValidaCNPJ(C874)=TRUE,\"Válido\",\"Inválido\")),\"\")","v":""},{"$f":"IF(F874<>0,(IF(lfValidaCEP(F874)=TRUE,\"Válido\",\"Inválido\")),\"\")","v":""}]
[null,null,null,null,null,null,null,null,null,null,null,null,null,"",{"$f":"IF(C875<>0,(IF(lfValidaCNPJ(C875)=TRUE,\"Válido\",\"Inválido\")),\"\")","v":""},{"$f":"IF(F875<>0,(IF(lfValidaCEP(F875)=TRUE,\"Válido\",\"Inválido\")),\"\")","v":""}]
[null,null,null,null,null,null,null,null,null,null,null,null,null,"",{"$f":"IF(C876<>0,(IF(lfValidaCNPJ(C876)=TRUE,\"Válido\",\"Inválido\")),\"\")","v":""},{"$f":"IF(F876<>0,(IF(lfValidaCEP(F876)=TRUE,\"Válido\",\"Inválido\")),\"\")","v":""}]
[null,null,null,null,null,null,null,null,null,null,null,null,null,"",{"$f":"IF(C877<>0,(IF(lfValidaCNPJ(C877)=TRUE,\"Válido\",\"Inválido\")),\"\")","v":""},{"$f":"IF(F877<>0,(IF(lfValidaCEP(F877)=TRUE,\"Válido\",\"Inválido\")),\"\")","v":""}]
[null,null,null,null,null,null,null,null,null,null,null,null,null,"",{"$f":"IF(C878<>0,(IF(lfValidaCNPJ(C878)=TRUE,\"Válido\",\"Inválido\")),\"\")","v":""},{"$f":"IF(F878<>0,(IF(lfValidaCEP(F878)=TRUE,\"Válido\",\"Inválido\")),\"\")","v":""}]
[null,null,null,null,null,null,null,null,null,null,null,null,null,"",{"$f":"IF(C879<>0,(IF(lfValidaCNPJ(C879)=TRUE,\"Válido\",\"Inválido\")),\"\")","v":""},{"$f":"IF(F879<>0,(IF(lfValidaCEP(F879)=TRUE,\"Válido\",\"Inválido\")),\"\")","v":""}]
[null,null,null,null,null,null,null,null,null,null,null,null,null,"",{"$f":"IF(C880<>0,(IF(lfValidaCNPJ(C880)=TRUE,\"Válido\",\"Inválido\")),\"\")","v":""},{"$f":"IF(F880<>0,(IF(lfValidaCEP(F880)=TRUE,\"Válido\",\"Inválido\")),\"\")","v":""}]
[null,null,null,null,null,null,null,null,null,null,null,null,null,"",{"$f":"IF(C881<>0,(IF(lfValidaCNPJ(C881)=TRUE,\"Válido\",\"Inválido\")),\"\")","v":""},{"$f":"IF(F881<>0,(IF(lfValidaCEP(F881)=TRUE,\"Válido\",\"Inválido\")),\"\")","v":""}]
[null,null,null,null,null,null,null,null,null,null,null,null,null,"",{"$f":"IF(C882<>0,(IF(lfValidaCNPJ(C882)=TRUE,\"Válido\",\"Inválido\")),\"\")","v":""},{"$f":"IF(F882<>0,(IF(lfValidaCEP(F882)=TRUE,\"Válido\",\"Inválido\")),\"\")","v":""}]
[null,null,null,null,null,null,null,null,null,null,null,null,null,"",{"$f":"IF(C883<>0,(IF(lfValidaCNPJ(C883)=TRUE,\"Válido\",\"Inválido\")),\"\")","v":""},{"$f":"IF(F883<>0,(IF(lfValidaCEP(F883)=TRUE,\"Válido\",\"Inválido\")),\"\")","v":""}]
[null,null,null,null,null,null,null,null,null,null,null,null,null,"",{"$f":"IF(C884<>0,(IF(lfValidaCNPJ(C884)=TRUE,\"Válido\",\"Inválido\")),\"\")","v":""},{"$f":"IF(F884<>0,(IF(lfValidaCEP(F884)=TRUE,\"Válido\",\"Inválido\")),\"\")","v":""}]
[null,null,null,null,null,null,null,null,null,null,null,null,null,"",{"$f":"IF(C885<>0,(IF(lfValidaCNPJ(C885)=TRUE,\"Válido\",\"Inválido\")),\"\")","v":""},{"$f":"IF(F885<>0,(IF(lfValidaCEP(F885)=TRUE,\"Válido\",\"Inválido\")),\"\")","v":""}]
[null,null,null,null,null,null,null,null,null,null,null,null,null,"",{"$f":"IF(C886<>0,(IF(lfValidaCNPJ(C886)=TRUE,\"Válido\",\"Inválido\")),\"\")","v":""},{"$f":"IF(F886<>0,(IF(lfValidaCEP(F886)=TRUE,\"Válido\",\"Inválido\")),\"\")","v":""}]
[null,null,null,null,null,null,null,null,null,null,null,null,null,"",{"$f":"IF(C887<>0,(IF(lfValidaCNPJ(C887)=TRUE,\"Válido\",\"Inválido\")),\"\")","v":""},{"$f":"IF(F887<>0,(IF(lfValidaCEP(F887)=TRUE,\"Válido\",\"Inválido\")),\"\")","v":""}]
[null,null,null,null,null,null,null,null,null,null,null,null,null,"",{"$f":"IF(C888<>0,(IF(lfValidaCNPJ(C888)=TRUE,\"Válido\",\"Inválido\")),\"\")","v":""},{"$f":"IF(F888<>0,(IF(lfValidaCEP(F888)=TRUE,\"Válido\",\"Inválido\")),\"\")","v":""}]
[null,null,null,null,null,null,null,null,null,null,null,null,null,"",{"$f":"IF(C889<>0,(IF(lfValidaCNPJ(C889)=TRUE,\"Válido\",\"Inválido\")),\"\")","v":""},{"$f":"IF(F889<>0,(IF(lfValidaCEP(F889)=TRUE,\"Válido\",\"Inválido\")),\"\")","v":""}]
[null,null,null,null,null,null,null,null,null,null,null,null,null,"",{"$f":"IF(C890<>0,(IF(lfValidaCNPJ(C890)=TRUE,\"Válido\",\"Inválido\")),\"\")","v":""},{"$f":"IF(F890<>0,(IF(lfValidaCEP(F890)=TRUE,\"Válido\",\"Inválido\")),\"\")","v":""}]
[null,null,null,null,null,null,null,null,null,null,null,null,null,"",{"$f":"IF(C891<>0,(IF(lfValidaCNPJ(C891)=TRUE,\"Válido\",\"Inválido\")),\"\")","v":""},{"$f":"IF(F891<>0,(IF(lfValidaCEP(F891)=TRUE,\"Válido\",\"Inválido\")),\"\")","v":""}]
[null,null,null,null,null,null,null,null,null,null,null,null,null,"",{"$f":"IF(C892<>0,(IF(lfValidaCNPJ(C892)=TRUE,\"Válido\",\"Inválido\")),\"\")","v":""},{"$f":"IF(F892<>0,(IF(lfValidaCEP(F892)=TRUE,\"Válido\",\"Inválido\")),\"\")","v":""}]
[null,null,null,null,null,null,null,null,null,null,null,null,null,"",{"$f":"IF(C893<>0,(IF(lfValidaCNPJ(C893)=TRUE,\"Válido\",\"Inválido\")),\"\")","v":""},{"$f":"IF(F893<>0,(IF(lfValidaCEP(F893)=TRUE,\"Válido\",\"Inválido\")),\"\")","v":""}]
[null,null,null,null,null,null,null,null,null,null,null,null,null,"",{"$f":"IF(C894<>0,(IF(lfValidaCNPJ(C894)=TRUE,\"Válido\",\"Inválido\")),\"\")","v":""},{"$f":"IF(F894<>0,(IF(lfValidaCEP(F894)=TRUE,\"Válido\",\"Inválido\")),\"\")","v":""}]
[null,null,null,null,null,null,null,null,null,null,null,null,null,"",{"$f":"IF(C895<>0,(IF(lfValidaCNPJ(C895)=TRUE,\"Válido\",\"Inválido\")),\"\")","v":""},{"$f":"IF(F895<>0,(IF(lfValidaCEP(F895)=TRUE,\"Válido\",\"Inválido\")),\"\")","v":""}]
[null,null,null,null,null,null,null,null,null,null,null,null,null,"",{"$f":"IF(C896<>0,(IF(lfValidaCNPJ(C896)=TRUE,\"Válido\",\"Inválido\")),\"\")","v":""},{"$f":"IF(F896<>0,(IF(lfValidaCEP(F896)=TRUE,\"Válido\",\"Inválido\")),\"\")","v":""}]
[null,null,null,null,null,null,null,null,null,null,null,null,null,"",{"$f":"IF(C897<>0,(IF(lfValidaCNPJ(C897)=TRUE,\"Válido\",\"Inválido\")),\"\")","v":""},{"$f":"IF(F897<>0,(IF(lfValidaCEP(F897)=TRUE,\"Válido\",\"Inválido\")),\"\")","v":""}]
[null,null,null,null,null,null,null,null,null,null,null,null,null,"",{"$f":"IF(C898<>0,(IF(lfValidaCNPJ(C898)=TRUE,\"Válido\",\"Inválido\")),\"\")","v":""},{"$f":"IF(F898<>0,(IF(lfValidaCEP(F898)=TRUE,\"Válido\",\"Inválido\")),\"\")","v":""}]
[null,null,null,null,null,null,null,null,null,null,null,null,null,"",{"$f":"IF(C899<>0,(IF(lfValidaCNPJ(C899)=TRUE,\"Válido\",\"Inválido\")),\"\")","v":""},{"$f":"IF(F899<>0,(IF(lfValidaCEP(F899)=TRUE,\"Válido\",\"Inválido\")),\"\")","v":""}]
[null,null,null,null,null,null,null,null,null,null,null,null,null,"",{"$f":"IF(C900<>0,(IF(lfValidaCNPJ(C900)=TRUE,\"Válido\",\"Inválido\")),\"\")","v":""},{"$f":"IF(F900<>0,(IF(lfValidaCEP(F900)=TRUE,\"Válido\",\"Inválido\")),\"\")","v":""}]
[null,null,null,null,null,null,null,null,null,null,null,null,null,"",{"$f":"IF(C901<>0,(IF(lfValidaCNPJ(C901)=TRUE,\"Válido\",\"Inválido\")),\"\")","v":""},{"$f":"IF(F901<>0,(IF(lfValidaCEP(F901)=TRUE,\"Válido\",\"Inválido\")),\"\")","v":""}]
[null,null,null,null,null,null,null,null,null,null,null,null,null,"",{"$f":"IF(C902<>0,(IF(lfValidaCNPJ(C902)=TRUE,\"Válido\",\"Inválido\")),\"\")","v":""},{"$f":"IF(F902<>0,(IF(lfValidaCEP(F902)=TRUE,\"Válido\",\"Inválido\")),\"\")","v":""}]
[null,null,null,null,null,null,null,null,null,null,null,null,null,"",{"$f":"IF(C903<>0,(IF(lfValidaCNPJ(C903)=TRUE,\"Válido\",\"Inválido\")),\"\")","v":""},{"$f":"IF(F903<>0,(IF(lfValidaCEP(F903)=TRUE,\"Válido\",\"Inválido\")),\"\")","v":""}]
[null,null,null,null,null,null,null,null,null,null,null,null,null,"",{"$f":"IF(C904<>0,(IF(lfValidaCNPJ(C904)=TRUE,\"Válido\",\"Inválido\")),\"\")","v":""},{"$f":"IF(F904<>0,(IF(lfValidaCEP(F904)=TRUE,\"Válido\",\"Inválido\")),\"\")","v":""}]
[null,null,null,null,null,null,null,null,null,null,null,null,null,"",{"$f":"IF(C905<>0,(IF(lfValidaCNPJ(C905)=TRUE,\"Válido\",\"Inválido\")),\"\")","v":""},{"$f":"IF(F905<>0,(IF(lfValidaCEP(F905)=TRUE,\"Válido\",\"Inválido\")),\"\")","v":""}]
[null,null,null,null,null,null,null,null,null,null,null,null,null,"",{"$f":"IF(C906<>0,(IF(lfValidaCNPJ(C906)=TRUE,\"Válido\",\"Inválido\")),\"\")","v":""},{"$f":"IF(F906<>0,(IF(lfValidaCEP(F906)=TRUE,\"Válido\",\"Inválido\")),\"\")","v":""}]
[null,null,null,null,null,null,null,null,null,null,null,null,null,"",{"$f":"IF(C907<>0,(IF(lfValidaCNPJ(C907)=TRUE,\"Válido\",\"Inválido\")),\"\")","v":""},{"$f":"IF(F907<>0,(IF(lfValidaCEP(F907)=TRUE,\"Válido\",\"Inválido\")),\"\")","v":""}]
[null,null,null,null,null,null,null,null,null,null,null,null,null,{"$f":"IF(COUNTA(B908:J908)<>0,IF(AND(B908<>0,C908<>0,D908<>0,E908<>0,F908<>0,G908<>0,H908<>0,I908<>0,J908<>0),\"Completo\",\"Incompleto\"),\"\")","v":""},{"$f":"IF(C908<>0,(IF(lfValidaCNPJ(C908)=TRUE,\"Válido\",\"Inválido\")),\"\")","v":""},{"$f":"IF(F908<>0,(IF(lfValidaCEP(F908)=TRUE,\"Válido\",\"Inválido\")),\"\")","v":""}]
[null,null,null,null,null,null,null,null,null,null,null,null,null,"",{"$f":"IF(C909<>0,(IF(lfValidaCNPJ(C909)=TRUE,\"Válido\",\"Inválido\")),\"\")","v":""},{"$f":"IF(F909<>0,(IF(lfValidaCEP(F909)=TRUE,\"Válido\",\"Inválido\")),\"\")","v":""}]
[null,null,null,null,null,null,null,null,null,null,null,null,null,"",{"$f":"IF(C910<>0,(IF(lfValidaCNPJ(C910)=TRUE,\"Válido\",\"Inválido\")),\"\")","v":""},{"$f":"IF(F910<>0,(IF(lfValidaCEP(F910)=TRUE,\"Válido\",\"Inválido\")),\"\")","v":""}]
[null,null,null,null,null,null,null,null,null,null,null,null,null,"",{"$f":"IF(C911<>0,(IF(lfValidaCNPJ(C911)=TRUE,\"Válido\",\"Inválido\")),\"\")","v":""},{"$f":"IF(F911<>0,(IF(lfValidaCEP(F911)=TRUE,\"Válido\",\"Inválido\")),\"\")","v":""}]
[null,null,null,null,null,null,null,null,null,null,null,null,null,"",{"$f":"IF(C912<>0,(IF(lfValidaCNPJ(C912)=TRUE,\"Válido\",\"Inválido\")),\"\")","v":""},{"$f":"IF(F912<>0,(IF(lfValidaCEP(F912)=TRUE,\"Válido\",\"Inválido\")),\"\")","v":""}]
[null,null,null,null,null,null,null,null,null,null,null,null,null,"",{"$f":"IF(C913<>0,(IF(lfValidaCNPJ(C913)=TRUE,\"Válido\",\"Inválido\")),\"\")","v":""},{"$f":"IF(F913<>0,(IF(lfValidaCEP(F913)=TRUE,\"Válido\",\"Inválido\")),\"\")","v":""}]
[null,null,null,null,null,null,null,null,null,null,null,null,null,"",{"$f":"IF(C914<>0,(IF(lfValidaCNPJ(C914)=TRUE,\"Válido\",\"Inválido\")),\"\")","v":""},{"$f":"IF(F914<>0,(IF(lfValidaCEP(F914)=TRUE,\"Válido\",\"Inválido\")),\"\")","v":""}]
[null,null,null,null,null,null,null,null,null,null,null,null,null,"",{"$f":"IF(C915<>0,(IF(lfValidaCNPJ(C915)=TRUE,\"Válido\",\"Inválido\")),\"\")","v":""},{"$f":"IF(F915<>0,(IF(lfValidaCEP(F915)=TRUE,\"Válido\",\"Inválido\")),\"\")","v":""}]
[null,null,null,null,null,null,null,null,null,null,null,null,null,"",{"$f":"IF(C916<>0,(IF(lfValidaCNPJ(C916)=TRUE,\"Válido\",\"Inválido\")),\"\")","v":""},{"$f":"IF(F916<>0,(IF(lfValidaCEP(F916)=TRUE,\"Válido\",\"Inválido\")),\"\")","v":""}]
[null,null,null,null,null,null,null,null,null,null,null,null,null,"",{"$f":"IF(C917<>0,(IF(lfValidaCNPJ(C917)=TRUE,\"Válido\",\"Inválido\")),\"\")","v":""},{"$f":"IF(F917<>0,(IF(lfValidaCEP(F917)=TRUE,\"Válido\",\"Inválido\")),\"\")","v":""}]
[null,null,null,null,null,null,null,null,null,null,null,null,null,"",{"$f":"IF(C918<>0,(IF(lfValidaCNPJ(C918)=TRUE,\"Válido\",\"Inválido\")),\"\")","v":""},{"$f":"IF(F918<>0,(IF(lfValidaCEP(F918)=TRUE,\"Válido\",\"Inválido\")),\"\")","v":""}]
[null,null,null,null,null,null,null,null,null,null,null,null,null,"",{"$f":"IF(C919<>0,(IF(lfValidaCNPJ(C919)=TRUE,\"Válido\",\"Inválido\")),\"\")","v":""},{"$f":"IF(F919<>0,(IF(lfValidaCEP(F919)=TRUE,\"Válido\",\"Inválido\")),\"\")","v":""}]
[null,null,null,null,null,null,null,null,null,null,null,null,null,"",{"$f":"IF(C920<>0,(IF(lfValidaCNPJ(C920)=TRUE,\"Válido\",\"Inválido\")),\"\")","v":""},{"$f":"IF(F920<>0,(IF(lfValidaCEP(F920)=TRUE,\"Válido\",\"Inválido\")),\"\")","v":""}]
[null,null,null,null,null,null,null,null,null,null,null,null,null,"",{"$f":"IF(C921<>0,(IF(lfValidaCNPJ(C921)=TRUE,\"Válido\",\"Inválido\")),\"\")","v":""},{"$f":"IF(F921<>0,(IF(lfValidaCEP(F921)=TRUE,\"Válido\",\"Inválido\")),\"\")","v":""}]
[null,null,null,null,null,null,null,null,null,null,null,null,null,"",{"$f":"IF(C922<>0,(IF(lfValidaCNPJ(C922)=TRUE,\"Válido\",\"Inválido\")),\"\")","v":""},{"$f":"IF(F922<>0,(IF(lfValidaCEP(F922)=TRUE,\"Válido\",\"Inválido\")),\"\")","v":""}]
[null,null,null,null,null,null,null,null,null,null,null,null,null,"",{"$f":"IF(C923<>0,(IF(lfValidaCNPJ(C923)=TRUE,\"Válido\",\"Inválido\")),\"\")","v":""},{"$f":"IF(F923<>0,(IF(lfValidaCEP(F923)=TRUE,\"Válido\",\"Inválido\")),\"\")","v":""}]
[null,null,null,null,null,null,null,null,null,null,null,null,null,"",{"$f":"IF(C924<>0,(IF(lfValidaCNPJ(C924)=TRUE,\"Válido\",\"Inválido\")),\"\")","v":""},{"$f":"IF(F924<>0,(IF(lfValidaCEP(F924)=TRUE,\"Válido\",\"Inválido\")),\"\")","v":""}]
[null,null,null,null,null,null,null,null,null,null,null,null,null,"",{"$f":"IF(C925<>0,(IF(lfValidaCNPJ(C925)=TRUE,\"Válido\",\"Inválido\")),\"\")","v":""},{"$f":"IF(F925<>0,(IF(lfValidaCEP(F925)=TRUE,\"Válido\",\"Inválido\")),\"\")","v":""}]
[null,null,null,null,null,null,null,null,null,null,null,null,null,"",{"$f":"IF(C926<>0,(IF(lfValidaCNPJ(C926)=TRUE,\"Válido\",\"Inválido\")),\"\")","v":""},{"$f":"IF(F926<>0,(IF(lfValidaCEP(F926)=TRUE,\"Válido\",\"Inválido\")),\"\")","v":""}]
[null,null,null,null,null,null,null,null,null,null,null,null,null,"",{"$f":"IF(C927<>0,(IF(lfValidaCNPJ(C927)=TRUE,\"Válido\",\"Inválido\")),\"\")","v":""},{"$f":"IF(F927<>0,(IF(lfValidaCEP(F927)=TRUE,\"Válido\",\"Inválido\")),\"\")","v":""}]
[null,null,null,null,null,null,null,null,null,null,null,null,null,"",{"$f":"IF(C928<>0,(IF(lfValidaCNPJ(C928)=TRUE,\"Válido\",\"Inválido\")),\"\")","v":""},{"$f":"IF(F928<>0,(IF(lfValidaCEP(F928)=TRUE,\"Válido\",\"Inválido\")),\"\")","v":""}]
[null,null,null,null,null,null,null,null,null,null,null,null,null,"",{"$f":"IF(C929<>0,(IF(lfValidaCNPJ(C929)=TRUE,\"Válido\",\"Inválido\")),\"\")","v":""},{"$f":"IF(F929<>0,(IF(lfValidaCEP(F929)=TRUE,\"Válido\",\"Inválido\")),\"\")","v":""}]
[null,null,null,null,null,null,null,null,null,null,null,null,null,"",{"$f":"IF(C930<>0,(IF(lfValidaCNPJ(C930)=TRUE,\"Válido\",\"Inválido\")),\"\")","v":""},{"$f":"IF(F930<>0,(IF(lfValidaCEP(F930)=TRUE,\"Válido\",\"Inválido\")),\"\")","v":""}]
[null,null,null,null,null,null,null,null,null,null,null,null,null,"",{"$f":"IF(C931<>0,(IF(lfValidaCNPJ(C931)=TRUE,\"Válido\",\"Inválido\")),\"\")","v":""},{"$f":"IF(F931<>0,(IF(lfValidaCEP(F931)=TRUE,\"Válido\",\"Inválido\")),\"\")","v":""}]
[null,null,null,null,null,null,null,null,null,null,null,null,null,"",{"$f":"IF(C932<>0,(IF(lfValidaCNPJ(C932)=TRUE,\"Válido\",\"Inválido\")),\"\")","v":""},{"$f":"IF(F932<>0,(IF(lfValidaCEP(F932)=TRUE,\"Válido\",\"Inválido\")),\"\")","v":""}]
[null,null,null,null,null,null,null,null,null,null,null,null,null,"",{"$f":"IF(C933<>0,(IF(lfValidaCNPJ(C933)=TRUE,\"Válido\",\"Inválido\")),\"\")","v":""},{"$f":"IF(F933<>0,(IF(lfValidaCEP(F933)=TRUE,\"Válido\",\"Inválido\")),\"\")","v":""}]
[null,null,null,null,null,null,null,null,null,null,null,null,null,"",{"$f":"IF(C934<>0,(IF(lfValidaCNPJ(C934)=TRUE,\"Válido\",\"Inválido\")),\"\")","v":""},{"$f":"IF(F934<>0,(IF(lfValidaCEP(F934)=TRUE,\"Válido\",\"Inválido\")),\"\")","v":""}]
[null,null,null,null,null,null,null,null,null,null,null,null,null,"",{"$f":"IF(C935<>0,(IF(lfValidaCNPJ(C935)=TRUE,\"Válido\",\"Inválido\")),\"\")","v":""},{"$f":"IF(F935<>0,(IF(lfValidaCEP(F935)=TRUE,\"Válido\",\"Inválido\")),\"\")","v":""}]
[null,null,null,null,null,null,null,null,null,null,null,null,null,"",{"$f":"IF(C936<>0,(IF(lfValidaCNPJ(C936)=TRUE,\"Válido\",\"Inválido\")),\"\")","v":""},{"$f":"IF(F936<>0,(IF(lfValidaCEP(F936)=TRUE,\"Válido\",\"Inválido\")),\"\")","v":""}]
[null,null,null,null,null,null,null,null,null,null,null,null,null,"",{"$f":"IF(C937<>0,(IF(lfValidaCNPJ(C937)=TRUE,\"Válido\",\"Inválido\")),\"\")","v":""},{"$f":"IF(F937<>0,(IF(lfValidaCEP(F937)=TRUE,\"Válido\",\"Inválido\")),\"\")","v":""}]
[null,null,null,null,null,null,null,null,null,null,null,null,null,"",{"$f":"IF(C938<>0,(IF(lfValidaCNPJ(C938)=TRUE,\"Válido\",\"Inválido\")),\"\")","v":""},{"$f":"IF(F938<>0,(IF(lfValidaCEP(F938)=TRUE,\"Válido\",\"Inválido\")),\"\")","v":""}]
[null,null,null,null,null,null,null,null,null,null,null,null,null,"",{"$f":"IF(C939<>0,(IF(lfValidaCNPJ(C939)=TRUE,\"Válido\",\"Inválido\")),\"\")","v":""},{"$f":"IF(F939<>0,(IF(lfValidaCEP(F939)=TRUE,\"Válido\",\"Inválido\")),\"\")","v":""}]
[null,null,null,null,null,null,null,null,null,null,null,null,null,"",{"$f":"IF(C940<>0,(IF(lfValidaCNPJ(C940)=TRUE,\"Válido\",\"Inválido\")),\"\")","v":""},{"$f":"IF(F940<>0,(IF(lfValidaCEP(F940)=TRUE,\"Válido\",\"Inválido\")),\"\")","v":""}]
[null,null,null,null,null,null,null,null,null,null,null,null,null,"",{"$f":"IF(C941<>0,(IF(lfValidaCNPJ(C941)=TRUE,\"Válido\",\"Inválido\")),\"\")","v":""},{"$f":"IF(F941<>0,(IF(lfValidaCEP(F941)=TRUE,\"Válido\",\"Inválido\")),\"\")","v":""}]
[null,null,null,null,null,null,null,null,null,null,null,null,null,"",{"$f":"IF(C942<>0,(IF(lfValidaCNPJ(C942)=TRUE,\"Válido\",\"Inválido\")),\"\")","v":""},{"$f":"IF(F942<>0,(IF(lfValidaCEP(F942)=TRUE,\"Válido\",\"Inválido\")),\"\")","v":""}]
[null,null,null,null,null,null,null,null,null,null,null,null,null,"",{"$f":"IF(C943<>0,(IF(lfValidaCNPJ(C943)=TRUE,\"Válido\",\"Inválido\")),\"\")","v":""},{"$f":"IF(F943<>0,(IF(lfValidaCEP(F943)=TRUE,\"Válido\",\"Inválido\")),\"\")","v":""}]
[null,null,null,null,null,null,null,null,null,null,null,null,null,"",{"$f":"IF(C944<>0,(IF(lfValidaCNPJ(C944)=TRUE,\"Válido\",\"Inválido\")),\"\")","v":""},{"$f":"IF(F944<>0,(IF(lfValidaCEP(F944)=TRUE,\"Válido\",\"Inválido\")),\"\")","v":""}]
[null,null,null,null,null,null,null,null,null,null,null,null,null,"",{"$f":"IF(C945<>0,(IF(lfValidaCNPJ(C945)=TRUE,\"Válido\",\"Inválido\")),\"\")","v":""},{"$f":"IF(F945<>0,(IF(lfValidaCEP(F945)=TRUE,\"Válido\",\"Inválido\")),\"\")","v":""}]
[null,null,null,null,null,null,null,null,null,null,null,null,null,"",{"$f":"IF(C946<>0,(IF(lfValidaCNPJ(C946)=TRUE,\"Válido\",\"Inválido\")),\"\")","v":""},{"$f":"IF(F946<>0,(IF(lfValidaCEP(F946)=TRUE,\"Válido\",\"Inválido\")),\"\")","v":""}]
[null,null,null,null,null,null,null,null,null,null,null,null,null,"",{"$f":"IF(C947<>0,(IF(lfValidaCNPJ(C947)=TRUE,\"Válido\",\"Inválido\")),\"\")","v":""},{"$f":"IF(F947<>0,(IF(lfValidaCEP(F947)=TRUE,\"Válido\",\"Inválido\")),\"\")","v":""}]
[null,null,null,null,null,null,null,null,null,null,null,null,null,"",{"$f":"IF(C948<>0,(IF(lfValidaCNPJ(C948)=TRUE,\"Válido\",\"Inválido\")),\"\")","v":""},{"$f":"IF(F948<>0,(IF(lfValidaCEP(F948)=TRUE,\"Válido\",\"Inválido\")),\"\")","v":""}]
[null,null,null,null,null,null,null,null,null,null,null,null,null,"",{"$f":"IF(C949<>0,(IF(lfValidaCNPJ(C949)=TRUE,\"Válido\",\"Inválido\")),\"\")","v":""},{"$f":"IF(F949<>0,(IF(lfValidaCEP(F949)=TRUE,\"Válido\",\"Inválido\")),\"\")","v":""}]
[null,null,null,null,null,null,null,null,null,null,null,null,null,"",{"$f":"IF(C950<>0,(IF(lfValidaCNPJ(C950)=TRUE,\"Válido\",\"Inválido\")),\"\")","v":""},{"$f":"IF(F950<>0,(IF(lfValidaCEP(F950)=TRUE,\"Válido\",\"Inválido\")),\"\")","v":""}]
[null,null,null,null,null,null,null,null,null,null,null,null,null,"",{"$f":"IF(C951<>0,(IF(lfValidaCNPJ(C951)=TRUE,\"Válido\",\"Inválido\")),\"\")","v":""},{"$f":"IF(F951<>0,(IF(lfValidaCEP(F951)=TRUE,\"Válido\",\"Inválido\")),\"\")","v":""}]
[null,null,null,null,null,null,null,null,null,null,null,null,null,"",{"$f":"IF(C952<>0,(IF(lfValidaCNPJ(C952)=TRUE,\"Válido\",\"Inválido\")),\"\")","v":""},{"$f":"IF(F952<>0,(IF(lfValidaCEP(F952)=TRUE,\"Válido\",\"Inválido\")),\"\")","v":""}]
[null,null,null,null,null,null,null,null,null,null,null,null,null,"",{"$f":"IF(C953<>0,(IF(lfValidaCNPJ(C953)=TRUE,\"Válido\",\"Inválido\")),\"\")","v":""},{"$f":"IF(F953<>0,(IF(lfValidaCEP(F953)=TRUE,\"Válido\",\"Inválido\")),\"\")","v":""}]
[null,null,null,null,null,null,null,null,null,null,null,null,null,"",{"$f":"IF(C954<>0,(IF(lfValidaCNPJ(C954)=TRUE,\"Válido\",\"Inválido\")),\"\")","v":""},{"$f":"IF(F954<>0,(IF(lfValidaCEP(F954)=TRUE,\"Válido\",\"Inválido\")),\"\")","v":""}]
[null,null,null,null,null,null,null,null,null,null,null,null,null,"",{"$f":"IF(C955<>0,(IF(lfValidaCNPJ(C955)=TRUE,\"Válido\",\"Inválido\")),\"\")","v":""},{"$f":"IF(F955<>0,(IF(lfValidaCEP(F955)=TRUE,\"Válido\",\"Inválido\")),\"\")","v":""}]
[null,null,null,null,null,null,null,null,null,null,null,null,null,"",{"$f":"IF(C956<>0,(IF(lfValidaCNPJ(C956)=TRUE,\"Válido\",\"Inválido\")),\"\")","v":""},{"$f":"IF(F956<>0,(IF(lfValidaCEP(F956)=TRUE,\"Válido\",\"Inválido\")),\"\")","v":""}]
[null,null,null,null,null,null,null,null,null,null,null,null,null,"",{"$f":"IF(C957<>0,(IF(lfValidaCNPJ(C957)=TRUE,\"Válido\",\"Inválido\")),\"\")","v":""},{"$f":"IF(F957<>0,(IF(lfValidaCEP(F957)=TRUE,\"Válido\",\"Inválido\")),\"\")","v":""}]
[null,null,null,null,null,null,null,null,null,null,null,null,null,"",{"$f":"IF(C958<>0,(IF(lfValidaCNPJ(C958)=TRUE,\"Válido\",\"Inválido\")),\"\")","v":""},{"$f":"IF(F958<>0,(IF(lfValidaCEP(F958)=TRUE,\"Válido\",\"Inválido\")),\"\")","v":""}]
[null,null,null,null,null,null,null,null,null,null,null,null,null,"",{"$f":"IF(C959<>0,(IF(lfValidaCNPJ(C959)=TRUE,\"Válido\",\"Inválido\")),\"\")","v":""},{"$f":"IF(F959<>0,(IF(lfValidaCEP(F959)=TRUE,\"Válido\",\"Inválido\")),\"\")","v":""}]
[null,null,null,null,null,null,null,null,null,null,null,null,null,"",{"$f":"IF(C960<>0,(IF(lfValidaCNPJ(C960)=TRUE,\"Válido\",\"Inválido\")),\"\")","v":""},{"$f":"IF(F960<>0,(IF(lfValidaCEP(F960)=TRUE,\"Válido\",\"Inválido\")),\"\")","v":""}]
[null,null,null,null,null,null,null,null,null,null,null,null,null,"",{"$f":"IF(C961<>0,(IF(lfValidaCNPJ(C961)=TRUE,\"Válido\",\"Inválido\")),\"\")","v":""},{"$f":"IF(F961<>0,(IF(lfValidaCEP(F961)=TRUE,\"Válido\",\"Inválido\")),\"\")","v":""}]
[null,null,null,null,null,null,null,null,null,null,null,null,null,"",{"$f":"IF(C962<>0,(IF(lfValidaCNPJ(C962)=TRUE,\"Válido\",\"Inválido\")),\"\")","v":""},{"$f":"IF(F962<>0,(IF(lfValidaCEP(F962)=TRUE,\"Válido\",\"Inválido\")),\"\")","v":""}]
[null,null,null,null,null,null,null,null,null,null,null,null,null,"",{"$f":"IF(C963<>0,(IF(lfValidaCNPJ(C963)=TRUE,\"Válido\",\"Inválido\")),\"\")","v":""},{"$f":"IF(F963<>0,(IF(lfValidaCEP(F963)=TRUE,\"Válido\",\"Inválido\")),\"\")","v":""}]
[null,null,null,null,null,null,null,null,null,null,null,null,null,"",{"$f":"IF(C964<>0,(IF(lfValidaCNPJ(C964)=TRUE,\"Válido\",\"Inválido\")),\"\")","v":""},{"$f":"IF(F964<>0,(IF(lfValidaCEP(F964)=TRUE,\"Válido\",\"Inválido\")),\"\")","v":""}]
[null,null,null,null,null,null,null,null,null,null,null,null,null,"",{"$f":"IF(C965<>0,(IF(lfValidaCNPJ(C965)=TRUE,\"Válido\",\"Inválido\")),\"\")","v":""},{"$f":"IF(F965<>0,(IF(lfValidaCEP(F965)=TRUE,\"Válido\",\"Inválido\")),\"\")","v":""}]
[null,null,null,null,null,null,null,null,null,null,null,null,null,"",{"$f":"IF(C966<>0,(IF(lfValidaCNPJ(C966)=TRUE,\"Válido\",\"Inválido\")),\"\")","v":""},{"$f":"IF(F966<>0,(IF(lfValidaCEP(F966)=TRUE,\"Válido\",\"Inválido\")),\"\")","v":""}]
[null,null,null,null,null,null,null,null,null,null,null,null,null,"",{"$f":"IF(C967<>0,(IF(lfValidaCNPJ(C967)=TRUE,\"Válido\",\"Inválido\")),\"\")","v":""},{"$f":"IF(F967<>0,(IF(lfValidaCEP(F967)=TRUE,\"Válido\",\"Inválido\")),\"\")","v":""}]
[null,null,null,null,null,null,null,null,null,null,null,null,null,"",{"$f":"IF(C968<>0,(IF(lfValidaCNPJ(C968)=TRUE,\"Válido\",\"Inválido\")),\"\")","v":""},{"$f":"IF(F968<>0,(IF(lfValidaCEP(F968)=TRUE,\"Válido\",\"Inválido\")),\"\")","v":""}]
[null,null,null,null,null,null,null,null,null,null,null,null,null,"",{"$f":"IF(C969<>0,(IF(lfValidaCNPJ(C969)=TRUE,\"Válido\",\"Inválido\")),\"\")","v":""},{"$f":"IF(F969<>0,(IF(lfValidaCEP(F969)=TRUE,\"Válido\",\"Inválido\")),\"\")","v":""}]
[null,null,null,null,null,null,null,null,null,null,null,null,null,"",{"$f":"IF(C970<>0,(IF(lfValidaCNPJ(C970)=TRUE,\"Válido\",\"Inválido\")),\"\")","v":""},{"$f":"IF(F970<>0,(IF(lfValidaCEP(F970)=TRUE,\"Válido\",\"Inválido\")),\"\")","v":""}]
[null,null,null,null,null,null,null,null,null,null,null,null,null,"",{"$f":"IF(C971<>0,(IF(lfValidaCNPJ(C971)=TRUE,\"Válido\",\"Inválido\")),\"\")","v":""},{"$f":"IF(F971<>0,(IF(lfValidaCEP(F971)=TRUE,\"Válido\",\"Inválido\")),\"\")","v":""}]
[null,null,null,null,null,null,null,null,null,null,null,null,null,{"$f":"IF(COUNTA(B972:J972)<>0,IF(AND(B972<>0,C972<>0,D972<>0,E972<>0,F972<>0,G972<>0,H972<>0,I972<>0,J972<>0),\"Completo\",\"Incompleto\"),\"\")","v":""},{"$f":"IF(C972<>0,(IF(lfValidaCNPJ(C972)=TRUE,\"Válido\",\"Inválido\")),\"\")","v":""},{"$f":"IF(F972<>0,(IF(lfValidaCEP(F972)=TRUE,\"Válido\",\"Inválido\")),\"\")","v":""}]
[null,null,null,null,null,null,null,null,null,null,null,null,null,"",{"$f":"IF(C973<>0,(IF(lfValidaCNPJ(C973)=TRUE,\"Válido\",\"Inválido\")),\"\")","v":""},{"$f":"IF(F973<>0,(IF(lfValidaCEP(F973)=TRUE,\"Válido\",\"Inválido\")),\"\")","v":""}]
[null,null,null,null,null,null,null,null,null,null,null,null,null,"",{"$f":"IF(C974<>0,(IF(lfValidaCNPJ(C974)=TRUE,\"Válido\",\"Inválido\")),\"\")","v":""},{"$f":"IF(F974<>0,(IF(lfValidaCEP(F974)=TRUE,\"Válido\",\"Inválido\")),\"\")","v":""}]
[null,null,null,null,null,null,null,null,null,null,null,null,null,"",{"$f":"IF(C975<>0,(IF(lfValidaCNPJ(C975)=TRUE,\"Válido\",\"Inválido\")),\"\")","v":""},{"$f":"IF(F975<>0,(IF(lfValidaCEP(F975)=TRUE,\"Válido\",\"Inválido\")),\"\")","v":""}]
[null,null,null,null,null,null,null,null,null,null,null,null,null,"",{"$f":"IF(C976<>0,(IF(lfValidaCNPJ(C976)=TRUE,\"Válido\",\"Inválido\")),\"\")","v":""},{"$f":"IF(F976<>0,(IF(lfValidaCEP(F976)=TRUE,\"Válido\",\"Inválido\")),\"\")","v":""}]
[null,null,null,null,null,null,null,null,null,null,null,null,null,"",{"$f":"IF(C977<>0,(IF(lfValidaCNPJ(C977)=TRUE,\"Válido\",\"Inválido\")),\"\")","v":""},{"$f":"IF(F977<>0,(IF(lfValidaCEP(F977)=TRUE,\"Válido\",\"Inválido\")),\"\")","v":""}]
[null,null,null,null,null,null,null,null,null,null,null,null,null,"",{"$f":"IF(C978<>0,(IF(lfValidaCNPJ(C978)=TRUE,\"Válido\",\"Inválido\")),\"\")","v":""},{"$f":"IF(F978<>0,(IF(lfValidaCEP(F978)=TRUE,\"Válido\",\"Inválido\")),\"\")","v":""}]
[null,null,null,null,null,null,null,null,null,null,null,null,null,"",{"$f":"IF(C979<>0,(IF(lfValidaCNPJ(C979)=TRUE,\"Válido\",\"Inválido\")),\"\")","v":""},{"$f":"IF(F979<>0,(IF(lfValidaCEP(F979)=TRUE,\"Válido\",\"Inválido\")),\"\")","v":""}]
[null,null,null,null,null,null,null,null,null,null,null,null,null,"",{"$f":"IF(C980<>0,(IF(lfValidaCNPJ(C980)=TRUE,\"Válido\",\"Inválido\")),\"\")","v":""},{"$f":"IF(F980<>0,(IF(lfValidaCEP(F980)=TRUE,\"Válido\",\"Inválido\")),\"\")","v":""}]
[null,null,null,null,null,null,null,null,null,null,null,null,null,"",{"$f":"IF(C981<>0,(IF(lfValidaCNPJ(C981)=TRUE,\"Válido\",\"Inválido\")),\"\")","v":""},{"$f":"IF(F981<>0,(IF(lfValidaCEP(F981)=TRUE,\"Válido\",\"Inválido\")),\"\")","v":""}]
[null,null,null,null,null,null,null,null,null,null,null,null,null,"",{"$f":"IF(C982<>0,(IF(lfValidaCNPJ(C982)=TRUE,\"Válido\",\"Inválido\")),\"\")","v":""},{"$f":"IF(F982<>0,(IF(lfValidaCEP(F982)=TRUE,\"Válido\",\"Inválido\")),\"\")","v":""}]
[null,null,null,null,null,null,null,null,null,null,null,null,null,"",{"$f":"IF(C983<>0,(IF(lfValidaCNPJ(C983)=TRUE,\"Válido\",\"Inválido\")),\"\")","v":""},{"$f":"IF(F983<>0,(IF(lfValidaCEP(F983)=TRUE,\"Válido\",\"Inválido\")),\"\")","v":""}]
[null,null,null,null,null,null,null,null,null,null,null,null,null,"",{"$f":"IF(C984<>0,(IF(lfValidaCNPJ(C984)=TRUE,\"Válido\",\"Inválido\")),\"\")","v":""},{"$f":"IF(F984<>0,(IF(lfValidaCEP(F984)=TRUE,\"Válido\",\"Inválido\")),\"\")","v":""}]
[null,null,null,null,null,null,null,null,null,null,null,null,null,"",{"$f":"IF(C985<>0,(IF(lfValidaCNPJ(C985)=TRUE,\"Válido\",\"Inválido\")),\"\")","v":""},{"$f":"IF(F985<>0,(IF(lfValidaCEP(F985)=TRUE,\"Válido\",\"Inválido\")),\"\")","v":""}]
[null,null,null,null,null,null,null,null,null,null,null,null,null,"",{"$f":"IF(C986<>0,(IF(lfValidaCNPJ(C986)=TRUE,\"Válido\",\"Inválido\")),\"\")","v":""},{"$f":"IF(F986<>0,(IF(lfValidaCEP(F986)=TRUE,\"Válido\",\"Inválido\")),\"\")","v":""}]
[null,null,null,null,null,null,null,null,null,null,null,null,null,"",{"$f":"IF(C987<>0,(IF(lfValidaCNPJ(C987)=TRUE,\"Válido\",\"Inválido\")),\"\")","v":""},{"$f":"IF(F987<>0,(IF(lfValidaCEP(F987)=TRUE,\"Válido\",\"Inválido\")),\"\")","v":""}]
[null,null,null,null,null,null,null,null,null,null,null,null,null,"",{"$f":"IF(C988<>0,(IF(lfValidaCNPJ(C988)=TRUE,\"Válido\",\"Inválido\")),\"\")","v":""},{"$f":"IF(F988<>0,(IF(lfValidaCEP(F988)=TRUE,\"Válido\",\"Inválido\")),\"\")","v":""}]
[null,null,null,null,null,null,null,null,null,null,null,null,null,"",{"$f":"IF(C989<>0,(IF(lfValidaCNPJ(C989)=TRUE,\"Válido\",\"Inválido\")),\"\")","v":""},{"$f":"IF(F989<>0,(IF(lfValidaCEP(F989)=TRUE,\"Válido\",\"Inválido\")),\"\")","v":""}]
[null,null,null,null,null,null,null,null,null,null,null,null,null,"",{"$f":"IF(C990<>0,(IF(lfValidaCNPJ(C990)=TRUE,\"Válido\",\"Inválido\")),\"\")","v":""},{"$f":"IF(F990<>0,(IF(lfValidaCEP(F990)=TRUE,\"Válido\",\"Inválido\")),\"\")","v":""}]
[null,null,null,null,null,null,null,null,null,null,null,null,null,"",{"$f":"IF(C991<>0,(IF(lfValidaCNPJ(C991)=TRUE,\"Válido\",\"Inválido\")),\"\")","v":""},{"$f":"IF(F991<>0,(IF(lfValidaCEP(F991)=TRUE,\"Válido\",\"Inválido\")),\"\")","v":""}]
[null,null,null,null,null,null,null,null,null,null,null,null,null,"",{"$f":"IF(C992<>0,(IF(lfValidaCNPJ(C992)=TRUE,\"Válido\",\"Inválido\")),\"\")","v":""},{"$f":"IF(F992<>0,(IF(lfValidaCEP(F992)=TRUE,\"Válido\",\"Inválido\")),\"\")","v":""}]
[null,null,null,null,null,null,null,null,null,null,null,null,null,"",{"$f":"IF(C993<>0,(IF(lfValidaCNPJ(C993)=TRUE,\"Válido\",\"Inválido\")),\"\")","v":""},{"$f":"IF(F993<>0,(IF(lfValidaCEP(F993)=TRUE,\"Válido\",\"Inválido\")),\"\")","v":""}]
[null,null,null,null,null,null,null,null,null,null,null,null,null,"",{"$f":"IF(C994<>0,(IF(lfValidaCNPJ(C994)=TRUE,\"Válido\",\"Inválido\")),\"\")","v":""},{"$f":"IF(F994<>0,(IF(lfValidaCEP(F994)=TRUE,\"Válido\",\"Inválido\")),\"\")","v":""}]
[null,null,null,null,null,null,null,null,null,null,null,null,null,"",{"$f":"IF(C995<>0,(IF(lfValidaCNPJ(C995)=TRUE,\"Válido\",\"Inválido\")),\"\")","v":""},{"$f":"IF(F995<>0,(IF(lfValidaCEP(F995)=TRUE,\"Válido\",\"Inválido\")),\"\")","v":""}]
[null,null,null,null,null,null,null,null,null,null,null,null,null,"",{"$f":"IF(C996<>0,(IF(lfValidaCNPJ(C996)=TRUE,\"Válido\",\"Inválido\")),\"\")","v":""},{"$f":"IF(F996<>0,(IF(lfValidaCEP(F996)=TRUE,\"Válido\",\"Inválido\")),\"\")","v":""}]
[null,null,null,null,null,null,null,null,null,null,null,null,null,"",{"$f":"IF(C997<>0,(IF(lfValidaCNPJ(C997)=TRUE,\"Válido\",\"Inválido\")),\"\")","v":""},{"$f":"IF(F997<>0,(IF(lfValidaCEP(F997)=TRUE,\"Válido\",\"Inválido\")),\"\")","v":""}]
[null,null,null,null,null,null,null,null,null,null,null,null,null,"",{"$f":"IF(C998<>0,(IF(lfValidaCNPJ(C998)=TRUE,\"Válido\",\"Inválido\")),\"\")","v":""},{"$f":"IF(F998<>0,(IF(lfValidaCEP(F998)=TRUE,\"Válido\",\"Inválido\")),\"\")","v":""}]
[null,null,null,null,null,null,null,null,null,null,null,null,null,"",{"$f":"IF(C999<>0,(IF(lfValidaCNPJ(C999)=TRUE,\"Válido\",\"Inválido\")),\"\")","v":""},{"$f":"IF(F999<>0,(IF(lfValidaCEP(F999)=TRUE,\"Válido\",\"Inválido\")),\"\")","v":""}]
[null,null,null,null,null,null,null,null,null,null,null,null,null,"",{"$f":"IF(C1000<>0,(IF(lfValidaCNPJ(C1000)=TRUE,\"Válido\",\"Inválido\")),\"\")","v":""},{"$f":"IF(F1000<>0,(IF(lfValidaCEP(F1000)=TRUE,\"Válido\",\"Inválido\")),\"\")","v":""}]
[null,null,null,null,null,null,null,null,null,null,null,null,null,"",{"$f":"IF(C1001<>0,(IF(lfValidaCNPJ(C1001)=TRUE,\"Válido\",\"Inválido\")),\"\")","v":""},{"$f":"IF(F1001<>0,(IF(lfValidaCEP(F1001)=TRUE,\"Válido\",\"Inválido\")),\"\")","v":""}]
[null,null,null,null,null,null,null,null,null,null,null,null,null,"",{"$f":"IF(C1002<>0,(IF(lfValidaCNPJ(C1002)=TRUE,\"Válido\",\"Inválido\")),\"\")","v":""},{"$f":"IF(F1002<>0,(IF(lfValidaCEP(F1002)=TRUE,\"Válido\",\"Inválido\")),\"\")","v":""}]
[null,null,null,null,null,null,null,null,null,null,null,null,null,"",{"$f":"IF(C1003<>0,(IF(lfValidaCNPJ(C1003)=TRUE,\"Válido\",\"Inválido\")),\"\")","v":""},{"$f":"IF(F1003<>0,(IF(lfValidaCEP(F1003)=TRUE,\"Válido\",\"Inválido\")),\"\")","v":""}]
[null,null,null,null,null,null,null,null,null,null,null,null,null,"",{"$f":"IF(C1004<>0,(IF(lfValidaCNPJ(C1004)=TRUE,\"Válido\",\"Inválido\")),\"\")","v":""},{"$f":"IF(F1004<>0,(IF(lfValidaCEP(F1004)=TRUE,\"Válido\",\"Inválido\")),\"\")","v":""}]
[null,null,null,null,null,null,null,null,null,null,null,null,null,"",{"$f":"IF(C1005<>0,(IF(lfValidaCNPJ(C1005)=TRUE,\"Válido\",\"Inválido\")),\"\")","v":""},{"$f":"IF(F1005<>0,(IF(lfValidaCEP(F1005)=TRUE,\"Válido\",\"Inválido\")),\"\")","v":""}]
[null,null,null,null,null,null,null,null,null,null,null,null,null,"",{"$f":"IF(C1006<>0,(IF(lfValidaCNPJ(C1006)=TRUE,\"Válido\",\"Inválido\")),\"\")","v":""},{"$f":"IF(F1006<>0,(IF(lfValidaCEP(F1006)=TRUE,\"Válido\",\"Inválido\")),\"\")","v":""}]
[null,null,null,null,null,null,null,null,null,null,null,null,null,"",{"$f":"IF(C1007<>0,(IF(lfValidaCNPJ(C1007)=TRUE,\"Válido\",\"Inválido\")),\"\")","v":""},{"$f":"IF(F1007<>0,(IF(lfValidaCEP(F1007)=TRUE,\"Válido\",\"Inválido\")),\"\")","v":""}]
[null,null,null,null,null,null,null,null,null,null,null,null,null,"",{"$f":"IF(C1008<>0,(IF(lfValidaCNPJ(C1008)=TRUE,\"Válido\",\"Inválido\")),\"\")","v":""},{"$f":"IF(F1008<>0,(IF(lfValidaCEP(F1008)=TRUE,\"Válido\",\"Inválido\")),\"\")","v":""}]
[null,null,null,null,null,null,null,null,null,null,null,null,null,"",{"$f":"IF(C1009<>0,(IF(lfValidaCNPJ(C1009)=TRUE,\"Válido\",\"Inválido\")),\"\")","v":""},{"$f":"IF(F1009<>0,(IF(lfValidaCEP(F1009)=TRUE,\"Válido\",\"Inválido\")),\"\")","v":""}]
[null,null,null,null,null,null,null,null,null,null,null,null,null,"",{"$f":"IF(C1010<>0,(IF(lfValidaCNPJ(C1010)=TRUE,\"Válido\",\"Inválido\")),\"\")","v":""},{"$f":"IF(F1010<>0,(IF(lfValidaCEP(F1010)=TRUE,\"Válido\",\"Inválido\")),\"\")","v":""}]
[null,null,null,null,null,null,null,null,null,null,null,null,null,"",{"$f":"IF(C1011<>0,(IF(lfValidaCNPJ(C1011)=TRUE,\"Válido\",\"Inválido\")),\"\")","v":""},{"$f":"IF(F1011<>0,(IF(lfValidaCEP(F1011)=TRUE,\"Válido\",\"Inválido\")),\"\")","v":""}]
[null,null,null,null,null,null,null,null,null,null,null,null,null,"",{"$f":"IF(C1012<>0,(IF(lfValidaCNPJ(C1012)=TRUE,\"Válido\",\"Inválido\")),\"\")","v":""},{"$f":"IF(F1012<>0,(IF(lfValidaCEP(F1012)=TRUE,\"Válido\",\"Inválido\")),\"\")","v":""}]
[null,null,null,null,null,null,null,null,null,null,null,null,null,"",{"$f":"IF(C1013<>0,(IF(lfValidaCNPJ(C1013)=TRUE,\"Válido\",\"Inválido\")),\"\")","v":""},{"$f":"IF(F1013<>0,(IF(lfValidaCEP(F1013)=TRUE,\"Válido\",\"Inválido\")),\"\")","v":""}]
[null,null,null,null,null,null,null,null,null,null,null,null,null,"",{"$f":"IF(C1014<>0,(IF(lfValidaCNPJ(C1014)=TRUE,\"Válido\",\"Inválido\")),\"\")","v":""},{"$f":"IF(F1014<>0,(IF(lfValidaCEP(F1014)=TRUE,\"Válido\",\"Inválido\")),\"\")","v":""}]
[null,null,null,null,null,null,null,null,null,null,null,null,null,"",{"$f":"IF(C1015<>0,(IF(lfValidaCNPJ(C1015)=TRUE,\"Válido\",\"Inválido\")),\"\")","v":""},{"$f":"IF(F1015<>0,(IF(lfValidaCEP(F1015)=TRUE,\"Válido\",\"Inválido\")),\"\")","v":""}]
[null,null,null,null,null,null,null,null,null,null,null,null,null,"",{"$f":"IF(C1016<>0,(IF(lfValidaCNPJ(C1016)=TRUE,\"Válido\",\"Inválido\")),\"\")","v":""},{"$f":"IF(F1016<>0,(IF(lfValidaCEP(F1016)=TRUE,\"Válido\",\"Inválido\")),\"\")","v":""}]
[null,null,null,null,null,null,null,null,null,null,null,null,null,"",{"$f":"IF(C1017<>0,(IF(lfValidaCNPJ(C1017)=TRUE,\"Válido\",\"Inválido\")),\"\")","v":""},{"$f":"IF(F1017<>0,(IF(lfValidaCEP(F1017)=TRUE,\"Válido\",\"Inválido\")),\"\")","v":""}]
[null,null,null,null,null,null,null,null,null,null,null,null,null,"",{"$f":"IF(C1018<>0,(IF(lfValidaCNPJ(C1018)=TRUE,\"Válido\",\"Inválido\")),\"\")","v":""},{"$f":"IF(F1018<>0,(IF(lfValidaCEP(F1018)=TRUE,\"Válido\",\"Inválido\")),\"\")","v":""}]
[null,null,null,null,null,null,null,null,null,null,null,null,null,"",{"$f":"IF(C1019<>0,(IF(lfValidaCNPJ(C1019)=TRUE,\"Válido\",\"Inválido\")),\"\")","v":""},{"$f":"IF(F1019<>0,(IF(lfValidaCEP(F1019)=TRUE,\"Válido\",\"Inválido\")),\"\")","v":""}]
[null,null,null,null,null,null,null,null,null,null,null,null,null,"",{"$f":"IF(C1020<>0,(IF(lfValidaCNPJ(C1020)=TRUE,\"Válido\",\"Inválido\")),\"\")","v":""},{"$f":"IF(F1020<>0,(IF(lfValidaCEP(F1020)=TRUE,\"Válido\",\"Inválido\")),\"\")","v":""}]
[null,null,null,null,null,null,null,null,null,null,null,null,null,"",{"$f":"IF(C1021<>0,(IF(lfValidaCNPJ(C1021)=TRUE,\"Válido\",\"Inválido\")),\"\")","v":""},{"$f":"IF(F1021<>0,(IF(lfValidaCEP(F1021)=TRUE,\"Válido\",\"Inválido\")),\"\")","v":""}]
[null,null,null,null,null,null,null,null,null,null,null,null,null,"",{"$f":"IF(C1022<>0,(IF(lfValidaCNPJ(C1022)=TRUE,\"Válido\",\"Inválido\")),\"\")","v":""},{"$f":"IF(F1022<>0,(IF(lfValidaCEP(F1022)=TRUE,\"Válido\",\"Inválido\")),\"\")","v":""}]
[null,null,null,null,null,null,null,null,null,null,null,null,null,"",{"$f":"IF(C1023<>0,(IF(lfValidaCNPJ(C1023)=TRUE,\"Válido\",\"Inválido\")),\"\")","v":""},{"$f":"IF(F1023<>0,(IF(lfValidaCEP(F1023)=TRUE,\"Válido\",\"Inválido\")),\"\")","v":""}]
[null,null,null,null,null,null,null,null,null,null,null,null,null,"",{"$f":"IF(C1024<>0,(IF(lfValidaCNPJ(C1024)=TRUE,\"Válido\",\"Inválido\")),\"\")","v":""},{"$f":"IF(F1024<>0,(IF(lfValidaCEP(F1024)=TRUE,\"Válido\",\"Inválido\")),\"\")","v":""}]
[null,null,null,null,null,null,null,null,null,null,null,null,null,"",{"$f":"IF(C1025<>0,(IF(lfValidaCNPJ(C1025)=TRUE,\"Válido\",\"Inválido\")),\"\")","v":""},{"$f":"IF(F1025<>0,(IF(lfValidaCEP(F1025)=TRUE,\"Válido\",\"Inválido\")),\"\")","v":""}]
[null,null,null,null,null,null,null,null,null,null,null,null,null,"",{"$f":"IF(C1026<>0,(IF(lfValidaCNPJ(C1026)=TRUE,\"Válido\",\"Inválido\")),\"\")","v":""},{"$f":"IF(F1026<>0,(IF(lfValidaCEP(F1026)=TRUE,\"Válido\",\"Inválido\")),\"\")","v":""}]
[null,null,null,null,null,null,null,null,null,null,null,null,null,"",{"$f":"IF(C1027<>0,(IF(lfValidaCNPJ(C1027)=TRUE,\"Válido\",\"Inválido\")),\"\")","v":""},{"$f":"IF(F1027<>0,(IF(lfValidaCEP(F1027)=TRUE,\"Válido\",\"Inválido\")),\"\")","v":""}]
[null,null,null,null,null,null,null,null,null,null,null,null,null,"",{"$f":"IF(C1028<>0,(IF(lfValidaCNPJ(C1028)=TRUE,\"Válido\",\"Inválido\")),\"\")","v":""},{"$f":"IF(F1028<>0,(IF(lfValidaCEP(F1028)=TRUE,\"Válido\",\"Inválido\")),\"\")","v":""}]
[null,null,null,null,null,null,null,null,null,null,null,null,null,"",{"$f":"IF(C1029<>0,(IF(lfValidaCNPJ(C1029)=TRUE,\"Válido\",\"Inválido\")),\"\")","v":""},{"$f":"IF(F1029<>0,(IF(lfValidaCEP(F1029)=TRUE,\"Válido\",\"Inválido\")),\"\")","v":""}]
[null,null,null,null,null,null,null,null,null,null,null,null,null,"",{"$f":"IF(C1030<>0,(IF(lfValidaCNPJ(C1030)=TRUE,\"Válido\",\"Inválido\")),\"\")","v":""},{"$f":"IF(F1030<>0,(IF(lfValidaCEP(F1030)=TRUE,\"Válido\",\"Inválido\")),\"\")","v":""}]
[null,null,null,null,null,null,null,null,null,null,null,null,null,"",{"$f":"IF(C1031<>0,(IF(lfValidaCNPJ(C1031)=TRUE,\"Válido\",\"Inválido\")),\"\")","v":""},{"$f":"IF(F1031<>0,(IF(lfValidaCEP(F1031)=TRUE,\"Válido\",\"Inválido\")),\"\")","v":""}]
[null,null,null,null,null,null,null,null,null,null,null,null,null,"",{"$f":"IF(C1032<>0,(IF(lfValidaCNPJ(C1032)=TRUE,\"Válido\",\"Inválido\")),\"\")","v":""},{"$f":"IF(F1032<>0,(IF(lfValidaCEP(F1032)=TRUE,\"Válido\",\"Inválido\")),\"\")","v":""}]
[null,null,null,null,null,null,null,null,null,null,null,null,null,"",{"$f":"IF(C1033<>0,(IF(lfValidaCNPJ(C1033)=TRUE,\"Válido\",\"Inválido\")),\"\")","v":""},{"$f":"IF(F1033<>0,(IF(lfValidaCEP(F1033)=TRUE,\"Válido\",\"Inválido\")),\"\")","v":""}]
[null,null,null,null,null,null,null,null,null,null,null,null,null,"",{"$f":"IF(C1034<>0,(IF(lfValidaCNPJ(C1034)=TRUE,\"Válido\",\"Inválido\")),\"\")","v":""},{"$f":"IF(F1034<>0,(IF(lfValidaCEP(F1034)=TRUE,\"Válido\",\"Inválido\")),\"\")","v":""}]
[null,null,null,null,null,null,null,null,null,null,null,null,null,"",{"$f":"IF(C1035<>0,(IF(lfValidaCNPJ(C1035)=TRUE,\"Válido\",\"Inválido\")),\"\")","v":""},{"$f":"IF(F1035<>0,(IF(lfValidaCEP(F1035)=TRUE,\"Válido\",\"Inválido\")),\"\")","v":""}]
[null,null,null,null,null,null,null,null,null,null,null,null,null,{"$f":"IF(COUNTA(B1036:J1036)<>0,IF(AND(B1036<>0,C1036<>0,D1036<>0,E1036<>0,F1036<>0,G1036<>0,H1036<>0,I1036<>0,J1036<>0),\"Completo\",\"Incompleto\"),\"\")","v":""},{"$f":"IF(C1036<>0,(IF(lfValidaCNPJ(C1036)=TRUE,\"Válido\",\"Inválido\")),\"\")","v":""},{"$f":"IF(F1036<>0,(IF(lfValidaCEP(F1036)=TRUE,\"Válido\",\"Inválido\")),\"\")","v":""}]
[null,null,null,null,null,null,null,null,null,null,null,null,null,"",{"$f":"IF(C1037<>0,(IF(lfValidaCNPJ(C1037)=TRUE,\"Válido\",\"Inválido\")),\"\")","v":""},{"$f":"IF(F1037<>0,(IF(lfValidaCEP(F1037)=TRUE,\"Válido\",\"Inválido\")),\"\")","v":""}]
[null,null,null,null,null,null,null,null,null,null,null,null,null,"",{"$f":"IF(C1038<>0,(IF(lfValidaCNPJ(C1038)=TRUE,\"Válido\",\"Inválido\")),\"\")","v":""},{"$f":"IF(F1038<>0,(IF(lfValidaCEP(F1038)=TRUE,\"Válido\",\"Inválido\")),\"\")","v":""}]
[null,null,null,null,null,null,null,null,null,null,null,null,null,"",{"$f":"IF(C1039<>0,(IF(lfValidaCNPJ(C1039)=TRUE,\"Válido\",\"Inválido\")),\"\")","v":""},{"$f":"IF(F1039<>0,(IF(lfValidaCEP(F1039)=TRUE,\"Válido\",\"Inválido\")),\"\")","v":""}]
[null,null,null,null,null,null,null,null,null,null,null,null,null,"",{"$f":"IF(C1040<>0,(IF(lfValidaCNPJ(C1040)=TRUE,\"Válido\",\"Inválido\")),\"\")","v":""},{"$f":"IF(F1040<>0,(IF(lfValidaCEP(F1040)=TRUE,\"Válido\",\"Inválido\")),\"\")","v":""}]
[null,null,null,null,null,null,null,null,null,null,null,null,null,"",{"$f":"IF(C1041<>0,(IF(lfValidaCNPJ(C1041)=TRUE,\"Válido\",\"Inválido\")),\"\")","v":""},{"$f":"IF(F1041<>0,(IF(lfValidaCEP(F1041)=TRUE,\"Válido\",\"Inválido\")),\"\")","v":""}]
[null,null,null,null,null,null,null,null,null,null,null,null,null,"",{"$f":"IF(C1042<>0,(IF(lfValidaCNPJ(C1042)=TRUE,\"Válido\",\"Inválido\")),\"\")","v":""},{"$f":"IF(F1042<>0,(IF(lfValidaCEP(F1042)=TRUE,\"Válido\",\"Inválido\")),\"\")","v":""}]
[null,null,null,null,null,null,null,null,null,null,null,null,null,"",{"$f":"IF(C1043<>0,(IF(lfValidaCNPJ(C1043)=TRUE,\"Válido\",\"Inválido\")),\"\")","v":""},{"$f":"IF(F1043<>0,(IF(lfValidaCEP(F1043)=TRUE,\"Válido\",\"Inválido\")),\"\")","v":""}]
[null,null,null,null,null,null,null,null,null,null,null,null,null,"",{"$f":"IF(C1044<>0,(IF(lfValidaCNPJ(C1044)=TRUE,\"Válido\",\"Inválido\")),\"\")","v":""},{"$f":"IF(F1044<>0,(IF(lfValidaCEP(F1044)=TRUE,\"Válido\",\"Inválido\")),\"\")","v":""}]
[null,null,null,null,null,null,null,null,null,null,null,null,null,"",{"$f":"IF(C1045<>0,(IF(lfValidaCNPJ(C1045)=TRUE,\"Válido\",\"Inválido\")),\"\")","v":""},{"$f":"IF(F1045<>0,(IF(lfValidaCEP(F1045)=TRUE,\"Válido\",\"Inválido\")),\"\")","v":""}]
[null,null,null,null,null,null,null,null,null,null,null,null,null,"",{"$f":"IF(C1046<>0,(IF(lfValidaCNPJ(C1046)=TRUE,\"Válido\",\"Inválido\")),\"\")","v":""},{"$f":"IF(F1046<>0,(IF(lfValidaCEP(F1046)=TRUE,\"Válido\",\"Inválido\")),\"\")","v":""}]
[null,null,null,null,null,null,null,null,null,null,null,null,null,"",{"$f":"IF(C1047<>0,(IF(lfValidaCNPJ(C1047)=TRUE,\"Válido\",\"Inválido\")),\"\")","v":""},{"$f":"IF(F1047<>0,(IF(lfValidaCEP(F1047)=TRUE,\"Válido\",\"Inválido\")),\"\")","v":""}]
[null,null,null,null,null,null,null,null,null,null,null,null,null,"",{"$f":"IF(C1048<>0,(IF(lfValidaCNPJ(C1048)=TRUE,\"Válido\",\"Inválido\")),\"\")","v":""},{"$f":"IF(F1048<>0,(IF(lfValidaCEP(F1048)=TRUE,\"Válido\",\"Inválido\")),\"\")","v":""}]
[null,null,null,null,null,null,null,null,null,null,null,null,null,"",{"$f":"IF(C1049<>0,(IF(lfValidaCNPJ(C1049)=TRUE,\"Válido\",\"Inválido\")),\"\")","v":""},{"$f":"IF(F1049<>0,(IF(lfValidaCEP(F1049)=TRUE,\"Válido\",\"Inválido\")),\"\")","v":""}]
[null,null,null,null,null,null,null,null,null,null,null,null,null,"",{"$f":"IF(C1050<>0,(IF(lfValidaCNPJ(C1050)=TRUE,\"Válido\",\"Inválido\")),\"\")","v":""},{"$f":"IF(F1050<>0,(IF(lfValidaCEP(F1050)=TRUE,\"Válido\",\"Inválido\")),\"\")","v":""}]
[null,null,null,null,null,null,null,null,null,null,null,null,null,"",{"$f":"IF(C1051<>0,(IF(lfValidaCNPJ(C1051)=TRUE,\"Válido\",\"Inválido\")),\"\")","v":""},{"$f":"IF(F1051<>0,(IF(lfValidaCEP(F1051)=TRUE,\"Válido\",\"Inválido\")),\"\")","v":""}]
[null,null,null,null,null,null,null,null,null,null,null,null,null,"",{"$f":"IF(C1052<>0,(IF(lfValidaCNPJ(C1052)=TRUE,\"Válido\",\"Inválido\")),\"\")","v":""},{"$f":"IF(F1052<>0,(IF(lfValidaCEP(F1052)=TRUE,\"Válido\",\"Inválido\")),\"\")","v":""}]
[null,null,null,null,null,null,null,null,null,null,null,null,null,"",{"$f":"IF(C1053<>0,(IF(lfValidaCNPJ(C1053)=TRUE,\"Válido\",\"Inválido\")),\"\")","v":""},{"$f":"IF(F1053<>0,(IF(lfValidaCEP(F1053)=TRUE,\"Válido\",\"Inválido\")),\"\")","v":""}]
[null,null,null,null,null,null,null,null,null,null,null,null,null,"",{"$f":"IF(C1054<>0,(IF(lfValidaCNPJ(C1054)=TRUE,\"Válido\",\"Inválido\")),\"\")","v":""},{"$f":"IF(F1054<>0,(IF(lfValidaCEP(F1054)=TRUE,\"Válido\",\"Inválido\")),\"\")","v":""}]
[null,null,null,null,null,null,null,null,null,null,null,null,null,"",{"$f":"IF(C1055<>0,(IF(lfValidaCNPJ(C1055)=TRUE,\"Válido\",\"Inválido\")),\"\")","v":""},{"$f":"IF(F1055<>0,(IF(lfValidaCEP(F1055)=TRUE,\"Válido\",\"Inválido\")),\"\")","v":""}]
[null,null,null,null,null,null,null,null,null,null,null,null,null,"",{"$f":"IF(C1056<>0,(IF(lfValidaCNPJ(C1056)=TRUE,\"Válido\",\"Inválido\")),\"\")","v":""},{"$f":"IF(F1056<>0,(IF(lfValidaCEP(F1056)=TRUE,\"Válido\",\"Inválido\")),\"\")","v":""}]
[null,null,null,null,null,null,null,null,null,null,null,null,null,"",{"$f":"IF(C1057<>0,(IF(lfValidaCNPJ(C1057)=TRUE,\"Válido\",\"Inválido\")),\"\")","v":""},{"$f":"IF(F1057<>0,(IF(lfValidaCEP(F1057)=TRUE,\"Válido\",\"Inválido\")),\"\")","v":""}]
[null,null,null,null,null,null,null,null,null,null,null,null,null,"",{"$f":"IF(C1058<>0,(IF(lfValidaCNPJ(C1058)=TRUE,\"Válido\",\"Inválido\")),\"\")","v":""},{"$f":"IF(F1058<>0,(IF(lfValidaCEP(F1058)=TRUE,\"Válido\",\"Inválido\")),\"\")","v":""}]
[null,null,null,null,null,null,null,null,null,null,null,null,null,"",{"$f":"IF(C1059<>0,(IF(lfValidaCNPJ(C1059)=TRUE,\"Válido\",\"Inválido\")),\"\")","v":""},{"$f":"IF(F1059<>0,(IF(lfValidaCEP(F1059)=TRUE,\"Válido\",\"Inválido\")),\"\")","v":""}]
[null,null,null,null,null,null,null,null,null,null,null,null,null,"",{"$f":"IF(C1060<>0,(IF(lfValidaCNPJ(C1060)=TRUE,\"Válido\",\"Inválido\")),\"\")","v":""},{"$f":"IF(F1060<>0,(IF(lfValidaCEP(F1060)=TRUE,\"Válido\",\"Inválido\")),\"\")","v":""}]
[null,null,null,null,null,null,null,null,null,null,null,null,null,"",{"$f":"IF(C1061<>0,(IF(lfValidaCNPJ(C1061)=TRUE,\"Válido\",\"Inválido\")),\"\")","v":""},{"$f":"IF(F1061<>0,(IF(lfValidaCEP(F1061)=TRUE,\"Válido\",\"Inválido\")),\"\")","v":""}]
[null,null,null,null,null,null,null,null,null,null,null,null,null,"",{"$f":"IF(C1062<>0,(IF(lfValidaCNPJ(C1062)=TRUE,\"Válido\",\"Inválido\")),\"\")","v":""},{"$f":"IF(F1062<>0,(IF(lfValidaCEP(F1062)=TRUE,\"Válido\",\"Inválido\")),\"\")","v":""}]
[null,null,null,null,null,null,null,null,null,null,null,null,null,"",{"$f":"IF(C1063<>0,(IF(lfValidaCNPJ(C1063)=TRUE,\"Válido\",\"Inválido\")),\"\")","v":""},{"$f":"IF(F1063<>0,(IF(lfValidaCEP(F1063)=TRUE,\"Válido\",\"Inválido\")),\"\")","v":""}]
[null,null,null,null,null,null,null,null,null,null,null,null,null,"",{"$f":"IF(C1064<>0,(IF(lfValidaCNPJ(C1064)=TRUE,\"Válido\",\"Inválido\")),\"\")","v":""},{"$f":"IF(F1064<>0,(IF(lfValidaCEP(F1064)=TRUE,\"Válido\",\"Inválido\")),\"\")","v":""}]
[null,null,null,null,null,null,null,null,null,null,null,null,null,"",{"$f":"IF(C1065<>0,(IF(lfValidaCNPJ(C1065)=TRUE,\"Válido\",\"Inválido\")),\"\")","v":""},{"$f":"IF(F1065<>0,(IF(lfValidaCEP(F1065)=TRUE,\"Válido\",\"Inválido\")),\"\")","v":""}]
[null,null,null,null,null,null,null,null,null,null,null,null,null,"",{"$f":"IF(C1066<>0,(IF(lfValidaCNPJ(C1066)=TRUE,\"Válido\",\"Inválido\")),\"\")","v":""},{"$f":"IF(F1066<>0,(IF(lfValidaCEP(F1066)=TRUE,\"Válido\",\"Inválido\")),\"\")","v":""}]
[null,null,null,null,null,null,null,null,null,null,null,null,null,"",{"$f":"IF(C1067<>0,(IF(lfValidaCNPJ(C1067)=TRUE,\"Válido\",\"Inválido\")),\"\")","v":""},{"$f":"IF(F1067<>0,(IF(lfValidaCEP(F1067)=TRUE,\"Válido\",\"Inválido\")),\"\")","v":""}]
[null,null,null,null,null,null,null,null,null,null,null,null,null,"",{"$f":"IF(C1068<>0,(IF(lfValidaCNPJ(C1068)=TRUE,\"Válido\",\"Inválido\")),\"\")","v":""},{"$f":"IF(F1068<>0,(IF(lfValidaCEP(F1068)=TRUE,\"Válido\",\"Inválido\")),\"\")","v":""}]
[null,null,null,null,null,null,null,null,null,null,null,null,null,"",{"$f":"IF(C1069<>0,(IF(lfValidaCNPJ(C1069)=TRUE,\"Válido\",\"Inválido\")),\"\")","v":""},{"$f":"IF(F1069<>0,(IF(lfValidaCEP(F1069)=TRUE,\"Válido\",\"Inválido\")),\"\")","v":""}]
[null,null,null,null,null,null,null,null,null,null,null,null,null,"",{"$f":"IF(C1070<>0,(IF(lfValidaCNPJ(C1070)=TRUE,\"Válido\",\"Inválido\")),\"\")","v":""},{"$f":"IF(F1070<>0,(IF(lfValidaCEP(F1070)=TRUE,\"Válido\",\"Inválido\")),\"\")","v":""}]
[null,null,null,null,null,null,null,null,null,null,null,null,null,"",{"$f":"IF(C1071<>0,(IF(lfValidaCNPJ(C1071)=TRUE,\"Válido\",\"Inválido\")),\"\")","v":""},{"$f":"IF(F1071<>0,(IF(lfValidaCEP(F1071)=TRUE,\"Válido\",\"Inválido\")),\"\")","v":""}]
[null,null,null,null,null,null,null,null,null,null,null,null,null,"",{"$f":"IF(C1072<>0,(IF(lfValidaCNPJ(C1072)=TRUE,\"Válido\",\"Inválido\")),\"\")","v":""},{"$f":"IF(F1072<>0,(IF(lfValidaCEP(F1072)=TRUE,\"Válido\",\"Inválido\")),\"\")","v":""}]
[null,null,null,null,null,null,null,null,null,null,null,null,null,"",{"$f":"IF(C1073<>0,(IF(lfValidaCNPJ(C1073)=TRUE,\"Válido\",\"Inválido\")),\"\")","v":""},{"$f":"IF(F1073<>0,(IF(lfValidaCEP(F1073)=TRUE,\"Válido\",\"Inválido\")),\"\")","v":""}]
[null,null,null,null,null,null,null,null,null,null,null,null,null,"",{"$f":"IF(C1074<>0,(IF(lfValidaCNPJ(C1074)=TRUE,\"Válido\",\"Inválido\")),\"\")","v":""},{"$f":"IF(F1074<>0,(IF(lfValidaCEP(F1074)=TRUE,\"Válido\",\"Inválido\")),\"\")","v":""}]
[null,null,null,null,null,null,null,null,null,null,null,null,null,"",{"$f":"IF(C1075<>0,(IF(lfValidaCNPJ(C1075)=TRUE,\"Válido\",\"Inválido\")),\"\")","v":""},{"$f":"IF(F1075<>0,(IF(lfValidaCEP(F1075)=TRUE,\"Válido\",\"Inválido\")),\"\")","v":""}]
[null,null,null,null,null,null,null,null,null,null,null,null,null,"",{"$f":"IF(C1076<>0,(IF(lfValidaCNPJ(C1076)=TRUE,\"Válido\",\"Inválido\")),\"\")","v":""},{"$f":"IF(F1076<>0,(IF(lfValidaCEP(F1076)=TRUE,\"Válido\",\"Inválido\")),\"\")","v":""}]
[null,null,null,null,null,null,null,null,null,null,null,null,null,"",{"$f":"IF(C1077<>0,(IF(lfValidaCNPJ(C1077)=TRUE,\"Válido\",\"Inválido\")),\"\")","v":""},{"$f":"IF(F1077<>0,(IF(lfValidaCEP(F1077)=TRUE,\"Válido\",\"Inválido\")),\"\")","v":""}]
[null,null,null,null,null,null,null,null,null,null,null,null,null,"",{"$f":"IF(C1078<>0,(IF(lfValidaCNPJ(C1078)=TRUE,\"Válido\",\"Inválido\")),\"\")","v":""},{"$f":"IF(F1078<>0,(IF(lfValidaCEP(F1078)=TRUE,\"Válido\",\"Inválido\")),\"\")","v":""}]
[null,null,null,null,null,null,null,null,null,null,null,null,null,"",{"$f":"IF(C1079<>0,(IF(lfValidaCNPJ(C1079)=TRUE,\"Válido\",\"Inválido\")),\"\")","v":""},{"$f":"IF(F1079<>0,(IF(lfValidaCEP(F1079)=TRUE,\"Válido\",\"Inválido\")),\"\")","v":""}]
[null,null,null,null,null,null,null,null,null,null,null,null,null,"",{"$f":"IF(C1080<>0,(IF(lfValidaCNPJ(C1080)=TRUE,\"Válido\",\"Inválido\")),\"\")","v":""},{"$f":"IF(F1080<>0,(IF(lfValidaCEP(F1080)=TRUE,\"Válido\",\"Inválido\")),\"\")","v":""}]
[null,null,null,null,null,null,null,null,null,null,null,null,null,"",{"$f":"IF(C1081<>0,(IF(lfValidaCNPJ(C1081)=TRUE,\"Válido\",\"Inválido\")),\"\")","v":""},{"$f":"IF(F1081<>0,(IF(lfValidaCEP(F1081)=TRUE,\"Válido\",\"Inválido\")),\"\")","v":""}]
[null,null,null,null,null,null,null,null,null,null,null,null,null,"",{"$f":"IF(C1082<>0,(IF(lfValidaCNPJ(C1082)=TRUE,\"Válido\",\"Inválido\")),\"\")","v":""},{"$f":"IF(F1082<>0,(IF(lfValidaCEP(F1082)=TRUE,\"Válido\",\"Inválido\")),\"\")","v":""}]
[null,null,null,null,null,null,null,null,null,null,null,null,null,"",{"$f":"IF(C1083<>0,(IF(lfValidaCNPJ(C1083)=TRUE,\"Válido\",\"Inválido\")),\"\")","v":""},{"$f":"IF(F1083<>0,(IF(lfValidaCEP(F1083)=TRUE,\"Válido\",\"Inválido\")),\"\")","v":""}]
[null,null,null,null,null,null,null,null,null,null,null,null,null,"",{"$f":"IF(C1084<>0,(IF(lfValidaCNPJ(C1084)=TRUE,\"Válido\",\"Inválido\")),\"\")","v":""},{"$f":"IF(F1084<>0,(IF(lfValidaCEP(F1084)=TRUE,\"Válido\",\"Inválido\")),\"\")","v":""}]
[null,null,null,null,null,null,null,null,null,null,null,null,null,"",{"$f":"IF(C1085<>0,(IF(lfValidaCNPJ(C1085)=TRUE,\"Válido\",\"Inválido\")),\"\")","v":""},{"$f":"IF(F1085<>0,(IF(lfValidaCEP(F1085)=TRUE,\"Válido\",\"Inválido\")),\"\")","v":""}]
[null,null,null,null,null,null,null,null,null,null,null,null,null,"",{"$f":"IF(C1086<>0,(IF(lfValidaCNPJ(C1086)=TRUE,\"Válido\",\"Inválido\")),\"\")","v":""},{"$f":"IF(F1086<>0,(IF(lfValidaCEP(F1086)=TRUE,\"Válido\",\"Inválido\")),\"\")","v":""}]
[null,null,null,null,null,null,null,null,null,null,null,null,null,"",{"$f":"IF(C1087<>0,(IF(lfValidaCNPJ(C1087)=TRUE,\"Válido\",\"Inválido\")),\"\")","v":""},{"$f":"IF(F1087<>0,(IF(lfValidaCEP(F1087)=TRUE,\"Válido\",\"Inválido\")),\"\")","v":""}]
[null,null,null,null,null,null,null,null,null,null,null,null,null,"",{"$f":"IF(C1088<>0,(IF(lfValidaCNPJ(C1088)=TRUE,\"Válido\",\"Inválido\")),\"\")","v":""},{"$f":"IF(F1088<>0,(IF(lfValidaCEP(F1088)=TRUE,\"Válido\",\"Inválido\")),\"\")","v":""}]
[null,null,null,null,null,null,null,null,null,null,null,null,null,"",{"$f":"IF(C1089<>0,(IF(lfValidaCNPJ(C1089)=TRUE,\"Válido\",\"Inválido\")),\"\")","v":""},{"$f":"IF(F1089<>0,(IF(lfValidaCEP(F1089)=TRUE,\"Válido\",\"Inválido\")),\"\")","v":""}]
[null,null,null,null,null,null,null,null,null,null,null,null,null,"",{"$f":"IF(C1090<>0,(IF(lfValidaCNPJ(C1090)=TRUE,\"Válido\",\"Inválido\")),\"\")","v":""},{"$f":"IF(F1090<>0,(IF(lfValidaCEP(F1090)=TRUE,\"Válido\",\"Inválido\")),\"\")","v":""}]
[null,null,null,null,null,null,null,null,null,null,null,null,null,"",{"$f":"IF(C1091<>0,(IF(lfValidaCNPJ(C1091)=TRUE,\"Válido\",\"Inválido\")),\"\")","v":""},{"$f":"IF(F1091<>0,(IF(lfValidaCEP(F1091)=TRUE,\"Válido\",\"Inválido\")),\"\")","v":""}]
[null,null,null,null,null,null,null,null,null,null,null,null,null,"",{"$f":"IF(C1092<>0,(IF(lfValidaCNPJ(C1092)=TRUE,\"Válido\",\"Inválido\")),\"\")","v":""},{"$f":"IF(F1092<>0,(IF(lfValidaCEP(F1092)=TRUE,\"Válido\",\"Inválido\")),\"\")","v":""}]
[null,null,null,null,null,null,null,null,null,null,null,null,null,"",{"$f":"IF(C1093<>0,(IF(lfValidaCNPJ(C1093)=TRUE,\"Válido\",\"Inválido\")),\"\")","v":""},{"$f":"IF(F1093<>0,(IF(lfValidaCEP(F1093)=TRUE,\"Válido\",\"Inválido\")),\"\")","v":""}]
[null,null,null,null,null,null,null,null,null,null,null,null,null,"",{"$f":"IF(C1094<>0,(IF(lfValidaCNPJ(C1094)=TRUE,\"Válido\",\"Inválido\")),\"\")","v":""},{"$f":"IF(F1094<>0,(IF(lfValidaCEP(F1094)=TRUE,\"Válido\",\"Inválido\")),\"\")","v":""}]
[null,null,null,null,null,null,null,null,null,null,null,null,null,"",{"$f":"IF(C1095<>0,(IF(lfValidaCNPJ(C1095)=TRUE,\"Válido\",\"Inválido\")),\"\")","v":""},{"$f":"IF(F1095<>0,(IF(lfValidaCEP(F1095)=TRUE,\"Válido\",\"Inválido\")),\"\")","v":""}]
[null,null,null,null,null,null,null,null,null,null,null,null,null,"",{"$f":"IF(C1096<>0,(IF(lfValidaCNPJ(C1096)=TRUE,\"Válido\",\"Inválido\")),\"\")","v":""},{"$f":"IF(F1096<>0,(IF(lfValidaCEP(F1096)=TRUE,\"Válido\",\"Inválido\")),\"\")","v":""}]
[null,null,null,null,null,null,null,null,null,null,null,null,null,"",{"$f":"IF(C1097<>0,(IF(lfValidaCNPJ(C1097)=TRUE,\"Válido\",\"Inválido\")),\"\")","v":""},{"$f":"IF(F1097<>0,(IF(lfValidaCEP(F1097)=TRUE,\"Válido\",\"Inválido\")),\"\")","v":""}]
[null,null,null,null,null,null,null,null,null,null,null,null,null,"",{"$f":"IF(C1098<>0,(IF(lfValidaCNPJ(C1098)=TRUE,\"Válido\",\"Inválido\")),\"\")","v":""},{"$f":"IF(F1098<>0,(IF(lfValidaCEP(F1098)=TRUE,\"Válido\",\"Inválido\")),\"\")","v":""}]
[null,null,null,null,null,null,null,null,null,null,null,null,null,"",{"$f":"IF(C1099<>0,(IF(lfValidaCNPJ(C1099)=TRUE,\"Válido\",\"Inválido\")),\"\")","v":""},{"$f":"IF(F1099<>0,(IF(lfValidaCEP(F1099)=TRUE,\"Válido\",\"Inválido\")),\"\")","v":""}]
[null,null,null,null,null,null,null,null,null,null,null,null,null,{"$f":"IF(COUNTA(B1100:J1100)<>0,IF(AND(B1100<>0,C1100<>0,D1100<>0,E1100<>0,F1100<>0,G1100<>0,H1100<>0,I1100<>0,J1100<>0),\"Completo\",\"Incompleto\"),\"\")","v":""},{"$f":"IF(C1100<>0,(IF(lfValidaCNPJ(C1100)=TRUE,\"Válido\",\"Inválido\")),\"\")","v":""},{"$f":"IF(F1100<>0,(IF(lfValidaCEP(F1100)=TRUE,\"Válido\",\"Inválido\")),\"\")","v":""}]
[null,null,null,null,null,null,null,null,null,null,null,null,null,"",{"$f":"IF(C1101<>0,(IF(lfValidaCNPJ(C1101)=TRUE,\"Válido\",\"Inválido\")),\"\")","v":""},{"$f":"IF(F1101<>0,(IF(lfValidaCEP(F1101)=TRUE,\"Válido\",\"Inválido\")),\"\")","v":""}]
[null,null,null,null,null,null,null,null,null,null,null,null,null,"",{"$f":"IF(C1102<>0,(IF(lfValidaCNPJ(C1102)=TRUE,\"Válido\",\"Inválido\")),\"\")","v":""},{"$f":"IF(F1102<>0,(IF(lfValidaCEP(F1102)=TRUE,\"Válido\",\"Inválido\")),\"\")","v":""}]
[null,null,null,null,null,null,null,null,null,null,null,null,null,"",{"$f":"IF(C1103<>0,(IF(lfValidaCNPJ(C1103)=TRUE,\"Válido\",\"Inválido\")),\"\")","v":""},{"$f":"IF(F1103<>0,(IF(lfValidaCEP(F1103)=TRUE,\"Válido\",\"Inválido\")),\"\")","v":""}]
[null,null,null,null,null,null,null,null,null,null,null,null,null,"",{"$f":"IF(C1104<>0,(IF(lfValidaCNPJ(C1104)=TRUE,\"Válido\",\"Inválido\")),\"\")","v":""},{"$f":"IF(F1104<>0,(IF(lfValidaCEP(F1104)=TRUE,\"Válido\",\"Inválido\")),\"\")","v":""}]
[null,null,null,null,null,null,null,null,null,null,null,null,null,"",{"$f":"IF(C1105<>0,(IF(lfValidaCNPJ(C1105)=TRUE,\"Válido\",\"Inválido\")),\"\")","v":""},{"$f":"IF(F1105<>0,(IF(lfValidaCEP(F1105)=TRUE,\"Válido\",\"Inválido\")),\"\")","v":""}]
[null,null,null,null,null,null,null,null,null,null,null,null,null,"",{"$f":"IF(C1106<>0,(IF(lfValidaCNPJ(C1106)=TRUE,\"Válido\",\"Inválido\")),\"\")","v":""},{"$f":"IF(F1106<>0,(IF(lfValidaCEP(F1106)=TRUE,\"Válido\",\"Inválido\")),\"\")","v":""}]
[null,null,null,null,null,null,null,null,null,null,null,null,null,"",{"$f":"IF(C1107<>0,(IF(lfValidaCNPJ(C1107)=TRUE,\"Válido\",\"Inválido\")),\"\")","v":""},{"$f":"IF(F1107<>0,(IF(lfValidaCEP(F1107)=TRUE,\"Válido\",\"Inválido\")),\"\")","v":""}]
[null,null,null,null,null,null,null,null,null,null,null,null,null,"",{"$f":"IF(C1108<>0,(IF(lfValidaCNPJ(C1108)=TRUE,\"Válido\",\"Inválido\")),\"\")","v":""},{"$f":"IF(F1108<>0,(IF(lfValidaCEP(F1108)=TRUE,\"Válido\",\"Inválido\")),\"\")","v":""}]
[null,null,null,null,null,null,null,null,null,null,null,null,null,"",{"$f":"IF(C1109<>0,(IF(lfValidaCNPJ(C1109)=TRUE,\"Válido\",\"Inválido\")),\"\")","v":""},{"$f":"IF(F1109<>0,(IF(lfValidaCEP(F1109)=TRUE,\"Válido\",\"Inválido\")),\"\")","v":""}]
[null,null,null,null,null,null,null,null,null,null,null,null,null,"",{"$f":"IF(C1110<>0,(IF(lfValidaCNPJ(C1110)=TRUE,\"Válido\",\"Inválido\")),\"\")","v":""},{"$f":"IF(F1110<>0,(IF(lfValidaCEP(F1110)=TRUE,\"Válido\",\"Inválido\")),\"\")","v":""}]
[null,null,null,null,null,null,null,null,null,null,null,null,null,"",{"$f":"IF(C1111<>0,(IF(lfValidaCNPJ(C1111)=TRUE,\"Válido\",\"Inválido\")),\"\")","v":""},{"$f":"IF(F1111<>0,(IF(lfValidaCEP(F1111)=TRUE,\"Válido\",\"Inválido\")),\"\")","v":""}]
[null,null,null,null,null,null,null,null,null,null,null,null,null,"",{"$f":"IF(C1112<>0,(IF(lfValidaCNPJ(C1112)=TRUE,\"Válido\",\"Inválido\")),\"\")","v":""},{"$f":"IF(F1112<>0,(IF(lfValidaCEP(F1112)=TRUE,\"Válido\",\"Inválido\")),\"\")","v":""}]
[null,null,null,null,null,null,null,null,null,null,null,null,null,"",{"$f":"IF(C1113<>0,(IF(lfValidaCNPJ(C1113)=TRUE,\"Válido\",\"Inválido\")),\"\")","v":""},{"$f":"IF(F1113<>0,(IF(lfValidaCEP(F1113)=TRUE,\"Válido\",\"Inválido\")),\"\")","v":""}]
[null,null,null,null,null,null,null,null,null,null,null,null,null,"",{"$f":"IF(C1114<>0,(IF(lfValidaCNPJ(C1114)=TRUE,\"Válido\",\"Inválido\")),\"\")","v":""},{"$f":"IF(F1114<>0,(IF(lfValidaCEP(F1114)=TRUE,\"Válido\",\"Inválido\")),\"\")","v":""}]
[null,null,null,null,null,null,null,null,null,null,null,null,null,"",{"$f":"IF(C1115<>0,(IF(lfValidaCNPJ(C1115)=TRUE,\"Válido\",\"Inválido\")),\"\")","v":""},{"$f":"IF(F1115<>0,(IF(lfValidaCEP(F1115)=TRUE,\"Válido\",\"Inválido\")),\"\")","v":""}]
[null,null,null,null,null,null,null,null,null,null,null,null,null,"",{"$f":"IF(C1116<>0,(IF(lfValidaCNPJ(C1116)=TRUE,\"Válido\",\"Inválido\")),\"\")","v":""},{"$f":"IF(F1116<>0,(IF(lfValidaCEP(F1116)=TRUE,\"Válido\",\"Inválido\")),\"\")","v":""}]
[null,null,null,null,null,null,null,null,null,null,null,null,null,"",{"$f":"IF(C1117<>0,(IF(lfValidaCNPJ(C1117)=TRUE,\"Válido\",\"Inválido\")),\"\")","v":""},{"$f":"IF(F1117<>0,(IF(lfValidaCEP(F1117)=TRUE,\"Válido\",\"Inválido\")),\"\")","v":""}]
[null,null,null,null,null,null,null,null,null,null,null,null,null,"",{"$f":"IF(C1118<>0,(IF(lfValidaCNPJ(C1118)=TRUE,\"Válido\",\"Inválido\")),\"\")","v":""},{"$f":"IF(F1118<>0,(IF(lfValidaCEP(F1118)=TRUE,\"Válido\",\"Inválido\")),\"\")","v":""}]
[null,null,null,null,null,null,null,null,null,null,null,null,null,"",{"$f":"IF(C1119<>0,(IF(lfValidaCNPJ(C1119)=TRUE,\"Válido\",\"Inválido\")),\"\")","v":""},{"$f":"IF(F1119<>0,(IF(lfValidaCEP(F1119)=TRUE,\"Válido\",\"Inválido\")),\"\")","v":""}]
[null,null,null,null,null,null,null,null,null,null,null,null,null,"",{"$f":"IF(C1120<>0,(IF(lfValidaCNPJ(C1120)=TRUE,\"Válido\",\"Inválido\")),\"\")","v":""},{"$f":"IF(F1120<>0,(IF(lfValidaCEP(F1120)=TRUE,\"Válido\",\"Inválido\")),\"\")","v":""}]
[null,null,null,null,null,null,null,null,null,null,null,null,null,"",{"$f":"IF(C1121<>0,(IF(lfValidaCNPJ(C1121)=TRUE,\"Válido\",\"Inválido\")),\"\")","v":""},{"$f":"IF(F1121<>0,(IF(lfValidaCEP(F1121)=TRUE,\"Válido\",\"Inválido\")),\"\")","v":""}]
[null,null,null,null,null,null,null,null,null,null,null,null,null,"",{"$f":"IF(C1122<>0,(IF(lfValidaCNPJ(C1122)=TRUE,\"Válido\",\"Inválido\")),\"\")","v":""},{"$f":"IF(F1122<>0,(IF(lfValidaCEP(F1122)=TRUE,\"Válido\",\"Inválido\")),\"\")","v":""}]
[null,null,null,null,null,null,null,null,null,null,null,null,null,"",{"$f":"IF(C1123<>0,(IF(lfValidaCNPJ(C1123)=TRUE,\"Válido\",\"Inválido\")),\"\")","v":""},{"$f":"IF(F1123<>0,(IF(lfValidaCEP(F1123)=TRUE,\"Válido\",\"Inválido\")),\"\")","v":""}]
[null,null,null,null,null,null,null,null,null,null,null,null,null,"",{"$f":"IF(C1124<>0,(IF(lfValidaCNPJ(C1124)=TRUE,\"Válido\",\"Inválido\")),\"\")","v":""},{"$f":"IF(F1124<>0,(IF(lfValidaCEP(F1124)=TRUE,\"Válido\",\"Inválido\")),\"\")","v":""}]
[null,null,null,null,null,null,null,null,null,null,null,null,null,"",{"$f":"IF(C1125<>0,(IF(lfValidaCNPJ(C1125)=TRUE,\"Válido\",\"Inválido\")),\"\")","v":""},{"$f":"IF(F1125<>0,(IF(lfValidaCEP(F1125)=TRUE,\"Válido\",\"Inválido\")),\"\")","v":""}]
[null,null,null,null,null,null,null,null,null,null,null,null,null,"",{"$f":"IF(C1126<>0,(IF(lfValidaCNPJ(C1126)=TRUE,\"Válido\",\"Inválido\")),\"\")","v":""},{"$f":"IF(F1126<>0,(IF(lfValidaCEP(F1126)=TRUE,\"Válido\",\"Inválido\")),\"\")","v":""}]
[null,null,null,null,null,null,null,null,null,null,null,null,null,"",{"$f":"IF(C1127<>0,(IF(lfValidaCNPJ(C1127)=TRUE,\"Válido\",\"Inválido\")),\"\")","v":""},{"$f":"IF(F1127<>0,(IF(lfValidaCEP(F1127)=TRUE,\"Válido\",\"Inválido\")),\"\")","v":""}]
[null,null,null,null,null,null,null,null,null,null,null,null,null,"",{"$f":"IF(C1128<>0,(IF(lfValidaCNPJ(C1128)=TRUE,\"Válido\",\"Inválido\")),\"\")","v":""},{"$f":"IF(F1128<>0,(IF(lfValidaCEP(F1128)=TRUE,\"Válido\",\"Inválido\")),\"\")","v":""}]
[null,null,null,null,null,null,null,null,null,null,null,null,null,"",{"$f":"IF(C1129<>0,(IF(lfValidaCNPJ(C1129)=TRUE,\"Válido\",\"Inválido\")),\"\")","v":""},{"$f":"IF(F1129<>0,(IF(lfValidaCEP(F1129)=TRUE,\"Válido\",\"Inválido\")),\"\")","v":""}]
[null,null,null,null,null,null,null,null,null,null,null,null,null,"",{"$f":"IF(C1130<>0,(IF(lfValidaCNPJ(C1130)=TRUE,\"Válido\",\"Inválido\")),\"\")","v":""},{"$f":"IF(F1130<>0,(IF(lfValidaCEP(F1130)=TRUE,\"Válido\",\"Inválido\")),\"\")","v":""}]
[null,null,null,null,null,null,null,null,null,null,null,null,null,"",{"$f":"IF(C1131<>0,(IF(lfValidaCNPJ(C1131)=TRUE,\"Válido\",\"Inválido\")),\"\")","v":""},{"$f":"IF(F1131<>0,(IF(lfValidaCEP(F1131)=TRUE,\"Válido\",\"Inválido\")),\"\")","v":""}]
[null,null,null,null,null,null,null,null,null,null,null,null,null,"",{"$f":"IF(C1132<>0,(IF(lfValidaCNPJ(C1132)=TRUE,\"Válido\",\"Inválido\")),\"\")","v":""},{"$f":"IF(F1132<>0,(IF(lfValidaCEP(F1132)=TRUE,\"Válido\",\"Inválido\")),\"\")","v":""}]
[null,null,null,null,null,null,null,null,null,null,null,null,null,"",{"$f":"IF(C1133<>0,(IF(lfValidaCNPJ(C1133)=TRUE,\"Válido\",\"Inválido\")),\"\")","v":""},{"$f":"IF(F1133<>0,(IF(lfValidaCEP(F1133)=TRUE,\"Válido\",\"Inválido\")),\"\")","v":""}]
[null,null,null,null,null,null,null,null,null,null,null,null,null,"",{"$f":"IF(C1134<>0,(IF(lfValidaCNPJ(C1134)=TRUE,\"Válido\",\"Inválido\")),\"\")","v":""},{"$f":"IF(F1134<>0,(IF(lfValidaCEP(F1134)=TRUE,\"Válido\",\"Inválido\")),\"\")","v":""}]
[null,null,null,null,null,null,null,null,null,null,null,null,null,"",{"$f":"IF(C1135<>0,(IF(lfValidaCNPJ(C1135)=TRUE,\"Válido\",\"Inválido\")),\"\")","v":""},{"$f":"IF(F1135<>0,(IF(lfValidaCEP(F1135)=TRUE,\"Válido\",\"Inválido\")),\"\")","v":""}]
[null,null,null,null,null,null,null,null,null,null,null,null,null,"",{"$f":"IF(C1136<>0,(IF(lfValidaCNPJ(C1136)=TRUE,\"Válido\",\"Inválido\")),\"\")","v":""},{"$f":"IF(F1136<>0,(IF(lfValidaCEP(F1136)=TRUE,\"Válido\",\"Inválido\")),\"\")","v":""}]
[null,null,null,null,null,null,null,null,null,null,null,null,null,"",{"$f":"IF(C1137<>0,(IF(lfValidaCNPJ(C1137)=TRUE,\"Válido\",\"Inválido\")),\"\")","v":""},{"$f":"IF(F1137<>0,(IF(lfValidaCEP(F1137)=TRUE,\"Válido\",\"Inválido\")),\"\")","v":""}]
[null,null,null,null,null,null,null,null,null,null,null,null,null,"",{"$f":"IF(C1138<>0,(IF(lfValidaCNPJ(C1138)=TRUE,\"Válido\",\"Inválido\")),\"\")","v":""},{"$f":"IF(F1138<>0,(IF(lfValidaCEP(F1138)=TRUE,\"Válido\",\"Inválido\")),\"\")","v":""}]
[null,null,null,null,null,null,null,null,null,null,null,null,null,"",{"$f":"IF(C1139<>0,(IF(lfValidaCNPJ(C1139)=TRUE,\"Válido\",\"Inválido\")),\"\")","v":""},{"$f":"IF(F1139<>0,(IF(lfValidaCEP(F1139)=TRUE,\"Válido\",\"Inválido\")),\"\")","v":""}]
[null,null,null,null,null,null,null,null,null,null,null,null,null,"",{"$f":"IF(C1140<>0,(IF(lfValidaCNPJ(C1140)=TRUE,\"Válido\",\"Inválido\")),\"\")","v":""},{"$f":"IF(F1140<>0,(IF(lfValidaCEP(F1140)=TRUE,\"Válido\",\"Inválido\")),\"\")","v":""}]
[null,null,null,null,null,null,null,null,null,null,null,null,null,"",{"$f":"IF(C1141<>0,(IF(lfValidaCNPJ(C1141)=TRUE,\"Válido\",\"Inválido\")),\"\")","v":""},{"$f":"IF(F1141<>0,(IF(lfValidaCEP(F1141)=TRUE,\"Válido\",\"Inválido\")),\"\")","v":""}]
[null,null,null,null,null,null,null,null,null,null,null,null,null,"",{"$f":"IF(C1142<>0,(IF(lfValidaCNPJ(C1142)=TRUE,\"Válido\",\"Inválido\")),\"\")","v":""},{"$f":"IF(F1142<>0,(IF(lfValidaCEP(F1142)=TRUE,\"Válido\",\"Inválido\")),\"\")","v":""}]
[null,null,null,null,null,null,null,null,null,null,null,null,null,"",{"$f":"IF(C1143<>0,(IF(lfValidaCNPJ(C1143)=TRUE,\"Válido\",\"Inválido\")),\"\")","v":""},{"$f":"IF(F1143<>0,(IF(lfValidaCEP(F1143)=TRUE,\"Válido\",\"Inválido\")),\"\")","v":""}]
[null,null,null,null,null,null,null,null,null,null,null,null,null,"",{"$f":"IF(C1144<>0,(IF(lfValidaCNPJ(C1144)=TRUE,\"Válido\",\"Inválido\")),\"\")","v":""},{"$f":"IF(F1144<>0,(IF(lfValidaCEP(F1144)=TRUE,\"Válido\",\"Inválido\")),\"\")","v":""}]
[null,null,null,null,null,null,null,null,null,null,null,null,null,"",{"$f":"IF(C1145<>0,(IF(lfValidaCNPJ(C1145)=TRUE,\"Válido\",\"Inválido\")),\"\")","v":""},{"$f":"IF(F1145<>0,(IF(lfValidaCEP(F1145)=TRUE,\"Válido\",\"Inválido\")),\"\")","v":""}]
[null,null,null,null,null,null,null,null,null,null,null,null,null,"",{"$f":"IF(C1146<>0,(IF(lfValidaCNPJ(C1146)=TRUE,\"Válido\",\"Inválido\")),\"\")","v":""},{"$f":"IF(F1146<>0,(IF(lfValidaCEP(F1146)=TRUE,\"Válido\",\"Inválido\")),\"\")","v":""}]
[null,null,null,null,null,null,null,null,null,null,null,null,null,"",{"$f":"IF(C1147<>0,(IF(lfValidaCNPJ(C1147)=TRUE,\"Válido\",\"Inválido\")),\"\")","v":""},{"$f":"IF(F1147<>0,(IF(lfValidaCEP(F1147)=TRUE,\"Válido\",\"Inválido\")),\"\")","v":""}]
[null,null,null,null,null,null,null,null,null,null,null,null,null,"",{"$f":"IF(C1148<>0,(IF(lfValidaCNPJ(C1148)=TRUE,\"Válido\",\"Inválido\")),\"\")","v":""},{"$f":"IF(F1148<>0,(IF(lfValidaCEP(F1148)=TRUE,\"Válido\",\"Inválido\")),\"\")","v":""}]
[null,null,null,null,null,null,null,null,null,null,null,null,null,"",{"$f":"IF(C1149<>0,(IF(lfValidaCNPJ(C1149)=TRUE,\"Válido\",\"Inválido\")),\"\")","v":""},{"$f":"IF(F1149<>0,(IF(lfValidaCEP(F1149)=TRUE,\"Válido\",\"Inválido\")),\"\")","v":""}]
[null,null,null,null,null,null,null,null,null,null,null,null,null,"",{"$f":"IF(C1150<>0,(IF(lfValidaCNPJ(C1150)=TRUE,\"Válido\",\"Inválido\")),\"\")","v":""},{"$f":"IF(F1150<>0,(IF(lfValidaCEP(F1150)=TRUE,\"Válido\",\"Inválido\")),\"\")","v":""}]
[null,null,null,null,null,null,null,null,null,null,null,null,null,"",{"$f":"IF(C1151<>0,(IF(lfValidaCNPJ(C1151)=TRUE,\"Válido\",\"Inválido\")),\"\")","v":""},{"$f":"IF(F1151<>0,(IF(lfValidaCEP(F1151)=TRUE,\"Válido\",\"Inválido\")),\"\")","v":""}]
[null,null,null,null,null,null,null,null,null,null,null,null,null,"",{"$f":"IF(C1152<>0,(IF(lfValidaCNPJ(C1152)=TRUE,\"Válido\",\"Inválido\")),\"\")","v":""},{"$f":"IF(F1152<>0,(IF(lfValidaCEP(F1152)=TRUE,\"Válido\",\"Inválido\")),\"\")","v":""}]
[null,null,null,null,null,null,null,null,null,null,null,null,null,"",{"$f":"IF(C1153<>0,(IF(lfValidaCNPJ(C1153)=TRUE,\"Válido\",\"Inválido\")),\"\")","v":""},{"$f":"IF(F1153<>0,(IF(lfValidaCEP(F1153)=TRUE,\"Válido\",\"Inválido\")),\"\")","v":""}]
[null,null,null,null,null,null,null,null,null,null,null,null,null,"",{"$f":"IF(C1154<>0,(IF(lfValidaCNPJ(C1154)=TRUE,\"Válido\",\"Inválido\")),\"\")","v":""},{"$f":"IF(F1154<>0,(IF(lfValidaCEP(F1154)=TRUE,\"Válido\",\"Inválido\")),\"\")","v":""}]
[null,null,null,null,null,null,null,null,null,null,null,null,null,"",{"$f":"IF(C1155<>0,(IF(lfValidaCNPJ(C1155)=TRUE,\"Válido\",\"Inválido\")),\"\")","v":""},{"$f":"IF(F1155<>0,(IF(lfValidaCEP(F1155)=TRUE,\"Válido\",\"Inválido\")),\"\")","v":""}]
[null,null,null,null,null,null,null,null,null,null,null,null,null,"",{"$f":"IF(C1156<>0,(IF(lfValidaCNPJ(C1156)=TRUE,\"Válido\",\"Inválido\")),\"\")","v":""},{"$f":"IF(F1156<>0,(IF(lfValidaCEP(F1156)=TRUE,\"Válido\",\"Inválido\")),\"\")","v":""}]
[null,null,null,null,null,null,null,null,null,null,null,null,null,"",{"$f":"IF(C1157<>0,(IF(lfValidaCNPJ(C1157)=TRUE,\"Válido\",\"Inválido\")),\"\")","v":""},{"$f":"IF(F1157<>0,(IF(lfValidaCEP(F1157)=TRUE,\"Válido\",\"Inválido\")),\"\")","v":""}]
[null,null,null,null,null,null,null,null,null,null,null,null,null,"",{"$f":"IF(C1158<>0,(IF(lfValidaCNPJ(C1158)=TRUE,\"Válido\",\"Inválido\")),\"\")","v":""},{"$f":"IF(F1158<>0,(IF(lfValidaCEP(F1158)=TRUE,\"Válido\",\"Inválido\")),\"\")","v":""}]
[null,null,null,null,null,null,null,null,null,null,null,null,null,"",{"$f":"IF(C1159<>0,(IF(lfValidaCNPJ(C1159)=TRUE,\"Válido\",\"Inválido\")),\"\")","v":""},{"$f":"IF(F1159<>0,(IF(lfValidaCEP(F1159)=TRUE,\"Válido\",\"Inválido\")),\"\")","v":""}]
[null,null,null,null,null,null,null,null,null,null,null,null,null,"",{"$f":"IF(C1160<>0,(IF(lfValidaCNPJ(C1160)=TRUE,\"Válido\",\"Inválido\")),\"\")","v":""},{"$f":"IF(F1160<>0,(IF(lfValidaCEP(F1160)=TRUE,\"Válido\",\"Inválido\")),\"\")","v":""}]
[null,null,null,null,null,null,null,null,null,null,null,null,null,"",{"$f":"IF(C1161<>0,(IF(lfValidaCNPJ(C1161)=TRUE,\"Válido\",\"Inválido\")),\"\")","v":""},{"$f":"IF(F1161<>0,(IF(lfValidaCEP(F1161)=TRUE,\"Válido\",\"Inválido\")),\"\")","v":""}]
[null,null,null,null,null,null,null,null,null,null,null,null,null,"",{"$f":"IF(C1162<>0,(IF(lfValidaCNPJ(C1162)=TRUE,\"Válido\",\"Inválido\")),\"\")","v":""},{"$f":"IF(F1162<>0,(IF(lfValidaCEP(F1162)=TRUE,\"Válido\",\"Inválido\")),\"\")","v":""}]
[null,null,null,null,null,null,null,null,null,null,null,null,null,"",{"$f":"IF(C1163<>0,(IF(lfValidaCNPJ(C1163)=TRUE,\"Válido\",\"Inválido\")),\"\")","v":""},{"$f":"IF(F1163<>0,(IF(lfValidaCEP(F1163)=TRUE,\"Válido\",\"Inválido\")),\"\")","v":""}]
[null,null,null,null,null,null,null,null,null,null,null,null,null,{"$f":"IF(COUNTA(B1164:J1164)<>0,IF(AND(B1164<>0,C1164<>0,D1164<>0,E1164<>0,F1164<>0,G1164<>0,H1164<>0,I1164<>0,J1164<>0),\"Completo\",\"Incompleto\"),\"\")","v":""},{"$f":"IF(C1164<>0,(IF(lfValidaCNPJ(C1164)=TRUE,\"Válido\",\"Inválido\")),\"\")","v":""},{"$f":"IF(F1164<>0,(IF(lfValidaCEP(F1164)=TRUE,\"Válido\",\"Inválido\")),\"\")","v":""}]
[null,null,null,null,null,null,null,null,null,null,null,null,null,"",{"$f":"IF(C1165<>0,(IF(lfValidaCNPJ(C1165)=TRUE,\"Válido\",\"Inválido\")),\"\")","v":""},{"$f":"IF(F1165<>0,(IF(lfValidaCEP(F1165)=TRUE,\"Válido\",\"Inválido\")),\"\")","v":""}]
[null,null,null,null,null,null,null,null,null,null,null,null,null,"",{"$f":"IF(C1166<>0,(IF(lfValidaCNPJ(C1166)=TRUE,\"Válido\",\"Inválido\")),\"\")","v":""},{"$f":"IF(F1166<>0,(IF(lfValidaCEP(F1166)=TRUE,\"Válido\",\"Inválido\")),\"\")","v":""}]
[null,null,null,null,null,null,null,null,null,null,null,null,null,"",{"$f":"IF(C1167<>0,(IF(lfValidaCNPJ(C1167)=TRUE,\"Válido\",\"Inválido\")),\"\")","v":""},{"$f":"IF(F1167<>0,(IF(lfValidaCEP(F1167)=TRUE,\"Válido\",\"Inválido\")),\"\")","v":""}]
[null,null,null,null,null,null,null,null,null,null,null,null,null,"",{"$f":"IF(C1168<>0,(IF(lfValidaCNPJ(C1168)=TRUE,\"Válido\",\"Inválido\")),\"\")","v":""},{"$f":"IF(F1168<>0,(IF(lfValidaCEP(F1168)=TRUE,\"Válido\",\"Inválido\")),\"\")","v":""}]
[null,null,null,null,null,null,null,null,null,null,null,null,null,"",{"$f":"IF(C1169<>0,(IF(lfValidaCNPJ(C1169)=TRUE,\"Válido\",\"Inválido\")),\"\")","v":""},{"$f":"IF(F1169<>0,(IF(lfValidaCEP(F1169)=TRUE,\"Válido\",\"Inválido\")),\"\")","v":""}]
[null,null,null,null,null,null,null,null,null,null,null,null,null,"",{"$f":"IF(C1170<>0,(IF(lfValidaCNPJ(C1170)=TRUE,\"Válido\",\"Inválido\")),\"\")","v":""},{"$f":"IF(F1170<>0,(IF(lfValidaCEP(F1170)=TRUE,\"Válido\",\"Inválido\")),\"\")","v":""}]
[null,null,null,null,null,null,null,null,null,null,null,null,null,"",{"$f":"IF(C1171<>0,(IF(lfValidaCNPJ(C1171)=TRUE,\"Válido\",\"Inválido\")),\"\")","v":""},{"$f":"IF(F1171<>0,(IF(lfValidaCEP(F1171)=TRUE,\"Válido\",\"Inválido\")),\"\")","v":""}]
[null,null,null,null,null,null,null,null,null,null,null,null,null,"",{"$f":"IF(C1172<>0,(IF(lfValidaCNPJ(C1172)=TRUE,\"Válido\",\"Inválido\")),\"\")","v":""},{"$f":"IF(F1172<>0,(IF(lfValidaCEP(F1172)=TRUE,\"Válido\",\"Inválido\")),\"\")","v":""}]
[null,null,null,null,null,null,null,null,null,null,null,null,null,"",{"$f":"IF(C1173<>0,(IF(lfValidaCNPJ(C1173)=TRUE,\"Válido\",\"Inválido\")),\"\")","v":""},{"$f":"IF(F1173<>0,(IF(lfValidaCEP(F1173)=TRUE,\"Válido\",\"Inválido\")),\"\")","v":""}]
[null,null,null,null,null,null,null,null,null,null,null,null,null,"",{"$f":"IF(C1174<>0,(IF(lfValidaCNPJ(C1174)=TRUE,\"Válido\",\"Inválido\")),\"\")","v":""},{"$f":"IF(F1174<>0,(IF(lfValidaCEP(F1174)=TRUE,\"Válido\",\"Inválido\")),\"\")","v":""}]
[null,null,null,null,null,null,null,null,null,null,null,null,null,"",{"$f":"IF(C1175<>0,(IF(lfValidaCNPJ(C1175)=TRUE,\"Válido\",\"Inválido\")),\"\")","v":""},{"$f":"IF(F1175<>0,(IF(lfValidaCEP(F1175)=TRUE,\"Válido\",\"Inválido\")),\"\")","v":""}]
[null,null,null,null,null,null,null,null,null,null,null,null,null,"",{"$f":"IF(C1176<>0,(IF(lfValidaCNPJ(C1176)=TRUE,\"Válido\",\"Inválido\")),\"\")","v":""},{"$f":"IF(F1176<>0,(IF(lfValidaCEP(F1176)=TRUE,\"Válido\",\"Inválido\")),\"\")","v":""}]
[null,null,null,null,null,null,null,null,null,null,null,null,null,"",{"$f":"IF(C1177<>0,(IF(lfValidaCNPJ(C1177)=TRUE,\"Válido\",\"Inválido\")),\"\")","v":""},{"$f":"IF(F1177<>0,(IF(lfValidaCEP(F1177)=TRUE,\"Válido\",\"Inválido\")),\"\")","v":""}]
[null,null,null,null,null,null,null,null,null,null,null,null,null,"",{"$f":"IF(C1178<>0,(IF(lfValidaCNPJ(C1178)=TRUE,\"Válido\",\"Inválido\")),\"\")","v":""},{"$f":"IF(F1178<>0,(IF(lfValidaCEP(F1178)=TRUE,\"Válido\",\"Inválido\")),\"\")","v":""}]
[null,null,null,null,null,null,null,null,null,null,null,null,null,"",{"$f":"IF(C1179<>0,(IF(lfValidaCNPJ(C1179)=TRUE,\"Válido\",\"Inválido\")),\"\")","v":""},{"$f":"IF(F1179<>0,(IF(lfValidaCEP(F1179)=TRUE,\"Válido\",\"Inválido\")),\"\")","v":""}]
[null,null,null,null,null,null,null,null,null,null,null,null,null,"",{"$f":"IF(C1180<>0,(IF(lfValidaCNPJ(C1180)=TRUE,\"Válido\",\"Inválido\")),\"\")","v":""},{"$f":"IF(F1180<>0,(IF(lfValidaCEP(F1180)=TRUE,\"Válido\",\"Inválido\")),\"\")","v":""}]
[null,null,null,null,null,null,null,null,null,null,null,null,null,"",{"$f":"IF(C1181<>0,(IF(lfValidaCNPJ(C1181)=TRUE,\"Válido\",\"Inválido\")),\"\")","v":""},{"$f":"IF(F1181<>0,(IF(lfValidaCEP(F1181)=TRUE,\"Válido\",\"Inválido\")),\"\")","v":""}]
[null,null,null,null,null,null,null,null,null,null,null,null,null,"",{"$f":"IF(C1182<>0,(IF(lfValidaCNPJ(C1182)=TRUE,\"Válido\",\"Inválido\")),\"\")","v":""},{"$f":"IF(F1182<>0,(IF(lfValidaCEP(F1182)=TRUE,\"Válido\",\"Inválido\")),\"\")","v":""}]
[null,null,null,null,null,null,null,null,null,null,null,null,null,"",{"$f":"IF(C1183<>0,(IF(lfValidaCNPJ(C1183)=TRUE,\"Válido\",\"Inválido\")),\"\")","v":""},{"$f":"IF(F1183<>0,(IF(lfValidaCEP(F1183)=TRUE,\"Válido\",\"Inválido\")),\"\")","v":""}]
[null,null,null,null,null,null,null,null,null,null,null,null,null,"",{"$f":"IF(C1184<>0,(IF(lfValidaCNPJ(C1184)=TRUE,\"Válido\",\"Inválido\")),\"\")","v":""},{"$f":"IF(F1184<>0,(IF(lfValidaCEP(F1184)=TRUE,\"Válido\",\"Inválido\")),\"\")","v":""}]
[null,null,null,null,null,null,null,null,null,null,null,null,null,"",{"$f":"IF(C1185<>0,(IF(lfValidaCNPJ(C1185)=TRUE,\"Válido\",\"Inválido\")),\"\")","v":""},{"$f":"IF(F1185<>0,(IF(lfValidaCEP(F1185)=TRUE,\"Válido\",\"Inválido\")),\"\")","v":""}]
[null,null,null,null,null,null,null,null,null,null,null,null,null,"",{"$f":"IF(C1186<>0,(IF(lfValidaCNPJ(C1186)=TRUE,\"Válido\",\"Inválido\")),\"\")","v":""},{"$f":"IF(F1186<>0,(IF(lfValidaCEP(F1186)=TRUE,\"Válido\",\"Inválido\")),\"\")","v":""}]
[null,null,null,null,null,null,null,null,null,null,null,null,null,"",{"$f":"IF(C1187<>0,(IF(lfValidaCNPJ(C1187)=TRUE,\"Válido\",\"Inválido\")),\"\")","v":""},{"$f":"IF(F1187<>0,(IF(lfValidaCEP(F1187)=TRUE,\"Válido\",\"Inválido\")),\"\")","v":""}]
[null,null,null,null,null,null,null,null,null,null,null,null,null,"",{"$f":"IF(C1188<>0,(IF(lfValidaCNPJ(C1188)=TRUE,\"Válido\",\"Inválido\")),\"\")","v":""},{"$f":"IF(F1188<>0,(IF(lfValidaCEP(F1188)=TRUE,\"Válido\",\"Inválido\")),\"\")","v":""}]
[null,null,null,null,null,null,null,null,null,null,null,null,null,"",{"$f":"IF(C1189<>0,(IF(lfValidaCNPJ(C1189)=TRUE,\"Válido\",\"Inválido\")),\"\")","v":""},{"$f":"IF(F1189<>0,(IF(lfValidaCEP(F1189)=TRUE,\"Válido\",\"Inválido\")),\"\")","v":""}]
[null,null,null,null,null,null,null,null,null,null,null,null,null,"",{"$f":"IF(C1190<>0,(IF(lfValidaCNPJ(C1190)=TRUE,\"Válido\",\"Inválido\")),\"\")","v":""},{"$f":"IF(F1190<>0,(IF(lfValidaCEP(F1190)=TRUE,\"Válido\",\"Inválido\")),\"\")","v":""}]
[null,null,null,null,null,null,null,null,null,null,null,null,null,"",{"$f":"IF(C1191<>0,(IF(lfValidaCNPJ(C1191)=TRUE,\"Válido\",\"Inválido\")),\"\")","v":""},{"$f":"IF(F1191<>0,(IF(lfValidaCEP(F1191)=TRUE,\"Válido\",\"Inválido\")),\"\")","v":""}]
[null,null,null,null,null,null,null,null,null,null,null,null,null,"",{"$f":"IF(C1192<>0,(IF(lfValidaCNPJ(C1192)=TRUE,\"Válido\",\"Inválido\")),\"\")","v":""},{"$f":"IF(F1192<>0,(IF(lfValidaCEP(F1192)=TRUE,\"Válido\",\"Inválido\")),\"\")","v":""}]
[null,null,null,null,null,null,null,null,null,null,null,null,null,"",{"$f":"IF(C1193<>0,(IF(lfValidaCNPJ(C1193)=TRUE,\"Válido\",\"Inválido\")),\"\")","v":""},{"$f":"IF(F1193<>0,(IF(lfValidaCEP(F1193)=TRUE,\"Válido\",\"Inválido\")),\"\")","v":""}]
[null,null,null,null,null,null,null,null,null,null,null,null,null,"",{"$f":"IF(C1194<>0,(IF(lfValidaCNPJ(C1194)=TRUE,\"Válido\",\"Inválido\")),\"\")","v":""},{"$f":"IF(F1194<>0,(IF(lfValidaCEP(F1194)=TRUE,\"Válido\",\"Inválido\")),\"\")","v":""}]
[null,null,null,null,null,null,null,null,null,null,null,null,null,"",{"$f":"IF(C1195<>0,(IF(lfValidaCNPJ(C1195)=TRUE,\"Válido\",\"Inválido\")),\"\")","v":""},{"$f":"IF(F1195<>0,(IF(lfValidaCEP(F1195)=TRUE,\"Válido\",\"Inválido\")),\"\")","v":""}]
[null,null,null,null,null,null,null,null,null,null,null,null,null,"",{"$f":"IF(C1196<>0,(IF(lfValidaCNPJ(C1196)=TRUE,\"Válido\",\"Inválido\")),\"\")","v":""},{"$f":"IF(F1196<>0,(IF(lfValidaCEP(F1196)=TRUE,\"Válido\",\"Inválido\")),\"\")","v":""}]
[null,null,null,null,null,null,null,null,null,null,null,null,null,"",{"$f":"IF(C1197<>0,(IF(lfValidaCNPJ(C1197)=TRUE,\"Válido\",\"Inválido\")),\"\")","v":""},{"$f":"IF(F1197<>0,(IF(lfValidaCEP(F1197)=TRUE,\"Válido\",\"Inválido\")),\"\")","v":""}]
[null,null,null,null,null,null,null,null,null,null,null,null,null,"",{"$f":"IF(C1198<>0,(IF(lfValidaCNPJ(C1198)=TRUE,\"Válido\",\"Inválido\")),\"\")","v":""},{"$f":"IF(F1198<>0,(IF(lfValidaCEP(F1198)=TRUE,\"Válido\",\"Inválido\")),\"\")","v":""}]
[null,null,null,null,null,null,null,null,null,null,null,null,null,"",{"$f":"IF(C1199<>0,(IF(lfValidaCNPJ(C1199)=TRUE,\"Válido\",\"Inválido\")),\"\")","v":""},{"$f":"IF(F1199<>0,(IF(lfValidaCEP(F1199)=TRUE,\"Válido\",\"Inválido\")),\"\")","v":""}]
[null,null,null,null,null,null,null,null,null,null,null,null,null,"",{"$f":"IF(C1200<>0,(IF(lfValidaCNPJ(C1200)=TRUE,\"Válido\",\"Inválido\")),\"\")","v":""},{"$f":"IF(F1200<>0,(IF(lfValidaCEP(F1200)=TRUE,\"Válido\",\"Inválido\")),\"\")","v":""}]
[null,null,null,null,null,null,null,null,null,null,null,null,null,"",{"$f":"IF(C1201<>0,(IF(lfValidaCNPJ(C1201)=TRUE,\"Válido\",\"Inválido\")),\"\")","v":""},{"$f":"IF(F1201<>0,(IF(lfValidaCEP(F1201)=TRUE,\"Válido\",\"Inválido\")),\"\")","v":""}]
[null,null,null,null,null,null,null,null,null,null,null,null,null,"",{"$f":"IF(C1202<>0,(IF(lfValidaCNPJ(C1202)=TRUE,\"Válido\",\"Inválido\")),\"\")","v":""},{"$f":"IF(F1202<>0,(IF(lfValidaCEP(F1202)=TRUE,\"Válido\",\"Inválido\")),\"\")","v":""}]
[null,null,null,null,null,null,null,null,null,null,null,null,null,"",{"$f":"IF(C1203<>0,(IF(lfValidaCNPJ(C1203)=TRUE,\"Válido\",\"Inválido\")),\"\")","v":""},{"$f":"IF(F1203<>0,(IF(lfValidaCEP(F1203)=TRUE,\"Válido\",\"Inválido\")),\"\")","v":""}]
[null,null,null,null,null,null,null,null,null,null,null,null,null,"",{"$f":"IF(C1204<>0,(IF(lfValidaCNPJ(C1204)=TRUE,\"Válido\",\"Inválido\")),\"\")","v":""},{"$f":"IF(F1204<>0,(IF(lfValidaCEP(F1204)=TRUE,\"Válido\",\"Inválido\")),\"\")","v":""}]
[null,null,null,null,null,null,null,null,null,null,null,null,null,"",{"$f":"IF(C1205<>0,(IF(lfValidaCNPJ(C1205)=TRUE,\"Válido\",\"Inválido\")),\"\")","v":""},{"$f":"IF(F1205<>0,(IF(lfValidaCEP(F1205)=TRUE,\"Válido\",\"Inválido\")),\"\")","v":""}]
[null,null,null,null,null,null,null,null,null,null,null,null,null,"",{"$f":"IF(C1206<>0,(IF(lfValidaCNPJ(C1206)=TRUE,\"Válido\",\"Inválido\")),\"\")","v":""},{"$f":"IF(F1206<>0,(IF(lfValidaCEP(F1206)=TRUE,\"Válido\",\"Inválido\")),\"\")","v":""}]
[null,null,null,null,null,null,null,null,null,null,null,null,null,"",{"$f":"IF(C1207<>0,(IF(lfValidaCNPJ(C1207)=TRUE,\"Válido\",\"Inválido\")),\"\")","v":""},{"$f":"IF(F1207<>0,(IF(lfValidaCEP(F1207)=TRUE,\"Válido\",\"Inválido\")),\"\")","v":""}]
[null,null,null,null,null,null,null,null,null,null,null,null,null,"",{"$f":"IF(C1208<>0,(IF(lfValidaCNPJ(C1208)=TRUE,\"Válido\",\"Inválido\")),\"\")","v":""},{"$f":"IF(F1208<>0,(IF(lfValidaCEP(F1208)=TRUE,\"Válido\",\"Inválido\")),\"\")","v":""}]
[null,null,null,null,null,null,null,null,null,null,null,null,null,"",{"$f":"IF(C1209<>0,(IF(lfValidaCNPJ(C1209)=TRUE,\"Válido\",\"Inválido\")),\"\")","v":""},{"$f":"IF(F1209<>0,(IF(lfValidaCEP(F1209)=TRUE,\"Válido\",\"Inválido\")),\"\")","v":""}]
[null,null,null,null,null,null,null,null,null,null,null,null,null,"",{"$f":"IF(C1210<>0,(IF(lfValidaCNPJ(C1210)=TRUE,\"Válido\",\"Inválido\")),\"\")","v":""},{"$f":"IF(F1210<>0,(IF(lfValidaCEP(F1210)=TRUE,\"Válido\",\"Inválido\")),\"\")","v":""}]
[null,null,null,null,null,null,null,null,null,null,null,null,null,"",{"$f":"IF(C1211<>0,(IF(lfValidaCNPJ(C1211)=TRUE,\"Válido\",\"Inválido\")),\"\")","v":""},{"$f":"IF(F1211<>0,(IF(lfValidaCEP(F1211)=TRUE,\"Válido\",\"Inválido\")),\"\")","v":""}]
[null,null,null,null,null,null,null,null,null,null,null,null,null,"",{"$f":"IF(C1212<>0,(IF(lfValidaCNPJ(C1212)=TRUE,\"Válido\",\"Inválido\")),\"\")","v":""},{"$f":"IF(F1212<>0,(IF(lfValidaCEP(F1212)=TRUE,\"Válido\",\"Inválido\")),\"\")","v":""}]
[null,null,null,null,null,null,null,null,null,null,null,null,null,"",{"$f":"IF(C1213<>0,(IF(lfValidaCNPJ(C1213)=TRUE,\"Válido\",\"Inválido\")),\"\")","v":""},{"$f":"IF(F1213<>0,(IF(lfValidaCEP(F1213)=TRUE,\"Válido\",\"Inválido\")),\"\")","v":""}]
[null,null,null,null,null,null,null,null,null,null,null,null,null,"",{"$f":"IF(C1214<>0,(IF(lfValidaCNPJ(C1214)=TRUE,\"Válido\",\"Inválido\")),\"\")","v":""},{"$f":"IF(F1214<>0,(IF(lfValidaCEP(F1214)=TRUE,\"Válido\",\"Inválido\")),\"\")","v":""}]
[null,null,null,null,null,null,null,null,null,null,null,null,null,"",{"$f":"IF(C1215<>0,(IF(lfValidaCNPJ(C1215)=TRUE,\"Válido\",\"Inválido\")),\"\")","v":""},{"$f":"IF(F1215<>0,(IF(lfValidaCEP(F1215)=TRUE,\"Válido\",\"Inválido\")),\"\")","v":""}]
[null,null,null,null,null,null,null,null,null,null,null,null,null,"",{"$f":"IF(C1216<>0,(IF(lfValidaCNPJ(C1216)=TRUE,\"Válido\",\"Inválido\")),\"\")","v":""},{"$f":"IF(F1216<>0,(IF(lfValidaCEP(F1216)=TRUE,\"Válido\",\"Inválido\")),\"\")","v":""}]
[null,null,null,null,null,null,null,null,null,null,null,null,null,"",{"$f":"IF(C1217<>0,(IF(lfValidaCNPJ(C1217)=TRUE,\"Válido\",\"Inválido\")),\"\")","v":""},{"$f":"IF(F1217<>0,(IF(lfValidaCEP(F1217)=TRUE,\"Válido\",\"Inválido\")),\"\")","v":""}]
[null,null,null,null,null,null,null,null,null,null,null,null,null,"",{"$f":"IF(C1218<>0,(IF(lfValidaCNPJ(C1218)=TRUE,\"Válido\",\"Inválido\")),\"\")","v":""},{"$f":"IF(F1218<>0,(IF(lfValidaCEP(F1218)=TRUE,\"Válido\",\"Inválido\")),\"\")","v":""}]
[null,null,null,null,null,null,null,null,null,null,null,null,null,"",{"$f":"IF(C1219<>0,(IF(lfValidaCNPJ(C1219)=TRUE,\"Válido\",\"Inválido\")),\"\")","v":""},{"$f":"IF(F1219<>0,(IF(lfValidaCEP(F1219)=TRUE,\"Válido\",\"Inválido\")),\"\")","v":""}]
[null,null,null,null,null,null,null,null,null,null,null,null,null,"",{"$f":"IF(C1220<>0,(IF(lfValidaCNPJ(C1220)=TRUE,\"Válido\",\"Inválido\")),\"\")","v":""},{"$f":"IF(F1220<>0,(IF(lfValidaCEP(F1220)=TRUE,\"Válido\",\"Inválido\")),\"\")","v":""}]
[null,null,null,null,null,null,null,null,null,null,null,null,null,"",{"$f":"IF(C1221<>0,(IF(lfValidaCNPJ(C1221)=TRUE,\"Válido\",\"Inválido\")),\"\")","v":""},{"$f":"IF(F1221<>0,(IF(lfValidaCEP(F1221)=TRUE,\"Válido\",\"Inválido\")),\"\")","v":""}]
[null,null,null,null,null,null,null,null,null,null,null,null,null,"",{"$f":"IF(C1222<>0,(IF(lfValidaCNPJ(C1222)=TRUE,\"Válido\",\"Inválido\")),\"\")","v":""},{"$f":"IF(F1222<>0,(IF(lfValidaCEP(F1222)=TRUE,\"Válido\",\"Inválido\")),\"\")","v":""}]
[null,null,null,null,null,null,null,null,null,null,null,null,null,"",{"$f":"IF(C1223<>0,(IF(lfValidaCNPJ(C1223)=TRUE,\"Válido\",\"Inválido\")),\"\")","v":""},{"$f":"IF(F1223<>0,(IF(lfValidaCEP(F1223)=TRUE,\"Válido\",\"Inválido\")),\"\")","v":""}]
[null,null,null,null,null,null,null,null,null,null,null,null,null,"",{"$f":"IF(C1224<>0,(IF(lfValidaCNPJ(C1224)=TRUE,\"Válido\",\"Inválido\")),\"\")","v":""},{"$f":"IF(F1224<>0,(IF(lfValidaCEP(F1224)=TRUE,\"Válido\",\"Inválido\")),\"\")","v":""}]
[null,null,null,null,null,null,null,null,null,null,null,null,null,"",{"$f":"IF(C1225<>0,(IF(lfValidaCNPJ(C1225)=TRUE,\"Válido\",\"Inválido\")),\"\")","v":""},{"$f":"IF(F1225<>0,(IF(lfValidaCEP(F1225)=TRUE,\"Válido\",\"Inválido\")),\"\")","v":""}]
[null,null,null,null,null,null,null,null,null,null,null,null,null,"",{"$f":"IF(C1226<>0,(IF(lfValidaCNPJ(C1226)=TRUE,\"Válido\",\"Inválido\")),\"\")","v":""},{"$f":"IF(F1226<>0,(IF(lfValidaCEP(F1226)=TRUE,\"Válido\",\"Inválido\")),\"\")","v":""}]
[null,null,null,null,null,null,null,null,null,null,null,null,null,"",{"$f":"IF(C1227<>0,(IF(lfValidaCNPJ(C1227)=TRUE,\"Válido\",\"Inválido\")),\"\")","v":""},{"$f":"IF(F1227<>0,(IF(lfValidaCEP(F1227)=TRUE,\"Válido\",\"Inválido\")),\"\")","v":""}]
[null,null,null,null,null,null,null,null,null,null,null,null,null,{"$f":"IF(COUNTA(B1228:J1228)<>0,IF(AND(B1228<>0,C1228<>0,D1228<>0,E1228<>0,F1228<>0,G1228<>0,H1228<>0,I1228<>0,J1228<>0),\"Completo\",\"Incompleto\"),\"\")","v":""},{"$f":"IF(C1228<>0,(IF(lfValidaCNPJ(C1228)=TRUE,\"Válido\",\"Inválido\")),\"\")","v":""},{"$f":"IF(F1228<>0,(IF(lfValidaCEP(F1228)=TRUE,\"Válido\",\"Inválido\")),\"\")","v":""}]
[null,null,null,null,null,null,null,null,null,null,null,null,null,"",{"$f":"IF(C1229<>0,(IF(lfValidaCNPJ(C1229)=TRUE,\"Válido\",\"Inválido\")),\"\")","v":""},{"$f":"IF(F1229<>0,(IF(lfValidaCEP(F1229)=TRUE,\"Válido\",\"Inválido\")),\"\")","v":""}]
[null,null,null,null,null,null,null,null,null,null,null,null,null,"",{"$f":"IF(C1230<>0,(IF(lfValidaCNPJ(C1230)=TRUE,\"Válido\",\"Inválido\")),\"\")","v":""},{"$f":"IF(F1230<>0,(IF(lfValidaCEP(F1230)=TRUE,\"Válido\",\"Inválido\")),\"\")","v":""}]
[null,null,null,null,null,null,null,null,null,null,null,null,null,"",{"$f":"IF(C1231<>0,(IF(lfValidaCNPJ(C1231)=TRUE,\"Válido\",\"Inválido\")),\"\")","v":""},{"$f":"IF(F1231<>0,(IF(lfValidaCEP(F1231)=TRUE,\"Válido\",\"Inválido\")),\"\")","v":""}]
[null,null,null,null,null,null,null,null,null,null,null,null,null,"",{"$f":"IF(C1232<>0,(IF(lfValidaCNPJ(C1232)=TRUE,\"Válido\",\"Inválido\")),\"\")","v":""},{"$f":"IF(F1232<>0,(IF(lfValidaCEP(F1232)=TRUE,\"Válido\",\"Inválido\")),\"\")","v":""}]
[null,null,null,null,null,null,null,null,null,null,null,null,null,"",{"$f":"IF(C1233<>0,(IF(lfValidaCNPJ(C1233)=TRUE,\"Válido\",\"Inválido\")),\"\")","v":""},{"$f":"IF(F1233<>0,(IF(lfValidaCEP(F1233)=TRUE,\"Válido\",\"Inválido\")),\"\")","v":""}]
[null,null,null,null,null,null,null,null,null,null,null,null,null,"",{"$f":"IF(C1234<>0,(IF(lfValidaCNPJ(C1234)=TRUE,\"Válido\",\"Inválido\")),\"\")","v":""},{"$f":"IF(F1234<>0,(IF(lfValidaCEP(F1234)=TRUE,\"Válido\",\"Inválido\")),\"\")","v":""}]
[null,null,null,null,null,null,null,null,null,null,null,null,null,"",{"$f":"IF(C1235<>0,(IF(lfValidaCNPJ(C1235)=TRUE,\"Válido\",\"Inválido\")),\"\")","v":""},{"$f":"IF(F1235<>0,(IF(lfValidaCEP(F1235)=TRUE,\"Válido\",\"Inválido\")),\"\")","v":""}]
[null,null,null,null,null,null,null,null,null,null,null,null,null,"",{"$f":"IF(C1236<>0,(IF(lfValidaCNPJ(C1236)=TRUE,\"Válido\",\"Inválido\")),\"\")","v":""},{"$f":"IF(F1236<>0,(IF(lfValidaCEP(F1236)=TRUE,\"Válido\",\"Inválido\")),\"\")","v":""}]
[null,null,null,null,null,null,null,null,null,null,null,null,null,"",{"$f":"IF(C1237<>0,(IF(lfValidaCNPJ(C1237)=TRUE,\"Válido\",\"Inválido\")),\"\")","v":""},{"$f":"IF(F1237<>0,(IF(lfValidaCEP(F1237)=TRUE,\"Válido\",\"Inválido\")),\"\")","v":""}]
[null,null,null,null,null,null,null,null,null,null,null,null,null,"",{"$f":"IF(C1238<>0,(IF(lfValidaCNPJ(C1238)=TRUE,\"Válido\",\"Inválido\")),\"\")","v":""},{"$f":"IF(F1238<>0,(IF(lfValidaCEP(F1238)=TRUE,\"Válido\",\"Inválido\")),\"\")","v":""}]
[null,null,null,null,null,null,null,null,null,null,null,null,null,"",{"$f":"IF(C1239<>0,(IF(lfValidaCNPJ(C1239)=TRUE,\"Válido\",\"Inválido\")),\"\")","v":""},{"$f":"IF(F1239<>0,(IF(lfValidaCEP(F1239)=TRUE,\"Válido\",\"Inválido\")),\"\")","v":""}]
[null,null,null,null,null,null,null,null,null,null,null,null,null,"",{"$f":"IF(C1240<>0,(IF(lfValidaCNPJ(C1240)=TRUE,\"Válido\",\"Inválido\")),\"\")","v":""},{"$f":"IF(F1240<>0,(IF(lfValidaCEP(F1240)=TRUE,\"Válido\",\"Inválido\")),\"\")","v":""}]
[null,null,null,null,null,null,null,null,null,null,null,null,null,"",{"$f":"IF(C1241<>0,(IF(lfValidaCNPJ(C1241)=TRUE,\"Válido\",\"Inválido\")),\"\")","v":""},{"$f":"IF(F1241<>0,(IF(lfValidaCEP(F1241)=TRUE,\"Válido\",\"Inválido\")),\"\")","v":""}]
[null,null,null,null,null,null,null,null,null,null,null,null,null,"",{"$f":"IF(C1242<>0,(IF(lfValidaCNPJ(C1242)=TRUE,\"Válido\",\"Inválido\")),\"\")","v":""},{"$f":"IF(F1242<>0,(IF(lfValidaCEP(F1242)=TRUE,\"Válido\",\"Inválido\")),\"\")","v":""}]
[null,null,null,null,null,null,null,null,null,null,null,null,null,"",{"$f":"IF(C1243<>0,(IF(lfValidaCNPJ(C1243)=TRUE,\"Válido\",\"Inválido\")),\"\")","v":""},{"$f":"IF(F1243<>0,(IF(lfValidaCEP(F1243)=TRUE,\"Válido\",\"Inválido\")),\"\")","v":""}]
[null,null,null,null,null,null,null,null,null,null,null,null,null,"",{"$f":"IF(C1244<>0,(IF(lfValidaCNPJ(C1244)=TRUE,\"Válido\",\"Inválido\")),\"\")","v":""},{"$f":"IF(F1244<>0,(IF(lfValidaCEP(F1244)=TRUE,\"Válido\",\"Inválido\")),\"\")","v":""}]
[null,null,null,null,null,null,null,null,null,null,null,null,null,"",{"$f":"IF(C1245<>0,(IF(lfValidaCNPJ(C1245)=TRUE,\"Válido\",\"Inválido\")),\"\")","v":""},{"$f":"IF(F1245<>0,(IF(lfValidaCEP(F1245)=TRUE,\"Válido\",\"Inválido\")),\"\")","v":""}]
[null,null,null,null,null,null,null,null,null,null,null,null,null,"",{"$f":"IF(C1246<>0,(IF(lfValidaCNPJ(C1246)=TRUE,\"Válido\",\"Inválido\")),\"\")","v":""},{"$f":"IF(F1246<>0,(IF(lfValidaCEP(F1246)=TRUE,\"Válido\",\"Inválido\")),\"\")","v":""}]
[null,null,null,null,null,null,null,null,null,null,null,null,null,"",{"$f":"IF(C1247<>0,(IF(lfValidaCNPJ(C1247)=TRUE,\"Válido\",\"Inválido\")),\"\")","v":""},{"$f":"IF(F1247<>0,(IF(lfValidaCEP(F1247)=TRUE,\"Válido\",\"Inválido\")),\"\")","v":""}]
[null,null,null,null,null,null,null,null,null,null,null,null,null,"",{"$f":"IF(C1248<>0,(IF(lfValidaCNPJ(C1248)=TRUE,\"Válido\",\"Inválido\")),\"\")","v":""},{"$f":"IF(F1248<>0,(IF(lfValidaCEP(F1248)=TRUE,\"Válido\",\"Inválido\")),\"\")","v":""}]
[null,null,null,null,null,null,null,null,null,null,null,null,null,"",{"$f":"IF(C1249<>0,(IF(lfValidaCNPJ(C1249)=TRUE,\"Válido\",\"Inválido\")),\"\")","v":""},{"$f":"IF(F1249<>0,(IF(lfValidaCEP(F1249)=TRUE,\"Válido\",\"Inválido\")),\"\")","v":""}]
[null,null,null,null,null,null,null,null,null,null,null,null,null,"",{"$f":"IF(C1250<>0,(IF(lfValidaCNPJ(C1250)=TRUE,\"Válido\",\"Inválido\")),\"\")","v":""},{"$f":"IF(F1250<>0,(IF(lfValidaCEP(F1250)=TRUE,\"Válido\",\"Inválido\")),\"\")","v":""}]
[null,null,null,null,null,null,null,null,null,null,null,null,null,"",{"$f":"IF(C1251<>0,(IF(lfValidaCNPJ(C1251)=TRUE,\"Válido\",\"Inválido\")),\"\")","v":""},{"$f":"IF(F1251<>0,(IF(lfValidaCEP(F1251)=TRUE,\"Válido\",\"Inválido\")),\"\")","v":""}]
[null,null,null,null,null,null,null,null,null,null,null,null,null,"",{"$f":"IF(C1252<>0,(IF(lfValidaCNPJ(C1252)=TRUE,\"Válido\",\"Inválido\")),\"\")","v":""},{"$f":"IF(F1252<>0,(IF(lfValidaCEP(F1252)=TRUE,\"Válido\",\"Inválido\")),\"\")","v":""}]
[null,null,null,null,null,null,null,null,null,null,null,null,null,"",{"$f":"IF(C1253<>0,(IF(lfValidaCNPJ(C1253)=TRUE,\"Válido\",\"Inválido\")),\"\")","v":""},{"$f":"IF(F1253<>0,(IF(lfValidaCEP(F1253)=TRUE,\"Válido\",\"Inválido\")),\"\")","v":""}]
[null,null,null,null,null,null,null,null,null,null,null,null,null,"",{"$f":"IF(C1254<>0,(IF(lfValidaCNPJ(C1254)=TRUE,\"Válido\",\"Inválido\")),\"\")","v":""},{"$f":"IF(F1254<>0,(IF(lfValidaCEP(F1254)=TRUE,\"Válido\",\"Inválido\")),\"\")","v":""}]
[null,null,null,null,null,null,null,null,null,null,null,null,null,"",{"$f":"IF(C1255<>0,(IF(lfValidaCNPJ(C1255)=TRUE,\"Válido\",\"Inválido\")),\"\")","v":""},{"$f":"IF(F1255<>0,(IF(lfValidaCEP(F1255)=TRUE,\"Válido\",\"Inválido\")),\"\")","v":""}]
[null,null,null,null,null,null,null,null,null,null,null,null,null,"",{"$f":"IF(C1256<>0,(IF(lfValidaCNPJ(C1256)=TRUE,\"Válido\",\"Inválido\")),\"\")","v":""},{"$f":"IF(F1256<>0,(IF(lfValidaCEP(F1256)=TRUE,\"Válido\",\"Inválido\")),\"\")","v":""}]
[null,null,null,null,null,null,null,null,null,null,null,null,null,"",{"$f":"IF(C1257<>0,(IF(lfValidaCNPJ(C1257)=TRUE,\"Válido\",\"Inválido\")),\"\")","v":""},{"$f":"IF(F1257<>0,(IF(lfValidaCEP(F1257)=TRUE,\"Válido\",\"Inválido\")),\"\")","v":""}]
[null,null,null,null,null,null,null,null,null,null,null,null,null,"",{"$f":"IF(C1258<>0,(IF(lfValidaCNPJ(C1258)=TRUE,\"Válido\",\"Inválido\")),\"\")","v":""},{"$f":"IF(F1258<>0,(IF(lfValidaCEP(F1258)=TRUE,\"Válido\",\"Inválido\")),\"\")","v":""}]
[null,null,null,null,null,null,null,null,null,null,null,null,null,"",{"$f":"IF(C1259<>0,(IF(lfValidaCNPJ(C1259)=TRUE,\"Válido\",\"Inválido\")),\"\")","v":""},{"$f":"IF(F1259<>0,(IF(lfValidaCEP(F1259)=TRUE,\"Válido\",\"Inválido\")),\"\")","v":""}]
[null,null,null,null,null,null,null,null,null,null,null,null,null,"",{"$f":"IF(C1260<>0,(IF(lfValidaCNPJ(C1260)=TRUE,\"Válido\",\"Inválido\")),\"\")","v":""},{"$f":"IF(F1260<>0,(IF(lfValidaCEP(F1260)=TRUE,\"Válido\",\"Inválido\")),\"\")","v":""}]
[null,null,null,null,null,null,null,null,null,null,null,null,null,"",{"$f":"IF(C1261<>0,(IF(lfValidaCNPJ(C1261)=TRUE,\"Válido\",\"Inválido\")),\"\")","v":""},{"$f":"IF(F1261<>0,(IF(lfValidaCEP(F1261)=TRUE,\"Válido\",\"Inválido\")),\"\")","v":""}]
[null,null,null,null,null,null,null,null,null,null,null,null,null,"",{"$f":"IF(C1262<>0,(IF(lfValidaCNPJ(C1262)=TRUE,\"Válido\",\"Inválido\")),\"\")","v":""},{"$f":"IF(F1262<>0,(IF(lfValidaCEP(F1262)=TRUE,\"Válido\",\"Inválido\")),\"\")","v":""}]
[null,null,null,null,null,null,null,null,null,null,null,null,null,"",{"$f":"IF(C1263<>0,(IF(lfValidaCNPJ(C1263)=TRUE,\"Válido\",\"Inválido\")),\"\")","v":""},{"$f":"IF(F1263<>0,(IF(lfValidaCEP(F1263)=TRUE,\"Válido\",\"Inválido\")),\"\")","v":""}]
[null,null,null,null,null,null,null,null,null,null,null,null,null,"",{"$f":"IF(C1264<>0,(IF(lfValidaCNPJ(C1264)=TRUE,\"Válido\",\"Inválido\")),\"\")","v":""},{"$f":"IF(F1264<>0,(IF(lfValidaCEP(F1264)=TRUE,\"Válido\",\"Inválido\")),\"\")","v":""}]
[null,null,null,null,null,null,null,null,null,null,null,null,null,"",{"$f":"IF(C1265<>0,(IF(lfValidaCNPJ(C1265)=TRUE,\"Válido\",\"Inválido\")),\"\")","v":""},{"$f":"IF(F1265<>0,(IF(lfValidaCEP(F1265)=TRUE,\"Válido\",\"Inválido\")),\"\")","v":""}]
[null,null,null,null,null,null,null,null,null,null,null,null,null,"",{"$f":"IF(C1266<>0,(IF(lfValidaCNPJ(C1266)=TRUE,\"Válido\",\"Inválido\")),\"\")","v":""},{"$f":"IF(F1266<>0,(IF(lfValidaCEP(F1266)=TRUE,\"Válido\",\"Inválido\")),\"\")","v":""}]
[null,null,null,null,null,null,null,null,null,null,null,null,null,"",{"$f":"IF(C1267<>0,(IF(lfValidaCNPJ(C1267)=TRUE,\"Válido\",\"Inválido\")),\"\")","v":""},{"$f":"IF(F1267<>0,(IF(lfValidaCEP(F1267)=TRUE,\"Válido\",\"Inválido\")),\"\")","v":""}]
[null,null,null,null,null,null,null,null,null,null,null,null,null,"",{"$f":"IF(C1268<>0,(IF(lfValidaCNPJ(C1268)=TRUE,\"Válido\",\"Inválido\")),\"\")","v":""},{"$f":"IF(F1268<>0,(IF(lfValidaCEP(F1268)=TRUE,\"Válido\",\"Inválido\")),\"\")","v":""}]
[null,null,null,null,null,null,null,null,null,null,null,null,null,"",{"$f":"IF(C1269<>0,(IF(lfValidaCNPJ(C1269)=TRUE,\"Válido\",\"Inválido\")),\"\")","v":""},{"$f":"IF(F1269<>0,(IF(lfValidaCEP(F1269)=TRUE,\"Válido\",\"Inválido\")),\"\")","v":""}]
[null,null,null,null,null,null,null,null,null,null,null,null,null,"",{"$f":"IF(C1270<>0,(IF(lfValidaCNPJ(C1270)=TRUE,\"Válido\",\"Inválido\")),\"\")","v":""},{"$f":"IF(F1270<>0,(IF(lfValidaCEP(F1270)=TRUE,\"Válido\",\"Inválido\")),\"\")","v":""}]
[null,null,null,null,null,null,null,null,null,null,null,null,null,"",{"$f":"IF(C1271<>0,(IF(lfValidaCNPJ(C1271)=TRUE,\"Válido\",\"Inválido\")),\"\")","v":""},{"$f":"IF(F1271<>0,(IF(lfValidaCEP(F1271)=TRUE,\"Válido\",\"Inválido\")),\"\")","v":""}]
[null,null,null,null,null,null,null,null,null,null,null,null,null,"",{"$f":"IF(C1272<>0,(IF(lfValidaCNPJ(C1272)=TRUE,\"Válido\",\"Inválido\")),\"\")","v":""},{"$f":"IF(F1272<>0,(IF(lfValidaCEP(F1272)=TRUE,\"Válido\",\"Inválido\")),\"\")","v":""}]
[null,null,null,null,null,null,null,null,null,null,null,null,null,"",{"$f":"IF(C1273<>0,(IF(lfValidaCNPJ(C1273)=TRUE,\"Válido\",\"Inválido\")),\"\")","v":""},{"$f":"IF(F1273<>0,(IF(lfValidaCEP(F1273)=TRUE,\"Válido\",\"Inválido\")),\"\")","v":""}]
[null,null,null,null,null,null,null,null,null,null,null,null,null,"",{"$f":"IF(C1274<>0,(IF(lfValidaCNPJ(C1274)=TRUE,\"Válido\",\"Inválido\")),\"\")","v":""},{"$f":"IF(F1274<>0,(IF(lfValidaCEP(F1274)=TRUE,\"Válido\",\"Inválido\")),\"\")","v":""}]
[null,null,null,null,null,null,null,null,null,null,null,null,null,"",{"$f":"IF(C1275<>0,(IF(lfValidaCNPJ(C1275)=TRUE,\"Válido\",\"Inválido\")),\"\")","v":""},{"$f":"IF(F1275<>0,(IF(lfValidaCEP(F1275)=TRUE,\"Válido\",\"Inválido\")),\"\")","v":""}]
[null,null,null,null,null,null,null,null,null,null,null,null,null,"",{"$f":"IF(C1276<>0,(IF(lfValidaCNPJ(C1276)=TRUE,\"Válido\",\"Inválido\")),\"\")","v":""},{"$f":"IF(F1276<>0,(IF(lfValidaCEP(F1276)=TRUE,\"Válido\",\"Inválido\")),\"\")","v":""}]
[null,null,null,null,null,null,null,null,null,null,null,null,null,"",{"$f":"IF(C1277<>0,(IF(lfValidaCNPJ(C1277)=TRUE,\"Válido\",\"Inválido\")),\"\")","v":""},{"$f":"IF(F1277<>0,(IF(lfValidaCEP(F1277)=TRUE,\"Válido\",\"Inválido\")),\"\")","v":""}]
[null,null,null,null,null,null,null,null,null,null,null,null,null,"",{"$f":"IF(C1278<>0,(IF(lfValidaCNPJ(C1278)=TRUE,\"Válido\",\"Inválido\")),\"\")","v":""},{"$f":"IF(F1278<>0,(IF(lfValidaCEP(F1278)=TRUE,\"Válido\",\"Inválido\")),\"\")","v":""}]
[null,null,null,null,null,null,null,null,null,null,null,null,null,"",{"$f":"IF(C1279<>0,(IF(lfValidaCNPJ(C1279)=TRUE,\"Válido\",\"Inválido\")),\"\")","v":""},{"$f":"IF(F1279<>0,(IF(lfValidaCEP(F1279)=TRUE,\"Válido\",\"Inválido\")),\"\")","v":""}]
[null,null,null,null,null,null,null,null,null,null,null,null,null,"",{"$f":"IF(C1280<>0,(IF(lfValidaCNPJ(C1280)=TRUE,\"Válido\",\"Inválido\")),\"\")","v":""},{"$f":"IF(F1280<>0,(IF(lfValidaCEP(F1280)=TRUE,\"Válido\",\"Inválido\")),\"\")","v":""}]
[null,null,null,null,null,null,null,null,null,null,null,null,null,"",{"$f":"IF(C1281<>0,(IF(lfValidaCNPJ(C1281)=TRUE,\"Válido\",\"Inválido\")),\"\")","v":""},{"$f":"IF(F1281<>0,(IF(lfValidaCEP(F1281)=TRUE,\"Válido\",\"Inválido\")),\"\")","v":""}]
[null,null,null,null,null,null,null,null,null,null,null,null,null,"",{"$f":"IF(C1282<>0,(IF(lfValidaCNPJ(C1282)=TRUE,\"Válido\",\"Inválido\")),\"\")","v":""},{"$f":"IF(F1282<>0,(IF(lfValidaCEP(F1282)=TRUE,\"Válido\",\"Inválido\")),\"\")","v":""}]
[null,null,null,null,null,null,null,null,null,null,null,null,null,"",{"$f":"IF(C1283<>0,(IF(lfValidaCNPJ(C1283)=TRUE,\"Válido\",\"Inválido\")),\"\")","v":""},{"$f":"IF(F1283<>0,(IF(lfValidaCEP(F1283)=TRUE,\"Válido\",\"Inválido\")),\"\")","v":""}]
[null,null,null,null,null,null,null,null,null,null,null,null,null,"",{"$f":"IF(C1284<>0,(IF(lfValidaCNPJ(C1284)=TRUE,\"Válido\",\"Inválido\")),\"\")","v":""},{"$f":"IF(F1284<>0,(IF(lfValidaCEP(F1284)=TRUE,\"Válido\",\"Inválido\")),\"\")","v":""}]
[null,null,null,null,null,null,null,null,null,null,null,null,null,"",{"$f":"IF(C1285<>0,(IF(lfValidaCNPJ(C1285)=TRUE,\"Válido\",\"Inválido\")),\"\")","v":""},{"$f":"IF(F1285<>0,(IF(lfValidaCEP(F1285)=TRUE,\"Válido\",\"Inválido\")),\"\")","v":""}]
[null,null,null,null,null,null,null,null,null,null,null,null,null,"",{"$f":"IF(C1286<>0,(IF(lfValidaCNPJ(C1286)=TRUE,\"Válido\",\"Inválido\")),\"\")","v":""},{"$f":"IF(F1286<>0,(IF(lfValidaCEP(F1286)=TRUE,\"Válido\",\"Inválido\")),\"\")","v":""}]
[null,null,null,null,null,null,null,null,null,null,null,null,null,"",{"$f":"IF(C1287<>0,(IF(lfValidaCNPJ(C1287)=TRUE,\"Válido\",\"Inválido\")),\"\")","v":""},{"$f":"IF(F1287<>0,(IF(lfValidaCEP(F1287)=TRUE,\"Válido\",\"Inválido\")),\"\")","v":""}]
[null,null,null,null,null,null,null,null,null,null,null,null,null,"",{"$f":"IF(C1288<>0,(IF(lfValidaCNPJ(C1288)=TRUE,\"Válido\",\"Inválido\")),\"\")","v":""},{"$f":"IF(F1288<>0,(IF(lfValidaCEP(F1288)=TRUE,\"Válido\",\"Inválido\")),\"\")","v":""}]
[null,null,null,null,null,null,null,null,null,null,null,null,null,"",{"$f":"IF(C1289<>0,(IF(lfValidaCNPJ(C1289)=TRUE,\"Válido\",\"Inválido\")),\"\")","v":""},{"$f":"IF(F1289<>0,(IF(lfValidaCEP(F1289)=TRUE,\"Válido\",\"Inválido\")),\"\")","v":""}]
[null,null,null,null,null,null,null,null,null,null,null,null,null,"",{"$f":"IF(C1290<>0,(IF(lfValidaCNPJ(C1290)=TRUE,\"Válido\",\"Inválido\")),\"\")","v":""},{"$f":"IF(F1290<>0,(IF(lfValidaCEP(F1290)=TRUE,\"Válido\",\"Inválido\")),\"\")","v":""}]
[null,null,null,null,null,null,null,null,null,null,null,null,null,"",{"$f":"IF(C1291<>0,(IF(lfValidaCNPJ(C1291)=TRUE,\"Válido\",\"Inválido\")),\"\")","v":""},{"$f":"IF(F1291<>0,(IF(lfValidaCEP(F1291)=TRUE,\"Válido\",\"Inválido\")),\"\")","v":""}]
[null,null,null,null,null,null,null,null,null,null,null,null,null,{"$f":"IF(COUNTA(B1292:J1292)<>0,IF(AND(B1292<>0,C1292<>0,D1292<>0,E1292<>0,F1292<>0,G1292<>0,H1292<>0,I1292<>0,J1292<>0),\"Completo\",\"Incompleto\"),\"\")","v":""},{"$f":"IF(C1292<>0,(IF(lfValidaCNPJ(C1292)=TRUE,\"Válido\",\"Inválido\")),\"\")","v":""},{"$f":"IF(F1292<>0,(IF(lfValidaCEP(F1292)=TRUE,\"Válido\",\"Inválido\")),\"\")","v":""}]
[null,null,null,null,null,null,null,null,null,null,null,null,null,"",{"$f":"IF(C1293<>0,(IF(lfValidaCNPJ(C1293)=TRUE,\"Válido\",\"Inválido\")),\"\")","v":""},{"$f":"IF(F1293<>0,(IF(lfValidaCEP(F1293)=TRUE,\"Válido\",\"Inválido\")),\"\")","v":""}]
[null,null,null,null,null,null,null,null,null,null,null,null,null,"",{"$f":"IF(C1294<>0,(IF(lfValidaCNPJ(C1294)=TRUE,\"Válido\",\"Inválido\")),\"\")","v":""},{"$f":"IF(F1294<>0,(IF(lfValidaCEP(F1294)=TRUE,\"Válido\",\"Inválido\")),\"\")","v":""}]
[null,null,null,null,null,null,null,null,null,null,null,null,null,"",{"$f":"IF(C1295<>0,(IF(lfValidaCNPJ(C1295)=TRUE,\"Válido\",\"Inválido\")),\"\")","v":""},{"$f":"IF(F1295<>0,(IF(lfValidaCEP(F1295)=TRUE,\"Válido\",\"Inválido\")),\"\")","v":""}]
[null,null,null,null,null,null,null,null,null,null,null,null,null,"",{"$f":"IF(C1296<>0,(IF(lfValidaCNPJ(C1296)=TRUE,\"Válido\",\"Inválido\")),\"\")","v":""},{"$f":"IF(F1296<>0,(IF(lfValidaCEP(F1296)=TRUE,\"Válido\",\"Inválido\")),\"\")","v":""}]
[null,null,null,null,null,null,null,null,null,null,null,null,null,"",{"$f":"IF(C1297<>0,(IF(lfValidaCNPJ(C1297)=TRUE,\"Válido\",\"Inválido\")),\"\")","v":""},{"$f":"IF(F1297<>0,(IF(lfValidaCEP(F1297)=TRUE,\"Válido\",\"Inválido\")),\"\")","v":""}]
[null,null,null,null,null,null,null,null,null,null,null,null,null,"",{"$f":"IF(C1298<>0,(IF(lfValidaCNPJ(C1298)=TRUE,\"Válido\",\"Inválido\")),\"\")","v":""},{"$f":"IF(F1298<>0,(IF(lfValidaCEP(F1298)=TRUE,\"Válido\",\"Inválido\")),\"\")","v":""}]
[null,null,null,null,null,null,null,null,null,null,null,null,null,"",{"$f":"IF(C1299<>0,(IF(lfValidaCNPJ(C1299)=TRUE,\"Válido\",\"Inválido\")),\"\")","v":""},{"$f":"IF(F1299<>0,(IF(lfValidaCEP(F1299)=TRUE,\"Válido\",\"Inválido\")),\"\")","v":""}]
[null,null,null,null,null,null,null,null,null,null,null,null,null,"",{"$f":"IF(C1300<>0,(IF(lfValidaCNPJ(C1300)=TRUE,\"Válido\",\"Inválido\")),\"\")","v":""},{"$f":"IF(F1300<>0,(IF(lfValidaCEP(F1300)=TRUE,\"Válido\",\"Inválido\")),\"\")","v":""}]
[null,null,null,null,null,null,null,null,null,null,null,null,null,"",{"$f":"IF(C1301<>0,(IF(lfValidaCNPJ(C1301)=TRUE,\"Válido\",\"Inválido\")),\"\")","v":""},{"$f":"IF(F1301<>0,(IF(lfValidaCEP(F1301)=TRUE,\"Válido\",\"Inválido\")),\"\")","v":""}]
[null,null,null,null,null,null,null,null,null,null,null,null,null,"",{"$f":"IF(C1302<>0,(IF(lfValidaCNPJ(C1302)=TRUE,\"Válido\",\"Inválido\")),\"\")","v":""},{"$f":"IF(F1302<>0,(IF(lfValidaCEP(F1302)=TRUE,\"Válido\",\"Inválido\")),\"\")","v":""}]
[null,null,null,null,null,null,null,null,null,null,null,null,null,"",{"$f":"IF(C1303<>0,(IF(lfValidaCNPJ(C1303)=TRUE,\"Válido\",\"Inválido\")),\"\")","v":""},{"$f":"IF(F1303<>0,(IF(lfValidaCEP(F1303)=TRUE,\"Válido\",\"Inválido\")),\"\")","v":""}]
[null,null,null,null,null,null,null,null,null,null,null,null,null,"",{"$f":"IF(C1304<>0,(IF(lfValidaCNPJ(C1304)=TRUE,\"Válido\",\"Inválido\")),\"\")","v":""},{"$f":"IF(F1304<>0,(IF(lfValidaCEP(F1304)=TRUE,\"Válido\",\"Inválido\")),\"\")","v":""}]
[null,null,null,null,null,null,null,null,null,null,null,null,null,"",{"$f":"IF(C1305<>0,(IF(lfValidaCNPJ(C1305)=TRUE,\"Válido\",\"Inválido\")),\"\")","v":""},{"$f":"IF(F1305<>0,(IF(lfValidaCEP(F1305)=TRUE,\"Válido\",\"Inválido\")),\"\")","v":""}]
[null,null,null,null,null,null,null,null,null,null,null,null,null,"",{"$f":"IF(C1306<>0,(IF(lfValidaCNPJ(C1306)=TRUE,\"Válido\",\"Inválido\")),\"\")","v":""},{"$f":"IF(F1306<>0,(IF(lfValidaCEP(F1306)=TRUE,\"Válido\",\"Inválido\")),\"\")","v":""}]
[null,null,null,null,null,null,null,null,null,null,null,null,null,"",{"$f":"IF(C1307<>0,(IF(lfValidaCNPJ(C1307)=TRUE,\"Válido\",\"Inválido\")),\"\")","v":""},{"$f":"IF(F1307<>0,(IF(lfValidaCEP(F1307)=TRUE,\"Válido\",\"Inválido\")),\"\")","v":""}]
[null,null,null,null,null,null,null,null,null,null,null,null,null,"",{"$f":"IF(C1308<>0,(IF(lfValidaCNPJ(C1308)=TRUE,\"Válido\",\"Inválido\")),\"\")","v":""},{"$f":"IF(F1308<>0,(IF(lfValidaCEP(F1308)=TRUE,\"Válido\",\"Inválido\")),\"\")","v":""}]
[null,null,null,null,null,null,null,null,null,null,null,null,null,"",{"$f":"IF(C1309<>0,(IF(lfValidaCNPJ(C1309)=TRUE,\"Válido\",\"Inválido\")),\"\")","v":""},{"$f":"IF(F1309<>0,(IF(lfValidaCEP(F1309)=TRUE,\"Válido\",\"Inválido\")),\"\")","v":""}]
[null,null,null,null,null,null,null,null,null,null,null,null,null,"",{"$f":"IF(C1310<>0,(IF(lfValidaCNPJ(C1310)=TRUE,\"Válido\",\"Inválido\")),\"\")","v":""},{"$f":"IF(F1310<>0,(IF(lfValidaCEP(F1310)=TRUE,\"Válido\",\"Inválido\")),\"\")","v":""}]
[null,null,null,null,null,null,null,null,null,null,null,null,null,"",{"$f":"IF(C1311<>0,(IF(lfValidaCNPJ(C1311)=TRUE,\"Válido\",\"Inválido\")),\"\")","v":""},{"$f":"IF(F1311<>0,(IF(lfValidaCEP(F1311)=TRUE,\"Válido\",\"Inválido\")),\"\")","v":""}]
[null,null,null,null,null,null,null,null,null,null,null,null,null,"",{"$f":"IF(C1312<>0,(IF(lfValidaCNPJ(C1312)=TRUE,\"Válido\",\"Inválido\")),\"\")","v":""},{"$f":"IF(F1312<>0,(IF(lfValidaCEP(F1312)=TRUE,\"Válido\",\"Inválido\")),\"\")","v":""}]
[null,null,null,null,null,null,null,null,null,null,null,null,null,"",{"$f":"IF(C1313<>0,(IF(lfValidaCNPJ(C1313)=TRUE,\"Válido\",\"Inválido\")),\"\")","v":""},{"$f":"IF(F1313<>0,(IF(lfValidaCEP(F1313)=TRUE,\"Válido\",\"Inválido\")),\"\")","v":""}]
[null,null,null,null,null,null,null,null,null,null,null,null,null,"",{"$f":"IF(C1314<>0,(IF(lfValidaCNPJ(C1314)=TRUE,\"Válido\",\"Inválido\")),\"\")","v":""},{"$f":"IF(F1314<>0,(IF(lfValidaCEP(F1314)=TRUE,\"Válido\",\"Inválido\")),\"\")","v":""}]
[null,null,null,null,null,null,null,null,null,null,null,null,null,"",{"$f":"IF(C1315<>0,(IF(lfValidaCNPJ(C1315)=TRUE,\"Válido\",\"Inválido\")),\"\")","v":""},{"$f":"IF(F1315<>0,(IF(lfValidaCEP(F1315)=TRUE,\"Válido\",\"Inválido\")),\"\")","v":""}]
[null,null,null,null,null,null,null,null,null,null,null,null,null,"",{"$f":"IF(C1316<>0,(IF(lfValidaCNPJ(C1316)=TRUE,\"Válido\",\"Inválido\")),\"\")","v":""},{"$f":"IF(F1316<>0,(IF(lfValidaCEP(F1316)=TRUE,\"Válido\",\"Inválido\")),\"\")","v":""}]
[null,null,null,null,null,null,null,null,null,null,null,null,null,"",{"$f":"IF(C1317<>0,(IF(lfValidaCNPJ(C1317)=TRUE,\"Válido\",\"Inválido\")),\"\")","v":""},{"$f":"IF(F1317<>0,(IF(lfValidaCEP(F1317)=TRUE,\"Válido\",\"Inválido\")),\"\")","v":""}]
[null,null,null,null,null,null,null,null,null,null,null,null,null,"",{"$f":"IF(C1318<>0,(IF(lfValidaCNPJ(C1318)=TRUE,\"Válido\",\"Inválido\")),\"\")","v":""},{"$f":"IF(F1318<>0,(IF(lfValidaCEP(F1318)=TRUE,\"Válido\",\"Inválido\")),\"\")","v":""}]
[null,null,null,null,null,null,null,null,null,null,null,null,null,"",{"$f":"IF(C1319<>0,(IF(lfValidaCNPJ(C1319)=TRUE,\"Válido\",\"Inválido\")),\"\")","v":""},{"$f":"IF(F1319<>0,(IF(lfValidaCEP(F1319)=TRUE,\"Válido\",\"Inválido\")),\"\")","v":""}]
[null,null,null,null,null,null,null,null,null,null,null,null,null,"",{"$f":"IF(C1320<>0,(IF(lfValidaCNPJ(C1320)=TRUE,\"Válido\",\"Inválido\")),\"\")","v":""},{"$f":"IF(F1320<>0,(IF(lfValidaCEP(F1320)=TRUE,\"Válido\",\"Inválido\")),\"\")","v":""}]
[null,null,null,null,null,null,null,null,null,null,null,null,null,"",{"$f":"IF(C1321<>0,(IF(lfValidaCNPJ(C1321)=TRUE,\"Válido\",\"Inválido\")),\"\")","v":""},{"$f":"IF(F1321<>0,(IF(lfValidaCEP(F1321)=TRUE,\"Válido\",\"Inválido\")),\"\")","v":""}]
[null,null,null,null,null,null,null,null,null,null,null,null,null,"",{"$f":"IF(C1322<>0,(IF(lfValidaCNPJ(C1322)=TRUE,\"Válido\",\"Inválido\")),\"\")","v":""},{"$f":"IF(F1322<>0,(IF(lfValidaCEP(F1322)=TRUE,\"Válido\",\"Inválido\")),\"\")","v":""}]
[null,null,null,null,null,null,null,null,null,null,null,null,null,"",{"$f":"IF(C1323<>0,(IF(lfValidaCNPJ(C1323)=TRUE,\"Válido\",\"Inválido\")),\"\")","v":""},{"$f":"IF(F1323<>0,(IF(lfValidaCEP(F1323)=TRUE,\"Válido\",\"Inválido\")),\"\")","v":""}]
[null,null,null,null,null,null,null,null,null,null,null,null,null,"",{"$f":"IF(C1324<>0,(IF(lfValidaCNPJ(C1324)=TRUE,\"Válido\",\"Inválido\")),\"\")","v":""},{"$f":"IF(F1324<>0,(IF(lfValidaCEP(F1324)=TRUE,\"Válido\",\"Inválido\")),\"\")","v":""}]
[null,null,null,null,null,null,null,null,null,null,null,null,null,"",{"$f":"IF(C1325<>0,(IF(lfValidaCNPJ(C1325)=TRUE,\"Válido\",\"Inválido\")),\"\")","v":""},{"$f":"IF(F1325<>0,(IF(lfValidaCEP(F1325)=TRUE,\"Válido\",\"Inválido\")),\"\")","v":""}]
[null,null,null,null,null,null,null,null,null,null,null,null,null,"",{"$f":"IF(C1326<>0,(IF(lfValidaCNPJ(C1326)=TRUE,\"Válido\",\"Inválido\")),\"\")","v":""},{"$f":"IF(F1326<>0,(IF(lfValidaCEP(F1326)=TRUE,\"Válido\",\"Inválido\")),\"\")","v":""}]
[null,null,null,null,null,null,null,null,null,null,null,null,null,"",{"$f":"IF(C1327<>0,(IF(lfValidaCNPJ(C1327)=TRUE,\"Válido\",\"Inválido\")),\"\")","v":""},{"$f":"IF(F1327<>0,(IF(lfValidaCEP(F1327)=TRUE,\"Válido\",\"Inválido\")),\"\")","v":""}]
[null,null,null,null,null,null,null,null,null,null,null,null,null,"",{"$f":"IF(C1328<>0,(IF(lfValidaCNPJ(C1328)=TRUE,\"Válido\",\"Inválido\")),\"\")","v":""},{"$f":"IF(F1328<>0,(IF(lfValidaCEP(F1328)=TRUE,\"Válido\",\"Inválido\")),\"\")","v":""}]
[null,null,null,null,null,null,null,null,null,null,null,null,null,"",{"$f":"IF(C1329<>0,(IF(lfValidaCNPJ(C1329)=TRUE,\"Válido\",\"Inválido\")),\"\")","v":""},{"$f":"IF(F1329<>0,(IF(lfValidaCEP(F1329)=TRUE,\"Válido\",\"Inválido\")),\"\")","v":""}]
[null,null,null,null,null,null,null,null,null,null,null,null,null,"",{"$f":"IF(C1330<>0,(IF(lfValidaCNPJ(C1330)=TRUE,\"Válido\",\"Inválido\")),\"\")","v":""},{"$f":"IF(F1330<>0,(IF(lfValidaCEP(F1330)=TRUE,\"Válido\",\"Inválido\")),\"\")","v":""}]
[null,null,null,null,null,null,null,null,null,null,null,null,null,"",{"$f":"IF(C1331<>0,(IF(lfValidaCNPJ(C1331)=TRUE,\"Válido\",\"Inválido\")),\"\")","v":""},{"$f":"IF(F1331<>0,(IF(lfValidaCEP(F1331)=TRUE,\"Válido\",\"Inválido\")),\"\")","v":""}]
[null,null,null,null,null,null,null,null,null,null,null,null,null,"",{"$f":"IF(C1332<>0,(IF(lfValidaCNPJ(C1332)=TRUE,\"Válido\",\"Inválido\")),\"\")","v":""},{"$f":"IF(F1332<>0,(IF(lfValidaCEP(F1332)=TRUE,\"Válido\",\"Inválido\")),\"\")","v":""}]
[null,null,null,null,null,null,null,null,null,null,null,null,null,"",{"$f":"IF(C1333<>0,(IF(lfValidaCNPJ(C1333)=TRUE,\"Válido\",\"Inválido\")),\"\")","v":""},{"$f":"IF(F1333<>0,(IF(lfValidaCEP(F1333)=TRUE,\"Válido\",\"Inválido\")),\"\")","v":""}]
[null,null,null,null,null,null,null,null,null,null,null,null,null,"",{"$f":"IF(C1334<>0,(IF(lfValidaCNPJ(C1334)=TRUE,\"Válido\",\"Inválido\")),\"\")","v":""},{"$f":"IF(F1334<>0,(IF(lfValidaCEP(F1334)=TRUE,\"Válido\",\"Inválido\")),\"\")","v":""}]
[null,null,null,null,null,null,null,null,null,null,null,null,null,"",{"$f":"IF(C1335<>0,(IF(lfValidaCNPJ(C1335)=TRUE,\"Válido\",\"Inválido\")),\"\")","v":""},{"$f":"IF(F1335<>0,(IF(lfValidaCEP(F1335)=TRUE,\"Válido\",\"Inválido\")),\"\")","v":""}]
[null,null,null,null,null,null,null,null,null,null,null,null,null,"",{"$f":"IF(C1336<>0,(IF(lfValidaCNPJ(C1336)=TRUE,\"Válido\",\"Inválido\")),\"\")","v":""},{"$f":"IF(F1336<>0,(IF(lfValidaCEP(F1336)=TRUE,\"Válido\",\"Inválido\")),\"\")","v":""}]
[null,null,null,null,null,null,null,null,null,null,null,null,null,"",{"$f":"IF(C1337<>0,(IF(lfValidaCNPJ(C1337)=TRUE,\"Válido\",\"Inválido\")),\"\")","v":""},{"$f":"IF(F1337<>0,(IF(lfValidaCEP(F1337)=TRUE,\"Válido\",\"Inválido\")),\"\")","v":""}]
[null,null,null,null,null,null,null,null,null,null,null,null,null,"",{"$f":"IF(C1338<>0,(IF(lfValidaCNPJ(C1338)=TRUE,\"Válido\",\"Inválido\")),\"\")","v":""},{"$f":"IF(F1338<>0,(IF(lfValidaCEP(F1338)=TRUE,\"Válido\",\"Inválido\")),\"\")","v":""}]
[null,null,null,null,null,null,null,null,null,null,null,null,null,"",{"$f":"IF(C1339<>0,(IF(lfValidaCNPJ(C1339)=TRUE,\"Válido\",\"Inválido\")),\"\")","v":""},{"$f":"IF(F1339<>0,(IF(lfValidaCEP(F1339)=TRUE,\"Válido\",\"Inválido\")),\"\")","v":""}]
[null,null,null,null,null,null,null,null,null,null,null,null,null,"",{"$f":"IF(C1340<>0,(IF(lfValidaCNPJ(C1340)=TRUE,\"Válido\",\"Inválido\")),\"\")","v":""},{"$f":"IF(F1340<>0,(IF(lfValidaCEP(F1340)=TRUE,\"Válido\",\"Inválido\")),\"\")","v":""}]
[null,null,null,null,null,null,null,null,null,null,null,null,null,"",{"$f":"IF(C1341<>0,(IF(lfValidaCNPJ(C1341)=TRUE,\"Válido\",\"Inválido\")),\"\")","v":""},{"$f":"IF(F1341<>0,(IF(lfValidaCEP(F1341)=TRUE,\"Válido\",\"Inválido\")),\"\")","v":""}]
[null,null,null,null,null,null,null,null,null,null,null,null,null,"",{"$f":"IF(C1342<>0,(IF(lfValidaCNPJ(C1342)=TRUE,\"Válido\",\"Inválido\")),\"\")","v":""},{"$f":"IF(F1342<>0,(IF(lfValidaCEP(F1342)=TRUE,\"Válido\",\"Inválido\")),\"\")","v":""}]
[null,null,null,null,null,null,null,null,null,null,null,null,null,"",{"$f":"IF(C1343<>0,(IF(lfValidaCNPJ(C1343)=TRUE,\"Válido\",\"Inválido\")),\"\")","v":""},{"$f":"IF(F1343<>0,(IF(lfValidaCEP(F1343)=TRUE,\"Válido\",\"Inválido\")),\"\")","v":""}]
[null,null,null,null,null,null,null,null,null,null,null,null,null,"",{"$f":"IF(C1344<>0,(IF(lfValidaCNPJ(C1344)=TRUE,\"Válido\",\"Inválido\")),\"\")","v":""},{"$f":"IF(F1344<>0,(IF(lfValidaCEP(F1344)=TRUE,\"Válido\",\"Inválido\")),\"\")","v":""}]
[null,null,null,null,null,null,null,null,null,null,null,null,null,"",{"$f":"IF(C1345<>0,(IF(lfValidaCNPJ(C1345)=TRUE,\"Válido\",\"Inválido\")),\"\")","v":""},{"$f":"IF(F1345<>0,(IF(lfValidaCEP(F1345)=TRUE,\"Válido\",\"Inválido\")),\"\")","v":""}]
[null,null,null,null,null,null,null,null,null,null,null,null,null,"",{"$f":"IF(C1346<>0,(IF(lfValidaCNPJ(C1346)=TRUE,\"Válido\",\"Inválido\")),\"\")","v":""},{"$f":"IF(F1346<>0,(IF(lfValidaCEP(F1346)=TRUE,\"Válido\",\"Inválido\")),\"\")","v":""}]
[null,null,null,null,null,null,null,null,null,null,null,null,null,"",{"$f":"IF(C1347<>0,(IF(lfValidaCNPJ(C1347)=TRUE,\"Válido\",\"Inválido\")),\"\")","v":""},{"$f":"IF(F1347<>0,(IF(lfValidaCEP(F1347)=TRUE,\"Válido\",\"Inválido\")),\"\")","v":""}]
[null,null,null,null,null,null,null,null,null,null,null,null,null,"",{"$f":"IF(C1348<>0,(IF(lfValidaCNPJ(C1348)=TRUE,\"Válido\",\"Inválido\")),\"\")","v":""},{"$f":"IF(F1348<>0,(IF(lfValidaCEP(F1348)=TRUE,\"Válido\",\"Inválido\")),\"\")","v":""}]
[null,null,null,null,null,null,null,null,null,null,null,null,null,"",{"$f":"IF(C1349<>0,(IF(lfValidaCNPJ(C1349)=TRUE,\"Válido\",\"Inválido\")),\"\")","v":""},{"$f":"IF(F1349<>0,(IF(lfValidaCEP(F1349)=TRUE,\"Válido\",\"Inválido\")),\"\")","v":""}]
[null,null,null,null,null,null,null,null,null,null,null,null,null,"",{"$f":"IF(C1350<>0,(IF(lfValidaCNPJ(C1350)=TRUE,\"Válido\",\"Inválido\")),\"\")","v":""},{"$f":"IF(F1350<>0,(IF(lfValidaCEP(F1350)=TRUE,\"Válido\",\"Inválido\")),\"\")","v":""}]
[null,null,null,null,null,null,null,null,null,null,null,null,null,"",{"$f":"IF(C1351<>0,(IF(lfValidaCNPJ(C1351)=TRUE,\"Válido\",\"Inválido\")),\"\")","v":""},{"$f":"IF(F1351<>0,(IF(lfValidaCEP(F1351)=TRUE,\"Válido\",\"Inválido\")),\"\")","v":""}]
[null,null,null,null,null,null,null,null,null,null,null,null,null,"",{"$f":"IF(C1352<>0,(IF(lfValidaCNPJ(C1352)=TRUE,\"Válido\",\"Inválido\")),\"\")","v":""},{"$f":"IF(F1352<>0,(IF(lfValidaCEP(F1352)=TRUE,\"Válido\",\"Inválido\")),\"\")","v":""}]
[null,null,null,null,null,null,null,null,null,null,null,null,null,"",{"$f":"IF(C1353<>0,(IF(lfValidaCNPJ(C1353)=TRUE,\"Válido\",\"Inválido\")),\"\")","v":""},{"$f":"IF(F1353<>0,(IF(lfValidaCEP(F1353)=TRUE,\"Válido\",\"Inválido\")),\"\")","v":""}]
[null,null,null,null,null,null,null,null,null,null,null,null,null,"",{"$f":"IF(C1354<>0,(IF(lfValidaCNPJ(C1354)=TRUE,\"Válido\",\"Inválido\")),\"\")","v":""},{"$f":"IF(F1354<>0,(IF(lfValidaCEP(F1354)=TRUE,\"Válido\",\"Inválido\")),\"\")","v":""}]
[null,null,null,null,null,null,null,null,null,null,null,null,null,"",{"$f":"IF(C1355<>0,(IF(lfValidaCNPJ(C1355)=TRUE,\"Válido\",\"Inválido\")),\"\")","v":""},{"$f":"IF(F1355<>0,(IF(lfValidaCEP(F1355)=TRUE,\"Válido\",\"Inválido\")),\"\")","v":""}]
[null,null,null,null,null,null,null,null,null,null,null,null,null,{"$f":"IF(COUNTA(B1356:J1356)<>0,IF(AND(B1356<>0,C1356<>0,D1356<>0,E1356<>0,F1356<>0,G1356<>0,H1356<>0,I1356<>0,J1356<>0),\"Completo\",\"Incompleto\"),\"\")","v":""},{"$f":"IF(C1356<>0,(IF(lfValidaCNPJ(C1356)=TRUE,\"Válido\",\"Inválido\")),\"\")","v":""},{"$f":"IF(F1356<>0,(IF(lfValidaCEP(F1356)=TRUE,\"Válido\",\"Inválido\")),\"\")","v":""}]
[null,null,null,null,null,null,null,null,null,null,null,null,null,"",{"$f":"IF(C1357<>0,(IF(lfValidaCNPJ(C1357)=TRUE,\"Válido\",\"Inválido\")),\"\")","v":""},{"$f":"IF(F1357<>0,(IF(lfValidaCEP(F1357)=TRUE,\"Válido\",\"Inválido\")),\"\")","v":""}]
[null,null,null,null,null,null,null,null,null,null,null,null,null,"",{"$f":"IF(C1358<>0,(IF(lfValidaCNPJ(C1358)=TRUE,\"Válido\",\"Inválido\")),\"\")","v":""},{"$f":"IF(F1358<>0,(IF(lfValidaCEP(F1358)=TRUE,\"Válido\",\"Inválido\")),\"\")","v":""}]
[null,null,null,null,null,null,null,null,null,null,null,null,null,"",{"$f":"IF(C1359<>0,(IF(lfValidaCNPJ(C1359)=TRUE,\"Válido\",\"Inválido\")),\"\")","v":""},{"$f":"IF(F1359<>0,(IF(lfValidaCEP(F1359)=TRUE,\"Válido\",\"Inválido\")),\"\")","v":""}]
[null,null,null,null,null,null,null,null,null,null,null,null,null,"",{"$f":"IF(C1360<>0,(IF(lfValidaCNPJ(C1360)=TRUE,\"Válido\",\"Inválido\")),\"\")","v":""},{"$f":"IF(F1360<>0,(IF(lfValidaCEP(F1360)=TRUE,\"Válido\",\"Inválido\")),\"\")","v":""}]
[null,null,null,null,null,null,null,null,null,null,null,null,null,"",{"$f":"IF(C1361<>0,(IF(lfValidaCNPJ(C1361)=TRUE,\"Válido\",\"Inválido\")),\"\")","v":""},{"$f":"IF(F1361<>0,(IF(lfValidaCEP(F1361)=TRUE,\"Válido\",\"Inválido\")),\"\")","v":""}]
[null,null,null,null,null,null,null,null,null,null,null,null,null,"",{"$f":"IF(C1362<>0,(IF(lfValidaCNPJ(C1362)=TRUE,\"Válido\",\"Inválido\")),\"\")","v":""},{"$f":"IF(F1362<>0,(IF(lfValidaCEP(F1362)=TRUE,\"Válido\",\"Inválido\")),\"\")","v":""}]
[null,null,null,null,null,null,null,null,null,null,null,null,null,"",{"$f":"IF(C1363<>0,(IF(lfValidaCNPJ(C1363)=TRUE,\"Válido\",\"Inválido\")),\"\")","v":""},{"$f":"IF(F1363<>0,(IF(lfValidaCEP(F1363)=TRUE,\"Válido\",\"Inválido\")),\"\")","v":""}]
[null,null,null,null,null,null,null,null,null,null,null,null,null,"",{"$f":"IF(C1364<>0,(IF(lfValidaCNPJ(C1364)=TRUE,\"Válido\",\"Inválido\")),\"\")","v":""},{"$f":"IF(F1364<>0,(IF(lfValidaCEP(F1364)=TRUE,\"Válido\",\"Inválido\")),\"\")","v":""}]
[null,null,null,null,null,null,null,null,null,null,null,null,null,"",{"$f":"IF(C1365<>0,(IF(lfValidaCNPJ(C1365)=TRUE,\"Válido\",\"Inválido\")),\"\")","v":""},{"$f":"IF(F1365<>0,(IF(lfValidaCEP(F1365)=TRUE,\"Válido\",\"Inválido\")),\"\")","v":""}]
[null,null,null,null,null,null,null,null,null,null,null,null,null,"",{"$f":"IF(C1366<>0,(IF(lfValidaCNPJ(C1366)=TRUE,\"Válido\",\"Inválido\")),\"\")","v":""},{"$f":"IF(F1366<>0,(IF(lfValidaCEP(F1366)=TRUE,\"Válido\",\"Inválido\")),\"\")","v":""}]
[null,null,null,null,null,null,null,null,null,null,null,null,null,"",{"$f":"IF(C1367<>0,(IF(lfValidaCNPJ(C1367)=TRUE,\"Válido\",\"Inválido\")),\"\")","v":""},{"$f":"IF(F1367<>0,(IF(lfValidaCEP(F1367)=TRUE,\"Válido\",\"Inválido\")),\"\")","v":""}]
[null,null,null,null,null,null,null,null,null,null,null,null,null,"",{"$f":"IF(C1368<>0,(IF(lfValidaCNPJ(C1368)=TRUE,\"Válido\",\"Inválido\")),\"\")","v":""},{"$f":"IF(F1368<>0,(IF(lfValidaCEP(F1368)=TRUE,\"Válido\",\"Inválido\")),\"\")","v":""}]
[null,null,null,null,null,null,null,null,null,null,null,null,null,"",{"$f":"IF(C1369<>0,(IF(lfValidaCNPJ(C1369)=TRUE,\"Válido\",\"Inválido\")),\"\")","v":""},{"$f":"IF(F1369<>0,(IF(lfValidaCEP(F1369)=TRUE,\"Válido\",\"Inválido\")),\"\")","v":""}]
[null,null,null,null,null,null,null,null,null,null,null,null,null,"",{"$f":"IF(C1370<>0,(IF(lfValidaCNPJ(C1370)=TRUE,\"Válido\",\"Inválido\")),\"\")","v":""},{"$f":"IF(F1370<>0,(IF(lfValidaCEP(F1370)=TRUE,\"Válido\",\"Inválido\")),\"\")","v":""}]
[null,null,null,null,null,null,null,null,null,null,null,null,null,"",{"$f":"IF(C1371<>0,(IF(lfValidaCNPJ(C1371)=TRUE,\"Válido\",\"Inválido\")),\"\")","v":""},{"$f":"IF(F1371<>0,(IF(lfValidaCEP(F1371)=TRUE,\"Válido\",\"Inválido\")),\"\")","v":""}]
[null,null,null,null,null,null,null,null,null,null,null,null,null,"",{"$f":"IF(C1372<>0,(IF(lfValidaCNPJ(C1372)=TRUE,\"Válido\",\"Inválido\")),\"\")","v":""},{"$f":"IF(F1372<>0,(IF(lfValidaCEP(F1372)=TRUE,\"Válido\",\"Inválido\")),\"\")","v":""}]
[null,null,null,null,null,null,null,null,null,null,null,null,null,"",{"$f":"IF(C1373<>0,(IF(lfValidaCNPJ(C1373)=TRUE,\"Válido\",\"Inválido\")),\"\")","v":""},{"$f":"IF(F1373<>0,(IF(lfValidaCEP(F1373)=TRUE,\"Válido\",\"Inválido\")),\"\")","v":""}]
[null,null,null,null,null,null,null,null,null,null,null,null,null,"",{"$f":"IF(C1374<>0,(IF(lfValidaCNPJ(C1374)=TRUE,\"Válido\",\"Inválido\")),\"\")","v":""},{"$f":"IF(F1374<>0,(IF(lfValidaCEP(F1374)=TRUE,\"Válido\",\"Inválido\")),\"\")","v":""}]
[null,null,null,null,null,null,null,null,null,null,null,null,null,"",{"$f":"IF(C1375<>0,(IF(lfValidaCNPJ(C1375)=TRUE,\"Válido\",\"Inválido\")),\"\")","v":""},{"$f":"IF(F1375<>0,(IF(lfValidaCEP(F1375)=TRUE,\"Válido\",\"Inválido\")),\"\")","v":""}]
[null,null,null,null,null,null,null,null,null,null,null,null,null,"",{"$f":"IF(C1376<>0,(IF(lfValidaCNPJ(C1376)=TRUE,\"Válido\",\"Inválido\")),\"\")","v":""},{"$f":"IF(F1376<>0,(IF(lfValidaCEP(F1376)=TRUE,\"Válido\",\"Inválido\")),\"\")","v":""}]
[null,null,null,null,null,null,null,null,null,null,null,null,null,"",{"$f":"IF(C1377<>0,(IF(lfValidaCNPJ(C1377)=TRUE,\"Válido\",\"Inválido\")),\"\")","v":""},{"$f":"IF(F1377<>0,(IF(lfValidaCEP(F1377)=TRUE,\"Válido\",\"Inválido\")),\"\")","v":""}]
[null,null,null,null,null,null,null,null,null,null,null,null,null,"",{"$f":"IF(C1378<>0,(IF(lfValidaCNPJ(C1378)=TRUE,\"Válido\",\"Inválido\")),\"\")","v":""},{"$f":"IF(F1378<>0,(IF(lfValidaCEP(F1378)=TRUE,\"Válido\",\"Inválido\")),\"\")","v":""}]
[null,null,null,null,null,null,null,null,null,null,null,null,null,"",{"$f":"IF(C1379<>0,(IF(lfValidaCNPJ(C1379)=TRUE,\"Válido\",\"Inválido\")),\"\")","v":""},{"$f":"IF(F1379<>0,(IF(lfValidaCEP(F1379)=TRUE,\"Válido\",\"Inválido\")),\"\")","v":""}]
[null,null,null,null,null,null,null,null,null,null,null,null,null,"",{"$f":"IF(C1380<>0,(IF(lfValidaCNPJ(C1380)=TRUE,\"Válido\",\"Inválido\")),\"\")","v":""},{"$f":"IF(F1380<>0,(IF(lfValidaCEP(F1380)=TRUE,\"Válido\",\"Inválido\")),\"\")","v":""}]
[null,null,null,null,null,null,null,null,null,null,null,null,null,"",{"$f":"IF(C1381<>0,(IF(lfValidaCNPJ(C1381)=TRUE,\"Válido\",\"Inválido\")),\"\")","v":""},{"$f":"IF(F1381<>0,(IF(lfValidaCEP(F1381)=TRUE,\"Válido\",\"Inválido\")),\"\")","v":""}]
[null,null,null,null,null,null,null,null,null,null,null,null,null,"",{"$f":"IF(C1382<>0,(IF(lfValidaCNPJ(C1382)=TRUE,\"Válido\",\"Inválido\")),\"\")","v":""},{"$f":"IF(F1382<>0,(IF(lfValidaCEP(F1382)=TRUE,\"Válido\",\"Inválido\")),\"\")","v":""}]
[null,null,null,null,null,null,null,null,null,null,null,null,null,"",{"$f":"IF(C1383<>0,(IF(lfValidaCNPJ(C1383)=TRUE,\"Válido\",\"Inválido\")),\"\")","v":""},{"$f":"IF(F1383<>0,(IF(lfValidaCEP(F1383)=TRUE,\"Válido\",\"Inválido\")),\"\")","v":""}]
[null,null,null,null,null,null,null,null,null,null,null,null,null,"",{"$f":"IF(C1384<>0,(IF(lfValidaCNPJ(C1384)=TRUE,\"Válido\",\"Inválido\")),\"\")","v":""},{"$f":"IF(F1384<>0,(IF(lfValidaCEP(F1384)=TRUE,\"Válido\",\"Inválido\")),\"\")","v":""}]
[null,null,null,null,null,null,null,null,null,null,null,null,null,"",{"$f":"IF(C1385<>0,(IF(lfValidaCNPJ(C1385)=TRUE,\"Válido\",\"Inválido\")),\"\")","v":""},{"$f":"IF(F1385<>0,(IF(lfValidaCEP(F1385)=TRUE,\"Válido\",\"Inválido\")),\"\")","v":""}]
[null,null,null,null,null,null,null,null,null,null,null,null,null,"",{"$f":"IF(C1386<>0,(IF(lfValidaCNPJ(C1386)=TRUE,\"Válido\",\"Inválido\")),\"\")","v":""},{"$f":"IF(F1386<>0,(IF(lfValidaCEP(F1386)=TRUE,\"Válido\",\"Inválido\")),\"\")","v":""}]
[null,null,null,null,null,null,null,null,null,null,null,null,null,"",{"$f":"IF(C1387<>0,(IF(lfValidaCNPJ(C1387)=TRUE,\"Válido\",\"Inválido\")),\"\")","v":""},{"$f":"IF(F1387<>0,(IF(lfValidaCEP(F1387)=TRUE,\"Válido\",\"Inválido\")),\"\")","v":""}]
[null,null,null,null,null,null,null,null,null,null,null,null,null,"",{"$f":"IF(C1388<>0,(IF(lfValidaCNPJ(C1388)=TRUE,\"Válido\",\"Inválido\")),\"\")","v":""},{"$f":"IF(F1388<>0,(IF(lfValidaCEP(F1388)=TRUE,\"Válido\",\"Inválido\")),\"\")","v":""}]
[null,null,null,null,null,null,null,null,null,null,null,null,null,"",{"$f":"IF(C1389<>0,(IF(lfValidaCNPJ(C1389)=TRUE,\"Válido\",\"Inválido\")),\"\")","v":""},{"$f":"IF(F1389<>0,(IF(lfValidaCEP(F1389)=TRUE,\"Válido\",\"Inválido\")),\"\")","v":""}]
[null,null,null,null,null,null,null,null,null,null,null,null,null,"",{"$f":"IF(C1390<>0,(IF(lfValidaCNPJ(C1390)=TRUE,\"Válido\",\"Inválido\")),\"\")","v":""},{"$f":"IF(F1390<>0,(IF(lfValidaCEP(F1390)=TRUE,\"Válido\",\"Inválido\")),\"\")","v":""}]
[null,null,null,null,null,null,null,null,null,null,null,null,null,"",{"$f":"IF(C1391<>0,(IF(lfValidaCNPJ(C1391)=TRUE,\"Válido\",\"Inválido\")),\"\")","v":""},{"$f":"IF(F1391<>0,(IF(lfValidaCEP(F1391)=TRUE,\"Válido\",\"Inválido\")),\"\")","v":""}]
[null,null,null,null,null,null,null,null,null,null,null,null,null,"",{"$f":"IF(C1392<>0,(IF(lfValidaCNPJ(C1392)=TRUE,\"Válido\",\"Inválido\")),\"\")","v":""},{"$f":"IF(F1392<>0,(IF(lfValidaCEP(F1392)=TRUE,\"Válido\",\"Inválido\")),\"\")","v":""}]
[null,null,null,null,null,null,null,null,null,null,null,null,null,"",{"$f":"IF(C1393<>0,(IF(lfValidaCNPJ(C1393)=TRUE,\"Válido\",\"Inválido\")),\"\")","v":""},{"$f":"IF(F1393<>0,(IF(lfValidaCEP(F1393)=TRUE,\"Válido\",\"Inválido\")),\"\")","v":""}]
[null,null,null,null,null,null,null,null,null,null,null,null,null,"",{"$f":"IF(C1394<>0,(IF(lfValidaCNPJ(C1394)=TRUE,\"Válido\",\"Inválido\")),\"\")","v":""},{"$f":"IF(F1394<>0,(IF(lfValidaCEP(F1394)=TRUE,\"Válido\",\"Inválido\")),\"\")","v":""}]
[null,null,null,null,null,null,null,null,null,null,null,null,null,"",{"$f":"IF(C1395<>0,(IF(lfValidaCNPJ(C1395)=TRUE,\"Válido\",\"Inválido\")),\"\")","v":""},{"$f":"IF(F1395<>0,(IF(lfValidaCEP(F1395)=TRUE,\"Válido\",\"Inválido\")),\"\")","v":""}]
[null,null,null,null,null,null,null,null,null,null,null,null,null,"",{"$f":"IF(C1396<>0,(IF(lfValidaCNPJ(C1396)=TRUE,\"Válido\",\"Inválido\")),\"\")","v":""},{"$f":"IF(F1396<>0,(IF(lfValidaCEP(F1396)=TRUE,\"Válido\",\"Inválido\")),\"\")","v":""}]
[null,null,null,null,null,null,null,null,null,null,null,null,null,"",{"$f":"IF(C1397<>0,(IF(lfValidaCNPJ(C1397)=TRUE,\"Válido\",\"Inválido\")),\"\")","v":""},{"$f":"IF(F1397<>0,(IF(lfValidaCEP(F1397)=TRUE,\"Válido\",\"Inválido\")),\"\")","v":""}]
[null,null,null,null,null,null,null,null,null,null,null,null,null,"",{"$f":"IF(C1398<>0,(IF(lfValidaCNPJ(C1398)=TRUE,\"Válido\",\"Inválido\")),\"\")","v":""},{"$f":"IF(F1398<>0,(IF(lfValidaCEP(F1398)=TRUE,\"Válido\",\"Inválido\")),\"\")","v":""}]
[null,null,null,null,null,null,null,null,null,null,null,null,null,"",{"$f":"IF(C1399<>0,(IF(lfValidaCNPJ(C1399)=TRUE,\"Válido\",\"Inválido\")),\"\")","v":""},{"$f":"IF(F1399<>0,(IF(lfValidaCEP(F1399)=TRUE,\"Válido\",\"Inválido\")),\"\")","v":""}]
[null,null,null,null,null,null,null,null,null,null,null,null,null,"",{"$f":"IF(C1400<>0,(IF(lfValidaCNPJ(C1400)=TRUE,\"Válido\",\"Inválido\")),\"\")","v":""},{"$f":"IF(F1400<>0,(IF(lfValidaCEP(F1400)=TRUE,\"Válido\",\"Inválido\")),\"\")","v":""}]
[null,null,null,null,null,null,null,null,null,null,null,null,null,"",{"$f":"IF(C1401<>0,(IF(lfValidaCNPJ(C1401)=TRUE,\"Válido\",\"Inválido\")),\"\")","v":""},{"$f":"IF(F1401<>0,(IF(lfValidaCEP(F1401)=TRUE,\"Válido\",\"Inválido\")),\"\")","v":""}]
[null,null,null,null,null,null,null,null,null,null,null,null,null,"",{"$f":"IF(C1402<>0,(IF(lfValidaCNPJ(C1402)=TRUE,\"Válido\",\"Inválido\")),\"\")","v":""},{"$f":"IF(F1402<>0,(IF(lfValidaCEP(F1402)=TRUE,\"Válido\",\"Inválido\")),\"\")","v":""}]
[null,null,null,null,null,null,null,null,null,null,null,null,null,"",{"$f":"IF(C1403<>0,(IF(lfValidaCNPJ(C1403)=TRUE,\"Válido\",\"Inválido\")),\"\")","v":""},{"$f":"IF(F1403<>0,(IF(lfValidaCEP(F1403)=TRUE,\"Válido\",\"Inválido\")),\"\")","v":""}]
[null,null,null,null,null,null,null,null,null,null,null,null,null,"",{"$f":"IF(C1404<>0,(IF(lfValidaCNPJ(C1404)=TRUE,\"Válido\",\"Inválido\")),\"\")","v":""},{"$f":"IF(F1404<>0,(IF(lfValidaCEP(F1404)=TRUE,\"Válido\",\"Inválido\")),\"\")","v":""}]
[null,null,null,null,null,null,null,null,null,null,null,null,null,"",{"$f":"IF(C1405<>0,(IF(lfValidaCNPJ(C1405)=TRUE,\"Válido\",\"Inválido\")),\"\")","v":""},{"$f":"IF(F1405<>0,(IF(lfValidaCEP(F1405)=TRUE,\"Válido\",\"Inválido\")),\"\")","v":""}]
[null,null,null,null,null,null,null,null,null,null,null,null,null,"",{"$f":"IF(C1406<>0,(IF(lfValidaCNPJ(C1406)=TRUE,\"Válido\",\"Inválido\")),\"\")","v":""},{"$f":"IF(F1406<>0,(IF(lfValidaCEP(F1406)=TRUE,\"Válido\",\"Inválido\")),\"\")","v":""}]
[null,null,null,null,null,null,null,null,null,null,null,null,null,"",{"$f":"IF(C1407<>0,(IF(lfValidaCNPJ(C1407)=TRUE,\"Válido\",\"Inválido\")),\"\")","v":""},{"$f":"IF(F1407<>0,(IF(lfValidaCEP(F1407)=TRUE,\"Válido\",\"Inválido\")),\"\")","v":""}]
[null,null,null,null,null,null,null,null,null,null,null,null,null,"",{"$f":"IF(C1408<>0,(IF(lfValidaCNPJ(C1408)=TRUE,\"Válido\",\"Inválido\")),\"\")","v":""},{"$f":"IF(F1408<>0,(IF(lfValidaCEP(F1408)=TRUE,\"Válido\",\"Inválido\")),\"\")","v":""}]
[null,null,null,null,null,null,null,null,null,null,null,null,null,"",{"$f":"IF(C1409<>0,(IF(lfValidaCNPJ(C1409)=TRUE,\"Válido\",\"Inválido\")),\"\")","v":""},{"$f":"IF(F1409<>0,(IF(lfValidaCEP(F1409)=TRUE,\"Válido\",\"Inválido\")),\"\")","v":""}]
[null,null,null,null,null,null,null,null,null,null,null,null,null,"",{"$f":"IF(C1410<>0,(IF(lfValidaCNPJ(C1410)=TRUE,\"Válido\",\"Inválido\")),\"\")","v":""},{"$f":"IF(F1410<>0,(IF(lfValidaCEP(F1410)=TRUE,\"Válido\",\"Inválido\")),\"\")","v":""}]
[null,null,null,null,null,null,null,null,null,null,null,null,null,"",{"$f":"IF(C1411<>0,(IF(lfValidaCNPJ(C1411)=TRUE,\"Válido\",\"Inválido\")),\"\")","v":""},{"$f":"IF(F1411<>0,(IF(lfValidaCEP(F1411)=TRUE,\"Válido\",\"Inválido\")),\"\")","v":""}]
[null,null,null,null,null,null,null,null,null,null,null,null,null,"",{"$f":"IF(C1412<>0,(IF(lfValidaCNPJ(C1412)=TRUE,\"Válido\",\"Inválido\")),\"\")","v":""},{"$f":"IF(F1412<>0,(IF(lfValidaCEP(F1412)=TRUE,\"Válido\",\"Inválido\")),\"\")","v":""}]
[null,null,null,null,null,null,null,null,null,null,null,null,null,"",{"$f":"IF(C1413<>0,(IF(lfValidaCNPJ(C1413)=TRUE,\"Válido\",\"Inválido\")),\"\")","v":""},{"$f":"IF(F1413<>0,(IF(lfValidaCEP(F1413)=TRUE,\"Válido\",\"Inválido\")),\"\")","v":""}]
[null,null,null,null,null,null,null,null,null,null,null,null,null,"",{"$f":"IF(C1414<>0,(IF(lfValidaCNPJ(C1414)=TRUE,\"Válido\",\"Inválido\")),\"\")","v":""},{"$f":"IF(F1414<>0,(IF(lfValidaCEP(F1414)=TRUE,\"Válido\",\"Inválido\")),\"\")","v":""}]
[null,null,null,null,null,null,null,null,null,null,null,null,null,"",{"$f":"IF(C1415<>0,(IF(lfValidaCNPJ(C1415)=TRUE,\"Válido\",\"Inválido\")),\"\")","v":""},{"$f":"IF(F1415<>0,(IF(lfValidaCEP(F1415)=TRUE,\"Válido\",\"Inválido\")),\"\")","v":""}]
[null,null,null,null,null,null,null,null,null,null,null,null,null,"",{"$f":"IF(C1416<>0,(IF(lfValidaCNPJ(C1416)=TRUE,\"Válido\",\"Inválido\")),\"\")","v":""},{"$f":"IF(F1416<>0,(IF(lfValidaCEP(F1416)=TRUE,\"Válido\",\"Inválido\")),\"\")","v":""}]
[null,null,null,null,null,null,null,null,null,null,null,null,null,"",{"$f":"IF(C1417<>0,(IF(lfValidaCNPJ(C1417)=TRUE,\"Válido\",\"Inválido\")),\"\")","v":""},{"$f":"IF(F1417<>0,(IF(lfValidaCEP(F1417)=TRUE,\"Válido\",\"Inválido\")),\"\")","v":""}]
[null,null,null,null,null,null,null,null,null,null,null,null,null,"",{"$f":"IF(C1418<>0,(IF(lfValidaCNPJ(C1418)=TRUE,\"Válido\",\"Inválido\")),\"\")","v":""},{"$f":"IF(F1418<>0,(IF(lfValidaCEP(F1418)=TRUE,\"Válido\",\"Inválido\")),\"\")","v":""}]
[null,null,null,null,null,null,null,null,null,null,null,null,null,"",{"$f":"IF(C1419<>0,(IF(lfValidaCNPJ(C1419)=TRUE,\"Válido\",\"Inválido\")),\"\")","v":""},{"$f":"IF(F1419<>0,(IF(lfValidaCEP(F1419)=TRUE,\"Válido\",\"Inválido\")),\"\")","v":""}]
[null,null,null,null,null,null,null,null,null,null,null,null,null,{"$f":"IF(COUNTA(B1420:J1420)<>0,IF(AND(B1420<>0,C1420<>0,D1420<>0,E1420<>0,F1420<>0,G1420<>0,H1420<>0,I1420<>0,J1420<>0),\"Completo\",\"Incompleto\"),\"\")","v":""},{"$f":"IF(C1420<>0,(IF(lfValidaCNPJ(C1420)=TRUE,\"Válido\",\"Inválido\")),\"\")","v":""},{"$f":"IF(F1420<>0,(IF(lfValidaCEP(F1420)=TRUE,\"Válido\",\"Inválido\")),\"\")","v":""}]
[null,null,null,null,null,null,null,null,null,null,null,null,null,"",{"$f":"IF(C1421<>0,(IF(lfValidaCNPJ(C1421)=TRUE,\"Válido\",\"Inválido\")),\"\")","v":""},{"$f":"IF(F1421<>0,(IF(lfValidaCEP(F1421)=TRUE,\"Válido\",\"Inválido\")),\"\")","v":""}]
[null,null,null,null,null,null,null,null,null,null,null,null,null,"",{"$f":"IF(C1422<>0,(IF(lfValidaCNPJ(C1422)=TRUE,\"Válido\",\"Inválido\")),\"\")","v":""},{"$f":"IF(F1422<>0,(IF(lfValidaCEP(F1422)=TRUE,\"Válido\",\"Inválido\")),\"\")","v":""}]
[null,null,null,null,null,null,null,null,null,null,null,null,null,"",{"$f":"IF(C1423<>0,(IF(lfValidaCNPJ(C1423)=TRUE,\"Válido\",\"Inválido\")),\"\")","v":""},{"$f":"IF(F1423<>0,(IF(lfValidaCEP(F1423)=TRUE,\"Válido\",\"Inválido\")),\"\")","v":""}]
[null,null,null,null,null,null,null,null,null,null,null,null,null,"",{"$f":"IF(C1424<>0,(IF(lfValidaCNPJ(C1424)=TRUE,\"Válido\",\"Inválido\")),\"\")","v":""},{"$f":"IF(F1424<>0,(IF(lfValidaCEP(F1424)=TRUE,\"Válido\",\"Inválido\")),\"\")","v":""}]
[null,null,null,null,null,null,null,null,null,null,null,null,null,"",{"$f":"IF(C1425<>0,(IF(lfValidaCNPJ(C1425)=TRUE,\"Válido\",\"Inválido\")),\"\")","v":""},{"$f":"IF(F1425<>0,(IF(lfValidaCEP(F1425)=TRUE,\"Válido\",\"Inválido\")),\"\")","v":""}]
[null,null,null,null,null,null,null,null,null,null,null,null,null,"",{"$f":"IF(C1426<>0,(IF(lfValidaCNPJ(C1426)=TRUE,\"Válido\",\"Inválido\")),\"\")","v":""},{"$f":"IF(F1426<>0,(IF(lfValidaCEP(F1426)=TRUE,\"Válido\",\"Inválido\")),\"\")","v":""}]
[null,null,null,null,null,null,null,null,null,null,null,null,null,"",{"$f":"IF(C1427<>0,(IF(lfValidaCNPJ(C1427)=TRUE,\"Válido\",\"Inválido\")),\"\")","v":""},{"$f":"IF(F1427<>0,(IF(lfValidaCEP(F1427)=TRUE,\"Válido\",\"Inválido\")),\"\")","v":""}]
[null,null,null,null,null,null,null,null,null,null,null,null,null,"",{"$f":"IF(C1428<>0,(IF(lfValidaCNPJ(C1428)=TRUE,\"Válido\",\"Inválido\")),\"\")","v":""},{"$f":"IF(F1428<>0,(IF(lfValidaCEP(F1428)=TRUE,\"Válido\",\"Inválido\")),\"\")","v":""}]
[null,null,null,null,null,null,null,null,null,null,null,null,null,"",{"$f":"IF(C1429<>0,(IF(lfValidaCNPJ(C1429)=TRUE,\"Válido\",\"Inválido\")),\"\")","v":""},{"$f":"IF(F1429<>0,(IF(lfValidaCEP(F1429)=TRUE,\"Válido\",\"Inválido\")),\"\")","v":""}]
[null,null,null,null,null,null,null,null,null,null,null,null,null,"",{"$f":"IF(C1430<>0,(IF(lfValidaCNPJ(C1430)=TRUE,\"Válido\",\"Inválido\")),\"\")","v":""},{"$f":"IF(F1430<>0,(IF(lfValidaCEP(F1430)=TRUE,\"Válido\",\"Inválido\")),\"\")","v":""}]
[null,null,null,null,null,null,null,null,null,null,null,null,null,"",{"$f":"IF(C1431<>0,(IF(lfValidaCNPJ(C1431)=TRUE,\"Válido\",\"Inválido\")),\"\")","v":""},{"$f":"IF(F1431<>0,(IF(lfValidaCEP(F1431)=TRUE,\"Válido\",\"Inválido\")),\"\")","v":""}]
[null,null,null,null,null,null,null,null,null,null,null,null,null,"",{"$f":"IF(C1432<>0,(IF(lfValidaCNPJ(C1432)=TRUE,\"Válido\",\"Inválido\")),\"\")","v":""},{"$f":"IF(F1432<>0,(IF(lfValidaCEP(F1432)=TRUE,\"Válido\",\"Inválido\")),\"\")","v":""}]
[null,null,null,null,null,null,null,null,null,null,null,null,null,"",{"$f":"IF(C1433<>0,(IF(lfValidaCNPJ(C1433)=TRUE,\"Válido\",\"Inválido\")),\"\")","v":""},{"$f":"IF(F1433<>0,(IF(lfValidaCEP(F1433)=TRUE,\"Válido\",\"Inválido\")),\"\")","v":""}]
[null,null,null,null,null,null,null,null,null,null,null,null,null,"",{"$f":"IF(C1434<>0,(IF(lfValidaCNPJ(C1434)=TRUE,\"Válido\",\"Inválido\")),\"\")","v":""},{"$f":"IF(F1434<>0,(IF(lfValidaCEP(F1434)=TRUE,\"Válido\",\"Inválido\")),\"\")","v":""}]
[null,null,null,null,null,null,null,null,null,null,null,null,null,"",{"$f":"IF(C1435<>0,(IF(lfValidaCNPJ(C1435)=TRUE,\"Válido\",\"Inválido\")),\"\")","v":""},{"$f":"IF(F1435<>0,(IF(lfValidaCEP(F1435)=TRUE,\"Válido\",\"Inválido\")),\"\")","v":""}]
[null,null,null,null,null,null,null,null,null,null,null,null,null,"",{"$f":"IF(C1436<>0,(IF(lfValidaCNPJ(C1436)=TRUE,\"Válido\",\"Inválido\")),\"\")","v":""},{"$f":"IF(F1436<>0,(IF(lfValidaCEP(F1436)=TRUE,\"Válido\",\"Inválido\")),\"\")","v":""}]
[null,null,null,null,null,null,null,null,null,null,null,null,null,"",{"$f":"IF(C1437<>0,(IF(lfValidaCNPJ(C1437)=TRUE,\"Válido\",\"Inválido\")),\"\")","v":""},{"$f":"IF(F1437<>0,(IF(lfValidaCEP(F1437)=TRUE,\"Válido\",\"Inválido\")),\"\")","v":""}]
[null,null,null,null,null,null,null,null,null,null,null,null,null,"",{"$f":"IF(C1438<>0,(IF(lfValidaCNPJ(C1438)=TRUE,\"Válido\",\"Inválido\")),\"\")","v":""},{"$f":"IF(F1438<>0,(IF(lfValidaCEP(F1438)=TRUE,\"Válido\",\"Inválido\")),\"\")","v":""}]
[null,null,null,null,null,null,null,null,null,null,null,null,null,"",{"$f":"IF(C1439<>0,(IF(lfValidaCNPJ(C1439)=TRUE,\"Válido\",\"Inválido\")),\"\")","v":""},{"$f":"IF(F1439<>0,(IF(lfValidaCEP(F1439)=TRUE,\"Válido\",\"Inválido\")),\"\")","v":""}]
[null,null,null,null,null,null,null,null,null,null,null,null,null,"",{"$f":"IF(C1440<>0,(IF(lfValidaCNPJ(C1440)=TRUE,\"Válido\",\"Inválido\")),\"\")","v":""},{"$f":"IF(F1440<>0,(IF(lfValidaCEP(F1440)=TRUE,\"Válido\",\"Inválido\")),\"\")","v":""}]
[null,null,null,null,null,null,null,null,null,null,null,null,null,"",{"$f":"IF(C1441<>0,(IF(lfValidaCNPJ(C1441)=TRUE,\"Válido\",\"Inválido\")),\"\")","v":""},{"$f":"IF(F1441<>0,(IF(lfValidaCEP(F1441)=TRUE,\"Válido\",\"Inválido\")),\"\")","v":""}]
[null,null,null,null,null,null,null,null,null,null,null,null,null,"",{"$f":"IF(C1442<>0,(IF(lfValidaCNPJ(C1442)=TRUE,\"Válido\",\"Inválido\")),\"\")","v":""},{"$f":"IF(F1442<>0,(IF(lfValidaCEP(F1442)=TRUE,\"Válido\",\"Inválido\")),\"\")","v":""}]
[null,null,null,null,null,null,null,null,null,null,null,null,null,"",{"$f":"IF(C1443<>0,(IF(lfValidaCNPJ(C1443)=TRUE,\"Válido\",\"Inválido\")),\"\")","v":""},{"$f":"IF(F1443<>0,(IF(lfValidaCEP(F1443)=TRUE,\"Válido\",\"Inválido\")),\"\")","v":""}]
[null,null,null,null,null,null,null,null,null,null,null,null,null,"",{"$f":"IF(C1444<>0,(IF(lfValidaCNPJ(C1444)=TRUE,\"Válido\",\"Inválido\")),\"\")","v":""},{"$f":"IF(F1444<>0,(IF(lfValidaCEP(F1444)=TRUE,\"Válido\",\"Inválido\")),\"\")","v":""}]
[null,null,null,null,null,null,null,null,null,null,null,null,null,"",{"$f":"IF(C1445<>0,(IF(lfValidaCNPJ(C1445)=TRUE,\"Válido\",\"Inválido\")),\"\")","v":""},{"$f":"IF(F1445<>0,(IF(lfValidaCEP(F1445)=TRUE,\"Válido\",\"Inválido\")),\"\")","v":""}]
[null,null,null,null,null,null,null,null,null,null,null,null,null,"",{"$f":"IF(C1446<>0,(IF(lfValidaCNPJ(C1446)=TRUE,\"Válido\",\"Inválido\")),\"\")","v":""},{"$f":"IF(F1446<>0,(IF(lfValidaCEP(F1446)=TRUE,\"Válido\",\"Inválido\")),\"\")","v":""}]
[null,null,null,null,null,null,null,null,null,null,null,null,null,"",{"$f":"IF(C1447<>0,(IF(lfValidaCNPJ(C1447)=TRUE,\"Válido\",\"Inválido\")),\"\")","v":""},{"$f":"IF(F1447<>0,(IF(lfValidaCEP(F1447)=TRUE,\"Válido\",\"Inválido\")),\"\")","v":""}]
[null,null,null,null,null,null,null,null,null,null,null,null,null,"",{"$f":"IF(C1448<>0,(IF(lfValidaCNPJ(C1448)=TRUE,\"Válido\",\"Inválido\")),\"\")","v":""},{"$f":"IF(F1448<>0,(IF(lfValidaCEP(F1448)=TRUE,\"Válido\",\"Inválido\")),\"\")","v":""}]
[null,null,null,null,null,null,null,null,null,null,null,null,null,"",{"$f":"IF(C1449<>0,(IF(lfValidaCNPJ(C1449)=TRUE,\"Válido\",\"Inválido\")),\"\")","v":""},{"$f":"IF(F1449<>0,(IF(lfValidaCEP(F1449)=TRUE,\"Válido\",\"Inválido\")),\"\")","v":""}]
[null,null,null,null,null,null,null,null,null,null,null,null,null,"",{"$f":"IF(C1450<>0,(IF(lfValidaCNPJ(C1450)=TRUE,\"Válido\",\"Inválido\")),\"\")","v":""},{"$f":"IF(F1450<>0,(IF(lfValidaCEP(F1450)=TRUE,\"Válido\",\"Inválido\")),\"\")","v":""}]
[null,null,null,null,null,null,null,null,null,null,null,null,null,"",{"$f":"IF(C1451<>0,(IF(lfValidaCNPJ(C1451)=TRUE,\"Válido\",\"Inválido\")),\"\")","v":""},{"$f":"IF(F1451<>0,(IF(lfValidaCEP(F1451)=TRUE,\"Válido\",\"Inválido\")),\"\")","v":""}]
[null,null,null,null,null,null,null,null,null,null,null,null,null,"",{"$f":"IF(C1452<>0,(IF(lfValidaCNPJ(C1452)=TRUE,\"Válido\",\"Inválido\")),\"\")","v":""},{"$f":"IF(F1452<>0,(IF(lfValidaCEP(F1452)=TRUE,\"Válido\",\"Inválido\")),\"\")","v":""}]
[null,null,null,null,null,null,null,null,null,null,null,null,null,"",{"$f":"IF(C1453<>0,(IF(lfValidaCNPJ(C1453)=TRUE,\"Válido\",\"Inválido\")),\"\")","v":""},{"$f":"IF(F1453<>0,(IF(lfValidaCEP(F1453)=TRUE,\"Válido\",\"Inválido\")),\"\")","v":""}]
[null,null,null,null,null,null,null,null,null,null,null,null,null,"",{"$f":"IF(C1454<>0,(IF(lfValidaCNPJ(C1454)=TRUE,\"Válido\",\"Inválido\")),\"\")","v":""},{"$f":"IF(F1454<>0,(IF(lfValidaCEP(F1454)=TRUE,\"Válido\",\"Inválido\")),\"\")","v":""}]
[null,null,null,null,null,null,null,null,null,null,null,null,null,"",{"$f":"IF(C1455<>0,(IF(lfValidaCNPJ(C1455)=TRUE,\"Válido\",\"Inválido\")),\"\")","v":""},{"$f":"IF(F1455<>0,(IF(lfValidaCEP(F1455)=TRUE,\"Válido\",\"Inválido\")),\"\")","v":""}]
[null,null,null,null,null,null,null,null,null,null,null,null,null,"",{"$f":"IF(C1456<>0,(IF(lfValidaCNPJ(C1456)=TRUE,\"Válido\",\"Inválido\")),\"\")","v":""},{"$f":"IF(F1456<>0,(IF(lfValidaCEP(F1456)=TRUE,\"Válido\",\"Inválido\")),\"\")","v":""}]
[null,null,null,null,null,null,null,null,null,null,null,null,null,"",{"$f":"IF(C1457<>0,(IF(lfValidaCNPJ(C1457)=TRUE,\"Válido\",\"Inválido\")),\"\")","v":""},{"$f":"IF(F1457<>0,(IF(lfValidaCEP(F1457)=TRUE,\"Válido\",\"Inválido\")),\"\")","v":""}]
[null,null,null,null,null,null,null,null,null,null,null,null,null,"",{"$f":"IF(C1458<>0,(IF(lfValidaCNPJ(C1458)=TRUE,\"Válido\",\"Inválido\")),\"\")","v":""},{"$f":"IF(F1458<>0,(IF(lfValidaCEP(F1458)=TRUE,\"Válido\",\"Inválido\")),\"\")","v":""}]
[null,null,null,null,null,null,null,null,null,null,null,null,null,"",{"$f":"IF(C1459<>0,(IF(lfValidaCNPJ(C1459)=TRUE,\"Válido\",\"Inválido\")),\"\")","v":""},{"$f":"IF(F1459<>0,(IF(lfValidaCEP(F1459)=TRUE,\"Válido\",\"Inválido\")),\"\")","v":""}]
[null,null,null,null,null,null,null,null,null,null,null,null,null,"",{"$f":"IF(C1460<>0,(IF(lfValidaCNPJ(C1460)=TRUE,\"Válido\",\"Inválido\")),\"\")","v":""},{"$f":"IF(F1460<>0,(IF(lfValidaCEP(F1460)=TRUE,\"Válido\",\"Inválido\")),\"\")","v":""}]
[null,null,null,null,null,null,null,null,null,null,null,null,null,"",{"$f":"IF(C1461<>0,(IF(lfValidaCNPJ(C1461)=TRUE,\"Válido\",\"Inválido\")),\"\")","v":""},{"$f":"IF(F1461<>0,(IF(lfValidaCEP(F1461)=TRUE,\"Válido\",\"Inválido\")),\"\")","v":""}]
[null,null,null,null,null,null,null,null,null,null,null,null,null,"",{"$f":"IF(C1462<>0,(IF(lfValidaCNPJ(C1462)=TRUE,\"Válido\",\"Inválido\")),\"\")","v":""},{"$f":"IF(F1462<>0,(IF(lfValidaCEP(F1462)=TRUE,\"Válido\",\"Inválido\")),\"\")","v":""}]
[null,null,null,null,null,null,null,null,null,null,null,null,null,"",{"$f":"IF(C1463<>0,(IF(lfValidaCNPJ(C1463)=TRUE,\"Válido\",\"Inválido\")),\"\")","v":""},{"$f":"IF(F1463<>0,(IF(lfValidaCEP(F1463)=TRUE,\"Válido\",\"Inválido\")),\"\")","v":""}]
[null,null,null,null,null,null,null,null,null,null,null,null,null,"",{"$f":"IF(C1464<>0,(IF(lfValidaCNPJ(C1464)=TRUE,\"Válido\",\"Inválido\")),\"\")","v":""},{"$f":"IF(F1464<>0,(IF(lfValidaCEP(F1464)=TRUE,\"Válido\",\"Inválido\")),\"\")","v":""}]
[null,null,null,null,null,null,null,null,null,null,null,null,null,"",{"$f":"IF(C1465<>0,(IF(lfValidaCNPJ(C1465)=TRUE,\"Válido\",\"Inválido\")),\"\")","v":""},{"$f":"IF(F1465<>0,(IF(lfValidaCEP(F1465)=TRUE,\"Válido\",\"Inválido\")),\"\")","v":""}]
[null,null,null,null,null,null,null,null,null,null,null,null,null,"",{"$f":"IF(C1466<>0,(IF(lfValidaCNPJ(C1466)=TRUE,\"Válido\",\"Inválido\")),\"\")","v":""},{"$f":"IF(F1466<>0,(IF(lfValidaCEP(F1466)=TRUE,\"Válido\",\"Inválido\")),\"\")","v":""}]
[null,null,null,null,null,null,null,null,null,null,null,null,null,"",{"$f":"IF(C1467<>0,(IF(lfValidaCNPJ(C1467)=TRUE,\"Válido\",\"Inválido\")),\"\")","v":""},{"$f":"IF(F1467<>0,(IF(lfValidaCEP(F1467)=TRUE,\"Válido\",\"Inválido\")),\"\")","v":""}]
[null,null,null,null,null,null,null,null,null,null,null,null,null,"",{"$f":"IF(C1468<>0,(IF(lfValidaCNPJ(C1468)=TRUE,\"Válido\",\"Inválido\")),\"\")","v":""},{"$f":"IF(F1468<>0,(IF(lfValidaCEP(F1468)=TRUE,\"Válido\",\"Inválido\")),\"\")","v":""}]
[null,null,null,null,null,null,null,null,null,null,null,null,null,"",{"$f":"IF(C1469<>0,(IF(lfValidaCNPJ(C1469)=TRUE,\"Válido\",\"Inválido\")),\"\")","v":""},{"$f":"IF(F1469<>0,(IF(lfValidaCEP(F1469)=TRUE,\"Válido\",\"Inválido\")),\"\")","v":""}]
[null,null,null,null,null,null,null,null,null,null,null,null,null,"",{"$f":"IF(C1470<>0,(IF(lfValidaCNPJ(C1470)=TRUE,\"Válido\",\"Inválido\")),\"\")","v":""},{"$f":"IF(F1470<>0,(IF(lfValidaCEP(F1470)=TRUE,\"Válido\",\"Inválido\")),\"\")","v":""}]
[null,null,null,null,null,null,null,null,null,null,null,null,null,"",{"$f":"IF(C1471<>0,(IF(lfValidaCNPJ(C1471)=TRUE,\"Válido\",\"Inválido\")),\"\")","v":""},{"$f":"IF(F1471<>0,(IF(lfValidaCEP(F1471)=TRUE,\"Válido\",\"Inválido\")),\"\")","v":""}]
[null,null,null,null,null,null,null,null,null,null,null,null,null,"",{"$f":"IF(C1472<>0,(IF(lfValidaCNPJ(C1472)=TRUE,\"Válido\",\"Inválido\")),\"\")","v":""},{"$f":"IF(F1472<>0,(IF(lfValidaCEP(F1472)=TRUE,\"Válido\",\"Inválido\")),\"\")","v":""}]
[null,null,null,null,null,null,null,null,null,null,null,null,null,"",{"$f":"IF(C1473<>0,(IF(lfValidaCNPJ(C1473)=TRUE,\"Válido\",\"Inválido\")),\"\")","v":""},{"$f":"IF(F1473<>0,(IF(lfValidaCEP(F1473)=TRUE,\"Válido\",\"Inválido\")),\"\")","v":""}]
[null,null,null,null,null,null,null,null,null,null,null,null,null,"",{"$f":"IF(C1474<>0,(IF(lfValidaCNPJ(C1474)=TRUE,\"Válido\",\"Inválido\")),\"\")","v":""},{"$f":"IF(F1474<>0,(IF(lfValidaCEP(F1474)=TRUE,\"Válido\",\"Inválido\")),\"\")","v":""}]
[null,null,null,null,null,null,null,null,null,null,null,null,null,"",{"$f":"IF(C1475<>0,(IF(lfValidaCNPJ(C1475)=TRUE,\"Válido\",\"Inválido\")),\"\")","v":""},{"$f":"IF(F1475<>0,(IF(lfValidaCEP(F1475)=TRUE,\"Válido\",\"Inválido\")),\"\")","v":""}]
[null,null,null,null,null,null,null,null,null,null,null,null,null,"",{"$f":"IF(C1476<>0,(IF(lfValidaCNPJ(C1476)=TRUE,\"Válido\",\"Inválido\")),\"\")","v":""},{"$f":"IF(F1476<>0,(IF(lfValidaCEP(F1476)=TRUE,\"Válido\",\"Inválido\")),\"\")","v":""}]
[null,null,null,null,null,null,null,null,null,null,null,null,null,"",{"$f":"IF(C1477<>0,(IF(lfValidaCNPJ(C1477)=TRUE,\"Válido\",\"Inválido\")),\"\")","v":""},{"$f":"IF(F1477<>0,(IF(lfValidaCEP(F1477)=TRUE,\"Válido\",\"Inválido\")),\"\")","v":""}]
[null,null,null,null,null,null,null,null,null,null,null,null,null,"",{"$f":"IF(C1478<>0,(IF(lfValidaCNPJ(C1478)=TRUE,\"Válido\",\"Inválido\")),\"\")","v":""},{"$f":"IF(F1478<>0,(IF(lfValidaCEP(F1478)=TRUE,\"Válido\",\"Inválido\")),\"\")","v":""}]
[null,null,null,null,null,null,null,null,null,null,null,null,null,"",{"$f":"IF(C1479<>0,(IF(lfValidaCNPJ(C1479)=TRUE,\"Válido\",\"Inválido\")),\"\")","v":""},{"$f":"IF(F1479<>0,(IF(lfValidaCEP(F1479)=TRUE,\"Válido\",\"Inválido\")),\"\")","v":""}]
[null,null,null,null,null,null,null,null,null,null,null,null,null,"",{"$f":"IF(C1480<>0,(IF(lfValidaCNPJ(C1480)=TRUE,\"Válido\",\"Inválido\")),\"\")","v":""},{"$f":"IF(F1480<>0,(IF(lfValidaCEP(F1480)=TRUE,\"Válido\",\"Inválido\")),\"\")","v":""}]
[null,null,null,null,null,null,null,null,null,null,null,null,null,"",{"$f":"IF(C1481<>0,(IF(lfValidaCNPJ(C1481)=TRUE,\"Válido\",\"Inválido\")),\"\")","v":""},{"$f":"IF(F1481<>0,(IF(lfValidaCEP(F1481)=TRUE,\"Válido\",\"Inválido\")),\"\")","v":""}]
[null,null,null,null,null,null,null,null,null,null,null,null,null,"",{"$f":"IF(C1482<>0,(IF(lfValidaCNPJ(C1482)=TRUE,\"Válido\",\"Inválido\")),\"\")","v":""},{"$f":"IF(F1482<>0,(IF(lfValidaCEP(F1482)=TRUE,\"Válido\",\"Inválido\")),\"\")","v":""}]
[null,null,null,null,null,null,null,null,null,null,null,null,null,"",{"$f":"IF(C1483<>0,(IF(lfValidaCNPJ(C1483)=TRUE,\"Válido\",\"Inválido\")),\"\")","v":""},{"$f":"IF(F1483<>0,(IF(lfValidaCEP(F1483)=TRUE,\"Válido\",\"Inválido\")),\"\")","v":""}]
[null,null,null,null,null,null,null,null,null,null,null,null,null,{"$f":"IF(COUNTA(B1484:J1484)<>0,IF(AND(B1484<>0,C1484<>0,D1484<>0,E1484<>0,F1484<>0,G1484<>0,H1484<>0,I1484<>0,J1484<>0),\"Completo\",\"Incompleto\"),\"\")","v":""},{"$f":"IF(C1484<>0,(IF(lfValidaCNPJ(C1484)=TRUE,\"Válido\",\"Inválido\")),\"\")","v":""},{"$f":"IF(F1484<>0,(IF(lfValidaCEP(F1484)=TRUE,\"Válido\",\"Inválido\")),\"\")","v":""}]
[null,null,null,null,null,null,null,null,null,null,null,null,null,"",{"$f":"IF(C1485<>0,(IF(lfValidaCNPJ(C1485)=TRUE,\"Válido\",\"Inválido\")),\"\")","v":""},{"$f":"IF(F1485<>0,(IF(lfValidaCEP(F1485)=TRUE,\"Válido\",\"Inválido\")),\"\")","v":""}]
[null,null,null,null,null,null,null,null,null,null,null,null,null,"",{"$f":"IF(C1486<>0,(IF(lfValidaCNPJ(C1486)=TRUE,\"Válido\",\"Inválido\")),\"\")","v":""},{"$f":"IF(F1486<>0,(IF(lfValidaCEP(F1486)=TRUE,\"Válido\",\"Inválido\")),\"\")","v":""}]
[null,null,null,null,null,null,null,null,null,null,null,null,null,"",{"$f":"IF(C1487<>0,(IF(lfValidaCNPJ(C1487)=TRUE,\"Válido\",\"Inválido\")),\"\")","v":""},{"$f":"IF(F1487<>0,(IF(lfValidaCEP(F1487)=TRUE,\"Válido\",\"Inválido\")),\"\")","v":""}]
[null,null,null,null,null,null,null,null,null,null,null,null,null,"",{"$f":"IF(C1488<>0,(IF(lfValidaCNPJ(C1488)=TRUE,\"Válido\",\"Inválido\")),\"\")","v":""},{"$f":"IF(F1488<>0,(IF(lfValidaCEP(F1488)=TRUE,\"Válido\",\"Inválido\")),\"\")","v":""}]
[null,null,null,null,null,null,null,null,null,null,null,null,null,"",{"$f":"IF(C1489<>0,(IF(lfValidaCNPJ(C1489)=TRUE,\"Válido\",\"Inválido\")),\"\")","v":""},{"$f":"IF(F1489<>0,(IF(lfValidaCEP(F1489)=TRUE,\"Válido\",\"Inválido\")),\"\")","v":""}]
[null,null,null,null,null,null,null,null,null,null,null,null,null,"",{"$f":"IF(C1490<>0,(IF(lfValidaCNPJ(C1490)=TRUE,\"Válido\",\"Inválido\")),\"\")","v":""},{"$f":"IF(F1490<>0,(IF(lfValidaCEP(F1490)=TRUE,\"Válido\",\"Inválido\")),\"\")","v":""}]
[null,null,null,null,null,null,null,null,null,null,null,null,null,"",{"$f":"IF(C1491<>0,(IF(lfValidaCNPJ(C1491)=TRUE,\"Válido\",\"Inválido\")),\"\")","v":""},{"$f":"IF(F1491<>0,(IF(lfValidaCEP(F1491)=TRUE,\"Válido\",\"Inválido\")),\"\")","v":""}]
[null,null,null,null,null,null,null,null,null,null,null,null,null,"",{"$f":"IF(C1492<>0,(IF(lfValidaCNPJ(C1492)=TRUE,\"Válido\",\"Inválido\")),\"\")","v":""},{"$f":"IF(F1492<>0,(IF(lfValidaCEP(F1492)=TRUE,\"Válido\",\"Inválido\")),\"\")","v":""}]
[null,null,null,null,null,null,null,null,null,null,null,null,null,"",{"$f":"IF(C1493<>0,(IF(lfValidaCNPJ(C1493)=TRUE,\"Válido\",\"Inválido\")),\"\")","v":""},{"$f":"IF(F1493<>0,(IF(lfValidaCEP(F1493)=TRUE,\"Válido\",\"Inválido\")),\"\")","v":""}]
[null,null,null,null,null,null,null,null,null,null,null,null,null,"",{"$f":"IF(C1494<>0,(IF(lfValidaCNPJ(C1494)=TRUE,\"Válido\",\"Inválido\")),\"\")","v":""},{"$f":"IF(F1494<>0,(IF(lfValidaCEP(F1494)=TRUE,\"Válido\",\"Inválido\")),\"\")","v":""}]
[null,null,null,null,null,null,null,null,null,null,null,null,null,"",{"$f":"IF(C1495<>0,(IF(lfValidaCNPJ(C1495)=TRUE,\"Válido\",\"Inválido\")),\"\")","v":""},{"$f":"IF(F1495<>0,(IF(lfValidaCEP(F1495)=TRUE,\"Válido\",\"Inválido\")),\"\")","v":""}]
[null,null,null,null,null,null,null,null,null,null,null,null,null,"",{"$f":"IF(C1496<>0,(IF(lfValidaCNPJ(C1496)=TRUE,\"Válido\",\"Inválido\")),\"\")","v":""},{"$f":"IF(F1496<>0,(IF(lfValidaCEP(F1496)=TRUE,\"Válido\",\"Inválido\")),\"\")","v":""}]
[null,null,null,null,null,null,null,null,null,null,null,null,null,"",{"$f":"IF(C1497<>0,(IF(lfValidaCNPJ(C1497)=TRUE,\"Válido\",\"Inválido\")),\"\")","v":""},{"$f":"IF(F1497<>0,(IF(lfValidaCEP(F1497)=TRUE,\"Válido\",\"Inválido\")),\"\")","v":""}]
[null,null,null,null,null,null,null,null,null,null,null,null,null,"",{"$f":"IF(C1498<>0,(IF(lfValidaCNPJ(C1498)=TRUE,\"Válido\",\"Inválido\")),\"\")","v":""},{"$f":"IF(F1498<>0,(IF(lfValidaCEP(F1498)=TRUE,\"Válido\",\"Inválido\")),\"\")","v":""}]
[null,null,null,null,null,null,null,null,null,null,null,null,null,"",{"$f":"IF(C1499<>0,(IF(lfValidaCNPJ(C1499)=TRUE,\"Válido\",\"Inválido\")),\"\")","v":""},{"$f":"IF(F1499<>0,(IF(lfValidaCEP(F1499)=TRUE,\"Válido\",\"Inválido\")),\"\")","v":""}]
[null,null,null,null,null,null,null,null,null,null,null,null,null,"",{"$f":"IF(C1500<>0,(IF(lfValidaCNPJ(C1500)=TRUE,\"Válido\",\"Inválido\")),\"\")","v":""},{"$f":"IF(F1500<>0,(IF(lfValidaCEP(F1500)=TRUE,\"Válido\",\"Inválido\")),\"\")","v":""}]

{"sheet":"C) Parcerias com Prefeituras","index":4,"n_rows":500,"n_cols":8,"rows_kept":500,"cut":false,"hidden":false,"merged":[[6,3,6,5],[7,3,7,5],[8,1,8,3],[1,2,1,3],[6,1,6,2],[7,1,7,2],[2,1,3,5],[4,1,4,5]]}
[]
[]
[null,"RELATÓRIO COMPROBATÓRIO\nDO PLANO DE LOGÍSTICA REVERSA (RCPLR)"]
[]
[null,{"$f":"RELATÓRIO!$D$7","v":"< SELECIONAR TIPO >"}]
[]
[null,"Entidade ou Empresa Responsável pelo Sistema:",null,{"$f":"RELATÓRIO!B12","v":0}]
[null,"CNPJ:",null,{"$f":"RELATÓRIO!E12","v":0}]
[null,"1.8) Relação de Prefeituras que possuem parceria com o sistema de logística reversa"]
[null,"Município","Objeto da Parceria \n(Ex. coleta; transporte; divulgação; comunicação)","Documento que formaliza a Parceria \n(Ex. Convênio, Termo de Doação, Termo de Cooperação)","Validade do Documento","Forma de atendimento ao art. 33 § 7º da Lei Federal nº 12.305/2010 (Política Nacional de Resíduos Sólidos)",null,"VERIFICAÇÃO"]
[null,null,null,null,null,null,null,{"$f":"IF(COUNTA(B11:F11)<>0,IF(AND(B11<>0,C11<>0,D11<>0,E11<>0,F11<>0),\"Completo\",\"Incompleto\"),\"\")","v":""}]
[null,null,null,null,null,null,null,{"$f":"IF(COUNTA(B12:F12)<>0,IF(AND(B12<>0,C12<>0,D12<>0,E12<>0,F12<>0),\"Completo\",\"Incompleto\"),\"\")","v":""}]
[null,null,null,null,null,null,null,""]
[null,null,null,null,null,null,null,""]
[null,null,null,null,null,null,null,""]
[null,null,null,null,null,null,null,""]
[null,null,null,null,null,null,null,""]
[null,null,null,null,null,null,null,""]
[null,null,null,null,null,null,null,""]
[null,null,null,null,null,null,null,""]
[null,null,null,null,null,null,null,""]
[null,null,null,null,null,null,null,""]
[null,null,null,null,null,null,null,""]
[null,null,null,null,null,null,null,""]
[null,null,null,null,null,null,null,""]
[null,null,null,null,null,null,null,""]
[null,null,null,null,null,null,null,""]
[null,null,null,null,null,null,null,""]
[null,null,null,null,null,null,null,""]
[null,null,null,null,null,null,null,""]
[null,null,null,null,null,null,null,""]
[null,null,null,null,null,null,null,""]
[null,null,null,null,null,null,null,""]
[null,null,null,null,null,null,null,""]
[null,null,null,null,null,null,null,""]
[null,null,null,null,null,null,null,""]
[null,null,null,null,null,null,null,""]
[null,null,null,null,null,null,null,""]
[null,null,null,null,null,null,null,""]
[null,null,null,null,null,null,null,""]
[null,null,null,null,null,null,null,""]
[null,null,null,null,null,null,null,""]
[null,null,null,null,null,null,null,""]
[null,null,null,null,null,null,null,""]
[null,null,null,null,null,null,null,""]
[null,null,null,null,null,null,null,""]
[null,null,null,null,null,null,null,""]
[null,null,null,null,null,null,null,""]
[null,null,null,null,null,null,null,""]
[null,null,null,null,null,null,null,""]
[null,null,null,null,null,null,null,""]
[null,null,null,null,null,null,null,""]
[null,null,null,null,null,null,null,""]
[null,null,null,null,null,null,null,""]
[null,null,null,null,null,null,null,""]
[null,null,null,null,null,null,null,""]
[null,null,null,null,null,null,null,""]
[null,null,null,null,null,null,null,""]
[null,null,null,null,null,null,null,""]
[null,null,null,null,null,null,null,""]
[null,null,null,null,null,null,null,""]
[null,null,null,null,null,null,null,""]
[null,null,null,null,null,null,null,""]
[null,null,null,null,null,null,null,""]
[null,null,null,null,null,null,null,""]
[null,null,null,null,null,null,null,""]
[null,null,null,null,null,null,null,""]
[null,null,null,null,null,null,null,""]
[null,null,null,null,null,null,null,""]
[null,null,null,null,null,null,null,""]
[null,null,null,null,null,null,null,""]
[null,null,null,null,null,null,null,""]
[null,null,null,null,null,null,null,""]
[null,null,null,null,null,null,null,""]
[null,null,null,null,null,null,null,""]
[null,null,null,null,null,null,null,{"$f":"IF(COUNTA(B76:F76)<>0,IF(AND(B76<>0,C76<>0,D76<>0,E76<>0,F76<>0),\"Completo\",\"Incompleto\"),\"\")","v":""}]
[null,null,null,null,null,null,null,""]
[null,null,null,null,null,null,null,""]
[null,null,null,null,null,null,null,""]
[null,null,null,null,null,null,null,""]
[null,null,null,null,null,null,null,""]
[null,null,null,null,null,null,null,""]
[null,null,null,null,null,null,null,""]
[null,null,null,null,null,null,null,""]
[null,null,null,null,null,null,null,""]
[null,null,null,null,null,null,null,""]
[null,null,null,null,null,null,null,""]
[null,null,null,null,null,null,null,""]
[null,null,null,null,null,null,null,""]
[null,null,null,null,null,null,null,""]
[null,null,null,null,null,null,null,""]
[null,null,null,null,null,null,null,""]
[null,null,null,null,null,null,null,""]
[null,null,null,null,null,null,null,""]
[null,null,null,null,null,null,null,""]
[null,null,null,null,null,null,null,""]
[null,null,null,null,null,null,null,""]
[null,null,null,null,null,null,null,""]
[null,null,null,null,null,null,null,""]
[null,null,null,null,null,null,null,""]
[null,null,null,null,null,null,null,""]
[null,null,null,null,null,null,null,""]
[null,null,null,null,null,null,null,""]
[null,null,null,null,null,null,null,""]
[null,null,null,null,null,null,null,""]
[null,null,null,null,null,null,null,""]
[null,null,null,null,null,null,null,""]
[null,null,null,null,null,null,null,""]
[null,null,null,null,null,null,null,""]
[null,null,null,null,null,null,null,""]
[null,null,null,null,null,null,null,""]
[null,null,null,null,null,null,null,""]
[null,null,null,null,null,null,null,""]
[null,null,null,null,null,null,null,""]
[null,null,null,null,null,null,null,""]
[null,null,null,null,null,null,null,""]
[null,null,null,null,null,null,null,""]
[null,null,null,null,null,null,null,""]
[null,null,null,null,null,null,null,""]
[null,null,null,null,null,null,null,""]
[null,null,null,null,null,null,null,""]
[null,null,null,null,null,null,null,""]
[null,null,null,null,null,null,null,""]
[null,null,null,null,null,null,null,""]
[null,null,null,null,null,null,null,""]
[null,null,null,null,null,null,null,""]
[null,null,null,null,null,null,null,""]
[null,null,null,null,null,null,null,""]
[null,null,null,null,null,null,null,""]
[null,null,null,null,null,null,null,""]
[null,null,null,null,null,null,null,""]
[null,null,null,null,null,null,null,""]
[null,null,null,null,null,null,null,""]
[null,null,null,null,null,null,null,""]
[null,null,null,null,null,null,null,""]
[null,null,null,null,null,null,null,""]
[null,null,null,null,null,null,null,""]
[null,null,null,null,null,null,null,""]
[null,null,null,null,null,null,null,""]
[null,null,null,null,null,null,null,{"$f":"IF(COUNTA(B140:F140)<>0,IF(AND(B140<>0,C140<>0,D140<>0,E140<>0,F140<>0),\"Completo\",\"Incompleto\"),\"\")","v":""}]
[null,null,null,null,null,null,null,""]
[null,null,null,null,null,null,null,""]
[null,null,null,null,null,null,null,""]
[null,null,null,null,null,null,null,""]
[null,null,null,null,null,null,null,""]
[null,null,null,null,null,null,null,""]
[null,null,null,null,null,null,null,""]
[null,null,null,null,null,null,null,""]
[null,null,null,null,null,null,null,""]
[null,null,null,null,null,null,null,""]
[null,null,null,null,null,null,null,""]
[null,null,null,null,null,null,null,""]
[null,null,null,null,null,null,null,""]
[null,null,null,null,null,null,null,""]
[null,null,null,null,null,null,null,""]
[null,null,null,null,null,null,null,""]
[null,null,null,null,null,null,null,""]
[null,null,null,null,null,null,null,""]
[null,null,null,null,null,null,null,""]
[null,null,null,null,null,null,null,""]
[null,null,null,null,null,null,null,""]
[null,null,null,null,null,null,null,""]
[null,null,null,null,null,null,null,""]
[null,null,null,null,null,null,null,""]
[null,null,null,null,null,null,null,""]
[null,null,null,null,null,null,null,""]
[null,null,null,null,null,null,null,""]
[null,null,null,null,null,null,null,""]
[null,null,null,null,null,null,null,""]
[null,null,null,null,null,null,null,""]
[null,null,null,null,null,null,null,""]
[null,null,null,null,null,null,null,""]
[null,null,null,null,null,null,null,""]
[null,null,null,null,null,null,null,""]
[null,null,null,null,null,null,null,""]
[null,null,null,null,null,null,null,""]
[null,null,null,null,null,null,null,""]
[null,null,null,null,null,null,null,""]
[null,null,null,null,null,null,null,""]
[null,null,null,null,null,null,null,""]
[null,null,null,null,null,null,null,""]
[null,null,null,null,null,null,null,""]
[null,null,null,null,null,null,null,""]
[null,null,null,null,null,null,null,""]
[null,null,null,null,null,null,null,""]
[null,null,null,null,null,null,null,""]
[null,null,null,null,null,null,null,""]
[null,null,null,null,null,null,null,""]
[null,null,null,null,null,null,null,""]
[null,null,null,null,null,null,null,""]
[null,null,null,null,null,null,null,""]
[null,null,null,null,null,null,null,""]
[null,null,null,null,null,null,null,""]
[null,null,null,null,null,null,null,""]
[null,null,null,null,null,null,null,""]
[null,null,null,null,null,null,null,""]
[null,null,null,null,null,null,null,""]
[null,null,null,null,null,null,null,""]
[null,null,null,null,null,null,null,""]
[null,null,null,null,null,null,null,""]
[null,null,null,null,null,null,null,""]
[null,null,null,null,null,null,null,""]
[null,null,null,null,null,null,null,""]
[null,null,null,null,null,null,null,{"$f":"IF(COUNTA(B204:F204)<>0,IF(AND(B204<>0,C204<>0,D204<>0,E204<>0,F204<>0),\"Completo\",\"Incompleto\"),\"\")","v":""}]
[null,null,null,null,null,null,null,""]
[null,null,null,null,null,null,null,""]
[null,null,null,null,null,null,null,""]
[null,null,null,null,null,null,null,""]
[null,null,null,null,null,null,null,""]
[null,null,null,null,null,null,null,""]
[null,null,null,null,null,null,null,""]
[null,null,null,null,null,null,null,""]
[null,null,null,null,null,null,null,""]
[null,null,null,null,null,null,null,""]
[null,null,null,null,null,null,null,""]
[null,null,null,null,null,null,null,""]
[null,null,null,null,null,null,null,""]
[null,null,null,null,null,null,null,""]
[null,null,null,null,null,null,null,""]
[null,null,null,null,null,null,null,""]
[null,null,null,null,null,null,null,""]
[null,null,null,null,null,null,null,""]
[null,null,null,null,null,null,null,""]
[null,null,null,null,null,null,null,""]
[null,null,null,null,null,null,null,""]
[null,null,null,null,null,null,null,""]
[null,null,null,null,null,null,null,""]
[null,null,null,null,null,null,null,""]
[null,null,null,null,null,null,null,""]
[null,null,null,null,null,null,null,""]
[null,null,null,null,null,null,null,""]
[null,null,null,null,null,null,null,""]
[null,null,null,null,null,null,null,""]
[null,null,null,null,null,null,null,""]
[null,null,null,null,null,null,null,""]
[null,null,null,null,null,null,null,""]
[null,null,null,null,null,null,null,""]
[null,null,null,null,null,null,null,""]
[null,null,null,null,null,null,null,""]
[null,null,null,null,null,null,null,""]
[null,null,null,null,null,null,null,""]
[null,null,null,null,null,null,null,""]
[null,null,null,null,null,null,null,""]
[null,null,null,null,null,null,null,""]
[null,null,null,null,null,null,null,""]
[null,null,null,null,null,null,null,""]
[null,null,null,null,null,null,null,""]
[null,null,null,null,null,null,null,""]
[null,null,null,null,null,null,null,""]
[null,null,null,null,null,null,null,""]
[null,null,null,null,null,null,null,""]
[null,null,null,null,null,null,null,""]
[null,null,null,null,null,null,null,""]
[null,null,null,null,null,null,null,""]
[null,null,null,null,null,null,null,""]
[null,null,null,null,null,null,null,""]
[null,null,null,null,null,null,null,""]
[null,null,null,null,null,null,null,""]
[null,null,null,null,null,null,null,""]
[null,null,null,null,null,null,null,""]
[null,null,null,null,null,null,null,""]
[null,null,null,null,null,null,null,""]
[null,null,null,null,null,null,null,""]
[null,null,null,null,null,null,null,""]
[null,null,null,null,null,null,null,""]
[null,null,null,null,null,null,null,""]
[null,null,null,null,null,null,null,""]
[null,null,null,null,null,null,null,{"$f":"IF(COUNTA(B268:F268)<>0,IF(AND(B268<>0,C268<>0,D268<>0,E268<>0,F268<>0),\"Completo\",\"Incompleto\"),\"\")","v":""}]
[null,null,null,null,null,null,null,""]
[null,null,null,null,null,null,null,""]
[null,null,null,null,null,null,null,""]
[null,null,null,null,null,null,null,""]
[null,null,null,null,null,null,null,""]
[null,null,null,null,null,null,null,""]
[null,null,null,null,null,null,null,""]
[null,null,null,null,null,null,null,""]
[null,null,null,null,null,null,null,""]
[null,null,null,null,null,null,null,""]
[null,null,null,null,null,null,null,""]
[null,null,null,null,null,null,null,""]
[null,null,null,null,null,null,null,""]
[null,null,null,null,null,null,null,""]
[null,null,null,null,null,null,null,""]
[null,null,null,null,null,null,null,""]
[null,null,null,null,null,null,null,""]
[null,null,null,null,null,null,null,""]
[null,null,null,null,null,null,null,""]
[null,null,null,null,null,null,null,""]
[null,null,null,null,null,null,null,""]
[null,null,null,null,null,null,null,""]
[null,null,null,null,null,null,null,""]
[null,null,null,null,null,null,null,""]
[null,null,null,null,null,null,null,""]
[null,null,null,null,null,null,null,""]
[null,null,null,null,null,null,null,""]
[null,null,null,null,null,null,null,""]
[null,null,null,null,null,null,null,""]
[null,null,null,null,null,null,null,""]
[null,null,null,null,null,null,null,""]
[null,null,null,null,null,null,null,""]
[null,null,null,null,null,null,null,""]
[null,null,null,null,null,null,null,""]
[null,null,null,null,null,null,null,""]
[null,null,null,null,null,null,null,""]
[null,null,null,null,null,null,null,""]
[null,null,null,null,null,null,null,""]
[null,null,null,null,null,null,null,""]
[null,null,null,null,null,null,null,""]
[null,null,null,null,null,null,null,""]
[null,null,null,null,null,null,null,""]
[null,null,null,null,null,null,null,""]
[null,null,null,null,null,null,null,""]
[null,null,null,null,null,null,null,""]
[null,null,null,null,null,null,null,""]
[null,null,null,null,null,null,null,""]
[null,null,null,null,null,null,null,""]
[null,null,null,null,null,null,null,""]
[null,null,null,null,null,null,null,""]
[null,null,null,null,null,null,null,""]
[null,null,null,null,null,null,null,""]
[null,null,null,null,null,null,null,""]
[null,null,null,null,null,null,null,""]
[null,null,null,null,null,null,null,""]
[null,null,null,null,null,null,null,""]
[null,null,null,null,null,null,null,""]
[null,null,null,null,null,null,null,""]
[null,null,null,null,null,null,null,""]
[null,null,null,null,null,null,null,""]
[null,null,null,null,null,null,null,""]
[null,null,null,null,null,null,null,""]
[null,null,null,null,null,null,null,""]
[null,null,null,null,null,null,null,{"$f":"IF(COUNTA(B332:F332)<>0,IF(AND(B332<>0,C332<>0,D332<>0,E332<>0,F332<>0),\"Completo\",\"Incompleto\"),\"\")","v":""}]
[null,null,null,null,null,null,null,""]
[null,null,null,null,null,null,null,""]
[null,null,null,null,null,null,null,""]
[null,null,null,null,null,null,null,""]
[null,null,null,null,null,null,null,""]
[null,null,null,null,null,null,null,""]
[null,null,null,null,null,null,null,""]
[null,null,null,null,null,null,null,""]
[null,null,null,null,null,null,null,""]
[null,null,null,null,null,null,null,""]
[null,null,null,null,null,null,null,""]
[null,null,null,null,null,null,null,""]
[null,null,null,null,null,null,null,""]
[null,null,null,null,null,null,null,""]
[null,null,null,null,null,null,null,""]
[null,null,null,null,null,null,null,""]
[null,null,null,null,null,null,null,""]
[null,null,null,null,null,null,null,""]
[null,null,null,null,null,null,null,""]
[null,null,null,null,null,null,null,""]
[null,null,null,null,null,null,null,""]
[null,null,null,null,null,null,null,""]
[null,null,null,null,null,null,null,""]
[null,null,null,null,null,null,null,""]
[null,null,null,null,null,null,null,""]
[null,null,null,null,null,null,null,""]
[null,null,null,null,null,null,null,""]
[null,null,null,null,null,null,null,""]
[null,null,null,null,null,null,null,""]
[null,null,null,null,null,null,null,""]
[null,null,null,null,null,null,null,""]
[null,null,null,null,null,null,null,""]
[null,null,null,null,null,null,null,""]
[null,null,null,null,null,null,null,""]
[null,null,null,null,null,null,null,""]
[null,null,null,null,null,null,null,""]
[null,null,null,null,null,null,null,""]
[null,null,null,null,null,null,null,""]
[null,null,null,null,null,null,null,""]
[null,null,null,null,null,null,null,""]
[null,null,null,null,null,null,null,""]
[null,null,null,null,null,null,null,""]
[null,null,null,null,null,null,null,""]
[null,null,null,null,null,null,null,""]
[null,null,null,null,null,null,null,""]
[null,null,null,null,null,null,null,""]
[null,null,null,null,null,null,null,""]
[null,null,null,null,null,null,null,""]
[null,null,null,null,null,null,null,""]
[null,null,null,null,null,null,null,""]
[null,null,null,null,null,null,null,""]
[null,null,null,null,null,null,null,""]
[null,null,null,null,null,null,null,""]
[null,null,null,null,null,null,null,""]
[null,null,null,null,null,null,null,""]
[null,null,null,null,null,null,null,""]
[null,null,null,null,null,null,null,""]
[null,null,null,null,null,null,null,""]
[null,null,null,null,null,null,null,""]
[null,null,null,null,null,null,null,""]
[null,null,null,null,null,null,null,""]
[null,null,null,null,null,null,null,""]
[null,null,null,null,null,null,null,""]
[null,null,null,null,null,null,null,{"$f":"IF(COUNTA(B396:F396)<>0,IF(AND(B396<>0,C396<>0,D396<>0,E396<>0,F396<>0),\"Completo\",\"Incompleto\"),\"\")","v":""}]
[null,null,null,null,null,null,null,""]
[null,null,null,null,null,null,null,""]
[null,null,null,null,null,null,null,""]
[null,null,null,null,null,null,null,""]
[null,null,null,null,null,null,null,""]
[null,null,null,null,null,null,null,""]
[null,null,null,null,null,null,null,""]
[null,null,null,null,null,null,null,""]
[null,null,null,null,null,null,null,""]
[null,null,null,null,null,null,null,""]
[null,null,null,null,null,null,null,""]
[null,null,null,null,null,null,null,""]
[null,null,null,null,null,null,null,""]
[null,null,null,null,null,null,null,""]
[null,null,null,null,null,null,null,""]
[null,null,null,null,null,null,null,""]
[null,null,null,null,null,null,null,""]
[null,null,null,null,null,null,null,""]
[null,null,null,null,null,null,null,""]
[null,null,null,null,null,null,null,""]
[null,null,null,null,null,null,null,""]
[null,null,null,null,null,null,null,""]
[null,null,null,null,null,null,null,""]
[null,null,null,null,null,null,null,""]
[null,null,null,null,null,null,null,""]
[null,null,null,null,null,null,null,""]
[null,null,null,null,null,null,null,""]
[null,null,null,null,null,null,null,""]
[null,null,null,null,null,null,null,""]
[null,null,null,null,null,null,null,""]
[null,null,null,null,null,null,null,""]
[null,null,null,null,null,null,null,""]
[null,null,null,null,null,null,null,""]
[null,null,null,null,null,null,null,""]
[null,null,null,null,null,null,null,""]
[null,null,null,null,null,null,null,""]
[null,null,null,null,null,null,null,""]
[null,null,null,null,null,null,null,""]
[null,null,null,null,null,null,null,""]
[null,null,null,null,null,null,null,""]
[null,null,null,null,null,null,null,""]
[null,null,null,null,null,null,null,""]
[null,null,null,null,null,null,null,""]
[null,null,null,null,null,null,null,""]
[null,null,null,null,null,null,null,""]
[null,null,null,null,null,null,null,""]
[null,null,null,null,null,null,null,""]
[null,null,null,null,null,null,null,""]
[null,null,null,null,null,null,null,""]
[null,null,null,null,null,null,null,""]
[null,null,null,null,null,null,null,""]
[null,null,null,null,null,null,null,""]
[null,null,null,null,null,null,null,""]
[null,null,null,null,null,null,null,""]
[null,null,null,null,null,null,null,""]
[null,null,null,null,null,null,null,""]
[null,null,null,null,null,null,null,""]
[null,null,null,null,null,null,null,""]
[null,null,null,null,null,null,null,""]
[null,null,null,null,null,null,null,""]
[null,null,null,null,null,null,null,""]
[null,null,null,null,null,null,null,""]
[null,null,null,null,null,null,null,""]
[null,null,null,null,null,null,null,{"$f":"IF(COUNTA(B460:F460)<>0,IF(AND(B460<>0,C460<>0,D460<>0,E460<>0,F460<>0),\"Completo\",\"Incompleto\"),\"\")","v":""}]
[null,null,null,null,null,null,null,""]
[null,null,null,null,null,null,null,""]
[null,null,null,null,null,null,null,""]
[null,null,null,null,null,null,null,""]
[null,null,null,null,null,null,null,""]
[null,null,null,null,null,null,null,""]
[null,null,null,null,null,null,null,""]
[null,null,null,null,null,null,null,""]
[null,null,null,null,null,null,null,""]
[null,null,null,null,null,null,null,""]
[null,null,null,null,null,null,null,""]
[null,null,null,null,null,null,null,""]
[null,null,null,null,null,null,null,""]
[null,null,null,null,null,null,null,""]
[null,null,null,null,null,null,null,""]
[null,null,null,null,null,null,null,""]
[null,null,null,null,null,null,null,""]
[null,null,null,null,null,null,null,""]
[null,null,null,null,null,null,null,""]
[null,null,null,null,null,null,null,""]
[null,null,null,null,null,null,null,""]
[null,null,null,null,null,null,null,""]
[null,null,null,null,null,null,null,""]
[null,null,null,null,null,null,null,""]
[null,null,null,null,null,null,null,""]
[null,null,null,null,null,null,null,""]
[null,null,null,null,null,null,null,""]
[null,null,null,null,null,null,null,""]
[null,null,null,null,null,null,null,""]
[null,null,null,null,null,null,null,""]
[null,null,null,null,null,null,null,""]
[null,null,null,null,null,null,null,""]
[null,null,null,null,null,null,null,""]
[null,null,null,null,null,null,null,""]
[null,null,null,null,null,null,null,""]
[null,null,null,null,null,null,null,""]
[null,null,null,null,null,null,null,""]
[null,null,null,null,null,null,null,""]
[null,null,null,null,null,null,null,""]
[null,null,null,null,null,null,null,""]

{"sheet":"D) Pontos de ColetaEntregaReceb","index":5,"n_rows":2000,"n_cols":13,"rows_kept":2000,"cut":false,"hidden":false,"merged":[[8,10,8,12],[1,2,1,3],[8,1,8,2],[6,2,6,6],[4,1,4,8],[2,1,3,8],[7,2,7,3],[8,3,8,8]]}
[]
[]
[null,"RELATÓRIO COMPROBATÓRIO\nDO PLANO DE LOGÍSTICA REVERSA (RCPLR)"]
[]
[null,{"$f":"RELATÓRIO!$D$7","v":"< SELECIONAR TIPO >"}]
[]
[null,"Entidade ou Empresa Responsável pelo Sistema:",{"$f":"RELATÓRIO!B12","v":0}]
[null,"CNPJ:",{"$f":"RELATÓRIO!E12","v":0}]
[null,"2.1) Relação de Pontos de Coleta/Entrega/Recebimento (Em operação)",null,null,null,null,null,null,null,null,"VERIFICAÇÃO"]
[null,"Razão Social / Nome do ponto","CNPJ\n(Ex. XX.XXX.XXX/0001-XX)","Município","CEP\n(Ex. XX.XXX-XXX)","Endereço \n(Ex. Logradouro, número, complemento e bairro)","Coordenadas\n(Ex. -25.42629013403381, -49.28702829679881)","Ano de instalação","Estatus de operação",null,"Preenchimento","CNPJ","CEP"]
[null,null,null,null,null,null,null,null,null,null,{"$f":"IF(COUNTA(B11:I11)<>0,IF(AND(B11<>0,C11<>0,D11<>0,E11<>0,F11<>0,G11<>0,H11<>0,I11<>0),\"Completo\",\"Incompleto\"),\"\")","v":""},{"$f":"IF(C11<>0,(IF(lfValidaCNPJ(C11)=TRUE,\"Válido\",\"Inválido\")),\"\")","v":""},{"$f":"IF(E11<>0,(IF(lfValidaCEP(E11)=TRUE,\"Válido\",\"Inválido\")),\"\")","v":""}]
[null,null,null,null,null,null,null,null,null,null,{"$f":"IF(COUNTA(B12:I12)<>0,IF(AND(B12<>0,C12<>0,D12<>0,E12<>0,F12<>0,G12<>0,H12<>0,I12<>0),\"Completo\",\"Incompleto\"),\"\")","v":""},{"$f":"IF(C12<>0,(IF(lfValidaCNPJ(C12)=TRUE,\"Válido\",\"Inválido\")),\"\")","v":""},{"$f":"IF(E12<>0,(IF(lfValidaCEP(E12)=TRUE,\"Válido\",\"Inválido\")),\"\")","v":""}]
[null,null,null,null,null,null,null,null,null,null,"",{"$f":"IF(C13<>0,(IF(lfValidaCNPJ(C13)=TRUE,\"Válido\",\"Inválido\")),\"\")","v":""},{"$f":"IF(E13<>0,(IF(lfValidaCEP(E13)=TRUE,\"Válido\",\"Inválido\")),\"\")","v":""}]
[null,null,null,null,null,null,null,null,null,null,"",{"$f":"IF(C14<>0,(IF(lfValidaCNPJ(C14)=TRUE,\"Válido\",\"Inválido\")),\"\")","v":""},{"$f":"IF(E14<>0,(IF(lfValidaCEP(E14)=TRUE,\"Válido\",\"Inválido\")),\"\")","v":""}]
[null,null,null,null,null,null,null,null,null,null,"",{"$f":"IF(C15<>0,(IF(lfValidaCNPJ(C15)=TRUE,\"Válido\",\"Inválido\")),\"\")","v":""},{"$f":"IF(E15<>0,(IF(lfValidaCEP(E15)=TRUE,\"Válido\",\"Inválido\")),\"\")","v":""}]
[null,null,null,null,null,null,null,null,null,null,"",{"$f":"IF(C16<>0,(IF(lfValidaCNPJ(C16)=TRUE,\"Válido\",\"Inválido\")),\"\")","v":""},{"$f":"IF(E16<>0,(IF(lfValidaCEP(E16)=TRUE,\"Válido\",\"Inválido\")),\"\")","v":""}]
[null,null,null,null,null,null,null,null,null,null,"",{"$f":"IF(C17<>0,(IF(lfValidaCNPJ(C17)=TRUE,\"Válido\",\"Inválido\")),\"\")","v":""},{"$f":"IF(E17<>0,(IF(lfValidaCEP(E17)=TRUE,\"Válido\",\"Inválido\")),\"\")","v":""}]
[null,null,null,null,null,null,null,null,null,null,"",{"$f":"IF(C18<>0,(IF(lfValidaCNPJ(C18)=TRUE,\"Válido\",\"Inválido\")),\"\")","v":""},{"$f":"IF(E18<>0,(IF(lfValidaCEP(E18)=TRUE,\"Válido\",\"Inválido\")),\"\")","v":""}]
[null,null,null,null,null,null,null,null,null,null,"",{"$f":"IF(C19<>0,(IF(lfValidaCNPJ(C19)=TRUE,\"Válido\",\"Inválido\")),\"\")","v":""},{"$f":"IF(E19<>0,(IF(lfValidaCEP(E19)=TRUE,\"Válido\",\"Inválido\")),\"\")","v":""}]
[null,null,null,null,null,null,null,null,null,null,"",{"$f":"IF(C20<>0,(IF(lfValidaCNPJ(C20)=TRUE,\"Válido\",\"Inválido\")),\"\")","v":""},{"$f":"IF(E20<>0,(IF(lfValidaCEP(E20)=TRUE,\"Válido\",\"Inválido\")),\"\")","v":""}]
[null,null,null,null,null,null,null,null,null,null,"",{"$f":"IF(C21<>0,(IF(lfValidaCNPJ(C21)=TRUE,\"Válido\",\"Inválido\")),\"\")","v":""},{"$f":"IF(E21<>0,(IF(lfValidaCEP(E21)=TRUE,\"Válido\",\"Inválido\")),\"\")","v":""}]
[null,null,null,null,null,null,null,null,null,null,"",{"$f":"IF(C22<>0,(IF(lfValidaCNPJ(C22)=TRUE,\"Válido\",\"Inválido\")),\"\")","v":""},{"$f":"IF(E22<>0,(IF(lfValidaCEP(E22)=TRUE,\"Válido\",\"Inválido\")),\"\")","v":""}]
[null,null,null,null,null,null,null,null,null,null,"",{"$f":"IF(C23<>0,(IF(lfValidaCNPJ(C23)=TRUE,\"Válido\",\"Inválido\")),\"\")","v":""},{"$f":"IF(E23<>0,(IF(lfValidaCEP(E23)=TRUE,\"Válido\",\"Inválido\")),\"\")","v":""}]
[null,null,null,null,null,null,null,null,null,null,"",{"$f":"IF(C24<>0,(IF(lfValidaCNPJ(C24)=TRUE,\"Válido\",\"Inválido\")),\"\")","v":""},{"$f":"IF(E24<>0,(IF(lfValidaCEP(E24)=TRUE,\"Válido\",\"Inválido\")),\"\")","v":""}]
[null,null,null,null,null,null,null,null,null,null,"",{"$f":"IF(C25<>0,(IF(lfValidaCNPJ(C25)=TRUE,\"Válido\",\"Inválido\")),\"\")","v":""},{"$f":"IF(E25<>0,(IF(lfValidaCEP(E25)=TRUE,\"Válido\",\"Inválido\")),\"\")","v":""}]
[null,null,null,null,null,null,null,null,null,null,"",{"$f":"IF(C26<>0,(IF(lfValidaCNPJ(C26)=TRUE,\"Válido\",\"Inválido\")),\"\")","v":""},{"$f":"IF(E26<>0,(IF(lfValidaCEP(E26)=TRUE,\"Válido\",\"Inválido\")),\"\")","v":""}]
[null,null,null,null,null,null,null,null,null,null,"",{"$f":"IF(C27<>0,(IF(lfValidaCNPJ(C27)=TRUE,\"Válido\",\"Inválido\")),\"\")","v":""},{"$f":"IF(E27<>0,(IF(lfValidaCEP(E27)=TRUE,\"Válido\",\"Inválido\")),\"\")","v":""}]
[null,null,null,null,null,null,null,null,null,null,"",{"$f":"IF(C28<>0,(IF(lfValidaCNPJ(C28)=TRUE,\"Válido\",\"Inválido\")),\"\")","v":""},{"$f":"IF(E28<>0,(IF(lfValidaCEP(E28)=TRUE,\"Válido\",\"Inválido\")),\"\")","v":""}]
[null,null,null,null,null,null,null,null,null,null,"",{"$f":"IF(C29<>0,(IF(lfValidaCNPJ(C29)=TRUE,\"Válido\",\"Inválido\")),\"\")","v":""},{"$f":"IF(E29<>0,(IF(lfValidaCEP(E29)=TRUE,\"Válido\",\"Inválido\")),\"\")","v":""}]
[null,null,null,null,null,null,null,null,null,null,"",{"$f":"IF(C30<>0,(IF(lfValidaCNPJ(C30)=TRUE,\"Válido\",\"Inválido\")),\"\")","v":""},{"$f":"IF(E30<>0,(IF(lfValidaCEP(E30)=TRUE,\"Válido\",\"Inválido\")),\"\")","v":""}]
[null,null,null,null,null,null,null,null,null,null,"",{"$f":"IF(C31<>0,(IF(lfValidaCNPJ(C31)=TRUE,\"Válido\",\"Inválido\")),\"\")","v":""},{"$f":"IF(E31<>0,(IF(lfValidaCEP(E31)=TRUE,\"Válido\",\"Inválido\")),\"\")","v":""}]
[null,null,null,null,null,null,null,null,null,null,"",{"$f":"IF(C32<>0,(IF(lfValidaCNPJ(C32)=TRUE,\"Válido\",\"Inválido\")),\"\")","v":""},{"$f":"IF(E32<>0,(IF(lfValidaCEP(E32)=TRUE,\"Válido\",\"Inválido\")),\"\")","v":""}]
[null,null,null,null,null,null,null,null,null,null,"",{"$f":"IF(C33<>0,(IF(lfValidaCNPJ(C33)=TRUE,\"Válido\",\"Inválido\")),\"\")","v":""},{"$f":"IF(E33<>0,(IF(lfValidaCEP(E33)=TRUE,\"Válido\",\"Inválido\")),\"\")","v":""}]
[null,null,null,null,null,null,null,null,null,null,"",{"$f":"IF(C34<>0,(IF(lfValidaCNPJ(C34)=TRUE,\"Válido\",\"Inválido\")),\"\")","v":""},{"$f":"IF(E34<>0,(IF(lfValidaCEP(E34)=TRUE,\"Válido\",\"Inválido\")),\"\")","v":""}]
[null,null,null,null,null,null,null,null,null,null,"",{"$f":"IF(C35<>0,(IF(lfValidaCNPJ(C35)=TRUE,\"Válido\",\"Inválido\")),\"\")","v":""},{"$f":"IF(E35<>0,(IF(lfValidaCEP(E35)=TRUE,\"Válido\",\"Inválido\")),\"\")","v":""}]
[null,null,null,null,null,null,null,null,null,null,"",{"$f":"IF(C36<>0,(IF(lfValidaCNPJ(C36)=TRUE,\"Válido\",\"Inválido\")),\"\")","v":""},{"$f":"IF(E36<>0,(IF(lfValidaCEP(E36)=TRUE,\"Válido\",\"Inválido\")),\"\")","v":""}]
[null,null,null,null,null,null,null,null,null,null,"",{"$f":"IF(C37<>0,(IF(lfValidaCNPJ(C37)=TRUE,\"Válido\",\"Inválido\")),\"\")","v":""},{"$f":"IF(E37<>0,(IF(lfValidaCEP(E37)=TRUE,\"Válido\",\"Inválido\")),\"\")","v":""}]
[null,null,null,null,null,null,null,null,null,null,"",{"$f":"IF(C38<>0,(IF(lfValidaCNPJ(C38)=TRUE,\"Válido\",\"Inválido\")),\"\")","v":""},{"$f":"IF(E38<>0,(IF(lfValidaCEP(E38)=TRUE,\"Válido\",\"Inválido\")),\"\")","v":""}]
[null,null,null,null,null,null,null,null,null,null,"",{"$f":"IF(C39<>0,(IF(lfValidaCNPJ(C39)=TRUE,\"Válido\",\"Inválido\")),\"\")","v":""},{"$f":"IF(E39<>0,(IF(lfValidaCEP(E39)=TRUE,\"Válido\",\"Inválido\")),\"\")","v":""}]
[null,null,null,null,null,null,null,null,null,null,"",{"$f":"IF(C40<>0,(IF(lfValidaCNPJ(C40)=TRUE,\"Válido\",\"Inválido\")),\"\")","v":""},{"$f":"IF(E40<>0,(IF(lfValidaCEP(E40)=TRUE,\"Válido\",\"Inválido\")),\"\")","v":""}]
[null,null,null,null,null,null,null,null,null,null,"",{"$f":"IF(C41<>0,(IF(lfValidaCNPJ(C41)=TRUE,\"Válido\",\"Inválido\")),\"\")","v":""},{"$f":"IF(E41<>0,(IF(lfValidaCEP(E41)=TRUE,\"Válido\",\"Inválido\")),\"\")","v":""}]
[null,null,null,null,null,null,null,null,null,null,"",{"$f":"IF(C42<>0,(IF(lfValidaCNPJ(C42)=TRUE,\"Válido\",\"Inválido\")),\"\")","v":""},{"$f":"IF(E42<>0,(IF(lfValidaCEP(E42)=TRUE,\"Válido\",\"Inválido\")),\"\")","v":""}]
[null,null,null,null,null,null,null,null,null,null,"",{"$f":"IF(C43<>0,(IF(lfValidaCNPJ(C43)=TRUE,\"Válido\",\"Inválido\")),\"\")","v":""},{"$f":"IF(E43<>0,(IF(lfValidaCEP(E43)=TRUE,\"Válido\",\"Inválido\")),\"\")","v":""}]
[null,null,null,null,null,null,null,null,null,null,"",{"$f":"IF(C44<>0,(IF(lfValidaCNPJ(C44)=TRUE,\"Válido\",\"Inválido\")),\"\")","v":""},{"$f":"IF(E44<>0,(IF(lfValidaCEP(E44)=TRUE,\"Válido\",\"Inválido\")),\"\")","v":""}]
[null,null,null,null,null,null,null,null,null,null,"",{"$f":"IF(C45<>0,(IF(lfValidaCNPJ(C45)=TRUE,\"Válido\",\"Inválido\")),\"\")","v":""},{"$f":"IF(E45<>0,(IF(lfValidaCEP(E45)=TRUE,\"Válido\",\"Inválido\")),\"\")","v":""}]
[null,null,null,null,null,null,null,null,null,null,"",{"$f":"IF(C46<>0,(IF(lfValidaCNPJ(C46)=TRUE,\"Válido\",\"Inválido\")),\"\")","v":""},{"$f":"IF(E46<>0,(IF(lfValidaCEP(E46)=TRUE,\"Válido\",\"Inválido\")),\"\")","v":""}]
[null,null,null,null,null,null,null,null,null,null,"",{"$f":"IF(C47<>0,(IF(lfValidaCNPJ(C47)=TRUE,\"Válido\",\"Inválido\")),\"\")","v":""},{"$f":"IF(E47<>0,(IF(lfValidaCEP(E47)=TRUE,\"Válido\",\"Inválido\")),\"\")","v":""}]
[null,null,null,null,null,null,null,null,null,null,"",{"$f":"IF(C48<>0,(IF(lfValidaCNPJ(C48)=TRUE,\"Válido\",\"Inválido\")),\"\")","v":""},{"$f":"IF(E48<>0,(IF(lfValidaCEP(E48)=TRUE,\"Válido\",\"Inválido\")),\"\")","v":""}]
[null,null,null,null,null,null,null,null,null,null,"",{"$f":"IF(C49<>0,(IF(lfValidaCNPJ(C49)=TRUE,\"Válido\",\"Inválido\")),\"\")","v":""},{"$f":"IF(E49<>0,(IF(lfValidaCEP(E49)=TRUE,\"Válido\",\"Inválido\")),\"\")","v":""}]
[null,null,null,null,null,null,null,null,null,null,"",{"$f":"IF(C50<>0,(IF(lfValidaCNPJ(C50)=TRUE,\"Válido\",\"Inválido\")),\"\")","v":""},{"$f":"IF(E50<>0,(IF(lfValidaCEP(E50)=TRUE,\"Válido\",\"Inválido\")),\"\")","v":""}]
[null,null,null,null,null,null,null,null,null,null,"",{"$f":"IF(C51<>0,(IF(lfValidaCNPJ(C51)=TRUE,\"Válido\",\"Inválido\")),\"\")","v":""},{"$f":"IF(E51<>0,(IF(lfValidaCEP(E51)=TRUE,\"Válido\",\"Inválido\")),\"\")","v":""}]
[null,null,null,null,null,null,null,null,null,null,"",{"$f":"IF(C52<>0,(IF(lfValidaCNPJ(C52)=TRUE,\"Válido\",\"Inválido\")),\"\")","v":""},{"$f":"IF(E52<>0,(IF(lfValidaCEP(E52)=TRUE,\"Válido\",\"Inválido\")),\"\")","v":""}]
[null,null,null,null,null,null,null,null,null,null,"",{"$f":"IF(C53<>0,(IF(lfValidaCNPJ(C53)=TRUE,\"Válido\",\"Inválido\")),\"\")","v":""},{"$f":"IF(E53<>0,(IF(lfValidaCEP(E53)=TRUE,\"Válido\",\"Inválido\")),\"\")","v":""}]
[null,null,null,null,null,null,null,null,null,null,"",{"$f":"IF(C54<>0,(IF(lfValidaCNPJ(C54)=TRUE,\"Válido\",\"Inválido\")),\"\")","v":""},{"$f":"IF(E54<>0,(IF(lfValidaCEP(E54)=TRUE,\"Válido\",\"Inválido\")),\"\")","v":""}]
[null,null,null,null,null,null,null,null,null,null,"",{"$f":"IF(C55<>0,(IF(lfValidaCNPJ(C55)=TRUE,\"Válido\",\"Inválido\")),\"\")","v":""},{"$f":"IF(E55<>0,(IF(lfValidaCEP(E55)=TRUE,\"Válido\",\"Inválido\")),\"\")","v":""}]
[null,null,null,null,null,null,null,null,null,null,"",{"$f":"IF(C56<>0,(IF(lfValidaCNPJ(C56)=TRUE,\"Válido\",\"Inválido\")),\"\")","v":""},{"$f":"IF(E56<>0,(IF(lfValidaCEP(E56)=TRUE,\"Válido\",\"Inválido\")),\"\")","v":""}]
[null,null,null,null,null,null,null,null,null,null,"",{"$f":"IF(C57<>0,(IF(lfValidaCNPJ(C57)=TRUE,\"Válido\",\"Inválido\")),\"\")","v":""},{"$f":"IF(E57<>0,(IF(lfValidaCEP(E57)=TRUE,\"Válido\",\"Inválido\")),\"\")","v":""}]
[null,null,null,null,null,null,null,null,null,null,"",{"$f":"IF(C58<>0,(IF(lfValidaCNPJ(C58)=TRUE,\"Válido\",\"Inválido\")),\"\")","v":""},{"$f":"IF(E58<>0,(IF(lfValidaCEP(E58)=TRUE,\"Válido\",\"Inválido\")),\"\")","v":""}]
[null,null,null,null,null,null,null,null,null,null,"",{"$f":"IF(C59<>0,(IF(lfValidaCNPJ(C59)=TRUE,\"Válido\",\"Inválido\")),\"\")","v":""},{"$f":"IF(E59<>0,(IF(lfValidaCEP(E59)=TRUE,\"Válido\",\"Inválido\")),\"\")","v":""}]
[null,null,null,null,null,null,null,null,null,null,"",{"$f":"IF(C60<>0,(IF(lfValidaCNPJ(C60)=TRUE,\"Válido\",\"Inválido\")),\"\")","v":""},{"$f":"IF(E60<>0,(IF(lfValidaCEP(E60)=TRUE,\"Válido\",\"Inválido\")),\"\")","v":""}]
[null,null,null,null,null,null,null,null,null,null,"",{"$f":"IF(C61<>0,(IF(lfValidaCNPJ(C61)=TRUE,\"Válido\",\"Inválido\")),\"\")","v":""},{"$f":"IF(E61<>0,(IF(lfValidaCEP(E61)=TRUE,\"Válido\",\"Inválido\")),\"\")","v":""}]
[null,null,null,null,null,null,null,null,null,null,"",{"$f":"IF(C62<>0,(IF(lfValidaCNPJ(C62)=TRUE,\"Válido\",\"Inválido\")),\"\")","v":""},{"$f":"IF(E62<>0,(IF(lfValidaCEP(E62)=TRUE,\"Válido\",\"Inválido\")),\"\")","v":""}]
[null,null,null,null,null,null,null,null,null,null,"",{"$f":"IF(C63<>0,(IF(lfValidaCNPJ(C63)=TRUE,\"Válido\",\"Inválido\")),\"\")","v":""},{"$f":"IF(E63<>0,(IF(lfValidaCEP(E63)=TRUE,\"Válido\",\"Inválido\")),\"\")","v":""}]
[null,null,null,null,null,null,null,null,null,null,"",{"$f":"IF(C64<>0,(IF(lfValidaCNPJ(C64)=TRUE,\"Válido\",\"Inválido\")),\"\")","v":""},{"$f":"IF(E64<>0,(IF(lfValidaCEP(E64)=TRUE,\"Válido\",\"Inválido\")),\"\")","v":""}]
[null,null,null,null,null,null,null,null,null,null,"",{"$f":"IF(C65<>0,(IF(lfValidaCNPJ(C65)=TRUE,\"Válido\",\"Inválido\")),\"\")","v":""},{"$f":"IF(E65<>0,(IF(lfValidaCEP(E65)=TRUE,\"Válido\",\"Inválido\")),\"\")","v":""}]
[null,null,null,null,null,null,null,null,null,null,"",{"$f":"IF(C66<>0,(IF(lfValidaCNPJ(C66)=TRUE,\"Válido\",\"Inválido\")),\"\")","v":""},{"$f":"IF(E66<>0,(IF(lfValidaCEP(E66)=TRUE,\"Válido\",\"Inválido\")),\"\")","v":""}]
[null,null,null,null,null,null,null,null,null,null,"",{"$f":"IF(C67<>0,(IF(lfValidaCNPJ(C67)=TRUE,\"Válido\",\"Inválido\")),\"\")","v":""},{"$f":"IF(E67<>0,(IF(lfValidaCEP(E67)=TRUE,\"Válido\",\"Inválido\")),\"\")","v":""}]
[null,null,null,null,null,null,null,null,null,null,"",{"$f":"IF(C68<>0,(IF(lfValidaCNPJ(C68)=TRUE,\"Válido\",\"Inválido\")),\"\")","v":""},{"$f":"IF(E68<>0,(IF(lfValidaCEP(E68)=TRUE,\"Válido\",\"Inválido\")),\"\")","v":""}]
[null,null,null,null,null,null,null,null,null,null,"",{"$f":"IF(C69<>0,(IF(lfValidaCNPJ(C69)=TRUE,\"Válido\",\"Inválido\")),\"\")","v":""},{"$f":"IF(E69<>0,(IF(lfValidaCEP(E69)=TRUE,\"Válido\",\"Inválido\")),\"\")","v":""}]
[null,null,null,null,null,null,null,null,null,null,"",{"$f":"IF(C70<>0,(IF(lfValidaCNPJ(C70)=TRUE,\"Válido\",\"Inválido\")),\"\")","v":""},{"$f":"IF(E70<>0,(IF(lfValidaCEP(E70)=TRUE,\"Válido\",\"Inválido\")),\"\")","v":""}]
[null,null,null,null,null,null,null,null,null,null,"",{"$f":"IF(C71<>0,(IF(lfValidaCNPJ(C71)=TRUE,\"Válido\",\"Inválido\")),\"\")","v":""},{"$f":"IF(E71<>0,(IF(lfValidaCEP(E71)=TRUE,\"Válido\",\"Inválido\")),\"\")","v":""}]
[null,null,null,null,null,null,null,null,null,null,"",{"$f":"IF(C72<>0,(IF(lfValidaCNPJ(C72)=TRUE,\"Válido\",\"Inválido\")),\"\")","v":""},{"$f":"IF(E72<>0,(IF(lfValidaCEP(E72)=TRUE,\"Válido\",\"Inválido\")),\"\")","v":""}]
[null,null,null,null,null,null,null,null,null,null,"",{"$f":"IF(C73<>0,(IF(lfValidaCNPJ(C73)=TRUE,\"Válido\",\"Inválido\")),\"\")","v":""},{"$f":"IF(E73<>0,(IF(lfValidaCEP(E73)=TRUE,\"Válido\",\"Inválido\")),\"\")","v":""}]
[null,null,null,null,null,null,null,null,null,null,"",{"$f":"IF(C74<>0,(IF(lfValidaCNPJ(C74)=TRUE,\"Válido\",\"Inválido\")),\"\")","v":""},{"$f":"IF(E74<>0,(IF(lfValidaCEP(E74)=TRUE,\"Válido\",\"Inválido\")),\"\")","v":""}]
[null,null,null,null,null,null,null,null,null,null,"",{"$f":"IF(C75<>0,(IF(lfValidaCNPJ(C75)=TRUE,\"Válido\",\"Inválido\")),\"\")","v":""},{"$f":"IF(E75<>0,(IF(lfValidaCEP(E75)=TRUE,\"Válido\",\"Inválido\")),\"\")","v":""}]
[null,null,null,null,null,null,null,null,null,null,{"$f":"IF(COUNTA(B76:I76)<>0,IF(AND(B76<>0,C76<>0,D76<>0,E76<>0,F76<>0,G76<>0,H76<>0,I76<>0),\"Completo\",\"Incompleto\"),\"\")","v":""},{"$f":"IF(C76<>0,(IF(lfValidaCNPJ(C76)=TRUE,\"Válido\",\"Inválido\")),\"\")","v":""},{"$f":"IF(E76<>0,(IF(lfValidaCEP(E76)=TRUE,\"Válido\",\"Inválido\")),\"\")","v":""}]
[null,null,null,null,null,null,null,null,null,null,"",{"$f":"IF(C77<>0,(IF(lfValidaCNPJ(C77)=TRUE,\"Válido\",\"Inválido\")),\"\")","v":""},{"$f":"IF(E77<>0,(IF(lfValidaCEP(E77)=TRUE,\"Válido\",\"Inválido\")),\"\")","v":""}]
[null,null,null,null,null,null,null,null,null,null,"",{"$f":"IF(C78<>0,(IF(lfValidaCNPJ(C78)=TRUE,\"Válido\",\"Inválido\")),\"\")","v":""},{"$f":"IF(E78<>0,(IF(lfValidaCEP(E78)=TRUE,\"Válido\",\"Inválido\")),\"\")","v":""}]
[null,null,null,null,null,null,null,null,null,null,"",{"$f":"IF(C79<>0,(IF(lfValidaCNPJ(C79)=TRUE,\"Válido\",\"Inválido\")),\"\")","v":""},{"$f":"IF(E79<>0,(IF(lfValidaCEP(E79)=TRUE,\"Válido\",\"Inválido\")),\"\")","v":""}]
[null,null,null,null,null,null,null,null,null,null,"",{"$f":"IF(C80<>0,(IF(lfValidaCNPJ(C80)=TRUE,\"Válido\",\"Inválido\")),\"\")","v":""},{"$f":"IF(E80<>0,(IF(lfValidaCEP(E80)=TRUE,\"Válido\",\"Inválido\")),\"\")","v":""}]
[null,null,null,null,null,null,null,null,null,null,"",{"$f":"IF(C81<>0,(IF(lfValidaCNPJ(C81)=TRUE,\"Válido\",\"Inválido\")),\"\")","v":""},{"$f":"IF(E81<>0,(IF(lfValidaCEP(E81)=TRUE,\"Válido\",\"Inválido\")),\"\")","v":""}]
[null,null,null,null,null,null,null,null,null,null,"",{"$f":"IF(C82<>0,(IF(lfValidaCNPJ(C82)=TRUE,\"Válido\",\"Inválido\")),\"\")","v":""},{"$f":"IF(E82<>0,(IF(lfValidaCEP(E82)=TRUE,\"Válido\",\"Inválido\")),\"\")","v":""}]
[null,null,null,null,null,null,null,null,null,null,"",{"$f":"IF(C83<>0,(IF(lfValidaCNPJ(C83)=TRUE,\"Válido\",\"Inválido\")),\"\")","v":""},{"$f":"IF(E83<>0,(IF(lfValidaCEP(E83)=TRUE,\"Válido\",\"Inválido\")),\"\")","v":""}]
[null,null,null,null,null,null,null,null,null,null,"",{"$f":"IF(C84<>0,(IF(lfValidaCNPJ(C84)=TRUE,\"Válido\",\"Inválido\")),\"\")","v":""},{"$f":"IF(E84<>0,(IF(lfValidaCEP(E84)=TRUE,\"Válido\",\"Inválido\")),\"\")","v":""}]
[null,null,null,null,null,null,null,null,null,null,"",{"$f":"IF(C85<>0,(IF(lfValidaCNPJ(C85)=TRUE,\"Válido\",\"Inválido\")),\"\")","v":""},{"$f":"IF(E85<>0,(IF(lfValidaCEP(E85)=TRUE,\"Válido\",\"Inválido\")),\"\")","v":""}]
[null,null,null,null,null,null,null,null,null,null,"",{"$f":"IF(C86<>0,(IF(lfValidaCNPJ(C86)=TRUE,\"Válido\",\"Inválido\")),\"\")","v":""},{"$f":"IF(E86<>0,(IF(lfValidaCEP(E86)=TRUE,\"Válido\",\"Inválido\")),\"\")","v":""}]
[null,null,null,null,null,null,null,null,null,null,"",{"$f":"IF(C87<>0,(IF(lfValidaCNPJ(C87)=TRUE,\"Válido\",\"Inválido\")),\"\")","v":""},{"$f":"IF(E87<>0,(IF(lfValidaCEP(E87)=TRUE,\"Válido\",\"Inválido\")),\"\")","v":""}]
[null,null,null,null,null,null,null,null,null,null,"",{"$f":"IF(C88<>0,(IF(lfValidaCNPJ(C88)=TRUE,\"Válido\",\"Inválido\")),\"\")","v":""},{"$f":"IF(E88<>0,(IF(lfValidaCEP(E88)=TRUE,\"Válido\",\"Inválido\")),\"\")","v":""}]
[null,null,null,null,null,null,null,null,null,null,"",{"$f":"IF(C89<>0,(IF(lfValidaCNPJ(C89)=TRUE,\"Válido\",\"Inválido\")),\"\")","v":""},{"$f":"IF(E89<>0,(IF(lfValidaCEP(E89)=TRUE,\"Válido\",\"Inválido\")),\"\")","v":""}]
[null,null,null,null,null,null,null,null,null,null,"",{"$f":"IF(C90<>0,(IF(lfValidaCNPJ(C90)=TRUE,\"Válido\",\"Inválido\")),\"\")","v":""},{"$f":"IF(E90<>0,(IF(lfValidaCEP(E90)=TRUE,\"Válido\",\"Inválido\")),\"\")","v":""}]
[null,null,null,null,null,null,null,null,null,null,"",{"$f":"IF(C91<>0,(IF(lfValidaCNPJ(C91)=TRUE,\"Válido\",\"Inválido\")),\"\")","v":""},{"$f":"IF(E91<>0,(IF(lfValidaCEP(E91)=TRUE,\"Válido\",\"Inválido\")),\"\")","v":""}]
[null,null,null,null,null,null,null,null,null,null,"",{"$f":"IF(C92<>0,(IF(lfValidaCNPJ(C92)=TRUE,\"Válido\",\"Inválido\")),\"\")","v":""},{"$f":"IF(E92<>0,(IF(lfValidaCEP(E92)=TRUE,\"Válido\",\"Inválido\")),\"\")","v":""}]
[null,null,null,null,null,null,null,null,null,null,"",{"$f":"IF(C93<>0,(IF(lfValidaCNPJ(C93)=TRUE,\"Válido\",\"Inválido\")),\"\")","v":""},{"$f":"IF(E93<>0,(IF(lfValidaCEP(E93)=TRUE,\"Válido\",\"Inválido\")),\"\")","v":""}]
[null,null,null,null,null,null,null,null,null,null,"",{"$f":"IF(C94<>0,(IF(lfValidaCNPJ(C94)=TRUE,\"Válido\",\"Inválido\")),\"\")","v":""},{"$f":"IF(E94<>0,(IF(lfValidaCEP(E94)=TRUE,\"Válido\",\"Inválido\")),\"\")","v":""}]
[null,null,null,null,null,null,null,null,null,null,"",{"$f":"IF(C95<>0,(IF(lfValidaCNPJ(C95)=TRUE,\"Válido\",\"Inválido\")),\"\")","v":""},{"$f":"IF(E95<>0,(IF(lfValidaCEP(E95)=TRUE,\"Válido\",\"Inválido\")),\"\")","v":""}]
[null,null,null,null,null,null,null,null,null,null,"",{"$f":"IF(C96<>0,(IF(lfValidaCNPJ(C96)=TRUE,\"Válido\",\"Inválido\")),\"\")","v":""},{"$f":"IF(E96<>0,(IF(lfValidaCEP(E96)=TRUE,\"Válido\",\"Inválido\")),\"\")","v":""}]
[null,null,null,null,null,null,null,null,null,null,"",{"$f":"IF(C97<>0,(IF(lfValidaCNPJ(C97)=TRUE,\"Válido\",\"Inválido\")),\"\")","v":""},{"$f":"IF(E97<>0,(IF(lfValidaCEP(E97)=TRUE,\"Válido\",\"Inválido\")),\"\")","v":""}]
[null,null,null,null,null,null,null,null,null,null,"",{"$f":"IF(C98<>0,(IF(lfValidaCNPJ(C98)=TRUE,\"Válido\",\"Inválido\")),\"\")","v":""},{"$f":"IF(E98<>0,(IF(lfValidaCEP(E98)=TRUE,\"Válido\",\"Inválido\")),\"\")","v":""}]
[null,null,null,null,null,null,null,null,null,null,"",{"$f":"IF(C99<>0,(IF(lfValidaCNPJ(C99)=TRUE,\"Válido\",\"Inválido\")),\"\")","v":""},{"$f":"IF(E99<>0,(IF(lfValidaCEP(E99)=TRUE,\"Válido\",\"Inválido\")),\"\")","v":""}]
[null,null,null,null,null,null,null,null,null,null,"",{"$f":"IF(C100<>0,(IF(lfValidaCNPJ(C100)=TRUE,\"Válido\",\"Inválido\")),\"\")","v":""},{"$f":"IF(E100<>0,(IF(lfValidaCEP(E100)=TRUE,\"Válido\",\"Inválido\")),\"\")","v":""}]
[null,null,null,null,null,null,null,null,null,null,"",{"$f":"IF(C101<>0,(IF(lfValidaCNPJ(C101)=TRUE,\"Válido\",\"Inválido\")),\"\")","v":""},{"$f":"IF(E101<>0,(IF(lfValidaCEP(E101)=TRUE,\"Válido\",\"Inválido\")),\"\")","v":""}]
[null,null,null,null,null,null,null,null,null,null,"",{"$f":"IF(C102<>0,(IF(lfValidaCNPJ(C102)=TRUE,\"Válido\",\"Inválido\")),\"\")","v":""},{"$f":"IF(E102<>0,(IF(lfValidaCEP(E102)=TRUE,\"Válido\",\"Inválido\")),\"\")","v":""}]
[null,null,null,null,null,null,null,null,null,null,"",{"$f":"IF(C103<>0,(IF(lfValidaCNPJ(C103)=TRUE,\"Válido\",\"Inválido\")),\"\")","v":""},{"$f":"IF(E103<>0,(IF(lfValidaCEP(E103)=TRUE,\"Válido\",\"Inválido\")),\"\")","v":""}]
[null,null,null,null,null,null,null,null,null,null,"",{"$f":"IF(C104<>0,(IF(lfValidaCNPJ(C104)=TRUE,\"Válido\",\"Inválido\")),\"\")","v":""},{"$f":"IF(E104<>0,(IF(lfValidaCEP(E104)=TRUE,\"Válido\",\"Inválido\")),\"\")","v":""}]
[null,null,null,null,null,null,null,null,null,null,"",{"$f":"IF(C105<>0,(IF(lfValidaCNPJ(C105)=TRUE,\"Válido\",\"Inválido\")),\"\")","v":""},{"$f":"IF(E105<>0,(IF(lfValidaCEP(E105)=TRUE,\"Válido\",\"Inválido\")),\"\")","v":""}]
[null,null,null,null,null,null,null,null,null,null,"",{"$f":"IF(C106<>0,(IF(lfValidaCNPJ(C106)=TRUE,\"Válido\",\"Inválido\")),\"\")","v":""},{"$f":"IF(E106<>0,(IF(lfValidaCEP(E106)=TRUE,\"Válido\",\"Inválido\")),\"\")","v":""}]
[null,null,null,null,null,null,null,null,null,null,"",{"$f":"IF(C107<>0,(IF(lfValidaCNPJ(C107)=TRUE,\"Válido\",\"Inválido\")),\"\")","v":""},{"$f":"IF(E107<>0,(IF(lfValidaCEP(E107)=TRUE,\"Válido\",\"Inválido\")),\"\")","v":""}]
[null,null,null,null,null,null,null,null,null,null,"",{"$f":"IF(C108<>0,(IF(lfValidaCNPJ(C108)=TRUE,\"Válido\",\"Inválido\")),\"\")","v":""},{"$f":"IF(E108<>0,(IF(lfValidaCEP(E108)=TRUE,\"Válido\",\"Inválido\")),\"\")","v":""}]
[null,null,null,null,null,null,null,null,null,null,"",{"$f":"IF(C109<>0,(IF(lfValidaCNPJ(C109)=TRUE,\"Válido\",\"Inválido\")),\"\")","v":""},{"$f":"IF(E109<>0,(IF(lfValidaCEP(E109)=TRUE,\"Válido\",\"Inválido\")),\"\")","v":""}]
[null,null,null,null,null,null,null,null,null,null,"",{"$f":"IF(C110<>0,(IF(lfValidaCNPJ(C110)=TRUE,\"Válido\",\"Inválido\")),\"\")","v":""},{"$f":"IF(E110<>0,(IF(lfValidaCEP(E110)=TRUE,\"Válido\",\"Inválido\")),\"\")","v":""}]
[null,null,null,null,null,null,null,null,null,null,"",{"$f":"IF(C111<>0,(IF(lfValidaCNPJ(C111)=TRUE,\"Válido\",\"Inválido\")),\"\")","v":""},{"$f":"IF(E111<>0,(IF(lfValidaCEP(E111)=TRUE,\"Válido\",\"Inválido\")),\"\")","v":""}]
[null,null,null,null,null,null,null,null,null,null,"",{"$f":"IF(C112<>0,(IF(lfValidaCNPJ(C112)=TRUE,\"Válido\",\"Inválido\")),\"\")","v":""},{"$f":"IF(E112<>0,(IF(lfValidaCEP(E112)=TRUE,\"Válido\",\"Inválido\")),\"\")","v":""}]
[null,null,null,null,null,null,null,null,null,null,"",{"$f":"IF(C113<>0,(IF(lfValidaCNPJ(C113)=TRUE,\"Válido\",\"Inválido\")),\"\")","v":""},{"$f":"IF(E113<>0,(IF(lfValidaCEP(E113)=TRUE,\"Válido\",\"Inválido\")),\"\")","v":""}]
[null,null,null,null,null,null,null,null,null,null,"",{"$f":"IF(C114<>0,(IF(lfValidaCNPJ(C114)=TRUE,\"Válido\",\"Inválido\")),\"\")","v":""},{"$f":"IF(E114<>0,(IF(lfValidaCEP(E114)=TRUE,\"Válido\",\"Inválido\")),\"\")","v":""}]
[null,null,null,null,null,null,null,null,null,null,"",{"$f":"IF(C115<>0,(IF(lfValidaCNPJ(C115)=TRUE,\"Válido\",\"Inválido\")),\"\")","v":""},{"$f":"IF(E115<>0,(IF(lfValidaCEP(E115)=TRUE,\"Válido\",\"Inválido\")),\"\")","v":""}]
[null,null,null,null,null,null,null,null,null,null,"",{"$f":"IF(C116<>0,(IF(lfValidaCNPJ(C116)=TRUE,\"Válido\",\"Inválido\")),\"\")","v":""},{"$f":"IF(E116<>0,(IF(lfValidaCEP(E116)=TRUE,\"Válido\",\"Inválido\")),\"\")","v":""}]
[null,null,null,null,null,null,null,null,null,null,"",{"$f":"IF(C117<>0,(IF(lfValidaCNPJ(C117)=TRUE,\"Válido\",\"Inválido\")),\"\")","v":""},{"$f":"IF(E117<>0,(IF(lfValidaCEP(E117)=TRUE,\"Válido\",\"Inválido\")),\"\")","v":""}]
[null,null,null,null,null,null,null,null,null,null,"",{"$f":"IF(C118<>0,(IF(lfValidaCNPJ(C118)=TRUE,\"Válido\",\"Inválido\")),\"\")","v":""},{"$f":"IF(E118<>0,(IF(lfValidaCEP(E118)=TRUE,\"Válido\",\"Inválido\")),\"\")","v":""}]
[null,null,null,null,null,null,null,null,null,null,"",{"$f":"IF(C119<>0,(IF(lfValidaCNPJ(C119)=TRUE,\"Válido\",\"Inválido\")),\"\")","v":""},{"$f":"IF(E119<>0,(IF(lfValidaCEP(E119)=TRUE,\"Válido\",\"Inválido\")),\"\")","v":""}]
[null,null,null,null,null,null,null,null,null,null,"",{"$f":"IF(C120<>0,(IF(lfValidaCNPJ(C120)=TRUE,\"Válido\",\"Inválido\")),\"\")","v":""},{"$f":"IF(E120<>0,(IF(lfValidaCEP(E120)=TRUE,\"Válido\",\"Inválido\")),\"\")","v":""}]
[null,null,null,null,null,null,null,null,null,null,"",{"$f":"IF(C121<>0,(IF(lfValidaCNPJ(C121)=TRUE,\"Válido\",\"Inválido\")),\"\")","v":""},{"$f":"IF(E121<>0,(IF(lfValidaCEP(E121)=TRUE,\"Válido\",\"Inválido\")),\"\")","v":""}]
[null,null,null,null,null,null,null,null,null,null,"",{"$f":"IF(C122<>0,(IF(lfValidaCNPJ(C122)=TRUE,\"Válido\",\"Inválido\")),\"\")","v":""},{"$f":"IF(E122<>0,(IF(lfValidaCEP(E122)=TRUE,\"Válido\",\"Inválido\")),\"\")","v":""}]
[null,null,null,null,null,null,null,null,null,null,"",{"$f":"IF(C123<>0,(IF(lfValidaCNPJ(C123)=TRUE,\"Válido\",\"Inválido\")),\"\")","v":""},{"$f":"IF(E123<>0,(IF(lfValidaCEP(E123)=TRUE,\"Válido\",\"Inválido\")),\"\")","v":""}]
[null,null,null,null,null,null,null,null,null,null,"",{"$f":"IF(C124<>0,(IF(lfValidaCNPJ(C124)=TRUE,\"Válido\",\"Inválido\")),\"\")","v":""},{"$f":"IF(E124<>0,(IF(lfValidaCEP(E124)=TRUE,\"Válido\",\"Inválido\")),\"\")","v":""}]
[null,null,null,null,null,null,null,null,null,null,"",{"$f":"IF(C125<>0,(IF(lfValidaCNPJ(C125)=TRUE,\"Válido\",\"Inválido\")),\"\")","v":""},{"$f":"IF(E125<>0,(IF(lfValidaCEP(E125)=TRUE,\"Válido\",\"Inválido\")),\"\")","v":""}]
[null,null,null,null,null,null,null,null,null,null,"",{"$f":"IF(C126<>0,(IF(lfValidaCNPJ(C126)=TRUE,\"Válido\",\"Inválido\")),\"\")","v":""},{"$f":"IF(E126<>0,(IF(lfValidaCEP(E126)=TRUE,\"Válido\",\"Inválido\")),\"\")","v":""}]
[null,null,null,null,null,null,null,null,null,null,"",{"$f":"IF(C127<>0,(IF(lfValidaCNPJ(C127)=TRUE,\"Válido\",\"Inválido\")),\"\")","v":""},{"$f":"IF(E127<>0,(IF(lfValidaCEP(E127)=TRUE,\"Válido\",\"Inválido\")),\"\")","v":""}]
[null,null,null,null,null,null,null,null,null,null,"",{"$f":"IF(C128<>0,(IF(lfValidaCNPJ(C128)=TRUE,\"Válido\",\"Inválido\")),\"\")","v":""},{"$f":"IF(E128<>0,(IF(lfValidaCEP(E128)=TRUE,\"Válido\",\"Inválido\")),\"\")","v":""}]
[null,null,null,null,null,null,null,null,null,null,"",{"$f":"IF(C129<>0,(IF(lfValidaCNPJ(C129)=TRUE,\"Válido\",\"Inválido\")),\"\")","v":""},{"$f":"IF(E129<>0,(IF(lfValidaCEP(E129)=TRUE,\"Válido\",\"Inválido\")),\"\")","v":""}]
[null,null,null,null,null,null,null,null,null,null,"",{"$f":"IF(C130<>0,(IF(lfValidaCNPJ(C130)=TRUE,\"Válido\",\"Inválido\")),\"\")","v":""},{"$f":"IF(E130<>0,(IF(lfValidaCEP(E130)=TRUE,\"Válido\",\"Inválido\")),\"\")","v":""}]
[null,null,null,null,null,null,null,null,null,null,"",{"$f":"IF(C131<>0,(IF(lfValidaCNPJ(C131)=TRUE,\"Válido\",\"Inválido\")),\"\")","v":""},{"$f":"IF(E131<>0,(IF(lfValidaCEP(E131)=TRUE,\"Válido\",\"Inválido\")),\"\")","v":""}]
[null,null,null,null,null,null,null,null,null,null,"",{"$f":"IF(C132<>0,(IF(lfValidaCNPJ(C132)=TRUE,\"Válido\",\"Inválido\")),\"\")","v":""},{"$f":"IF(E132<>0,(IF(lfValidaCEP(E132)=TRUE,\"Válido\",\"Inválido\")),\"\")","v":""}]
[null,null,null,null,null,null,null,null,null,null,"",{"$f":"IF(C133<>0,(IF(lfValidaCNPJ(C133)=TRUE,\"Válido\",\"Inválido\")),\"\")","v":""},{"$f":"IF(E133<>0,(IF(lfValidaCEP(E133)=TRUE,\"Válido\",\"Inválido\")),\"\")","v":""}]
[null,null,null,null,null,null,null,null,null,null,"",{"$f":"IF(C134<>0,(IF(lfValidaCNPJ(C134)=TRUE,\"Válido\",\"Inválido\")),\"\")","v":""},{"$f":"IF(E134<>0,(IF(lfValidaCEP(E134)=TRUE,\"Válido\",\"Inválido\")),\"\")","v":""}]
[null,null,null,null,null,null,null,null,null,null,"",{"$f":"IF(C135<>0,(IF(lfValidaCNPJ(C135)=TRUE,\"Válido\",\"Inválido\")),\"\")","v":""},{"$f":"IF(E135<>0,(IF(lfValidaCEP(E135)=TRUE,\"Válido\",\"Inválido\")),\"\")","v":""}]
[null,null,null,null,null,null,null,null,null,null,"",{"$f":"IF(C136<>0,(IF(lfValidaCNPJ(C136)=TRUE,\"Válido\",\"Inválido\")),\"\")","v":""},{"$f":"IF(E136<>0,(IF(lfValidaCEP(E136)=TRUE,\"Válido\",\"Inválido\")),\"\")","v":""}]
[null,null,null,null,null,null,null,null,null,null,"",{"$f":"IF(C137<>0,(IF(lfValidaCNPJ(C137)=TRUE,\"Válido\",\"Inválido\")),\"\")","v":""},{"$f":"IF(E137<>0,(IF(lfValidaCEP(E137)=TRUE,\"Válido\",\"Inválido\")),\"\")","v":""}]
[null,null,null,null,null,null,null,null,null,null,"",{"$f":"IF(C138<>0,(IF(lfValidaCNPJ(C138)=TRUE,\"Válido\",\"Inválido\")),\"\")","v":""},{"$f":"IF(E138<>0,(IF(lfValidaCEP(E138)=TRUE,\"Válido\",\"Inválido\")),\"\")","v":""}]
[null,null,null,null,null,null,null,null,null,null,"",{"$f":"IF(C139<>0,(IF(lfValidaCNPJ(C139)=TRUE,\"Válido\",\"Inválido\")),\"\")","v":""},{"$f":"IF(E139<>0,(IF(lfValidaCEP(E139)=TRUE,\"Válido\",\"Inválido\")),\"\")","v":""}]
[null,null,null,null,null,null,null,null,null,null,{"$f":"IF(COUNTA(B140:I140)<>0,IF(AND(B140<>0,C140<>0,D140<>0,E140<>0,F140<>0,G140<>0,H140<>0,I140<>0),\"Completo\",\"Incompleto\"),\"\")","v":""},{"$f":"IF(C140<>0,(IF(lfValidaCNPJ(C140)=TRUE,\"Válido\",\"Inválido\")),\"\")","v":""},{"$f":"IF(E140<>0,(IF(lfValidaCEP(E140)=TRUE,\"Válido\",\"Inválido\")),\"\")","v":""}]
[null,null,null,null,null,null,null,null,null,null,"",{"$f":"IF(C141<>0,(IF(lfValidaCNPJ(C141)=TRUE,\"Válido\",\"Inválido\")),\"\")","v":""},{"$f":"IF(E141<>0,(IF(lfValidaCEP(E141)=TRUE,\"Válido\",\"Inválido\")),\"\")","v":""}]
[null,null,null,null,null,null,null,null,null,null,"",{"$f":"IF(C142<>0,(IF(lfValidaCNPJ(C142)=TRUE,\"Válido\",\"Inválido\")),\"\")","v":""},{"$f":"IF(E142<>0,(IF(lfValidaCEP(E142)=TRUE,\"Válido\",\"Inválido\")),\"\")","v":""}]
[null,null,null,null,null,null,null,null,null,null,"",{"$f":"IF(C143<>0,(IF(lfValidaCNPJ(C143)=TRUE,\"Válido\",\"Inválido\")),\"\")","v":""},{"$f":"IF(E143<>0,(IF(lfValidaCEP(E143)=TRUE,\"Válido\",\"Inválido\")),\"\")","v":""}]
[null,null,null,null,null,null,null,null,null,null,"",{"$f":"IF(C144<>0,(IF(lfValidaCNPJ(C144)=TRUE,\"Válido\",\"Inválido\")),\"\")","v":""},{"$f":"IF(E144<>0,(IF(lfValidaCEP(E144)=TRUE,\"Válido\",\"Inválido\")),\"\")","v":""}]
[null,null,null,null,null,null,null,null,null,null,"",{"$f":"IF(C145<>0,(IF(lfValidaCNPJ(C145)=TRUE,\"Válido\",\"Inválido\")),\"\")","v":""},{"$f":"IF(E145<>0,(IF(lfValidaCEP(E145)=TRUE,\"Válido\",\"Inválido\")),\"\")","v":""}]
[null,null,null,null,null,null,null,null,null,null,"",{"$f":"IF(C146<>0,(IF(lfValidaCNPJ(C146)=TRUE,\"Válido\",\"Inválido\")),\"\")","v":""},{"$f":"IF(E146<>0,(IF(lfValidaCEP(E146)=TRUE,\"Válido\",\"Inválido\")),\"\")","v":""}]
[null,null,null,null,null,null,null,null,null,null,"",{"$f":"IF(C147<>0,(IF(lfValidaCNPJ(C147)=TRUE,\"Válido\",\"Inválido\")),\"\")","v":""},{"$f":"IF(E147<>0,(IF(lfValidaCEP(E147)=TRUE,\"Válido\",\"Inválido\")),\"\")","v":""}]
[null,null,null,null,null,null,null,null,null,null,"",{"$f":"IF(C148<>0,(IF(lfValidaCNPJ(C148)=TRUE,\"Válido\",\"Inválido\")),\"\")","v":""},{"$f":"IF(E148<>0,(IF(lfValidaCEP(E148)=TRUE,\"Válido\",\"Inválido\")),\"\")","v":""}]
[null,null,null,null,null,null,null,null,null,null,"",{"$f":"IF(C149<>0,(IF(lfValidaCNPJ(C149)=TRUE,\"Válido\",\"Inválido\")),\"\")","v":""},{"$f":"IF(E149<>0,(IF(lfValidaCEP(E149)=TRUE,\"Válido\",\"Inválido\")),\"\")","v":""}]
[null,null,null,null,null,null,null,null,null,null,"",{"$f":"IF(C150<>0,(IF(lfValidaCNPJ(C150)=TRUE,\"Válido\",\"Inválido\")),\"\")","v":""},{"$f":"IF(E150<>0,(IF(lfValidaCEP(E150)=TRUE,\"Válido\",\"Inválido\")),\"\")","v":""}]
[null,null,null,null,null,null,null,null,null,null,"",{"$f":"IF(C151<>0,(IF(lfValidaCNPJ(C151)=TRUE,\"Válido\",\"Inválido\")),\"\")","v":""},{"$f":"IF(E151<>0,(IF(lfValidaCEP(E151)=TRUE,\"Válido\",\"Inválido\")),\"\")","v":""}]
[null,null,null,null,null,null,null,null,null,null,"",{"$f":"IF(C152<>0,(IF(lfValidaCNPJ(C152)=TRUE,\"Válido\",\"Inválido\")),\"\")","v":""},{"$f":"IF(E152<>0,(IF(lfValidaCEP(E152)=TRUE,\"Válido\",\"Inválido\")),\"\")","v":""}]
[null,null,null,null,null,null,null,null,null,null,"",{"$f":"IF(C153<>0,(IF(lfValidaCNPJ(C153)=TRUE,\"Válido\",\"Inválido\")),\"\")","v":""},{"$f":"IF(E153<>0,(IF(lfValidaCEP(E153)=TRUE,\"Válido\",\"Inválido\")),\"\")","v":""}]
[null,null,null,null,null,null,null,null,null,null,"",{"$f":"IF(C154<>0,(IF(lfValidaCNPJ(C154)=TRUE,\"Válido\",\"Inválido\")),\"\")","v":""},{"$f":"IF(E154<>0,(IF(lfValidaCEP(E154)=TRUE,\"Válido\",\"Inválido\")),\"\")","v":""}]
[null,null,null,null,null,null,null,null,null,null,"",{"$f":"IF(C155<>0,(IF(lfValidaCNPJ(C155)=TRUE,\"Válido\",\"Inválido\")),\"\")","v":""},{"$f":"IF(E155<>0,(IF(lfValidaCEP(E155)=TRUE,\"Válido\",\"Inválido\")),\"\")","v":""}]
[null,null,null,null,null,null,null,null,null,null,"",{"$f":"IF(C156<>0,(IF(lfValidaCNPJ(C156)=TRUE,\"Válido\",\"Inválido\")),\"\")","v":""},{"$f":"IF(E156<>0,(IF(lfValidaCEP(E156)=TRUE,\"Válido\",\"Inválido\")),\"\")","v":""}]
[null,null,null,null,null,null,null,null,null,null,"",{"$f":"IF(C157<>0,(IF(lfValidaCNPJ(C157)=TRUE,\"Válido\",\"Inválido\")),\"\")","v":""},{"$f":"IF(E157<>0,(IF(lfValidaCEP(E157)=TRUE,\"Válido\",\"Inválido\")),\"\")","v":""}]
[null,null,null,null,null,null,null,null,null,null,"",{"$f":"IF(C158<>0,(IF(lfValidaCNPJ(C158)=TRUE,\"Válido\",\"Inválido\")),\"\")","v":""},{"$f":"IF(E158<>0,(IF(lfValidaCEP(E158)=TRUE,\"Válido\",\"Inválido\")),\"\")","v":""}]
[null,null,null,null,null,null,null,null,null,null,"",{"$f":"IF(C159<>0,(IF(lfValidaCNPJ(C159)=TRUE,\"Válido\",\"Inválido\")),\"\")","v":""},{"$f":"IF(E159<>0,(IF(lfValidaCEP(E159)=TRUE,\"Válido\",\"Inválido\")),\"\")","v":""}]
[null,null,null,null,null,null,null,null,null,null,"",{"$f":"IF(C160<>0,(IF(lfValidaCNPJ(C160)=TRUE,\"Válido\",\"Inválido\")),\"\")","v":""},{"$f":"IF(E160<>0,(IF(lfValidaCEP(E160)=TRUE,\"Válido\",\"Inválido\")),\"\")","v":""}]
[null,null,null,null,null,null,null,null,null,null,"",{"$f":"IF(C161<>0,(IF(lfValidaCNPJ(C161)=TRUE,\"Válido\",\"Inválido\")),\"\")","v":""},{"$f":"IF(E161<>0,(IF(lfValidaCEP(E161)=TRUE,\"Válido\",\"Inválido\")),\"\")","v":""}]
[null,null,null,null,null,null,null,null,null,null,"",{"$f":"IF(C162<>0,(IF(lfValidaCNPJ(C162)=TRUE,\"Válido\",\"Inválido\")),\"\")","v":""},{"$f":"IF(E162<>0,(IF(lfValidaCEP(E162)=TRUE,\"Válido\",\"Inválido\")),\"\")","v":""}]
[null,null,null,null,null,null,null,null,null,null,"",{"$f":"IF(C163<>0,(IF(lfValidaCNPJ(C163)=TRUE,\"Válido\",\"Inválido\")),\"\")","v":""},{"$f":"IF(E163<>0,(IF(lfValidaCEP(E163)=TRUE,\"Válido\",\"Inválido\")),\"\")","v":""}]
[null,null,null,null,null,null,null,null,null,null,"",{"$f":"IF(C164<>0,(IF(lfValidaCNPJ(C164)=TRUE,\"Válido\",\"Inválido\")),\"\")","v":""},{"$f":"IF(E164<>0,(IF(lfValidaCEP(E164)=TRUE,\"Válido\",\"Inválido\")),\"\")","v":""}]
[null,null,null,null,null,null,null,null,null,null,"",{"$f":"IF(C165<>0,(IF(lfValidaCNPJ(C165)=TRUE,\"Válido\",\"Inválido\")),\"\")","v":""},{"$f":"IF(E165<>0,(IF(lfValidaCEP(E165)=TRUE,\"Válido\",\"Inválido\")),\"\")","v":""}]
[null,null,null,null,null,null,null,null,null,null,"",{"$f":"IF(C166<>0,(IF(lfValidaCNPJ(C166)=TRUE,\"Válido\",\"Inválido\")),\"\")","v":""},{"$f":"IF(E166<>0,(IF(lfValidaCEP(E166)=TRUE,\"Válido\",\"Inválido\")),\"\")","v":""}]
[null,null,null,null,null,null,null,null,null,null,"",{"$f":"IF(C167<>0,(IF(lfValidaCNPJ(C167)=TRUE,\"Válido\",\"Inválido\")),\"\")","v":""},{"$f":"IF(E167<>0,(IF(lfValidaCEP(E167)=TRUE,\"Válido\",\"Inválido\")),\"\")","v":""}]
[null,null,null,null,null,null,null,null,null,null,"",{"$f":"IF(C168<>0,(IF(lfValidaCNPJ(C168)=TRUE,\"Válido\",\"Inválido\")),\"\")","v":""},{"$f":"IF(E168<>0,(IF(lfValidaCEP(E168)=TRUE,\"Válido\",\"Inválido\")),\"\")","v":""}]
[null,null,null,null,null,null,null,null,null,null,"",{"$f":"IF(C169<>0,(IF(lfValidaCNPJ(C169)=TRUE,\"Válido\",\"Inválido\")),\"\")","v":""},{"$f":"IF(E169<>0,(IF(lfValidaCEP(E169)=TRUE,\"Válido\",\"Inválido\")),\"\")","v":""}]
[null,null,null,null,null,null,null,null,null,null,"",{"$f":"IF(C170<>0,(IF(lfValidaCNPJ(C170)=TRUE,\"Válido\",\"Inválido\")),\"\")","v":""},{"$f":"IF(E170<>0,(IF(lfValidaCEP(E170)=TRUE,\"Válido\",\"Inválido\")),\"\")","v":""}]
[null,null,null,null,null,null,null,null,null,null,"",{"$f":"IF(C171<>0,(IF(lfValidaCNPJ(C171)=TRUE,\"Válido\",\"Inválido\")),\"\")","v":""},{"$f":"IF(E171<>0,(IF(lfValidaCEP(E171)=TRUE,\"Válido\",\"Inválido\")),\"\")","v":""}]
[null,null,null,null,null,null,null,null,null,null,"",{"$f":"IF(C172<>0,(IF(lfValidaCNPJ(C172)=TRUE,\"Válido\",\"Inválido\")),\"\")","v":""},{"$f":"IF(E172<>0,(IF(lfValidaCEP(E172)=TRUE,\"Válido\",\"Inválido\")),\"\")","v":""}]
[null,null,null,null,null,null,null,null,null,null,"",{"$f":"IF(C173<>0,(IF(lfValidaCNPJ(C173)=TRUE,\"Válido\",\"Inválido\")),\"\")","v":""},{"$f":"IF(E173<>0,(IF(lfValidaCEP(E173)=TRUE,\"Válido\",\"Inválido\")),\"\")","v":""}]
[null,null,null,null,null,null,null,null,null,null,"",{"$f":"IF(C174<>0,(IF(lfValidaCNPJ(C174)=TRUE,\"Válido\",\"Inválido\")),\"\")","v":""},{"$f":"IF(E174<>0,(IF(lfValidaCEP(E174)=TRUE,\"Válido\",\"Inválido\")),\"\")","v":""}]
[null,null,null,null,null,null,null,null,null,null,"",{"$f":"IF(C175<>0,(IF(lfValidaCNPJ(C175)=TRUE,\"Válido\",\"Inválido\")),\"\")","v":""},{"$f":"IF(E175<>0,(IF(lfValidaCEP(E175)=TRUE,\"Válido\",\"Inválido\")),\"\")","v":""}]
[null,null,null,null,null,null,null,null,null,null,"",{"$f":"IF(C176<>0,(IF(lfValidaCNPJ(C176)=TRUE,\"Válido\",\"Inválido\")),\"\")","v":""},{"$f":"IF(E176<>0,(IF(lfValidaCEP(E176)=TRUE,\"Válido\",\"Inválido\")),\"\")","v":""}]
[null,null,null,null,null,null,null,null,null,null,"",{"$f":"IF(C177<>0,(IF(lfValidaCNPJ(C177)=TRUE,\"Válido\",\"Inválido\")),\"\")","v":""},{"$f":"IF(E177<>0,(IF(lfValidaCEP(E177)=TRUE,\"Válido\",\"Inválido\")),\"\")","v":""}]
[null,null,null,null,null,null,null,null,null,null,"",{"$f":"IF(C178<>0,(IF(lfValidaCNPJ(C178)=TRUE,\"Válido\",\"Inválido\")),\"\")","v":""},{"$f":"IF(E178<>0,(IF(lfValidaCEP(E178)=TRUE,\"Válido\",\"Inválido\")),\"\")","v":""}]
[null,null,null,null,null,null,null,null,null,null,"",{"$f":"IF(C179<>0,(IF(lfValidaCNPJ(C179)=TRUE,\"Válido\",\"Inválido\")),\"\")","v":""},{"$f":"IF(E179<>0,(IF(lfValidaCEP(E179)=TRUE,\"Válido\",\"Inválido\")),\"\")","v":""}]
[null,null,null,null,null,null,null,null,null,null,"",{"$f":"IF(C180<>0,(IF(lfValidaCNPJ(C180)=TRUE,\"Válido\",\"Inválido\")),\"\")","v":""},{"$f":"IF(E180<>0,(IF(lfValidaCEP(E180)=TRUE,\"Válido\",\"Inválido\")),\"\")","v":""}]
[null,null,null,null,null,null,null,null,null,null,"",{"$f":"IF(C181<>0,(IF(lfValidaCNPJ(C181)=TRUE,\"Válido\",\"Inválido\")),\"\")","v":""},{"$f":"IF(E181<>0,(IF(lfValidaCEP(E181)=TRUE,\"Válido\",\"Inválido\")),\"\")","v":""}]
[null,null,null,null,null,null,null,null,null,null,"",{"$f":"IF(C182<>0,(IF(lfValidaCNPJ(C182)=TRUE,\"Válido\",\"Inválido\")),\"\")","v":""},{"$f":"IF(E182<>0,(IF(lfValidaCEP(E182)=TRUE,\"Válido\",\"Inválido\")),\"\")","v":""}]
[null,null,null,null,null,null,null,null,null,null,"",{"$f":"IF(C183<>0,(IF(lfValidaCNPJ(C183)=TRUE,\"Válido\",\"Inválido\")),\"\")","v":""},{"$f":"IF(E183<>0,(IF(lfValidaCEP(E183)=TRUE,\"Válido\",\"Inválido\")),\"\")","v":""}]
[null,null,null,null,null,null,null,null,null,null,"",{"$f":"IF(C184<>0,(IF(lfValidaCNPJ(C184)=TRUE,\"Válido\",\"Inválido\")),\"\")","v":""},{"$f":"IF(E184<>0,(IF(lfValidaCEP(E184)=TRUE,\"Válido\",\"Inválido\")),\"\")","v":""}]
[null,null,null,null,null,null,null,null,null,null,"",{"$f":"IF(C185<>0,(IF(lfValidaCNPJ(C185)=TRUE,\"Válido\",\"Inválido\")),\"\")","v":""},{"$f":"IF(E185<>0,(IF(lfValidaCEP(E185)=TRUE,\"Válido\",\"Inválido\")),\"\")","v":""}]
[null,null,null,null,null,null,null,null,null,null,"",{"$f":"IF(C186<>0,(IF(lfValidaCNPJ(C186)=TRUE,\"Válido\",\"Inválido\")),\"\")","v":""},{"$f":"IF(E186<>0,(IF(lfValidaCEP(E186)=TRUE,\"Válido\",\"Inválido\")),\"\")","v":""}]
[null,null,null,null,null,null,null,null,null,null,"",{"$f":"IF(C187<>0,(IF(lfValidaCNPJ(C187)=TRUE,\"Válido\",\"Inválido\")),\"\")","v":""},{"$f":"IF(E187<>0,(IF(lfValidaCEP(E187)=TRUE,\"Válido\",\"Inválido\")),\"\")","v":""}]
[null,null,null,null,null,null,null,null,null,null,"",{"$f":"IF(C188<>0,(IF(lfValidaCNPJ(C188)=TRUE,\"Válido\",\"Inválido\")),\"\")","v":""},{"$f":"IF(E188<>0,(IF(lfValidaCEP(E188)=TRUE,\"Válido\",\"Inválido\")),\"\")","v":""}]
[null,null,null,null,null,null,null,null,null,null,"",{"$f":"IF(C189<>0,(IF(lfValidaCNPJ(C189)=TRUE,\"Válido\",\"Inválido\")),\"\")","v":""},{"$f":"IF(E189<>0,(IF(lfValidaCEP(E189)=TRUE,\"Válido\",\"Inválido\")),\"\")","v":""}]
[null,null,null,null,null,null,null,null,null,null,"",{"$f":"IF(C190<>0,(IF(lfValidaCNPJ(C190)=TRUE,\"Válido\",\"Inválido\")),\"\")","v":""},{"$f":"IF(E190<>0,(IF(lfValidaCEP(E190)=TRUE,\"Válido\",\"Inválido\")),\"\")","v":""}]
[null,null,null,null,null,null,null,null,null,null,"",{"$f":"IF(C191<>0,(IF(lfValidaCNPJ(C191)=TRUE,\"Válido\",\"Inválido\")),\"\")","v":""},{"$f":"IF(E191<>0,(IF(lfValidaCEP(E191)=TRUE,\"Válido\",\"Inválido\")),\"\")","v":""}]
[null,null,null,null,null,null,null,null,null,null,"",{"$f":"IF(C192<>0,(IF(lfValidaCNPJ(C192)=TRUE,\"Válido\",\"Inválido\")),\"\")","v":""},{"$f":"IF(E192<>0,(IF(lfValidaCEP(E192)=TRUE,\"Válido\",\"Inválido\")),\"\")","v":""}]
[null,null,null,null,null,null,null,null,null,null,"",{"$f":"IF(C193<>0,(IF(lfValidaCNPJ(C193)=TRUE,\"Válido\",\"Inválido\")),\"\")","v":""},{"$f":"IF(E193<>0,(IF(lfValidaCEP(E193)=TRUE,\"Válido\",\"Inválido\")),\"\")","v":""}]
[null,null,null,null,null,null,null,null,null,null,"",{"$f":"IF(C194<>0,(IF(lfValidaCNPJ(C194)=TRUE,\"Válido\",\"Inválido\")),\"\")","v":""},{"$f":"IF(E194<>0,(IF(lfValidaCEP(E194)=TRUE,\"Válido\",\"Inválido\")),\"\")","v":""}]
[null,null,null,null,null,null,null,null,null,null,"",{"$f":"IF(C195<>0,(IF(lfValidaCNPJ(C195)=TRUE,\"Válido\",\"Inválido\")),\"\")","v":""},{"$f":"IF(E195<>0,(IF(lfValidaCEP(E195)=TRUE,\"Válido\",\"Inválido\")),\"\")","v":""}]
[null,null,null,null,null,null,null,null,null,null,"",{"$f":"IF(C196<>0,(IF(lfValidaCNPJ(C196)=TRUE,\"Válido\",\"Inválido\")),\"\")","v":""},{"$f":"IF(E196<>0,(IF(lfValidaCEP(E196)=TRUE,\"Válido\",\"Inválido\")),\"\")","v":""}]
[null,null,null,null,null,null,null,null,null,null,"",{"$f":"IF(C197<>0,(IF(lfValidaCNPJ(C197)=TRUE,\"Válido\",\"Inválido\")),\"\")","v":""},{"$f":"IF(E197<>0,(IF(lfValidaCEP(E197)=TRUE,\"Válido\",\"Inválido\")),\"\")","v":""}]
[null,null,null,null,null,null,null,null,null,null,"",{"$f":"IF(C198<>0,(IF(lfValidaCNPJ(C198)=TRUE,\"Válido\",\"Inválido\")),\"\")","v":""},{"$f":"IF(E198<>0,(IF(lfValidaCEP(E198)=TRUE,\"Válido\",\"Inválido\")),\"\")","v":""}]
[null,null,null,null,null,null,null,null,null,null,"",{"$f":"IF(C199<>0,(IF(lfValidaCNPJ(C199)=TRUE,\"Válido\",\"Inválido\")),\"\")","v":""},{"$f":"IF(E199<>0,(IF(lfValidaCEP(E199)=TRUE,\"Válido\",\"Inválido\")),\"\")","v":""}]
[null,null,null,null,null,null,null,null,null,null,"",{"$f":"IF(C200<>0,(IF(lfValidaCNPJ(C200)=TRUE,\"Válido\",\"Inválido\")),\"\")","v":""},{"$f":"IF(E200<>0,(IF(lfValidaCEP(E200)=TRUE,\"Válido\",\"Inválido\")),\"\")","v":""}]
[null,null,null,null,null,null,null,null,null,null,"",{"$f":"IF(C201<>0,(IF(lfValidaCNPJ(C201)=TRUE,\"Válido\",\"Inválido\")),\"\")","v":""},{"$f":"IF(E201<>0,(IF(lfValidaCEP(E201)=TRUE,\"Válido\",\"Inválido\")),\"\")","v":""}]
[null,null,null,null,null,null,null,null,null,null,"",{"$f":"IF(C202<>0,(IF(lfValidaCNPJ(C202)=TRUE,\"Válido\",\"Inválido\")),\"\")","v":""},{"$f":"IF(E202<>0,(IF(lfValidaCEP(E202)=TRUE,\"Válido\",\"Inválido\")),\"\")","v":""}]
[null,null,null,null,null,null,null,null,null,null,"",{"$f":"IF(C203<>0,(IF(lfValidaCNPJ(C203)=TRUE,\"Válido\",\"Inválido\")),\"\")","v":""},{"$f":"IF(E203<>0,(IF(lfValidaCEP(E203)=TRUE,\"Válido\",\"Inválido\")),\"\")","v":""}]
[null,null,null,null,null,null,null,null,null,null,{"$f":"IF(COUNTA(B204:I204)<>0,IF(AND(B204<>0,C204<>0,D204<>0,E204<>0,F204<>0,G204<>0,H204<>0,I204<>0),\"Completo\",\"Incompleto\"),\"\")","v":""},{"$f":"IF(C204<>0,(IF(lfValidaCNPJ(C204)=TRUE,\"Válido\",\"Inválido\")),\"\")","v":""},{"$f":"IF(E204<>0,(IF(lfValidaCEP(E204)=TRUE,\"Válido\",\"Inválido\")),\"\")","v":""}]
[null,null,null,null,null,null,null,null,null,null,"",{"$f":"IF(C205<>0,(IF(lfValidaCNPJ(C205)=TRUE,\"Válido\",\"Inválido\")),\"\")","v":""},{"$f":"IF(E205<>0,(IF(lfValidaCEP(E205)=TRUE,\"Válido\",\"Inválido\")),\"\")","v":""}]
[null,null,null,null,null,null,null,null,null,null,"",{"$f":"IF(C206<>0,(IF(lfValidaCNPJ(C206)=TRUE,\"Válido\",\"Inválido\")),\"\")","v":""},{"$f":"IF(E206<>0,(IF(lfValidaCEP(E206)=TRUE,\"Válido\",\"Inválido\")),\"\")","v":""}]
[null,null,null,null,null,null,null,null,null,null,"",{"$f":"IF(C207<>0,(IF(lfValidaCNPJ(C207)=TRUE,\"Válido\",\"Inválido\")),\"\")","v":""},{"$f":"IF(E207<>0,(IF(lfValidaCEP(E207)=TRUE,\"Válido\",\"Inválido\")),\"\")","v":""}]
[null,null,null,null,null,null,null,null,null,null,"",{"$f":"IF(C208<>0,(IF(lfValidaCNPJ(C208)=TRUE,\"Válido\",\"Inválido\")),\"\")","v":""},{"$f":"IF(E208<>0,(IF(lfValidaCEP(E208)=TRUE,\"Válido\",\"Inválido\")),\"\")","v":""}]
[null,null,null,null,null,null,null,null,null,null,"",{"$f":"IF(C209<>0,(IF(lfValidaCNPJ(C209)=TRUE,\"Válido\",\"Inválido\")),\"\")","v":""},{"$f":"IF(E209<>0,(IF(lfValidaCEP(E209)=TRUE,\"Válido\",\"Inválido\")),\"\")","v":""}]
[null,null,null,null,null,null,null,null,null,null,"",{"$f":"IF(C210<>0,(IF(lfValidaCNPJ(C210)=TRUE,\"Válido\",\"Inválido\")),\"\")","v":""},{"$f":"IF(E210<>0,(IF(lfValidaCEP(E210)=TRUE,\"Válido\",\"Inválido\")),\"\")","v":""}]
[null,null,null,null,null,null,null,null,null,null,"",{"$f":"IF(C211<>0,(IF(lfValidaCNPJ(C211)=TRUE,\"Válido\",\"Inválido\")),\"\")","v":""},{"$f":"IF(E211<>0,(IF(lfValidaCEP(E211)=TRUE,\"Válido\",\"Inválido\")),\"\")","v":""}]
[null,null,null,null,null,null,null,null,null,null,"",{"$f":"IF(C212<>0,(IF(lfValidaCNPJ(C212)=TRUE,\"Válido\",\"Inválido\")),\"\")","v":""},{"$f":"IF(E212<>0,(IF(lfValidaCEP(E212)=TRUE,\"Válido\",\"Inválido\")),\"\")","v":""}]
[null,null,null,null,null,null,null,null,null,null,"",{"$f":"IF(C213<>0,(IF(lfValidaCNPJ(C213)=TRUE,\"Válido\",\"Inválido\")),\"\")","v":""},{"$f":"IF(E213<>0,(IF(lfValidaCEP(E213)=TRUE,\"Válido\",\"Inválido\")),\"\")","v":""}]
[null,null,null,null,null,null,null,null,null,null,"",{"$f":"IF(C214<>0,(IF(lfValidaCNPJ(C214)=TRUE,\"Válido\",\"Inválido\")),\"\")","v":""},{"$f":"IF(E214<>0,(IF(lfValidaCEP(E214)=TRUE,\"Válido\",\"Inválido\")),\"\")","v":""}]
[null,null,null,null,null,null,null,null,null,null,"",{"$f":"IF(C215<>0,(IF(lfValidaCNPJ(C215)=TRUE,\"Válido\",\"Inválido\")),\"\")","v":""},{"$f":"IF(E215<>0,(IF(lfValidaCEP(E215)=TRUE,\"Válido\",\"Inválido\")),\"\")","v":""}]
[null,null,null,null,null,null,null,null,null,null,"",{"$f":"IF(C216<>0,(IF(lfValidaCNPJ(C216)=TRUE,\"Válido\",\"Inválido\")),\"\")","v":""},{"$f":"IF(E216<>0,(IF(lfValidaCEP(E216)=TRUE,\"Válido\",\"Inválido\")),\"\")","v":""}]
[null,null,null,null,null,null,null,null,null,null,"",{"$f":"IF(C217<>0,(IF(lfValidaCNPJ(C217)=TRUE,\"Válido\",\"Inválido\")),\"\")","v":""},{"$f":"IF(E217<>0,(IF(lfValidaCEP(E217)=TRUE,\"Válido\",\"Inválido\")),\"\")","v":""}]
[null,null,null,null,null,null,null,null,null,null,"",{"$f":"IF(C218<>0,(IF(lfValidaCNPJ(C218)=TRUE,\"Válido\",\"Inválido\")),\"\")","v":""},{"$f":"IF(E218<>0,(IF(lfValidaCEP(E218)=TRUE,\"Válido\",\"Inválido\")),\"\")","v":""}]
[null,null,null,null,null,null,null,null,null,null,"",{"$f":"IF(C219<>0,(IF(lfValidaCNPJ(C219)=TRUE,\"Válido\",\"Inválido\")),\"\")","v":""},{"$f":"IF(E219<>0,(IF(lfValidaCEP(E219)=TRUE,\"Válido\",\"Inválido\")),\"\")","v":""}]
[null,null,null,null,null,null,null,null,null,null,"",{"$f":"IF(C220<>0,(IF(lfValidaCNPJ(C220)=TRUE,\"Válido\",\"Inválido\")),\"\")","v":""},{"$f":"IF(E220<>0,(IF(lfValidaCEP(E220)=TRUE,\"Válido\",\"Inválido\")),\"\")","v":""}]
[null,null,null,null,null,null,null,null,null,null,"",{"$f":"IF(C221<>0,(IF(lfValidaCNPJ(C221)=TRUE,\"Válido\",\"Inválido\")),\"\")","v":""},{"$f":"IF(E221<>0,(IF(lfValidaCEP(E221)=TRUE,\"Válido\",\"Inválido\")),\"\")","v":""}]
[null,null,null,null,null,null,null,null,null,null,"",{"$f":"IF(C222<>0,(IF(lfValidaCNPJ(C222)=TRUE,\"Válido\",\"Inválido\")),\"\")","v":""},{"$f":"IF(E222<>0,(IF(lfValidaCEP(E222)=TRUE,\"Válido\",\"Inválido\")),\"\")","v":""}]
[null,null,null,null,null,null,null,null,null,null,"",{"$f":"IF(C223<>0,(IF(lfValidaCNPJ(C223)=TRUE,\"Válido\",\"Inválido\")),\"\")","v":""},{"$f":"IF(E223<>0,(IF(lfValidaCEP(E223)=TRUE,\"Válido\",\"Inválido\")),\"\")","v":""}]
[null,null,null,null,null,null,null,null,null,null,"",{"$f":"IF(C224<>0,(IF(lfValidaCNPJ(C224)=TRUE,\"Válido\",\"Inválido\")),\"\")","v":""},{"$f":"IF(E224<>0,(IF(lfValidaCEP(E224)=TRUE,\"Válido\",\"Inválido\")),\"\")","v":""}]
[null,null,null,null,null,null,null,null,null,null,"",{"$f":"IF(C225<>0,(IF(lfValidaCNPJ(C225)=TRUE,\"Válido\",\"Inválido\")),\"\")","v":""},{"$f":"IF(E225<>0,(IF(lfValidaCEP(E225)=TRUE,\"Válido\",\"Inválido\")),\"\")","v":""}]
[null,null,null,null,null,null,null,null,null,null,"",{"$f":"IF(C226<>0,(IF(lfValidaCNPJ(C226)=TRUE,\"Válido\",\"Inválido\")),\"\")","v":""},{"$f":"IF(E226<>0,(IF(lfValidaCEP(E226)=TRUE,\"Válido\",\"Inválido\")),\"\")","v":""}]
[null,null,null,null,null,null,null,null,null,null,"",{"$f":"IF(C227<>0,(IF(lfValidaCNPJ(C227)=TRUE,\"Válido\",\"Inválido\")),\"\")","v":""},{"$f":"IF(E227<>0,(IF(lfValidaCEP(E227)=TRUE,\"Válido\",\"Inválido\")),\"\")","v":""}]
[null,null,null,null,null,null,null,null,null,null,"",{"$f":"IF(C228<>0,(IF(lfValidaCNPJ(C228)=TRUE,\"Válido\",\"Inválido\")),\"\")","v":""},{"$f":"IF(E228<>0,(IF(lfValidaCEP(E228)=TRUE,\"Válido\",\"Inválido\")),\"\")","v":""}]
[null,null,null,null,null,null,null,null,null,null,"",{"$f":"IF(C229<>0,(IF(lfValidaCNPJ(C229)=TRUE,\"Válido\",\"Inválido\")),\"\")","v":""},{"$f":"IF(E229<>0,(IF(lfValidaCEP(E229)=TRUE,\"Válido\",\"Inválido\")),\"\")","v":""}]
[null,null,null,null,null,null,null,null,null,null,"",{"$f":"IF(C230<>0,(IF(lfValidaCNPJ(C230)=TRUE,\"Válido\",\"Inválido\")),\"\")","v":""},{"$f":"IF(E230<>0,(IF(lfValidaCEP(E230)=TRUE,\"Válido\",\"Inválido\")),\"\")","v":""}]
[null,null,null,null,null,null,null,null,null,null,"",{"$f":"IF(C231<>0,(IF(lfValidaCNPJ(C231)=TRUE,\"Válido\",\"Inválido\")),\"\")","v":""},{"$f":"IF(E231<>0,(IF(lfValidaCEP(E231)=TRUE,\"Válido\",\"Inválido\")),\"\")","v":""}]
[null,null,null,null,null,null,null,null,null,null,"",{"$f":"IF(C232<>0,(IF(lfValidaCNPJ(C232)=TRUE,\"Válido\",\"Inválido\")),\"\")","v":""},{"$f":"IF(E232<>0,(IF(lfValidaCEP(E232)=TRUE,\"Válido\",\"Inválido\")),\"\")","v":""}]
[null,null,null,null,null,null,null,null,null,null,"",{"$f":"IF(C233<>0,(IF(lfValidaCNPJ(C233)=TRUE,\"Válido\",\"Inválido\")),\"\")","v":""},{"$f":"IF(E233<>0,(IF(lfValidaCEP(E233)=TRUE,\"Válido\",\"Inválido\")),\"\")","v":""}]
[null,null,null,null,null,null,null,null,null,null,"",{"$f":"IF(C234<>0,(IF(lfValidaCNPJ(C234)=TRUE,\"Válido\",\"Inválido\")),\"\")","v":""},{"$f":"IF(E234<>0,(IF(lfValidaCEP(E234)=TRUE,\"Válido\",\"Inválido\")),\"\")","v":""}]
[null,null,null,null,null,null,null,null,null,null,"",{"$f":"IF(C235<>0,(IF(lfValidaCNPJ(C235)=TRUE,\"Válido\",\"Inválido\")),\"\")","v":""},{"$f":"IF(E235<>0,(IF(lfValidaCEP(E235)=TRUE,\"Válido\",\"Inválido\")),\"\")","v":""}]
[null,null,null,null,null,null,null,null,null,null,"",{"$f":"IF(C236<>0,(IF(lfValidaCNPJ(C236)=TRUE,\"Válido\",\"Inválido\")),\"\")","v":""},{"$f":"IF(E236<>0,(IF(lfValidaCEP(E236)=TRUE,\"Válido\",\"Inválido\")),\"\")","v":""}]
[null,null,null,null,null,null,null,null,null,null,"",{"$f":"IF(C237<>0,(IF(lfValidaCNPJ(C237)=TRUE,\"Válido\",\"Inválido\")),\"\")","v":""},{"$f":"IF(E237<>0,(IF(lfValidaCEP(E237)=TRUE,\"Válido\",\"Inválido\")),\"\")","v":""}]
[null,null,null,null,null,null,null,null,null,null,"",{"$f":"IF(C238<>0,(IF(lfValidaCNPJ(C238)=TRUE,\"Válido\",\"Inválido\")),\"\")","v":""},{"$f":"IF(E238<>0,(IF(lfValidaCEP(E238)=TRUE,\"Válido\",\"Inválido\")),\"\")","v":""}]
[null,null,null,null,null,null,null,null,null,null,"",{"$f":"IF(C239<>0,(IF(lfValidaCNPJ(C239)=TRUE,\"Válido\",\"Inválido\")),\"\")","v":""},{"$f":"IF(E239<>0,(IF(lfValidaCEP(E239)=TRUE,\"Válido\",\"Inválido\")),\"\")","v":""}]
[null,null,null,null,null,null,null,null,null,null,"",{"$f":"IF(C240<>0,(IF(lfValidaCNPJ(C240)=TRUE,\"Válido\",\"Inválido\")),\"\")","v":""},{"$f":"IF(E240<>0,(IF(lfValidaCEP(E240)=TRUE,\"Válido\",\"Inválido\")),\"\")","v":""}]
[null,null,null,null,null,null,null,null,null,null,"",{"$f":"IF(C241<>0,(IF(lfValidaCNPJ(C241)=TRUE,\"Válido\",\"Inválido\")),\"\")","v":""},{"$f":"IF(E241<>0,(IF(lfValidaCEP(E241)=TRUE,\"Válido\",\"Inválido\")),\"\")","v":""}]
[null,null,null,null,null,null,null,null,null,null,"",{"$f":"IF(C242<>0,(IF(lfValidaCNPJ(C242)=TRUE,\"Válido\",\"Inválido\")),\"\")","v":""},{"$f":"IF(E242<>0,(IF(lfValidaCEP(E242)=TRUE,\"Válido\",\"Inválido\")),\"\")","v":""}]
[null,null,null,null,null,null,null,null,null,null,"",{"$f":"IF(C243<>0,(IF(lfValidaCNPJ(C243)=TRUE,\"Válido\",\"Inválido\")),\"\")","v":""},{"$f":"IF(E243<>0,(IF(lfValidaCEP(E243)=TRUE,\"Válido\",\"Inválido\")),\"\")","v":""}]
[null,null,null,null,null,null,null,null,null,null,"",{"$f":"IF(C244<>0,(IF(lfValidaCNPJ(C244)=TRUE,\"Válido\",\"Inválido\")),\"\")","v":""},{"$f":"IF(E244<>0,(IF(lfValidaCEP(E244)=TRUE,\"Válido\",\"Inválido\")),\"\")","v":""}]
[null,null,null,null,null,null,null,null,null,null,"",{"$f":"IF(C245<>0,(IF(lfValidaCNPJ(C245)=TRUE,\"Válido\",\"Inválido\")),\"\")","v":""},{"$f":"IF(E245<>0,(IF(lfValidaCEP(E245)=TRUE,\"Válido\",\"Inválido\")),\"\")","v":""}]
[null,null,null,null,null,null,null,null,null,null,"",{"$f":"IF(C246<>0,(IF(lfValidaCNPJ(C246)=TRUE,\"Válido\",\"Inválido\")),\"\")","v":""},{"$f":"IF(E246<>0,(IF(lfValidaCEP(E246)=TRUE,\"Válido\",\"Inválido\")),\"\")","v":""}]
[null,null,null,null,null,null,null,null,null,null,"",{"$f":"IF(C247<>0,(IF(lfValidaCNPJ(C247)=TRUE,\"Válido\",\"Inválido\")),\"\")","v":""},{"$f":"IF(E247<>0,(IF(lfValidaCEP(E247)=TRUE,\"Válido\",\"Inválido\")),\"\")","v":""}]
[null,null,null,null,null,null,null,null,null,null,"",{"$f":"IF(C248<>0,(IF(lfValidaCNPJ(C248)=TRUE,\"Válido\",\"Inválido\")),\"\")","v":""},{"$f":"IF(E248<>0,(IF(lfValidaCEP(E248)=TRUE,\"Válido\",\"Inválido\")),\"\")","v":""}]
[null,null,null,null,null,null,null,null,null,null,"",{"$f":"IF(C249<>0,(IF(lfValidaCNPJ(C249)=TRUE,\"Válido\",\"Inválido\")),\"\")","v":""},{"$f":"IF(E249<>0,(IF(lfValidaCEP(E249)=TRUE,\"Válido\",\"Inválido\")),\"\")","v":""}]
[null,null,null,null,null,null,null,null,null,null,"",{"$f":"IF(C250<>0,(IF(lfValidaCNPJ(C250)=TRUE,\"Válido\",\"Inválido\")),\"\")","v":""},{"$f":"IF(E250<>0,(IF(lfValidaCEP(E250)=TRUE,\"Válido\",\"Inválido\")),\"\")","v":""}]
[null,null,null,null,null,null,null,null,null,null,"",{"$f":"IF(C251<>0,(IF(lfValidaCNPJ(C251)=TRUE,\"Válido\",\"Inválido\")),\"\")","v":""},{"$f":"IF(E251<>0,(IF(lfValidaCEP(E251)=TRUE,\"Válido\",\"Inválido\")),\"\")","v":""}]
[null,null,null,null,null,null,null,null,null,null,"",{"$f":"IF(C252<>0,(IF(lfValidaCNPJ(C252)=TRUE,\"Válido\",\"Inválido\")),\"\")","v":""},{"$f":"IF(E252<>0,(IF(lfValidaCEP(E252)=TRUE,\"Válido\",\"Inválido\")),\"\")","v":""}]
[null,null,null,null,null,null,null,null,null,null,"",{"$f":"IF(C253<>0,(IF(lfValidaCNPJ(C253)=TRUE,\"Válido\",\"Inválido\")),\"\")","v":""},{"$f":"IF(E253<>0,(IF(lfValidaCEP(E253)=TRUE,\"Válido\",\"Inválido\")),\"\")","v":""}]
[null,null,null,null,null,null,null,null,null,null,"",{"$f":"IF(C254<>0,(IF(lfValidaCNPJ(C254)=TRUE,\"Válido\",\"Inválido\")),\"\")","v":""},{"$f":"IF(E254<>0,(IF(lfValidaCEP(E254)=TRUE,\"Válido\",\"Inválido\")),\"\")","v":""}]
[null,null,null,null,null,null,null,null,null,null,"",{"$f":"IF(C255<>0,(IF(lfValidaCNPJ(C255)=TRUE,\"Válido\",\"Inválido\")),\"\")","v":""},{"$f":"IF(E255<>0,(IF(lfValidaCEP(E255)=TRUE,\"Válido\",\"Inválido\")),\"\")","v":""}]
[null,null,null,null,null,null,null,null,null,null,"",{"$f":"IF(C256<>0,(IF(lfValidaCNPJ(C256)=TRUE,\"Válido\",\"Inválido\")),\"\")","v":""},{"$f":"IF(E256<>0,(IF(lfValidaCEP(E256)=TRUE,\"Válido\",\"Inválido\")),\"\")","v":""}]
[null,null,null,null,null,null,null,null,null,null,"",{"$f":"IF(C257<>0,(IF(lfValidaCNPJ(C257)=TRUE,\"Válido\",\"Inválido\")),\"\")","v":""},{"$f":"IF(E257<>0,(IF(lfValidaCEP(E257)=TRUE,\"Válido\",\"Inválido\")),\"\")","v":""}]
[null,null,null,null,null,null,null,null,null,null,"",{"$f":"IF(C258<>0,(IF(lfValidaCNPJ(C258)=TRUE,\"Válido\",\"Inválido\")),\"\")","v":""},{"$f":"IF(E258<>0,(IF(lfValidaCEP(E258)=TRUE,\"Válido\",\"Inválido\")),\"\")","v":""}]
[null,null,null,null,null,null,null,null,null,null,"",{"$f":"IF(C259<>0,(IF(lfValidaCNPJ(C259)=TRUE,\"Válido\",\"Inválido\")),\"\")","v":""},{"$f":"IF(E259<>0,(IF(lfValidaCEP(E259)=TRUE,\"Válido\",\"Inválido\")),\"\")","v":""}]
[null,null,null,null,null,null,null,null,null,null,"",{"$f":"IF(C260<>0,(IF(lfValidaCNPJ(C260)=TRUE,\"Válido\",\"Inválido\")),\"\")","v":""},{"$f":"IF(E260<>0,(IF(lfValidaCEP(E260)=TRUE,\"Válido\",\"Inválido\")),\"\")","v":""}]
[null,null,null,null,null,null,null,null,null,null,"",{"$f":"IF(C261<>0,(IF(lfValidaCNPJ(C261)=TRUE,\"Válido\",\"Inválido\")),\"\")","v":""},{"$f":"IF(E261<>0,(IF(lfValidaCEP(E261)=TRUE,\"Válido\",\"Inválido\")),\"\")","v":""}]
[null,null,null,null,null,null,null,null,null,null,"",{"$f":"IF(C262<>0,(IF(lfValidaCNPJ(C262)=TRUE,\"Válido\",\"Inválido\")),\"\")","v":""},{"$f":"IF(E262<>0,(IF(lfValidaCEP(E262)=TRUE,\"Válido\",\"Inválido\")),\"\")","v":""}]
[null,null,null,null,null,null,null,null,null,null,"",{"$f":"IF(C263<>0,(IF(lfValidaCNPJ(C263)=TRUE,\"Válido\",\"Inválido\")),\"\")","v":""},{"$f":"IF(E263<>0,(IF(lfValidaCEP(E263)=TRUE,\"Válido\",\"Inválido\")),\"\")","v":""}]
[null,null,null,null,null,null,null,null,null,null,"",{"$f":"IF(C264<>0,(IF(lfValidaCNPJ(C264)=TRUE,\"Válido\",\"Inválido\")),\"\")","v":""},{"$f":"IF(E264<>0,(IF(lfValidaCEP(E264)=TRUE,\"Válido\",\"Inválido\")),\"\")","v":""}]
[null,null,null,null,null,null,null,null,null,null,"",{"$f":"IF(C265<>0,(IF(lfValidaCNPJ(C265)=TRUE,\"Válido\",\"Inválido\")),\"\")","v":""},{"$f":"IF(E265<>0,(IF(lfValidaCEP(E265)=TRUE,\"Válido\",\"Inválido\")),\"\")","v":""}]
[null,null,null,null,null,null,null,null,null,null,"",{"$f":"IF(C266<>0,(IF(lfValidaCNPJ(C266)=TRUE,\"Válido\",\"Inválido\")),\"\")","v":""},{"$f":"IF(E266<>0,(IF(lfValidaCEP(E266)=TRUE,\"Válido\",\"Inválido\")),\"\")","v":""}]
[null,null,null,null,null,null,null,null,null,null,"",{"$f":"IF(C267<>0,(IF(lfValidaCNPJ(C267)=TRUE,\"Válido\",\"Inválido\")),\"\")","v":""},{"$f":"IF(E267<>0,(IF(lfValidaCEP(E267)=TRUE,\"Válido\",\"Inválido\")),\"\")","v":""}]
[null,null,null,null,null,null,null,null,null,null,{"$f":"IF(COUNTA(B268:I268)<>0,IF(AND(B268<>0,C268<>0,D268<>0,E268<>0,F268<>0,G268<>0,H268<>0,I268<>0),\"Completo\",\"Incompleto\"),\"\")","v":""},{"$f":"IF(C268<>0,(IF(lfValidaCNPJ(C268)=TRUE,\"Válido\",\"Inválido\")),\"\")","v":""},{"$f":"IF(E268<>0,(IF(lfValidaCEP(E268)=TRUE,\"Válido\",\"Inválido\")),\"\")","v":""}]
[null,null,null,null,null,null,null,null,null,null,"",{"$f":"IF(C269<>0,(IF(lfValidaCNPJ(C269)=TRUE,\"Válido\",\"Inválido\")),\"\")","v":""},{"$f":"IF(E269<>0,(IF(lfValidaCEP(E269)=TRUE,\"Válido\",\"Inválido\")),\"\")","v":""}]
[null,null,null,null,null,null,null,null,null,null,"",{"$f":"IF(C270<>0,(IF(lfValidaCNPJ(C270)=TRUE,\"Válido\",\"Inválido\")),\"\")","v":""},{"$f":"IF(E270<>0,(IF(lfValidaCEP(E270)=TRUE,\"Válido\",\"Inválido\")),\"\")","v":""}]
[null,null,null,null,null,null,null,null,null,null,"",{"$f":"IF(C271<>0,(IF(lfValidaCNPJ(C271)=TRUE,\"Válido\",\"Inválido\")),\"\")","v":""},{"$f":"IF(E271<>0,(IF(lfValidaCEP(E271)=TRUE,\"Válido\",\"Inválido\")),\"\")","v":""}]
[null,null,null,null,null,null,null,null,null,null,"",{"$f":"IF(C272<>0,(IF(lfValidaCNPJ(C272)=TRUE,\"Válido\",\"Inválido\")),\"\")","v":""},{"$f":"IF(E272<>0,(IF(lfValidaCEP(E272)=TRUE,\"Válido\",\"Inválido\")),\"\")","v":""}]
[null,null,null,null,null,null,null,null,null,null,"",{"$f":"IF(C273<>0,(IF(lfValidaCNPJ(C273)=TRUE,\"Válido\",\"Inválido\")),\"\")","v":""},{"$f":"IF(E273<>0,(IF(lfValidaCEP(E273)=TRUE,\"Válido\",\"Inválido\")),\"\")","v":""}]
[null,null,null,null,null,null,null,null,null,null,"",{"$f":"IF(C274<>0,(IF(lfValidaCNPJ(C274)=TRUE,\"Válido\",\"Inválido\")),\"\")","v":""},{"$f":"IF(E274<>0,(IF(lfValidaCEP(E274)=TRUE,\"Válido\",\"Inválido\")),\"\")","v":""}]
[null,null,null,null,null,null,null,null,null,null,"",{"$f":"IF(C275<>0,(IF(lfValidaCNPJ(C275)=TRUE,\"Válido\",\"Inválido\")),\"\")","v":""},{"$f":"IF(E275<>0,(IF(lfValidaCEP(E275)=TRUE,\"Válido\",\"Inválido\")),\"\")","v":""}]
[null,null,null,null,null,null,null,null,null,null,"",{"$f":"IF(C276<>0,(IF(lfValidaCNPJ(C276)=TRUE,\"Válido\",\"Inválido\")),\"\")","v":""},{"$f":"IF(E276<>0,(IF(lfValidaCEP(E276)=TRUE,\"Válido\",\"Inválido\")),\"\")","v":""}]
[null,null,null,null,null,null,null,null,null,null,"",{"$f":"IF(C277<>0,(IF(lfValidaCNPJ(C277)=TRUE,\"Válido\",\"Inválido\")),\"\")","v":""},{"$f":"IF(E277<>0,(IF(lfValidaCEP(E277)=TRUE,\"Válido\",\"Inválido\")),\"\")","v":""}]
[null,null,null,null,null,null,null,null,null,null,"",{"$f":"IF(C278<>0,(IF(lfValidaCNPJ(C278)=TRUE,\"Válido\",\"Inválido\")),\"\")","v":""},{"$f":"IF(E278<>0,(IF(lfValidaCEP(E278)=TRUE,\"Válido\",\"Inválido\")),\"\")","v":""}]
[null,null,null,null,null,null,null,null,null,null,"",{"$f":"IF(C279<>0,(IF(lfValidaCNPJ(C279)=TRUE,\"Válido\",\"Inválido\")),\"\")","v":""},{"$f":"IF(E279<>0,(IF(lfValidaCEP(E279)=TRUE,\"Válido\",\"Inválido\")),\"\")","v":""}]
[null,null,null,null,null,null,null,null,null,null,"",{"$f":"IF(C280<>0,(IF(lfValidaCNPJ(C280)=TRUE,\"Válido\",\"Inválido\")),\"\")","v":""},{"$f":"IF(E280<>0,(IF(lfValidaCEP(E280)=TRUE,\"Válido\",\"Inválido\")),\"\")","v":""}]
[null,null,null,null,null,null,null,null,null,null,"",{"$f":"IF(C281<>0,(IF(lfValidaCNPJ(C281)=TRUE,\"Válido\",\"Inválido\")),\"\")","v":""},{"$f":"IF(E281<>0,(IF(lfValidaCEP(E281)=TRUE,\"Válido\",\"Inválido\")),\"\")","v":""}]
[null,null,null,null,null,null,null,null,null,null,"",{"$f":"IF(C282<>0,(IF(lfValidaCNPJ(C282)=TRUE,\"Válido\",\"Inválido\")),\"\")","v":""},{"$f":"IF(E282<>0,(IF(lfValidaCEP(E282)=TRUE,\"Válido\",\"Inválido\")),\"\")","v":""}]
[null,null,null,null,null,null,null,null,null,null,"",{"$f":"IF(C283<>0,(IF(lfValidaCNPJ(C283)=TRUE,\"Válido\",\"Inválido\")),\"\")","v":""},{"$f":"IF(E283<>0,(IF(lfValidaCEP(E283)=TRUE,\"Válido\",\"Inválido\")),\"\")","v":""}]
[null,null,null,null,null,null,null,null,null,null,"",{"$f":"IF(C284<>0,(IF(lfValidaCNPJ(C284)=TRUE,\"Válido\",\"Inválido\")),\"\")","v":""},{"$f":"IF(E284<>0,(IF(lfValidaCEP(E284)=TRUE,\"Válido\",\"Inválido\")),\"\")","v":""}]
[null,null,null,null,null,null,null,null,null,null,"",{"$f":"IF(C285<>0,(IF(lfValidaCNPJ(C285)=TRUE,\"Válido\",\"Inválido\")),\"\")","v":""},{"$f":"IF(E285<>0,(IF(lfValidaCEP(E285)=TRUE,\"Válido\",\"Inválido\")),\"\")","v":""}]
[null,null,null,null,null,null,null,null,null,null,"",{"$f":"IF(C286<>0,(IF(lfValidaCNPJ(C286)=TRUE,\"Válido\",\"Inválido\")),\"\")","v":""},{"$f":"IF(E286<>0,(IF(lfValidaCEP(E286)=TRUE,\"Válido\",\"Inválido\")),\"\")","v":""}]
[null,null,null,null,null,null,null,null,null,null,"",{"$f":"IF(C287<>0,(IF(lfValidaCNPJ(C287)=TRUE,\"Válido\",\"Inválido\")),\"\")","v":""},{"$f":"IF(E287<>0,(IF(lfValidaCEP(E287)=TRUE,\"Válido\",\"Inválido\")),\"\")","v":""}]
[null,null,null,null,null,null,null,null,null,null,"",{"$f":"IF(C288<>0,(IF(lfValidaCNPJ(C288)=TRUE,\"Válido\",\"Inválido\")),\"\")","v":""},{"$f":"IF(E288<>0,(IF(lfValidaCEP(E288)=TRUE,\"Válido\",\"Inválido\")),\"\")","v":""}]
[null,null,null,null,null,null,null,null,null,null,"",{"$f":"IF(C289<>0,(IF(lfValidaCNPJ(C289)=TRUE,\"Válido\",\"Inválido\")),\"\")","v":""},{"$f":"IF(E289<>0,(IF(lfValidaCEP(E289)=TRUE,\"Válido\",\"Inválido\")),\"\")","v":""}]
[null,null,null,null,null,null,null,null,null,null,"",{"$f":"IF(C290<>0,(IF(lfValidaCNPJ(C290)=TRUE,\"Válido\",\"Inválido\")),\"\")","v":""},{"$f":"IF(E290<>0,(IF(lfValidaCEP(E290)=TRUE,\"Válido\",\"Inválido\")),\"\")","v":""}]
[null,null,null,null,null,null,null,null,null,null,"",{"$f":"IF(C291<>0,(IF(lfValidaCNPJ(C291)=TRUE,\"Válido\",\"Inválido\")),\"\")","v":""},{"$f":"IF(E291<>0,(IF(lfValidaCEP(E291)=TRUE,\"Válido\",\"Inválido\")),\"\")","v":""}]
[null,null,null,null,null,null,null,null,null,null,"",{"$f":"IF(C292<>0,(IF(lfValidaCNPJ(C292)=TRUE,\"Válido\",\"Inválido\")),\"\")","v":""},{"$f":"IF(E292<>0,(IF(lfValidaCEP(E292)=TRUE,\"Válido\",\"Inválido\")),\"\")","v":""}]
[null,null,null,null,null,null,null,null,null,null,"",{"$f":"IF(C293<>0,(IF(lfValidaCNPJ(C293)=TRUE,\"Válido\",\"Inválido\")),\"\")","v":""},{"$f":"IF(E293<>0,(IF(lfValidaCEP(E293)=TRUE,\"Válido\",\"Inválido\")),\"\")","v":""}]
[null,null,null,null,null,null,null,null,null,null,"",{"$f":"IF(C294<>0,(IF(lfValidaCNPJ(C294)=TRUE,\"Válido\",\"Inválido\")),\"\")","v":""},{"$f":"IF(E294<>0,(IF(lfValidaCEP(E294)=TRUE,\"Válido\",\"Inválido\")),\"\")","v":""}]
[null,null,null,null,null,null,null,null,null,null,"",{"$f":"IF(C295<>0,(IF(lfValidaCNPJ(C295)=TRUE,\"Válido\",\"Inválido\")),\"\")","v":""},{"$f":"IF(E295<>0,(IF(lfValidaCEP(E295)=TRUE,\"Válido\",\"Inválido\")),\"\")","v":""}]
[null,null,null,null,null,null,null,null,null,null,"",{"$f":"IF(C296<>0,(IF(lfValidaCNPJ(C296)=TRUE,\"Válido\",\"Inválido\")),\"\")","v":""},{"$f":"IF(E296<>0,(IF(lfValidaCEP(E296)=TRUE,\"Válido\",\"Inválido\")),\"\")","v":""}]
[null,null,null,null,null,null,null,null,null,null,"",{"$f":"IF(C297<>0,(IF(lfValidaCNPJ(C297)=TRUE,\"Válido\",\"Inválido\")),\"\")","v":""},{"$f":"IF(E297<>0,(IF(lfValidaCEP(E297)=TRUE,\"Válido\",\"Inválido\")),\"\")","v":""}]
[null,null,null,null,null,null,null,null,null,null,"",{"$f":"IF(C298<>0,(IF(lfValidaCNPJ(C298)=TRUE,\"Válido\",\"Inválido\")),\"\")","v":""},{"$f":"IF(E298<>0,(IF(lfValidaCEP(E298)=TRUE,\"Válido\",\"Inválido\")),\"\")","v":""}]
[null,null,null,null,null,null,null,null,null,null,"",{"$f":"IF(C299<>0,(IF(lfValidaCNPJ(C299)=TRUE,\"Válido\",\"Inválido\")),\"\")","v":""},{"$f":"IF(E299<>0,(IF(lfValidaCEP(E299)=TRUE,\"Válido\",\"Inválido\")),\"\")","v":""}]
[null,null,null,null,null,null,null,null,null,null,"",{"$f":"IF(C300<>0,(IF(lfValidaCNPJ(C300)=TRUE,\"Válido\",\"Inválido\")),\"\")","v":""},{"$f":"IF(E300<>0,(IF(lfValidaCEP(E300)=TRUE,\"Válido\",\"Inválido\")),\"\")","v":""}]
[null,null,null,null,null,null,null,null,null,null,"",{"$f":"IF(C301<>0,(IF(lfValidaCNPJ(C301)=TRUE,\"Válido\",\"Inválido\")),\"\")","v":""},{"$f":"IF(E301<>0,(IF(lfValidaCEP(E301)=TRUE,\"Válido\",\"Inválido\")),\"\")","v":""}]
[null,null,null,null,null,null,null,null,null,null,"",{"$f":"IF(C302<>0,(IF(lfValidaCNPJ(C302)=TRUE,\"Válido\",\"Inválido\")),\"\")","v":""},{"$f":"IF(E302<>0,(IF(lfValidaCEP(E302)=TRUE,\"Válido\",\"Inválido\")),\"\")","v":""}]
[null,null,null,null,null,null,null,null,null,null,"",{"$f":"IF(C303<>0,(IF(lfValidaCNPJ(C303)=TRUE,\"Válido\",\"Inválido\")),\"\")","v":""},{"$f":"IF(E303<>0,(IF(lfValidaCEP(E303)=TRUE,\"Válido\",\"Inválido\")),\"\")","v":""}]
[null,null,null,null,null,null,null,null,null,null,"",{"$f":"IF(C304<>0,(IF(lfValidaCNPJ(C304)=TRUE,\"Válido\",\"Inválido\")),\"\")","v":""},{"$f":"IF(E304<>0,(IF(lfValidaCEP(E304)=TRUE,\"Válido\",\"Inválido\")),\"\")","v":""}]
[null,null,null,null,null,null,null,null,null,null,"",{"$f":"IF(C305<>0,(IF(lfValidaCNPJ(C305)=TRUE,\"Válido\",\"Inválido\")),\"\")","v":""},{"$f":"IF(E305<>0,(IF(lfValidaCEP(E305)=TRUE,\"Válido\",\"Inválido\")),\"\")","v":""}]
[null,null,null,null,null,null,null,null,null,null,"",{"$f":"IF(C306<>0,(IF(lfValidaCNPJ(C306)=TRUE,\"Válido\",\"Inválido\")),\"\")","v":""},{"$f":"IF(E306<>0,(IF(lfValidaCEP(E306)=TRUE,\"Válido\",\"Inválido\")),\"\")","v":""}]
[null,null,null,null,null,null,null,null,null,null,"",{"$f":"IF(C307<>0,(IF(lfValidaCNPJ(C307)=TRUE,\"Válido\",\"Inválido\")),\"\")","v":""},{"$f":"IF(E307<>0,(IF(lfValidaCEP(E307)=TRUE,\"Válido\",\"Inválido\")),\"\")","v":""}]
[null,null,null,null,null,null,null,null,null,null,"",{"$f":"IF(C308<>0,(IF(lfValidaCNPJ(C308)=TRUE,\"Válido\",\"Inválido\")),\"\")","v":""},{"$f":"IF(E308<>0,(IF(lfValidaCEP(E308)=TRUE,\"Válido\",\"Inválido\")),\"\")","v":""}]
[null,null,null,null,null,null,null,null,null,null,"",{"$f":"IF(C309<>0,(IF(lfValidaCNPJ(C309)=TRUE,\"Válido\",\"Inválido\")),\"\")","v":""},{"$f":"IF(E309<>0,(IF(lfValidaCEP(E309)=TRUE,\"Válido\",\"Inválido\")),\"\")","v":""}]
[null,null,null,null,null,null,null,null,null,null,"",{"$f":"IF(C310<>0,(IF(lfValidaCNPJ(C310)=TRUE,\"Válido\",\"Inválido\")),\"\")","v":""},{"$f":"IF(E310<>0,(IF(lfValidaCEP(E310)=TRUE,\"Válido\",\"Inválido\")),\"\")","v":""}]
[null,null,null,null,null,null,null,null,null,null,"",{"$f":"IF(C311<>0,(IF(lfValidaCNPJ(C311)=TRUE,\"Válido\",\"Inválido\")),\"\")","v":""},{"$f":"IF(E311<>0,(IF(lfValidaCEP(E311)=TRUE,\"Válido\",\"Inválido\")),\"\")","v":""}]
[null,null,null,null,null,null,null,null,null,null,"",{"$f":"IF(C312<>0,(IF(lfValidaCNPJ(C312)=TRUE,\"Válido\",\"Inválido\")),\"\")","v":""},{"$f":"IF(E312<>0,(IF(lfValidaCEP(E312)=TRUE,\"Válido\",\"Inválido\")),\"\")","v":""}]
[null,null,null,null,null,null,null,null,null,null,"",{"$f":"IF(C313<>0,(IF(lfValidaCNPJ(C313)=TRUE,\"Válido\",\"Inválido\")),\"\")","v":""},{"$f":"IF(E313<>0,(IF(lfValidaCEP(E313)=TRUE,\"Válido\",\"Inválido\")),\"\")","v":""}]
[null,null,null,null,null,null,null,null,null,null,"",{"$f":"IF(C314<>0,(IF(lfValidaCNPJ(C314)=TRUE,\"Válido\",\"Inválido\")),\"\")","v":""},{"$f":"IF(E314<>0,(IF(lfValidaCEP(E314)=TRUE,\"Válido\",\"Inválido\")),\"\")","v":""}]
[null,null,null,null,null,null,null,null,null,null,"",{"$f":"IF(C315<>0,(IF(lfValidaCNPJ(C315)=TRUE,\"Válido\",\"Inválido\")),\"\")","v":""},{"$f":"IF(E315<>0,(IF(lfValidaCEP(E315)=TRUE,\"Válido\",\"Inválido\")),\"\")","v":""}]
[null,null,null,null,null,null,null,null,null,null,"",{"$f":"IF(C316<>0,(IF(lfValidaCNPJ(C316)=TRUE,\"Válido\",\"Inválido\")),\"\")","v":""},{"$f":"IF(E316<>0,(IF(lfValidaCEP(E316)=TRUE,\"Válido\",\"Inválido\")),\"\")","v":""}]
[null,null,null,null,null,null,null,null,null,null,"",{"$f":"IF(C317<>0,(IF(lfValidaCNPJ(C317)=TRUE,\"Válido\",\"Inválido\")),\"\")","v":""},{"$f":"IF(E317<>0,(IF(lfValidaCEP(E317)=TRUE,\"Válido\",\"Inválido\")),\"\")","v":""}]
[null,null,null,null,null,null,null,null,null,null,"",{"$f":"IF(C318<>0,(IF(lfValidaCNPJ(C318)=TRUE,\"Válido\",\"Inválido\")),\"\")","v":""},{"$f":"IF(E318<>0,(IF(lfValidaCEP(E318)=TRUE,\"Válido\",\"Inválido\")),\"\")","v":""}]
[null,null,null,null,null,null,null,null,null,null,"",{"$f":"IF(C319<>0,(IF(lfValidaCNPJ(C319)=TRUE,\"Válido\",\"Inválido\")),\"\")","v":""},{"$f":"IF(E319<>0,(IF(lfValidaCEP(E319)=TRUE,\"Válido\",\"Inválido\")),\"\")","v":""}]
[null,null,null,null,null,null,null,null,null,null,"",{"$f":"IF(C320<>0,(IF(lfValidaCNPJ(C320)=TRUE,\"Válido\",\"Inválido\")),\"\")","v":""},{"$f":"IF(E320<>0,(IF(lfValidaCEP(E320)=TRUE,\"Válido\",\"Inválido\")),\"\")","v":""}]
[null,null,null,null,null,null,null,null,null,null,"",{"$f":"IF(C321<>0,(IF(lfValidaCNPJ(C321)=TRUE,\"Válido\",\"Inválido\")),\"\")","v":""},{"$f":"IF(E321<>0,(IF(lfValidaCEP(E321)=TRUE,\"Válido\",\"Inválido\")),\"\")","v":""}]
[null,null,null,null,null,null,null,null,null,null,"",{"$f":"IF(C322<>0,(IF(lfValidaCNPJ(C322)=TRUE,\"Válido\",\"Inválido\")),\"\")","v":""},{"$f":"IF(E322<>0,(IF(lfValidaCEP(E322)=TRUE,\"Válido\",\"Inválido\")),\"\")","v":""}]
[null,null,null,null,null,null,null,null,null,null,"",{"$f":"IF(C323<>0,(IF(lfValidaCNPJ(C323)=TRUE,\"Válido\",\"Inválido\")),\"\")","v":""},{"$f":"IF(E323<>0,(IF(lfValidaCEP(E323)=TRUE,\"Válido\",\"Inválido\")),\"\")","v":""}]
[null,null,null,null,null,null,null,null,null,null,"",{"$f":"IF(C324<>0,(IF(lfValidaCNPJ(C324)=TRUE,\"Válido\",\"Inválido\")),\"\")","v":""},{"$f":"IF(E324<>0,(IF(lfValidaCEP(E324)=TRUE,\"Válido\",\"Inválido\")),\"\")","v":""}]
[null,null,null,null,null,null,null,null,null,null,"",{"$f":"IF(C325<>0,(IF(lfValidaCNPJ(C325)=TRUE,\"Válido\",\"Inválido\")),\"\")","v":""},{"$f":"IF(E325<>0,(IF(lfValidaCEP(E325)=TRUE,\"Válido\",\"Inválido\")),\"\")","v":""}]
[null,null,null,null,null,null,null,null,null,null,"",{"$f":"IF(C326<>0,(IF(lfValidaCNPJ(C326)=TRUE,\"Válido\",\"Inválido\")),\"\")","v":""},{"$f":"IF(E326<>0,(IF(lfValidaCEP(E326)=TRUE,\"Válido\",\"Inválido\")),\"\")","v":""}]
[null,null,null,null,null,null,null,null,null,null,"",{"$f":"IF(C327<>0,(IF(lfValidaCNPJ(C327)=TRUE,\"Válido\",\"Inválido\")),\"\")","v":""},{"$f":"IF(E327<>0,(IF(lfValidaCEP(E327)=TRUE,\"Válido\",\"Inválido\")),\"\")","v":""}]
[null,null,null,null,null,null,null,null,null,null,"",{"$f":"IF(C328<>0,(IF(lfValidaCNPJ(C328)=TRUE,\"Válido\",\"Inválido\")),\"\")","v":""},{"$f":"IF(E328<>0,(IF(lfValidaCEP(E328)=TRUE,\"Válido\",\"Inválido\")),\"\")","v":""}]
[null,null,null,null,null,null,null,null,null,null,"",{"$f":"IF(C329<>0,(IF(lfValidaCNPJ(C329)=TRUE,\"Válido\",\"Inválido\")),\"\")","v":""},{"$f":"IF(E329<>0,(IF(lfValidaCEP(E329)=TRUE,\"Válido\",\"Inválido\")),\"\")","v":""}]
[null,null,null,null,null,null,null,null,null,null,"",{"$f":"IF(C330<>0,(IF(lfValidaCNPJ(C330)=TRUE,\"Válido\",\"Inválido\")),\"\")","v":""},{"$f":"IF(E330<>0,(IF(lfValidaCEP(E330)=TRUE,\"Válido\",\"Inválido\")),\"\")","v":""}]
[null,null,null,null,null,null,null,null,null,null,"",{"$f":"IF(C331<>0,(IF(lfValidaCNPJ(C331)=TRUE,\"Válido\",\"Inválido\")),\"\")","v":""},{"$f":"IF(E331<>0,(IF(lfValidaCEP(E331)=TRUE,\"Válido\",\"Inválido\")),\"\")","v":""}]
[null,null,null,null,null,null,null,null,null,null,{"$f":"IF(COUNTA(B332:I332)<>0,IF(AND(B332<>0,C332<>0,D332<>0,E332<>0,F332<>0,G332<>0,H332<>0,I332<>0),\"Completo\",\"Incompleto\"),\"\")","v":""},{"$f":"IF(C332<>0,(IF(lfValidaCNPJ(C332)=TRUE,\"Válido\",\"Inválido\")),\"\")","v":""},{"$f":"IF(E332<>0,(IF(lfValidaCEP(E332)=TRUE,\"Válido\",\"Inválido\")),\"\")","v":""}]
[null,null,null,null,null,null,null,null,null,null,"",{"$f":"IF(C333<>0,(IF(lfValidaCNPJ(C333)=TRUE,\"Válido\",\"Inválido\")),\"\")","v":""},{"$f":"IF(E333<>0,(IF(lfValidaCEP(E333)=TRUE,\"Válido\",\"Inválido\")),\"\")","v":""}]
[null,null,null,null,null,null,null,null,null,null,"",{"$f":"IF(C334<>0,(IF(lfValidaCNPJ(C334)=TRUE,\"Válido\",\"Inválido\")),\"\")","v":""},{"$f":"IF(E334<>0,(IF(lfValidaCEP(E334)=TRUE,\"Válido\",\"Inválido\")),\"\")","v":""}]
[null,null,null,null,null,null,null,null,null,null,"",{"$f":"IF(C335<>0,(IF(lfValidaCNPJ(C335)=TRUE,\"Válido\",\"Inválido\")),\"\")","v":""},{"$f":"IF(E335<>0,(IF(lfValidaCEP(E335)=TRUE,\"Válido\",\"Inválido\")),\"\")","v":""}]
[null,null,null,null,null,null,null,null,null,null,"",{"$f":"IF(C336<>0,(IF(lfValidaCNPJ(C336)=TRUE,\"Válido\",\"Inválido\")),\"\")","v":""},{"$f":"IF(E336<>0,(IF(lfValidaCEP(E336)=TRUE,\"Válido\",\"Inválido\")),\"\")","v":""}]
[null,null,null,null,null,null,null,null,null,null,"",{"$f":"IF(C337<>0,(IF(lfValidaCNPJ(C337)=TRUE,\"Válido\",\"Inválido\")),\"\")","v":""},{"$f":"IF(E337<>0,(IF(lfValidaCEP(E337)=TRUE,\"Válido\",\"Inválido\")),\"\")","v":""}]
[null,null,null,null,null,null,null,null,null,null,"",{"$f":"IF(C338<>0,(IF(lfValidaCNPJ(C338)=TRUE,\"Válido\",\"Inválido\")),\"\")","v":""},{"$f":"IF(E338<>0,(IF(lfValidaCEP(E338)=TRUE,\"Válido\",\"Inválido\")),\"\")","v":""}]
[null,null,null,null,null,null,null,null,null,null,"",{"$f":"IF(C339<>0,(IF(lfValidaCNPJ(C339)=TRUE,\"Válido\",\"Inválido\")),\"\")","v":""},{"$f":"IF(E339<>0,(IF(lfValidaCEP(E339)=TRUE,\"Válido\",\"Inválido\")),\"\")","v":""}]
[null,null,null,null,null,null,null,null,null,null,"",{"$f":"IF(C340<>0,(IF(lfValidaCNPJ(C340)=TRUE,\"Válido\",\"Inválido\")),\"\")","v":""},{"$f":"IF(E340<>0,(IF(lfValidaCEP(E340)=TRUE,\"Válido\",\"Inválido\")),\"\")","v":""}]
[null,null,null,null,null,null,null,null,null,null,"",{"$f":"IF(C341<>0,(IF(lfValidaCNPJ(C341)=TRUE,\"Válido\",\"Inválido\")),\"\")","v":""},{"$f":"IF(E341<>0,(IF(lfValidaCEP(E341)=TRUE,\"Válido\",\"Inválido\")),\"\")","v":""}]
[null,null,null,null,null,null,null,null,null,null,"",{"$f":"IF(C342<>0,(IF(lfValidaCNPJ(C342)=TRUE,\"Válido\",\"Inválido\")),\"\")","v":""},{"$f":"IF(E342<>0,(IF(lfValidaCEP(E342)=TRUE,\"Válido\",\"Inválido\")),\"\")","v":""}]
[null,null,null,null,null,null,null,null,null,null,"",{"$f":"IF(C343<>0,(IF(lfValidaCNPJ(C343)=TRUE,\"Válido\",\"Inválido\")),\"\")","v":""},{"$f":"IF(E343<>0,(IF(lfValidaCEP(E343)=TRUE,\"Válido\",\"Inválido\")),\"\")","v":""}]
[null,null,null,null,null,null,null,null,null,null,"",{"$f":"IF(C344<>0,(IF(lfValidaCNPJ(C344)=TRUE,\"Válido\",\"Inválido\")),\"\")","v":""},{"$f":"IF(E344<>0,(IF(lfValidaCEP(E344)=TRUE,\"Válido\",\"Inválido\")),\"\")","v":""}]
[null,null,null,null,null,null,null,null,null,null,"",{"$f":"IF(C345<>0,(IF(lfValidaCNPJ(C345)=TRUE,\"Válido\",\"Inválido\")),\"\")","v":""},{"$f":"IF(E345<>0,(IF(lfValidaCEP(E345)=TRUE,\"Válido\",\"Inválido\")),\"\")","v":""}]
[null,null,null,null,null,null,null,null,null,null,"",{"$f":"IF(C346<>0,(IF(lfValidaCNPJ(C346)=TRUE,\"Válido\",\"Inválido\")),\"\")","v":""},{"$f":"IF(E346<>0,(IF(lfValidaCEP(E346)=TRUE,\"Válido\",\"Inválido\")),\"\")","v":""}]
[null,null,null,null,null,null,null,null,null,null,"",{"$f":"IF(C347<>0,(IF(lfValidaCNPJ(C347)=TRUE,\"Válido\",\"Inválido\")),\"\")","v":""},{"$f":"IF(E347<>0,(IF(lfValidaCEP(E347)=TRUE,\"Válido\",\"Inválido\")),\"\")","v":""}]
[null,null,null,null,null,null,null,null,null,null,"",{"$f":"IF(C348<>0,(IF(lfValidaCNPJ(C348)=TRUE,\"Válido\",\"Inválido\")),\"\")","v":""},{"$f":"IF(E348<>0,(IF(lfValidaCEP(E348)=TRUE,\"Válido\",\"Inválido\")),\"\")","v":""}]
[null,null,null,null,null,null,null,null,null,null,"",{"$f":"IF(C349<>0,(IF(lfValidaCNPJ(C349)=TRUE,\"Válido\",\"Inválido\")),\"\")","v":""},{"$f":"IF(E349<>0,(IF(lfValidaCEP(E349)=TRUE,\"Válido\",\"Inválido\")),\"\")","v":""}]
[null,null,null,null,null,null,null,null,null,null,"",{"$f":"IF(C350<>0,(IF(lfValidaCNPJ(C350)=TRUE,\"Válido\",\"Inválido\")),\"\")","v":""},{"$f":"IF(E350<>0,(IF(lfValidaCEP(E350)=TRUE,\"Válido\",\"Inválido\")),\"\")","v":""}]
[null,null,null,null,null,null,null,null,null,null,"",{"$f":"IF(C351<>0,(IF(lfValidaCNPJ(C351)=TRUE,\"Válido\",\"Inválido\")),\"\")","v":""},{"$f":"IF(E351<>0,(IF(lfValidaCEP(E351)=TRUE,\"Válido\",\"Inválido\")),\"\")","v":""}]
[null,null,null,null,null,null,null,null,null,null,"",{"$f":"IF(C352<>0,(IF(lfValidaCNPJ(C352)=TRUE,\"Válido\",\"Inválido\")),\"\")","v":""},{"$f":"IF(E352<>0,(IF(lfValidaCEP(E352)=TRUE,\"Válido\",\"Inválido\")),\"\")","v":""}]
[null,null,null,null,null,null,null,null,null,null,"",{"$f":"IF(C353<>0,(IF(lfValidaCNPJ(C353)=TRUE,\"Válido\",\"Inválido\")),\"\")","v":""},{"$f":"IF(E353<>0,(IF(lfValidaCEP(E353)=TRUE,\"Válido\",\"Inválido\")),\"\")","v":""}]
[null,null,null,null,null,null,null,null,null,null,"",{"$f":"IF(C354<>0,(IF(lfValidaCNPJ(C354)=TRUE,\"Válido\",\"Inválido\")),\"\")","v":""},{"$f":"IF(E354<>0,(IF(lfValidaCEP(E354)=TRUE,\"Válido\",\"Inválido\")),\"\")","v":""}]
[null,null,null,null,null,null,null,null,null,null,"",{"$f":"IF(C355<>0,(IF(lfValidaCNPJ(C355)=TRUE,\"Válido\",\"Inválido\")),\"\")","v":""},{"$f":"IF(E355<>0,(IF(lfValidaCEP(E355)=TRUE,\"Válido\",\"Inválido\")),\"\")","v":""}]
[null,null,null,null,null,null,null,null,null,null,"",{"$f":"IF(C356<>0,(IF(lfValidaCNPJ(C356)=TRUE,\"Válido\",\"Inválido\")),\"\")","v":""},{"$f":"IF(E356<>0,(IF(lfValidaCEP(E356)=TRUE,\"Válido\",\"Inválido\")),\"\")","v":""}]
[null,null,null,null,null,null,null,null,null,null,"",{"$f":"IF(C357<>0,(IF(lfValidaCNPJ(C357)=TRUE,\"Válido\",\"Inválido\")),\"\")","v":""},{"$f":"IF(E357<>0,(IF(lfValidaCEP(E357)=TRUE,\"Válido\",\"Inválido\")),\"\")","v":""}]
[null,null,null,null,null,null,null,null,null,null,"",{"$f":"IF(C358<>0,(IF(lfValidaCNPJ(C358)=TRUE,\"Válido\",\"Inválido\")),\"\")","v":""},{"$f":"IF(E358<>0,(IF(lfValidaCEP(E358)=TRUE,\"Válido\",\"Inválido\")),\"\")","v":""}]
[null,null,null,null,null,null,null,null,null,null,"",{"$f":"IF(C359<>0,(IF(lfValidaCNPJ(C359)=TRUE,\"Válido\",\"Inválido\")),\"\")","v":""},{"$f":"IF(E359<>0,(IF(lfValidaCEP(E359)=TRUE,\"Válido\",\"Inválido\")),\"\")","v":""}]
[null,null,null,null,null,null,null,null,null,null,"",{"$f":"IF(C360<>0,(IF(lfValidaCNPJ(C360)=TRUE,\"Válido\",\"Inválido\")),\"\")","v":""},{"$f":"IF(E360<>0,(IF(lfValidaCEP(E360)=TRUE,\"Válido\",\"Inválido\")),\"\")","v":""}]
[null,null,null,null,null,null,null,null,null,null,"",{"$f":"IF(C361<>0,(IF(lfValidaCNPJ(C361)=TRUE,\"Válido\",\"Inválido\")),\"\")","v":""},{"$f":"IF(E361<>0,(IF(lfValidaCEP(E361)=TRUE,\"Válido\",\"Inválido\")),\"\")","v":""}]
[null,null,null,null,null,null,null,null,null,null,"",{"$f":"IF(C362<>0,(IF(lfValidaCNPJ(C362)=TRUE,\"Válido\",\"Inválido\")),\"\")","v":""},{"$f":"IF(E362<>0,(IF(lfValidaCEP(E362)=TRUE,\"Válido\",\"Inválido\")),\"\")","v":""}]
[null,null,null,null,null,null,null,null,null,null,"",{"$f":"IF(C363<>0,(IF(lfValidaCNPJ(C363)=TRUE,\"Válido\",\"Inválido\")),\"\")","v":""},{"$f":"IF(E363<>0,(IF(lfValidaCEP(E363)=TRUE,\"Válido\",\"Inválido\")),\"\")","v":""}]
[null,null,null,null,null,null,null,null,null,null,"",{"$f":"IF(C364<>0,(IF(lfValidaCNPJ(C364)=TRUE,\"Válido\",\"Inválido\")),\"\")","v":""},{"$f":"IF(E364<>0,(IF(lfValidaCEP(E364)=TRUE,\"Válido\",\"Inválido\")),\"\")","v":""}]
[null,null,null,null,null,null,null,null,null,null,"",{"$f":"IF(C365<>0,(IF(lfValidaCNPJ(C365)=TRUE,\"Válido\",\"Inválido\")),\"\")","v":""},{"$f":"IF(E365<>0,(IF(lfValidaCEP(E365)=TRUE,\"Válido\",\"Inválido\")),\"\")","v":""}]
[null,null,null,null,null,null,null,null,null,null,"",{"$f":"IF(C366<>0,(IF(lfValidaCNPJ(C366)=TRUE,\"Válido\",\"Inválido\")),\"\")","v":""},{"$f":"IF(E366<>0,(IF(lfValidaCEP(E366)=TRUE,\"Válido\",\"Inválido\")),\"\")","v":""}]
[null,null,null,null,null,null,null,null,null,null,"",{"$f":"IF(C367<>0,(IF(lfValidaCNPJ(C367)=TRUE,\"Válido\",\"Inválido\")),\"\")","v":""},{"$f":"IF(E367<>0,(IF(lfValidaCEP(E367)=TRUE,\"Válido\",\"Inválido\")),\"\")","v":""}]
[null,null,null,null,null,null,null,null,null,null,"",{"$f":"IF(C368<>0,(IF(lfValidaCNPJ(C368)=TRUE,\"Válido\",\"Inválido\")),\"\")","v":""},{"$f":"IF(E368<>0,(IF(lfValidaCEP(E368)=TRUE,\"Válido\",\"Inválido\")),\"\")","v":""}]
[null,null,null,null,null,null,null,null,null,null,"",{"$f":"IF(C369<>0,(IF(lfValidaCNPJ(C369)=TRUE,\"Válido\",\"Inválido\")),\"\")","v":""},{"$f":"IF(E369<>0,(IF(lfValidaCEP(E369)=TRUE,\"Válido\",\"Inválido\")),\"\")","v":""}]
[null,null,null,null,null,null,null,null,null,null,"",{"$f":"IF(C370<>0,(IF(lfValidaCNPJ(C370)=TRUE,\"Válido\",\"Inválido\")),\"\")","v":""},{"$f":"IF(E370<>0,(IF(lfValidaCEP(E370)=TRUE,\"Válido\",\"Inválido\")),\"\")","v":""}]
[null,null,null,null,null,null,null,null,null,null,"",{"$f":"IF(C371<>0,(IF(lfValidaCNPJ(C371)=TRUE,\"Válido\",\"Inválido\")),\"\")","v":""},{"$f":"IF(E371<>0,(IF(lfValidaCEP(E371)=TRUE,\"Válido\",\"Inválido\")),\"\")","v":""}]
[null,null,null,null,null,null,null,null,null,null,"",{"$f":"IF(C372<>0,(IF(lfValidaCNPJ(C372)=TRUE,\"Válido\",\"Inválido\")),\"\")","v":""},{"$f":"IF(E372<>0,(IF(lfValidaCEP(E372)=TRUE,\"Válido\",\"Inválido\")),\"\")","v":""}]
[null,null,null,null,null,null,null,null,null,null,"",{"$f":"IF(C373<>0,(IF(lfValidaCNPJ(C373)=TRUE,\"Válido\",\"Inválido\")),\"\")","v":""},{"$f":"IF(E373<>0,(IF(lfValidaCEP(E373)=TRUE,\"Válido\",\"Inválido\")),\"\")","v":""}]
[null,null,null,null,null,null,null,null,null,null,"",{"$f":"IF(C374<>0,(IF(lfValidaCNPJ(C374)=TRUE,\"Válido\",\"Inválido\")),\"\")","v":""},{"$f":"IF(E374<>0,(IF(lfValidaCEP(E374)=TRUE,\"Válido\",\"Inválido\")),\"\")","v":""}]
[null,null,null,null,null,null,null,null,null,null,"",{"$f":"IF(C375<>0,(IF(lfValidaCNPJ(C375)=TRUE,\"Válido\",\"Inválido\")),\"\")","v":""},{"$f":"IF(E375<>0,(IF(lfValidaCEP(E375)=TRUE,\"Válido\",\"Inválido\")),\"\")","v":""}]
[null,null,null,null,null,null,null,null,null,null,"",{"$f":"IF(C376<>0,(IF(lfValidaCNPJ(C376)=TRUE,\"Válido\",\"Inválido\")),\"\")","v":""},{"$f":"IF(E376<>0,(IF(lfValidaCEP(E376)=TRUE,\"Válido\",\"Inválido\")),\"\")","v":""}]
[null,null,null,null,null,null,null,null,null,null,"",{"$f":"IF(C377<>0,(IF(lfValidaCNPJ(C377)=TRUE,\"Válido\",\"Inválido\")),\"\")","v":""},{"$f":"IF(E377<>0,(IF(lfValidaCEP(E377)=TRUE,\"Válido\",\"Inválido\")),\"\")","v":""}]
[null,null,null,null,null,null,null,null,null,null,"",{"$f":"IF(C378<>0,(IF(lfValidaCNPJ(C378)=TRUE,\"Válido\",\"Inválido\")),\"\")","v":""},{"$f":"IF(E378<>0,(IF(lfValidaCEP(E378)=TRUE,\"Válido\",\"Inválido\")),\"\")","v":""}]
[null,null,null,null,null,null,null,null,null,null,"",{"$f":"IF(C379<>0,(IF(lfValidaCNPJ(C379)=TRUE,\"Válido\",\"Inválido\")),\"\")","v":""},{"$f":"IF(E379<>0,(IF(lfValidaCEP(E379)=TRUE,\"Válido\",\"Inválido\")),\"\")","v":""}]
[null,null,null,null,null,null,null,null,null,null,"",{"$f":"IF(C380<>0,(IF(lfValidaCNPJ(C380)=TRUE,\"Válido\",\"Inválido\")),\"\")","v":""},{"$f":"IF(E380<>0,(IF(lfValidaCEP(E380)=TRUE,\"Válido\",\"Inválido\")),\"\")","v":""}]
[null,null,null,null,null,null,null,null,null,null,"",{"$f":"IF(C381<>0,(IF(lfValidaCNPJ(C381)=TRUE,\"Válido\",\"Inválido\")),\"\")","v":""},{"$f":"IF(E381<>0,(IF(lfValidaCEP(E381)=TRUE,\"Válido\",\"Inválido\")),\"\")","v":""}]
[null,null,null,null,null,null,null,null,null,null,"",{"$f":"IF(C382<>0,(IF(lfValidaCNPJ(C382)=TRUE,\"Válido\",\"Inválido\")),\"\")","v":""},{"$f":"IF(E382<>0,(IF(lfValidaCEP(E382)=TRUE,\"Válido\",\"Inválido\")),\"\")","v":""}]
[null,null,null,null,null,null,null,null,null,null,"",{"$f":"IF(C383<>0,(IF(lfValidaCNPJ(C383)=TRUE,\"Válido\",\"Inválido\")),\"\")","v":""},{"$f":"IF(E383<>0,(IF(lfValidaCEP(E383)=TRUE,\"Válido\",\"Inválido\")),\"\")","v":""}]
[null,null,null,null,null,null,null,null,null,null,"",{"$f":"IF(C384<>0,(IF(lfValidaCNPJ(C384)=TRUE,\"Válido\",\"Inválido\")),\"\")","v":""},{"$f":"IF(E384<>0,(IF(lfValidaCEP(E384)=TRUE,\"Válido\",\"Inválido\")),\"\")","v":""}]
[null,null,null,null,null,null,null,null,null,null,"",{"$f":"IF(C385<>0,(IF(lfValidaCNPJ(C385)=TRUE,\"Válido\",\"Inválido\")),\"\")","v":""},{"$f":"IF(E385<>0,(IF(lfValidaCEP(E385)=TRUE,\"Válido\",\"Inválido\")),\"\")","v":""}]
[null,null,null,null,null,null,null,null,null,null,"",{"$f":"IF(C386<>0,(IF(lfValidaCNPJ(C386)=TRUE,\"Válido\",\"Inválido\")),\"\")","v":""},{"$f":"IF(E386<>0,(IF(lfValidaCEP(E386)=TRUE,\"Válido\",\"Inválido\")),\"\")","v":""}]
[null,null,null,null,null,null,null,null,null,null,"",{"$f":"IF(C387<>0,(IF(lfValidaCNPJ(C387)=TRUE,\"Válido\",\"Inválido\")),\"\")","v":""},{"$f":"IF(E387<>0,(IF(lfValidaCEP(E387)=TRUE,\"Válido\",\"Inválido\")),\"\")","v":""}]
[null,null,null,null,null,null,null,null,null,null,"",{"$f":"IF(C388<>0,(IF(lfValidaCNPJ(C388)=TRUE,\"Válido\",\"Inválido\")),\"\")","v":""},{"$f":"IF(E388<>0,(IF(lfValidaCEP(E388)=TRUE,\"Válido\",\"Inválido\")),\"\")","v":""}]
[null,null,null,null,null,null,null,null,null,null,"",{"$f":"IF(C389<>0,(IF(lfValidaCNPJ(C389)=TRUE,\"Válido\",\"Inválido\")),\"\")","v":""},{"$f":"IF(E389<>0,(IF(lfValidaCEP(E389)=TRUE,\"Válido\",\"Inválido\")),\"\")","v":""}]
[null,null,null,null,null,null,null,null,null,null,"",{"$f":"IF(C390<>0,(IF(lfValidaCNPJ(C390)=TRUE,\"Válido\",\"Inválido\")),\"\")","v":""},{"$f":"IF(E390<>0,(IF(lfValidaCEP(E390)=TRUE,\"Válido\",\"Inválido\")),\"\")","v":""}]
[null,null,null,null,null,null,null,null,null,null,"",{"$f":"IF(C391<>0,(IF(lfValidaCNPJ(C391)=TRUE,\"Válido\",\"Inválido\")),\"\")","v":""},{"$f":"IF(E391<>0,(IF(lfValidaCEP(E391)=TRUE,\"Válido\",\"Inválido\")),\"\")","v":""}]
[null,null,null,null,null,null,null,null,null,null,"",{"$f":"IF(C392<>0,(IF(lfValidaCNPJ(C392)=TRUE,\"Válido\",\"Inválido\")),\"\")","v":""},{"$f":"IF(E392<>0,(IF(lfValidaCEP(E392)=TRUE,\"Válido\",\"Inválido\")),\"\")","v":""}]
[null,null,null,null,null,null,null,null,null,null,"",{"$f":"IF(C393<>0,(IF(lfValidaCNPJ(C393)=TRUE,\"Válido\",\"Inválido\")),\"\")","v":""},{"$f":"IF(E393<>0,(IF(lfValidaCEP(E393)=TRUE,\"Válido\",\"Inválido\")),\"\")","v":""}]
[null,null,null,null,null,null,null,null,null,null,"",{"$f":"IF(C394<>0,(IF(lfValidaCNPJ(C394)=TRUE,\"Válido\",\"Inválido\")),\"\")","v":""},{"$f":"IF(E394<>0,(IF(lfValidaCEP(E394)=TRUE,\"Válido\",\"Inválido\")),\"\")","v":""}]
[null,null,null,null,null,null,null,null,null,null,"",{"$f":"IF(C395<>0,(IF(lfValidaCNPJ(C395)=TRUE,\"Válido\",\"Inválido\")),\"\")","v":""},{"$f":"IF(E395<>0,(IF(lfValidaCEP(E395)=TRUE,\"Válido\",\"Inválido\")),\"\")","v":""}]
[null,null,null,null,null,null,null,null,null,null,{"$f":"IF(COUNTA(B396:I396)<>0,IF(AND(B396<>0,C396<>0,D396<>0,E396<>0,F396<>0,G396<>0,H396<>0,I396<>0),\"Completo\",\"Incompleto\"),\"\")","v":""},{"$f":"IF(C396<>0,(IF(lfValidaCNPJ(C396)=TRUE,\"Válido\",\"Inválido\")),\"\")","v":""},{"$f":"IF(E396<>0,(IF(lfValidaCEP(E396)=TRUE,\"Válido\",\"Inválido\")),\"\")","v":""}]
[null,null,null,null,null,null,null,null,null,null,"",{"$f":"IF(C397<>0,(IF(lfValidaCNPJ(C397)=TRUE,\"Válido\",\"Inválido\")),\"\")","v":""},{"$f":"IF(E397<>0,(IF(lfValidaCEP(E397)=TRUE,\"Válido\",\"Inválido\")),\"\")","v":""}]
[null,null,null,null,null,null,null,null,null,null,"",{"$f":"IF(C398<>0,(IF(lfValidaCNPJ(C398)=TRUE,\"Válido\",\"Inválido\")),\"\")","v":""},{"$f":"IF(E398<>0,(IF(lfValidaCEP(E398)=TRUE,\"Válido\",\"Inválido\")),\"\")","v":""}]
[null,null,null,null,null,null,null,null,null,null,"",{"$f":"IF(C399<>0,(IF(lfValidaCNPJ(C399)=TRUE,\"Válido\",\"Inválido\")),\"\")","v":""},{"$f":"IF(E399<>0,(IF(lfValidaCEP(E399)=TRUE,\"Válido\",\"Inválido\")),\"\")","v":""}]
[null,null,null,null,null,null,null,null,null,null,"",{"$f":"IF(C400<>0,(IF(lfValidaCNPJ(C400)=TRUE,\"Válido\",\"Inválido\")),\"\")","v":""},{"$f":"IF(E400<>0,(IF(lfValidaCEP(E400)=TRUE,\"Válido\",\"Inválido\")),\"\")","v":""}]
[null,null,null,null,null,null,null,null,null,null,"",{"$f":"IF(C401<>0,(IF(lfValidaCNPJ(C401)=TRUE,\"Válido\",\"Inválido\")),\"\")","v":""},{"$f":"IF(E401<>0,(IF(lfValidaCEP(E401)=TRUE,\"Válido\",\"Inválido\")),\"\")","v":""}]
[null,null,null,null,null,null,null,null,null,null,"",{"$f":"IF(C402<>0,(IF(lfValidaCNPJ(C402)=TRUE,\"Válido\",\"Inválido\")),\"\")","v":""},{"$f":"IF(E402<>0,(IF(lfValidaCEP(E402)=TRUE,\"Válido\",\"Inválido\")),\"\")","v":""}]
[null,null,null,null,null,null,null,null,null,null,"",{"$f":"IF(C403<>0,(IF(lfValidaCNPJ(C403)=TRUE,\"Válido\",\"Inválido\")),\"\")","v":""},{"$f":"IF(E403<>0,(IF(lfValidaCEP(E403)=TRUE,\"Válido\",\"Inválido\")),\"\")","v":""}]
[null,null,null,null,null,null,null,null,null,null,"",{"$f":"IF(C404<>0,(IF(lfValidaCNPJ(C404)=TRUE,\"Válido\",\"Inválido\")),\"\")","v":""},{"$f":"IF(E404<>0,(IF(lfValidaCEP(E404)=TRUE,\"Válido\",\"Inválido\")),\"\")","v":""}]
[null,null,null,null,null,null,null,null,null,null,"",{"$f":"IF(C405<>0,(IF(lfValidaCNPJ(C405)=TRUE,\"Válido\",\"Inválido\")),\"\")","v":""},{"$f":"IF(E405<>0,(IF(lfValidaCEP(E405)=TRUE,\"Válido\",\"Inválido\")),\"\")","v":""}]
[null,null,null,null,null,null,null,null,null,null,"",{"$f":"IF(C406<>0,(IF(lfValidaCNPJ(C406)=TRUE,\"Válido\",\"Inválido\")),\"\")","v":""},{"$f":"IF(E406<>0,(IF(lfValidaCEP(E406)=TRUE,\"Válido\",\"Inválido\")),\"\")","v":""}]
[null,null,null,null,null,null,null,null,null,null,"",{"$f":"IF(C407<>0,(IF(lfValidaCNPJ(C407)=TRUE,\"Válido\",\"Inválido\")),\"\")","v":""},{"$f":"IF(E407<>0,(IF(lfValidaCEP(E407)=TRUE,\"Válido\",\"Inválido\")),\"\")","v":""}]
[null,null,null,null,null,null,null,null,null,null,"",{"$f":"IF(C408<>0,(IF(lfValidaCNPJ(C408)=TRUE,\"Válido\",\"Inválido\")),\"\")","v":""},{"$f":"IF(E408<>0,(IF(lfValidaCEP(E408)=TRUE,\"Válido\",\"Inválido\")),\"\")","v":""}]
[null,null,null,null,null,null,null,null,null,null,"",{"$f":"IF(C409<>0,(IF(lfValidaCNPJ(C409)=TRUE,\"Válido\",\"Inválido\")),\"\")","v":""},{"$f":"IF(E409<>0,(IF(lfValidaCEP(E409)=TRUE,\"Válido\",\"Inválido\")),\"\")","v":""}]
[null,null,null,null,null,null,null,null,null,null,"",{"$f":"IF(C410<>0,(IF(lfValidaCNPJ(C410)=TRUE,\"Válido\",\"Inválido\")),\"\")","v":""},{"$f":"IF(E410<>0,(IF(lfValidaCEP(E410)=TRUE,\"Válido\",\"Inválido\")),\"\")","v":""}]
[null,null,null,null,null,null,null,null,null,null,"",{"$f":"IF(C411<>0,(IF(lfValidaCNPJ(C411)=TRUE,\"Válido\",\"Inválido\")),\"\")","v":""},{"$f":"IF(E411<>0,(IF(lfValidaCEP(E411)=TRUE,\"Válido\",\"Inválido\")),\"\")","v":""}]
[null,null,null,null,null,null,null,null,null,null,"",{"$f":"IF(C412<>0,(IF(lfValidaCNPJ(C412)=TRUE,\"Válido\",\"Inválido\")),\"\")","v":""},{"$f":"IF(E412<>0,(IF(lfValidaCEP(E412)=TRUE,\"Válido\",\"Inválido\")),\"\")","v":""}]
[null,null,null,null,null,null,null,null,null,null,"",{"$f":"IF(C413<>0,(IF(lfValidaCNPJ(C413)=TRUE,\"Válido\",\"Inválido\")),\"\")","v":""},{"$f":"IF(E413<>0,(IF(lfValidaCEP(E413)=TRUE,\"Válido\",\"Inválido\")),\"\")","v":""}]
[null,null,null,null,null,null,null,null,null,null,"",{"$f":"IF(C414<>0,(IF(lfValidaCNPJ(C414)=TRUE,\"Válido\",\"Inválido\")),\"\")","v":""},{"$f":"IF(E414<>0,(IF(lfValidaCEP(E414)=TRUE,\"Válido\",\"Inválido\")),\"\")","v":""}]
[null,null,null,null,null,null,null,null,null,null,"",{"$f":"IF(C415<>0,(IF(lfValidaCNPJ(C415)=TRUE,\"Válido\",\"Inválido\")),\"\")","v":""},{"$f":"IF(E415<>0,(IF(lfValidaCEP(E415)=TRUE,\"Válido\",\"Inválido\")),\"\")","v":""}]
[null,null,null,null,null,null,null,null,null,null,"",{"$f":"IF(C416<>0,(IF(lfValidaCNPJ(C416)=TRUE,\"Válido\",\"Inválido\")),\"\")","v":""},{"$f":"IF(E416<>0,(IF(lfValidaCEP(E416)=TRUE,\"Válido\",\"Inválido\")),\"\")","v":""}]
[null,null,null,null,null,null,null,null,null,null,"",{"$f":"IF(C417<>0,(IF(lfValidaCNPJ(C417)=TRUE,\"Válido\",\"Inválido\")),\"\")","v":""},{"$f":"IF(E417<>0,(IF(lfValidaCEP(E417)=TRUE,\"Válido\",\"Inválido\")),\"\")","v":""}]
[null,null,null,null,null,null,null,null,null,null,"",{"$f":"IF(C418<>0,(IF(lfValidaCNPJ(C418)=TRUE,\"Válido\",\"Inválido\")),\"\")","v":""},{"$f":"IF(E418<>0,(IF(lfValidaCEP(E418)=TRUE,\"Válido\",\"Inválido\")),\"\")","v":""}]
[null,null,null,null,null,null,null,null,null,null,"",{"$f":"IF(C419<>0,(IF(lfValidaCNPJ(C419)=TRUE,\"Válido\",\"Inválido\")),\"\")","v":""},{"$f":"IF(E419<>0,(IF(lfValidaCEP(E419)=TRUE,\"Válido\",\"Inválido\")),\"\")","v":""}]
[null,null,null,null,null,null,null,null,null,null,"",{"$f":"IF(C420<>0,(IF(lfValidaCNPJ(C420)=TRUE,\"Válido\",\"Inválido\")),\"\")","v":""},{"$f":"IF(E420<>0,(IF(lfValidaCEP(E420)=TRUE,\"Válido\",\"Inválido\")),\"\")","v":""}]
[null,null,null,null,null,null,null,null,null,null,"",{"$f":"IF(C421<>0,(IF(lfValidaCNPJ(C421)=TRUE,\"Válido\",\"Inválido\")),\"\")","v":""},{"$f":"IF(E421<>0,(IF(lfValidaCEP(E421)=TRUE,\"Válido\",\"Inválido\")),\"\")","v":""}]
[null,null,null,null,null,null,null,null,null,null,"",{"$f":"IF(C422<>0,(IF(lfValidaCNPJ(C422)=TRUE,\"Válido\",\"Inválido\")),\"\")","v":""},{"$f":"IF(E422<>0,(IF(lfValidaCEP(E422)=TRUE,\"Válido\",\"Inválido\")),\"\")","v":""}]
[null,null,null,null,null,null,null,null,null,null,"",{"$f":"IF(C423<>0,(IF(lfValidaCNPJ(C423)=TRUE,\"Válido\",\"Inválido\")),\"\")","v":""},{"$f":"IF(E423<>0,(IF(lfValidaCEP(E423)=TRUE,\"Válido\",\"Inválido\")),\"\")","v":""}]
[null,null,null,null,null,null,null,null,null,null,"",{"$f":"IF(C424<>0,(IF(lfValidaCNPJ(C424)=TRUE,\"Válido\",\"Inválido\")),\"\")","v":""},{"$f":"IF(E424<>0,(IF(lfValidaCEP(E424)=TRUE,\"Válido\",\"Inválido\")),\"\")","v":""}]
[null,null,null,null,null,null,null,null,null,null,"",{"$f":"IF(C425<>0,(IF(lfValidaCNPJ(C425)=TRUE,\"Válido\",\"Inválido\")),\"\")","v":""},{"$f":"IF(E425<>0,(IF(lfValidaCEP(E425)=TRUE,\"Válido\",\"Inválido\")),\"\")","v":""}]
[null,null,null,null,null,null,null,null,null,null,"",{"$f":"IF(C426<>0,(IF(lfValidaCNPJ(C426)=TRUE,\"Válido\",\"Inválido\")),\"\")","v":""},{"$f":"IF(E426<>0,(IF(lfValidaCEP(E426)=TRUE,\"Válido\",\"Inválido\")),\"\")","v":""}]
[null,null,null,null,null,null,null,null,null,null,"",{"$f":"IF(C427<>0,(IF(lfValidaCNPJ(C427)=TRUE,\"Válido\",\"Inválido\")),\"\")","v":""},{"$f":"IF(E427<>0,(IF(lfValidaCEP(E427)=TRUE,\"Válido\",\"Inválido\")),\"\")","v":""}]
[null,null,null,null,null,null,null,null,null,null,"",{"$f":"IF(C428<>0,(IF(lfValidaCNPJ(C428)=TRUE,\"Válido\",\"Inválido\")),\"\")","v":""},{"$f":"IF(E428<>0,(IF(lfValidaCEP(E428)=TRUE,\"Válido\",\"Inválido\")),\"\")","v":""}]
[null,null,null,null,null,null,null,null,null,null,"",{"$f":"IF(C429<>0,(IF(lfValidaCNPJ(C429)=TRUE,\"Válido\",\"Inválido\")),\"\")","v":""},{"$f":"IF(E429<>0,(IF(lfValidaCEP(E429)=TRUE,\"Válido\",\"Inválido\")),\"\")","v":""}]
[null,null,null,null,null,null,null,null,null,null,"",{"$f":"IF(C430<>0,(IF(lfValidaCNPJ(C430)=TRUE,\"Válido\",\"Inválido\")),\"\")","v":""},{"$f":"IF(E430<>0,(IF(lfValidaCEP(E430)=TRUE,\"Válido\",\"Inválido\")),\"\")","v":""}]
[null,null,null,null,null,null,null,null,null,null,"",{"$f":"IF(C431<>0,(IF(lfValidaCNPJ(C431)=TRUE,\"Válido\",\"Inválido\")),\"\")","v":""},{"$f":"IF(E431<>0,(IF(lfValidaCEP(E431)=TRUE,\"Válido\",\"Inválido\")),\"\")","v":""}]
[null,null,null,null,null,null,null,null,null,null,"",{"$f":"IF(C432<>0,(IF(lfValidaCNPJ(C432)=TRUE,\"Válido\",\"Inválido\")),\"\")","v":""},{"$f":"IF(E432<>0,(IF(lfValidaCEP(E432)=TRUE,\"Válido\",\"Inválido\")),\"\")","v":""}]
[null,null,null,null,null,null,null,null,null,null,"",{"$f":"IF(C433<>0,(IF(lfValidaCNPJ(C433)=TRUE,\"Válido\",\"Inválido\")),\"\")","v":""},{"$f":"IF(E433<>0,(IF(lfValidaCEP(E433)=TRUE,\"Válido\",\"Inválido\")),\"\")","v":""}]
[null,null,null,null,null,null,null,null,null,null,"",{"$f":"IF(C434<>0,(IF(lfValidaCNPJ(C434)=TRUE,\"Válido\",\"Inválido\")),\"\")","v":""},{"$f":"IF(E434<>0,(IF(lfValidaCEP(E434)=TRUE,\"Válido\",\"Inválido\")),\"\")","v":""}]
[null,null,null,null,null,null,null,null,null,null,"",{"$f":"IF(C435<>0,(IF(lfValidaCNPJ(C435)=TRUE,\"Válido\",\"Inválido\")),\"\")","v":""},{"$f":"IF(E435<>0,(IF(lfValidaCEP(E435)=TRUE,\"Válido\",\"Inválido\")),\"\")","v":""}]
[null,null,null,null,null,null,null,null,null,null,"",{"$f":"IF(C436<>0,(IF(lfValidaCNPJ(C436)=TRUE,\"Válido\",\"Inválido\")),\"\")","v":""},{"$f":"IF(E436<>0,(IF(lfValidaCEP(E436)=TRUE,\"Válido\",\"Inválido\")),\"\")","v":""}]
[null,null,null,null,null,null,null,null,null,null,"",{"$f":"IF(C437<>0,(IF(lfValidaCNPJ(C437)=TRUE,\"Válido\",\"Inválido\")),\"\")","v":""},{"$f":"IF(E437<>0,(IF(lfValidaCEP(E437)=TRUE,\"Válido\",\"Inválido\")),\"\")","v":""}]
[null,null,null,null,null,null,null,null,null,null,"",{"$f":"IF(C438<>0,(IF(lfValidaCNPJ(C438)=TRUE,\"Válido\",\"Inválido\")),\"\")","v":""},{"$f":"IF(E438<>0,(IF(lfValidaCEP(E438)=TRUE,\"Válido\",\"Inválido\")),\"\")","v":""}]
[null,null,null,null,null,null,null,null,null,null,"",{"$f":"IF(C439<>0,(IF(lfValidaCNPJ(C439)=TRUE,\"Válido\",\"Inválido\")),\"\")","v":""},{"$f":"IF(E439<>0,(IF(lfValidaCEP(E439)=TRUE,\"Válido\",\"Inválido\")),\"\")","v":""}]
[null,null,null,null,null,null,null,null,null,null,"",{"$f":"IF(C440<>0,(IF(lfValidaCNPJ(C440)=TRUE,\"Válido\",\"Inválido\")),\"\")","v":""},{"$f":"IF(E440<>0,(IF(lfValidaCEP(E440)=TRUE,\"Válido\",\"Inválido\")),\"\")","v":""}]
[null,null,null,null,null,null,null,null,null,null,"",{"$f":"IF(C441<>0,(IF(lfValidaCNPJ(C441)=TRUE,\"Válido\",\"Inválido\")),\"\")","v":""},{"$f":"IF(E441<>0,(IF(lfValidaCEP(E441)=TRUE,\"Válido\",\"Inválido\")),\"\")","v":""}]
[null,null,null,null,null,null,null,null,null,null,"",{"$f":"IF(C442<>0,(IF(lfValidaCNPJ(C442)=TRUE,\"Válido\",\"Inválido\")),\"\")","v":""},{"$f":"IF(E442<>0,(IF(lfValidaCEP(E442)=TRUE,\"Válido\",\"Inválido\")),\"\")","v":""}]
[null,null,null,null,null,null,null,null,null,null,"",{"$f":"IF(C443<>0,(IF(lfValidaCNPJ(C443)=TRUE,\"Válido\",\"Inválido\")),\"\")","v":""},{"$f":"IF(E443<>0,(IF(lfValidaCEP(E443)=TRUE,\"Válido\",\"Inválido\")),\"\")","v":""}]
[null,null,null,null,null,null,null,null,null,null,"",{"$f":"IF(C444<>0,(IF(lfValidaCNPJ(C444)=TRUE,\"Válido\",\"Inválido\")),\"\")","v":""},{"$f":"IF(E444<>0,(IF(lfValidaCEP(E444)=TRUE,\"Válido\",\"Inválido\")),\"\")","v":""}]
[null,null,null,null,null,null,null,null,null,null,"",{"$f":"IF(C445<>0,(IF(lfValidaCNPJ(C445)=TRUE,\"Válido\",\"Inválido\")),\"\")","v":""},{"$f":"IF(E445<>0,(IF(lfValidaCEP(E445)=TRUE,\"Válido\",\"Inválido\")),\"\")","v":""}]
[null,null,null,null,null,null,null,null,null,null,"",{"$f":"IF(C446<>0,(IF(lfValidaCNPJ(C446)=TRUE,\"Válido\",\"Inválido\")),\"\")","v":""},{"$f":"IF(E446<>0,(IF(lfValidaCEP(E446)=TRUE,\"Válido\",\"Inválido\")),\"\")","v":""}]
[null,null,null,null,null,null,null,null,null,null,"",{"$f":"IF(C447<>0,(IF(lfValidaCNPJ(C447)=TRUE,\"Válido\",\"Inválido\")),\"\")","v":""},{"$f":"IF(E447<>0,(IF(lfValidaCEP(E447)=TRUE,\"Válido\",\"Inválido\")),\"\")","v":""}]
[null,null,null,null,null,null,null,null,null,null,"",{"$f":"IF(C448<>0,(IF(lfValidaCNPJ(C448)=TRUE,\"Válido\",\"Inválido\")),\"\")","v":""},{"$f":"IF(E448<>0,(IF(lfValidaCEP(E448)=TRUE,\"Válido\",\"Inválido\")),\"\")","v":""}]
[null,null,null,null,null,null,null,null,null,null,"",{"$f":"IF(C449<>0,(IF(lfValidaCNPJ(C449)=TRUE,\"Válido\",\"Inválido\")),\"\")","v":""},{"$f":"IF(E449<>0,(IF(lfValidaCEP(E449)=TRUE,\"Válido\",\"Inválido\")),\"\")","v":""}]
[null,null,null,null,null,null,null,null,null,null,"",{"$f":"IF(C450<>0,(IF(lfValidaCNPJ(C450)=TRUE,\"Válido\",\"Inválido\")),\"\")","v":""},{"$f":"IF(E450<>0,(IF(lfValidaCEP(E450)=TRUE,\"Válido\",\"Inválido\")),\"\")","v":""}]
[null,null,null,null,null,null,null,null,null,null,"",{"$f":"IF(C451<>0,(IF(lfValidaCNPJ(C451)=TRUE,\"Válido\",\"Inválido\")),\"\")","v":""},{"$f":"IF(E451<>0,(IF(lfValidaCEP(E451)=TRUE,\"Válido\",\"Inválido\")),\"\")","v":""}]
[null,null,null,null,null,null,null,null,null,null,"",{"$f":"IF(C452<>0,(IF(lfValidaCNPJ(C452)=TRUE,\"Válido\",\"Inválido\")),\"\")","v":""},{"$f":"IF(E452<>0,(IF(lfValidaCEP(E452)=TRUE,\"Válido\",\"Inválido\")),\"\")","v":""}]
[null,null,null,null,null,null,null,null,null,null,"",{"$f":"IF(C453<>0,(IF(lfValidaCNPJ(C453)=TRUE,\"Válido\",\"Inválido\")),\"\")","v":""},{"$f":"IF(E453<>0,(IF(lfValidaCEP(E453)=TRUE,\"Válido\",\"Inválido\")),\"\")","v":""}]
[null,null,null,null,null,null,null,null,null,null,"",{"$f":"IF(C454<>0,(IF(lfValidaCNPJ(C454)=TRUE,\"Válido\",\"Inválido\")),\"\")","v":""},{"$f":"IF(E454<>0,(IF(lfValidaCEP(E454)=TRUE,\"Válido\",\"Inválido\")),\"\")","v":""}]
[null,null,null,null,null,null,null,null,null,null,"",{"$f":"IF(C455<>0,(IF(lfValidaCNPJ(C455)=TRUE,\"Válido\",\"Inválido\")),\"\")","v":""},{"$f":"IF(E455<>0,(IF(lfValidaCEP(E455)=TRUE,\"Válido\",\"Inválido\")),\"\")","v":""}]
[null,null,null,null,null,null,null,null,null,null,"",{"$f":"IF(C456<>0,(IF(lfValidaCNPJ(C456)=TRUE,\"Válido\",\"Inválido\")),\"\")","v":""},{"$f":"IF(E456<>0,(IF(lfValidaCEP(E456)=TRUE,\"Válido\",\"Inválido\")),\"\")","v":""}]
[null,null,null,null,null,null,null,null,null,null,"",{"$f":"IF(C457<>0,(IF(lfValidaCNPJ(C457)=TRUE,\"Válido\",\"Inválido\")),\"\")","v":""},{"$f":"IF(E457<>0,(IF(lfValidaCEP(E457)=TRUE,\"Válido\",\"Inválido\")),\"\")","v":""}]
[null,null,null,null,null,null,null,null,null,null,"",{"$f":"IF(C458<>0,(IF(lfValidaCNPJ(C458)=TRUE,\"Válido\",\"Inválido\")),\"\")","v":""},{"$f":"IF(E458<>0,(IF(lfValidaCEP(E458)=TRUE,\"Válido\",\"Inválido\")),\"\")","v":""}]
[null,null,null,null,null,null,null,null,null,null,"",{"$f":"IF(C459<>0,(IF(lfValidaCNPJ(C459)=TRUE,\"Válido\",\"Inválido\")),\"\")","v":""},{"$f":"IF(E459<>0,(IF(lfValidaCEP(E459)=TRUE,\"Válido\",\"Inválido\")),\"\")","v":""}]
[null,null,null,null,null,null,null,null,null,null,{"$f":"IF(COUNTA(B460:I460)<>0,IF(AND(B460<>0,C460<>0,D460<>0,E460<>0,F460<>0,G460<>0,H460<>0,I460<>0),\"Completo\",\"Incompleto\"),\"\")","v":""},{"$f":"IF(C460<>0,(IF(lfValidaCNPJ(C460)=TRUE,\"Válido\",\"Inválido\")),\"\")","v":""},{"$f":"IF(E460<>0,(IF(lfValidaCEP(E460)=TRUE,\"Válido\",\"Inválido\")),\"\")","v":""}]
[null,null,null,null,null,null,null,null,null,null,"",{"$f":"IF(C461<>0,(IF(lfValidaCNPJ(C461)=TRUE,\"Válido\",\"Inválido\")),\"\")","v":""},{"$f":"IF(E461<>0,(IF(lfValidaCEP(E461)=TRUE,\"Válido\",\"Inválido\")),\"\")","v":""}]
[null,null,null,null,null,null,null,null,null,null,"",{"$f":"IF(C462<>0,(IF(lfValidaCNPJ(C462)=TRUE,\"Válido\",\"Inválido\")),\"\")","v":""},{"$f":"IF(E462<>0,(IF(lfValidaCEP(E462)=TRUE,\"Válido\",\"Inválido\")),\"\")","v":""}]
[null,null,null,null,null,null,null,null,null,null,"",{"$f":"IF(C463<>0,(IF(lfValidaCNPJ(C463)=TRUE,\"Válido\",\"Inválido\")),\"\")","v":""},{"$f":"IF(E463<>0,(IF(lfValidaCEP(E463)=TRUE,\"Válido\",\"Inválido\")),\"\")","v":""}]
[null,null,null,null,null,null,null,null,null,null,"",{"$f":"IF(C464<>0,(IF(lfValidaCNPJ(C464)=TRUE,\"Válido\",\"Inválido\")),\"\")","v":""},{"$f":"IF(E464<>0,(IF(lfValidaCEP(E464)=TRUE,\"Válido\",\"Inválido\")),\"\")","v":""}]
[null,null,null,null,null,null,null,null,null,null,"",{"$f":"IF(C465<>0,(IF(lfValidaCNPJ(C465)=TRUE,\"Válido\",\"Inválido\")),\"\")","v":""},{"$f":"IF(E465<>0,(IF(lfValidaCEP(E465)=TRUE,\"Válido\",\"Inválido\")),\"\")","v":""}]
[null,null,null,null,null,null,null,null,null,null,"",{"$f":"IF(C466<>0,(IF(lfValidaCNPJ(C466)=TRUE,\"Válido\",\"Inválido\")),\"\")","v":""},{"$f":"IF(E466<>0,(IF(lfValidaCEP(E466)=TRUE,\"Válido\",\"Inválido\")),\"\")","v":""}]
[null,null,null,null,null,null,null,null,null,null,"",{"$f":"IF(C467<>0,(IF(lfValidaCNPJ(C467)=TRUE,\"Válido\",\"Inválido\")),\"\")","v":""},{"$f":"IF(E467<>0,(IF(lfValidaCEP(E467)=TRUE,\"Válido\",\"Inválido\")),\"\")","v":""}]
[null,null,null,null,null,null,null,null,null,null,"",{"$f":"IF(C468<>0,(IF(lfValidaCNPJ(C468)=TRUE,\"Válido\",\"Inválido\")),\"\")","v":""},{"$f":"IF(E468<>0,(IF(lfValidaCEP(E468)=TRUE,\"Válido\",\"Inválido\")),\"\")","v":""}]
[null,null,null,null,null,null,null,null,null,null,"",{"$f":"IF(C469<>0,(IF(lfValidaCNPJ(C469)=TRUE,\"Válido\",\"Inválido\")),\"\")","v":""},{"$f":"IF(E469<>0,(IF(lfValidaCEP(E469)=TRUE,\"Válido\",\"Inválido\")),\"\")","v":""}]
[null,null,null,null,null,null,null,null,null,null,"",{"$f":"IF(C470<>0,(IF(lfValidaCNPJ(C470)=TRUE,\"Válido\",\"Inválido\")),\"\")","v":""},{"$f":"IF(E470<>0,(IF(lfValidaCEP(E470)=TRUE,\"Válido\",\"Inválido\")),\"\")","v":""}]
[null,null,null,null,null,null,null,null,null,null,"",{"$f":"IF(C471<>0,(IF(lfValidaCNPJ(C471)=TRUE,\"Válido\",\"Inválido\")),\"\")","v":""},{"$f":"IF(E471<>0,(IF(lfValidaCEP(E471)=TRUE,\"Válido\",\"Inválido\")),\"\")","v":""}]
[null,null,null,null,null,null,null,null,null,null,"",{"$f":"IF(C472<>0,(IF(lfValidaCNPJ(C472)=TRUE,\"Válido\",\"Inválido\")),\"\")","v":""},{"$f":"IF(E472<>0,(IF(lfValidaCEP(E472)=TRUE,\"Válido\",\"Inválido\")),\"\")","v":""}]
[null,null,null,null,null,null,null,null,null,null,"",{"$f":"IF(C473<>0,(IF(lfValidaCNPJ(C473)=TRUE,\"Válido\",\"Inválido\")),\"\")","v":""},{"$f":"IF(E473<>0,(IF(lfValidaCEP(E473)=TRUE,\"Válido\",\"Inválido\")),\"\")","v":""}]
[null,null,null,null,null,null,null,null,null,null,"",{"$f":"IF(C474<>0,(IF(lfValidaCNPJ(C474)=TRUE,\"Válido\",\"Inválido\")),\"\")","v":""},{"$f":"IF(E474<>0,(IF(lfValidaCEP(E474)=TRUE,\"Válido\",\"Inválido\")),\"\")","v":""}]
[null,null,null,null,null,null,null,null,null,null,"",{"$f":"IF(C475<>0,(IF(lfValidaCNPJ(C475)=TRUE,\"Válido\",\"Inválido\")),\"\")","v":""},{"$f":"IF(E475<>0,(IF(lfValidaCEP(E475)=TRUE,\"Válido\",\"Inválido\")),\"\")","v":""}]
[null,null,null,null,null,null,null,null,null,null,"",{"$f":"IF(C476<>0,(IF(lfValidaCNPJ(C476)=TRUE,\"Válido\",\"Inválido\")),\"\")","v":""},{"$f":"IF(E476<>0,(IF(lfValidaCEP(E476)=TRUE,\"Válido\",\"Inválido\")),\"\")","v":""}]
[null,null,null,null,null,null,null,null,null,null,"",{"$f":"IF(C477<>0,(IF(lfValidaCNPJ(C477)=TRUE,\"Válido\",\"Inválido\")),\"\")","v":""},{"$f":"IF(E477<>0,(IF(lfValidaCEP(E477)=TRUE,\"Válido\",\"Inválido\")),\"\")","v":""}]
[null,null,null,null,null,null,null,null,null,null,"",{"$f":"IF(C478<>0,(IF(lfValidaCNPJ(C478)=TRUE,\"Válido\",\"Inválido\")),\"\")","v":""},{"$f":"IF(E478<>0,(IF(lfValidaCEP(E478)=TRUE,\"Válido\",\"Inválido\")),\"\")","v":""}]
[null,null,null,null,null,null,null,null,null,null,"",{"$f":"IF(C479<>0,(IF(lfValidaCNPJ(C479)=TRUE,\"Válido\",\"Inválido\")),\"\")","v":""},{"$f":"IF(E479<>0,(IF(lfValidaCEP(E479)=TRUE,\"Válido\",\"Inválido\")),\"\")","v":""}]
[null,null,null,null,null,null,null,null,null,null,"",{"$f":"IF(C480<>0,(IF(lfValidaCNPJ(C480)=TRUE,\"Válido\",\"Inválido\")),\"\")","v":""},{"$f":"IF(E480<>0,(IF(lfValidaCEP(E480)=TRUE,\"Válido\",\"Inválido\")),\"\")","v":""}]
[null,null,null,null,null,null,null,null,null,null,"",{"$f":"IF(C481<>0,(IF(lfValidaCNPJ(C481)=TRUE,\"Válido\",\"Inválido\")),\"\")","v":""},{"$f":"IF(E481<>0,(IF(lfValidaCEP(E481)=TRUE,\"Válido\",\"Inválido\")),\"\")","v":""}]
[null,null,null,null,null,null,null,null,null,null,"",{"$f":"IF(C482<>0,(IF(lfValidaCNPJ(C482)=TRUE,\"Válido\",\"Inválido\")),\"\")","v":""},{"$f":"IF(E482<>0,(IF(lfValidaCEP(E482)=TRUE,\"Válido\",\"Inválido\")),\"\")","v":""}]
[null,null,null,null,null,null,null,null,null,null,"",{"$f":"IF(C483<>0,(IF(lfValidaCNPJ(C483)=TRUE,\"Válido\",\"Inválido\")),\"\")","v":""},{"$f":"IF(E483<>0,(IF(lfValidaCEP(E483)=TRUE,\"Válido\",\"Inválido\")),\"\")","v":""}]
[null,null,null,null,null,null,null,null,null,null,"",{"$f":"IF(C484<>0,(IF(lfValidaCNPJ(C484)=TRUE,\"Válido\",\"Inválido\")),\"\")","v":""},{"$f":"IF(E484<>0,(IF(lfValidaCEP(E484)=TRUE,\"Válido\",\"Inválido\")),\"\")","v":""}]
[null,null,null,null,null,null,null,null,null,null,"",{"$f":"IF(C485<>0,(IF(lfValidaCNPJ(C485)=TRUE,\"Válido\",\"Inválido\")),\"\")","v":""},{"$f":"IF(E485<>0,(IF(lfValidaCEP(E485)=TRUE,\"Válido\",\"Inválido\")),\"\")","v":""}]
[null,null,null,null,null,null,null,null,null,null,"",{"$f":"IF(C486<>0,(IF(lfValidaCNPJ(C486)=TRUE,\"Válido\",\"Inválido\")),\"\")","v":""},{"$f":"IF(E486<>0,(IF(lfValidaCEP(E486)=TRUE,\"Válido\",\"Inválido\")),\"\")","v":""}]
[null,null,null,null,null,null,null,null,null,null,"",{"$f":"IF(C487<>0,(IF(lfValidaCNPJ(C487)=TRUE,\"Válido\",\"Inválido\")),\"\")","v":""},{"$f":"IF(E487<>0,(IF(lfValidaCEP(E487)=TRUE,\"Válido\",\"Inválido\")),\"\")","v":""}]
[null,null,null,null,null,null,null,null,null,null,"",{"$f":"IF(C488<>0,(IF(lfValidaCNPJ(C488)=TRUE,\"Válido\",\"Inválido\")),\"\")","v":""},{"$f":"IF(E488<>0,(IF(lfValidaCEP(E488)=TRUE,\"Válido\",\"Inválido\")),\"\")","v":""}]
[null,null,null,null,null,null,null,null,null,null,"",{"$f":"IF(C489<>0,(IF(lfValidaCNPJ(C489)=TRUE,\"Válido\",\"Inválido\")),\"\")","v":""},{"$f":"IF(E489<>0,(IF(lfValidaCEP(E489)=TRUE,\"Válido\",\"Inválido\")),\"\")","v":""}]
[null,null,null,null,null,null,null,null,null,null,"",{"$f":"IF(C490<>0,(IF(lfValidaCNPJ(C490)=TRUE,\"Válido\",\"Inválido\")),\"\")","v":""},{"$f":"IF(E490<>0,(IF(lfValidaCEP(E490)=TRUE,\"Válido\",\"Inválido\")),\"\")","v":""}]
[null,null,null,null,null,null,null,null,null,null,"",{"$f":"IF(C491<>0,(IF(lfValidaCNPJ(C491)=TRUE,\"Válido\",\"Inválido\")),\"\")","v":""},{"$f":"IF(E491<>0,(IF(lfValidaCEP(E491)=TRUE,\"Válido\",\"Inválido\")),\"\")","v":""}]
[null,null,null,null,null,null,null,null,null,null,"",{"$f":"IF(C492<>0,(IF(lfValidaCNPJ(C492)=TRUE,\"Válido\",\"Inválido\")),\"\")","v":""},{"$f":"IF(E492<>0,(IF(lfValidaCEP(E492)=TRUE,\"Válido\",\"Inválido\")),\"\")","v":""}]
[null,null,null,null,null,null,null,null,null,null,"",{"$f":"IF(C493<>0,(IF(lfValidaCNPJ(C493)=TRUE,\"Válido\",\"Inválido\")),\"\")","v":""},{"$f":"IF(E493<>0,(IF(lfValidaCEP(E493)=TRUE,\"Válido\",\"Inválido\")),\"\")","v":""}]
[null,null,null,null,null,null,null,null,null,null,"",{"$f":"IF(C494<>0,(IF(lfValidaCNPJ(C494)=TRUE,\"Válido\",\"Inválido\")),\"\")","v":""},{"$f":"IF(E494<>0,(IF(lfValidaCEP(E494)=TRUE,\"Válido\",\"Inválido\")),\"\")","v":""}]
[null,null,null,null,null,null,null,null,null,null,"",{"$f":"IF(C495<>0,(IF(lfValidaCNPJ(C495)=TRUE,\"Válido\",\"Inválido\")),\"\")","v":""},{"$f":"IF(E495<>0,(IF(lfValidaCEP(E495)=TRUE,\"Válido\",\"Inválido\")),\"\")","v":""}]
[null,null,null,null,null,null,null,null,null,null,"",{"$f":"IF(C496<>0,(IF(lfValidaCNPJ(C496)=TRUE,\"Válido\",\"Inválido\")),\"\")","v":""},{"$f":"IF(E496<>0,(IF(lfValidaCEP(E496)=TRUE,\"Válido\",\"Inválido\")),\"\")","v":""}]
[null,null,null,null,null,null,null,null,null,null,"",{"$f":"IF(C497<>0,(IF(lfValidaCNPJ(C497)=TRUE,\"Válido\",\"Inválido\")),\"\")","v":""},{"$f":"IF(E497<>0,(IF(lfValidaCEP(E497)=TRUE,\"Válido\",\"Inválido\")),\"\")","v":""}]
[null,null,null,null,null,null,null,null,null,null,"",{"$f":"IF(C498<>0,(IF(lfValidaCNPJ(C498)=TRUE,\"Válido\",\"Inválido\")),\"\")","v":""},{"$f":"IF(E498<>0,(IF(lfValidaCEP(E498)=TRUE,\"Válido\",\"Inválido\")),\"\")","v":""}]
[null,null,null,null,null,null,null,null,null,null,"",{"$f":"IF(C499<>0,(IF(lfValidaCNPJ(C499)=TRUE,\"Válido\",\"Inválido\")),\"\")","v":""},{"$f":"IF(E499<>0,(IF(lfValidaCEP(E499)=TRUE,\"Válido\",\"Inválido\")),\"\")","v":""}]
[null,null,null,null,null,null,null,null,null,null,"",{"$f":"IF(C500<>0,(IF(lfValidaCNPJ(C500)=TRUE,\"Válido\",\"Inválido\")),\"\")","v":""},{"$f":"IF(E500<>0,(IF(lfValidaCEP(E500)=TRUE,\"Válido\",\"Inválido\")),\"\")","v":""}]
[null,null,null,null,null,null,null,null,null,null,"",{"$f":"IF(C501<>0,(IF(lfValidaCNPJ(C501)=TRUE,\"Válido\",\"Inválido\")),\"\")","v":""},{"$f":"IF(E501<>0,(IF(lfValidaCEP(E501)=TRUE,\"Válido\",\"Inválido\")),\"\")","v":""}]
[null,null,null,null,null,null,null,null,null,null,"",{"$f":"IF(C502<>0,(IF(lfValidaCNPJ(C502)=TRUE,\"Válido\",\"Inválido\")),\"\")","v":""},{"$f":"IF(E502<>0,(IF(lfValidaCEP(E502)=TRUE,\"Válido\",\"Inválido\")),\"\")","v":""}]
[null,null,null,null,null,null,null,null,null,null,"",{"$f":"IF(C503<>0,(IF(lfValidaCNPJ(C503)=TRUE,\"Válido\",\"Inválido\")),\"\")","v":""},{"$f":"IF(E503<>0,(IF(lfValidaCEP(E503)=TRUE,\"Válido\",\"Inválido\")),\"\")","v":""}]
[null,null,null,null,null,null,null,null,null,null,"",{"$f":"IF(C504<>0,(IF(lfValidaCNPJ(C504)=TRUE,\"Válido\",\"Inválido\")),\"\")","v":""},{"$f":"IF(E504<>0,(IF(lfValidaCEP(E504)=TRUE,\"Válido\",\"Inválido\")),\"\")","v":""}]
[null,null,null,null,null,null,null,null,null,null,"",{"$f":"IF(C505<>0,(IF(lfValidaCNPJ(C505)=TRUE,\"Válido\",\"Inválido\")),\"\")","v":""},{"$f":"IF(E505<>0,(IF(lfValidaCEP(E505)=TRUE,\"Válido\",\"Inválido\")),\"\")","v":""}]
[null,null,null,null,null,null,null,null,null,null,"",{"$f":"IF(C506<>0,(IF(lfValidaCNPJ(C506)=TRUE,\"Válido\",\"Inválido\")),\"\")","v":""},{"$f":"IF(E506<>0,(IF(lfValidaCEP(E506)=TRUE,\"Válido\",\"Inválido\")),\"\")","v":""}]
[null,null,null,null,null,null,null,null,null,null,"",{"$f":"IF(C507<>0,(IF(lfValidaCNPJ(C507)=TRUE,\"Válido\",\"Inválido\")),\"\")","v":""},{"$f":"IF(E507<>0,(IF(lfValidaCEP(E507)=TRUE,\"Válido\",\"Inválido\")),\"\")","v":""}]
[null,null,null,null,null,null,null,null,null,null,"",{"$f":"IF(C508<>0,(IF(lfValidaCNPJ(C508)=TRUE,\"Válido\",\"Inválido\")),\"\")","v":""},{"$f":"IF(E508<>0,(IF(lfValidaCEP(E508)=TRUE,\"Válido\",\"Inválido\")),\"\")","v":""}]
[null,null,null,null,null,null,null,null,null,null,"",{"$f":"IF(C509<>0,(IF(lfValidaCNPJ(C509)=TRUE,\"Válido\",\"Inválido\")),\"\")","v":""},{"$f":"IF(E509<>0,(IF(lfValidaCEP(E509)=TRUE,\"Válido\",\"Inválido\")),\"\")","v":""}]
[null,null,null,null,null,null,null,null,null,null,"",{"$f":"IF(C510<>0,(IF(lfValidaCNPJ(C510)=TRUE,\"Válido\",\"Inválido\")),\"\")","v":""},{"$f":"IF(E510<>0,(IF(lfValidaCEP(E510)=TRUE,\"Válido\",\"Inválido\")),\"\")","v":""}]
[null,null,null,null,null,null,null,null,null,null,"",{"$f":"IF(C511<>0,(IF(lfValidaCNPJ(C511)=TRUE,\"Válido\",\"Inválido\")),\"\")","v":""},{"$f":"IF(E511<>0,(IF(lfValidaCEP(E511)=TRUE,\"Válido\",\"Inválido\")),\"\")","v":""}]
[null,null,null,null,null,null,null,null,null,null,"",{"$f":"IF(C512<>0,(IF(lfValidaCNPJ(C512)=TRUE,\"Válido\",\"Inválido\")),\"\")","v":""},{"$f":"IF(E512<>0,(IF(lfValidaCEP(E512)=TRUE,\"Válido\",\"Inválido\")),\"\")","v":""}]
[null,null,null,null,null,null,null,null,null,null,"",{"$f":"IF(C513<>0,(IF(lfValidaCNPJ(C513)=TRUE,\"Válido\",\"Inválido\")),\"\")","v":""},{"$f":"IF(E513<>0,(IF(lfValidaCEP(E513)=TRUE,\"Válido\",\"Inválido\")),\"\")","v":""}]
[null,null,null,null,null,null,null,null,null,null,"",{"$f":"IF(C514<>0,(IF(lfValidaCNPJ(C514)=TRUE,\"Válido\",\"Inválido\")),\"\")","v":""},{"$f":"IF(E514<>0,(IF(lfValidaCEP(E514)=TRUE,\"Válido\",\"Inválido\")),\"\")","v":""}]
[null,null,null,null,null,null,null,null,null,null,"",{"$f":"IF(C515<>0,(IF(lfValidaCNPJ(C515)=TRUE,\"Válido\",\"Inválido\")),\"\")","v":""},{"$f":"IF(E515<>0,(IF(lfValidaCEP(E515)=TRUE,\"Válido\",\"Inválido\")),\"\")","v":""}]
[null,null,null,null,null,null,null,null,null,null,"",{"$f":"IF(C516<>0,(IF(lfValidaCNPJ(C516)=TRUE,\"Válido\",\"Inválido\")),\"\")","v":""},{"$f":"IF(E516<>0,(IF(lfValidaCEP(E516)=TRUE,\"Válido\",\"Inválido\")),\"\")","v":""}]
[null,null,null,null,null,null,null,null,null,null,"",{"$f":"IF(C517<>0,(IF(lfValidaCNPJ(C517)=TRUE,\"Válido\",\"Inválido\")),\"\")","v":""},{"$f":"IF(E517<>0,(IF(lfValidaCEP(E517)=TRUE,\"Válido\",\"Inválido\")),\"\")","v":""}]
[null,null,null,null,null,null,null,null,null,null,"",{"$f":"IF(C518<>0,(IF(lfValidaCNPJ(C518)=TRUE,\"Válido\",\"Inválido\")),\"\")","v":""},{"$f":"IF(E518<>0,(IF(lfValidaCEP(E518)=TRUE,\"Válido\",\"Inválido\")),\"\")","v":""}]
[null,null,null,null,null,null,null,null,null,null,"",{"$f":"IF(C519<>0,(IF(lfValidaCNPJ(C519)=TRUE,\"Válido\",\"Inválido\")),\"\")","v":""},{"$f":"IF(E519<>0,(IF(lfValidaCEP(E519)=TRUE,\"Válido\",\"Inválido\")),\"\")","v":""}]
[null,null,null,null,null,null,null,null,null,null,"",{"$f":"IF(C520<>0,(IF(lfValidaCNPJ(C520)=TRUE,\"Válido\",\"Inválido\")),\"\")","v":""},{"$f":"IF(E520<>0,(IF(lfValidaCEP(E520)=TRUE,\"Válido\",\"Inválido\")),\"\")","v":""}]
[null,null,null,null,null,null,null,null,null,null,"",{"$f":"IF(C521<>0,(IF(lfValidaCNPJ(C521)=TRUE,\"Válido\",\"Inválido\")),\"\")","v":""},{"$f":"IF(E521<>0,(IF(lfValidaCEP(E521)=TRUE,\"Válido\",\"Inválido\")),\"\")","v":""}]
[null,null,null,null,null,null,null,null,null,null,"",{"$f":"IF(C522<>0,(IF(lfValidaCNPJ(C522)=TRUE,\"Válido\",\"Inválido\")),\"\")","v":""},{"$f":"IF(E522<>0,(IF(lfValidaCEP(E522)=TRUE,\"Válido\",\"Inválido\")),\"\")","v":""}]
[null,null,null,null,null,null,null,null,null,null,"",{"$f":"IF(C523<>0,(IF(lfValidaCNPJ(C523)=TRUE,\"Válido\",\"Inválido\")),\"\")","v":""},{"$f":"IF(E523<>0,(IF(lfValidaCEP(E523)=TRUE,\"Válido\",\"Inválido\")),\"\")","v":""}]
[null,null,null,null,null,null,null,null,null,null,{"$f":"IF(COUNTA(B524:I524)<>0,IF(AND(B524<>0,C524<>0,D524<>0,E524<>0,F524<>0,G524<>0,H524<>0,I524<>0),\"Completo\",\"Incompleto\"),\"\")","v":""},{"$f":"IF(C524<>0,(IF(lfValidaCNPJ(C524)=TRUE,\"Válido\",\"Inválido\")),\"\")","v":""},{"$f":"IF(E524<>0,(IF(lfValidaCEP(E524)=TRUE,\"Válido\",\"Inválido\")),\"\")","v":""}]
[null,null,null,null,null,null,null,null,null,null,"",{"$f":"IF(C525<>0,(IF(lfValidaCNPJ(C525)=TRUE,\"Válido\",\"Inválido\")),\"\")","v":""},{"$f":"IF(E525<>0,(IF(lfValidaCEP(E525)=TRUE,\"Válido\",\"Inválido\")),\"\")","v":""}]
[null,null,null,null,null,null,null,null,null,null,"",{"$f":"IF(C526<>0,(IF(lfValidaCNPJ(C526)=TRUE,\"Válido\",\"Inválido\")),\"\")","v":""},{"$f":"IF(E526<>0,(IF(lfValidaCEP(E526)=TRUE,\"Válido\",\"Inválido\")),\"\")","v":""}]
[null,null,null,null,null,null,null,null,null,null,"",{"$f":"IF(C527<>0,(IF(lfValidaCNPJ(C527)=TRUE,\"Válido\",\"Inválido\")),\"\")","v":""},{"$f":"IF(E527<>0,(IF(lfValidaCEP(E527)=TRUE,\"Válido\",\"Inválido\")),\"\")","v":""}]
[null,null,null,null,null,null,null,null,null,null,"",{"$f":"IF(C528<>0,(IF(lfValidaCNPJ(C528)=TRUE,\"Válido\",\"Inválido\")),\"\")","v":""},{"$f":"IF(E528<>0,(IF(lfValidaCEP(E528)=TRUE,\"Válido\",\"Inválido\")),\"\")","v":""}]
[null,null,null,null,null,null,null,null,null,null,"",{"$f":"IF(C529<>0,(IF(lfValidaCNPJ(C529)=TRUE,\"Válido\",\"Inválido\")),\"\")","v":""},{"$f":"IF(E529<>0,(IF(lfValidaCEP(E529)=TRUE,\"Válido\",\"Inválido\")),\"\")","v":""}]
[null,null,null,null,null,null,null,null,null,null,"",{"$f":"IF(C530<>0,(IF(lfValidaCNPJ(C530)=TRUE,\"Válido\",\"Inválido\")),\"\")","v":""},{"$f":"IF(E530<>0,(IF(lfValidaCEP(E530)=TRUE,\"Válido\",\"Inválido\")),\"\")","v":""}]
[null,null,null,null,null,null,null,null,null,null,"",{"$f":"IF(C531<>0,(IF(lfValidaCNPJ(C531)=TRUE,\"Válido\",\"Inválido\")),\"\")","v":""},{"$f":"IF(E531<>0,(IF(lfValidaCEP(E531)=TRUE,\"Válido\",\"Inválido\")),\"\")","v":""}]
[null,null,null,null,null,null,null,null,null,null,"",{"$f":"IF(C532<>0,(IF(lfValidaCNPJ(C532)=TRUE,\"Válido\",\"Inválido\")),\"\")","v":""},{"$f":"IF(E532<>0,(IF(lfValidaCEP(E532)=TRUE,\"Válido\",\"Inválido\")),\"\")","v":""}]
[null,null,null,null,null,null,null,null,null,null,"",{"$f":"IF(C533<>0,(IF(lfValidaCNPJ(C533)=TRUE,\"Válido\",\"Inválido\")),\"\")","v":""},{"$f":"IF(E533<>0,(IF(lfValidaCEP(E533)=TRUE,\"Válido\",\"Inválido\")),\"\")","v":""}]
[null,null,null,null,null,null,null,null,null,null,"",{"$f":"IF(C534<>0,(IF(lfValidaCNPJ(C534)=TRUE,\"Válido\",\"Inválido\")),\"\")","v":""},{"$f":"IF(E534<>0,(IF(lfValidaCEP(E534)=TRUE,\"Válido\",\"Inválido\")),\"\")","v":""}]
[null,null,null,null,null,null,null,null,null,null,"",{"$f":"IF(C535<>0,(IF(lfValidaCNPJ(C535)=TRUE,\"Válido\",\"Inválido\")),\"\")","v":""},{"$f":"IF(E535<>0,(IF(lfValidaCEP(E535)=TRUE,\"Válido\",\"Inválido\")),\"\")","v":""}]
[null,null,null,null,null,null,null,null,null,null,"",{"$f":"IF(C536<>0,(IF(lfValidaCNPJ(C536)=TRUE,\"Válido\",\"Inválido\")),\"\")","v":""},{"$f":"IF(E536<>0,(IF(lfValidaCEP(E536)=TRUE,\"Válido\",\"Inválido\")),\"\")","v":""}]
[null,null,null,null,null,null,null,null,null,null,"",{"$f":"IF(C537<>0,(IF(lfValidaCNPJ(C537)=TRUE,\"Válido\",\"Inválido\")),\"\")","v":""},{"$f":"IF(E537<>0,(IF(lfValidaCEP(E537)=TRUE,\"Válido\",\"Inválido\")),\"\")","v":""}]
[null,null,null,null,null,null,null,null,null,null,"",{"$f":"IF(C538<>0,(IF(lfValidaCNPJ(C538)=TRUE,\"Válido\",\"Inválido\")),\"\")","v":""},{"$f":"IF(E538<>0,(IF(lfValidaCEP(E538)=TRUE,\"Válido\",\"Inválido\")),\"\")","v":""}]
[null,null,null,null,null,null,null,null,null,null,"",{"$f":"IF(C539<>0,(IF(lfValidaCNPJ(C539)=TRUE,\"Válido\",\"Inválido\")),\"\")","v":""},{"$f":"IF(E539<>0,(IF(lfValidaCEP(E539)=TRUE,\"Válido\",\"Inválido\")),\"\")","v":""}]
[null,null,null,null,null,null,null,null,null,null,"",{"$f":"IF(C540<>0,(IF(lfValidaCNPJ(C540)=TRUE,\"Válido\",\"Inválido\")),\"\")","v":""},{"$f":"IF(E540<>0,(IF(lfValidaCEP(E540)=TRUE,\"Válido\",\"Inválido\")),\"\")","v":""}]
[null,null,null,null,null,null,null,null,null,null,"",{"$f":"IF(C541<>0,(IF(lfValidaCNPJ(C541)=TRUE,\"Válido\",\"Inválido\")),\"\")","v":""},{"$f":"IF(E541<>0,(IF(lfValidaCEP(E541)=TRUE,\"Válido\",\"Inválido\")),\"\")","v":""}]
[null,null,null,null,null,null,null,null,null,null,"",{"$f":"IF(C542<>0,(IF(lfValidaCNPJ(C542)=TRUE,\"Válido\",\"Inválido\")),\"\")","v":""},{"$f":"IF(E542<>0,(IF(lfValidaCEP(E542)=TRUE,\"Válido\",\"Inválido\")),\"\")","v":""}]
[null,null,null,null,null,null,null,null,null,null,"",{"$f":"IF(C543<>0,(IF(lfValidaCNPJ(C543)=TRUE,\"Válido\",\"Inválido\")),\"\")","v":""},{"$f":"IF(E543<>0,(IF(lfValidaCEP(E543)=TRUE,\"Válido\",\"Inválido\")),\"\")","v":""}]
[null,null,null,null,null,null,null,null,null,null,"",{"$f":"IF(C544<>0,(IF(lfValidaCNPJ(C544)=TRUE,\"Válido\",\"Inválido\")),\"\")","v":""},{"$f":"IF(E544<>0,(IF(lfValidaCEP(E544)=TRUE,\"Válido\",\"Inválido\")),\"\")","v":""}]
[null,null,null,null,null,null,null,null,null,null,"",{"$f":"IF(C545<>0,(IF(lfValidaCNPJ(C545)=TRUE,\"Válido\",\"Inválido\")),\"\")","v":""},{"$f":"IF(E545<>0,(IF(lfValidaCEP(E545)=TRUE,\"Válido\",\"Inválido\")),\"\")","v":""}]
[null,null,null,null,null,null,null,null,null,null,"",{"$f":"IF(C546<>0,(IF(lfValidaCNPJ(C546)=TRUE,\"Válido\",\"Inválido\")),\"\")","v":""},{"$f":"IF(E546<>0,(IF(lfValidaCEP(E546)=TRUE,\"Válido\",\"Inválido\")),\"\")","v":""}]
[null,null,null,null,null,null,null,null,null,null,"",{"$f":"IF(C547<>0,(IF(lfValidaCNPJ(C547)=TRUE,\"Válido\",\"Inválido\")),\"\")","v":""},{"$f":"IF(E547<>0,(IF(lfValidaCEP(E547)=TRUE,\"Válido\",\"Inválido\")),\"\")","v":""}]
[null,null,null,null,null,null,null,null,null,null,"",{"$f":"IF(C548<>0,(IF(lfValidaCNPJ(C548)=TRUE,\"Válido\",\"Inválido\")),\"\")","v":""},{"$f":"IF(E548<>0,(IF(lfValidaCEP(E548)=TRUE,\"Válido\",\"Inválido\")),\"\")","v":""}]
[null,null,null,null,null,null,null,null,null,null,"",{"$f":"IF(C549<>0,(IF(lfValidaCNPJ(C549)=TRUE,\"Válido\",\"Inválido\")),\"\")","v":""},{"$f":"IF(E549<>0,(IF(lfValidaCEP(E549)=TRUE,\"Válido\",\"Inválido\")),\"\")","v":""}]
[null,null,null,null,null,null,null,null,null,null,"",{"$f":"IF(C550<>0,(IF(lfValidaCNPJ(C550)=TRUE,\"Válido\",\"Inválido\")),\"\")","v":""},{"$f":"IF(E550<>0,(IF(lfValidaCEP(E550)=TRUE,\"Válido\",\"Inválido\")),\"\")","v":""}]
[null,null,null,null,null,null,null,null,null,null,"",{"$f":"IF(C551<>0,(IF(lfValidaCNPJ(C551)=TRUE,\"Válido\",\"Inválido\")),\"\")","v":""},{"$f":"IF(E551<>0,(IF(lfValidaCEP(E551)=TRUE,\"Válido\",\"Inválido\")),\"\")","v":""}]
[null,null,null,null,null,null,null,null,null,null,"",{"$f":"IF(C552<>0,(IF(lfValidaCNPJ(C552)=TRUE,\"Válido\",\"Inválido\")),\"\")","v":""},{"$f":"IF(E552<>0,(IF(lfValidaCEP(E552)=TRUE,\"Válido\",\"Inválido\")),\"\")","v":""}]
[null,null,null,null,null,null,null,null,null,null,"",{"$f":"IF(C553<>0,(IF(lfValidaCNPJ(C553)=TRUE,\"Válido\",\"Inválido\")),\"\")","v":""},{"$f":"IF(E553<>0,(IF(lfValidaCEP(E553)=TRUE,\"Válido\",\"Inválido\")),\"\")","v":""}]
[null,null,null,null,null,null,null,null,null,null,"",{"$f":"IF(C554<>0,(IF(lfValidaCNPJ(C554)=TRUE,\"Válido\",\"Inválido\")),\"\")","v":""},{"$f":"IF(E554<>0,(IF(lfValidaCEP(E554)=TRUE,\"Válido\",\"Inválido\")),\"\")","v":""}]
[null,null,null,null,null,null,null,null,null,null,"",{"$f":"IF(C555<>0,(IF(lfValidaCNPJ(C555)=TRUE,\"Válido\",\"Inválido\")),\"\")","v":""},{"$f":"IF(E555<>0,(IF(lfValidaCEP(E555)=TRUE,\"Válido\",\"Inválido\")),\"\")","v":""}]
[null,null,null,null,null,null,null,null,null,null,"",{"$f":"IF(C556<>0,(IF(lfValidaCNPJ(C556)=TRUE,\"Válido\",\"Inválido\")),\"\")","v":""},{"$f":"IF(E556<>0,(IF(lfValidaCEP(E556)=TRUE,\"Válido\",\"Inválido\")),\"\")","v":""}]
[null,null,null,null,null,null,null,null,null,null,"",{"$f":"IF(C557<>0,(IF(lfValidaCNPJ(C557)=TRUE,\"Válido\",\"Inválido\")),\"\")","v":""},{"$f":"IF(E557<>0,(IF(lfValidaCEP(E557)=TRUE,\"Válido\",\"Inválido\")),\"\")","v":""}]
[null,null,null,null,null,null,null,null,null,null,"",{"$f":"IF(C558<>0,(IF(lfValidaCNPJ(C558)=TRUE,\"Válido\",\"Inválido\")),\"\")","v":""},{"$f":"IF(E558<>0,(IF(lfValidaCEP(E558)=TRUE,\"Válido\",\"Inválido\")),\"\")","v":""}]
[null,null,null,null,null,null,null,null,null,null,"",{"$f":"IF(C559<>0,(IF(lfValidaCNPJ(C559)=TRUE,\"Válido\",\"Inválido\")),\"\")","v":""},{"$f":"IF(E559<>0,(IF(lfValidaCEP(E559)=TRUE,\"Válido\",\"Inválido\")),\"\")","v":""}]
[null,null,null,null,null,null,null,null,null,null,"",{"$f":"IF(C560<>0,(IF(lfValidaCNPJ(C560)=TRUE,\"Válido\",\"Inválido\")),\"\")","v":""},{"$f":"IF(E560<>0,(IF(lfValidaCEP(E560)=TRUE,\"Válido\",\"Inválido\")),\"\")","v":""}]
[null,null,null,null,null,null,null,null,null,null,"",{"$f":"IF(C561<>0,(IF(lfValidaCNPJ(C561)=TRUE,\"Válido\",\"Inválido\")),\"\")","v":""},{"$f":"IF(E561<>0,(IF(lfValidaCEP(E561)=TRUE,\"Válido\",\"Inválido\")),\"\")","v":""}]
[null,null,null,null,null,null,null,null,null,null,"",{"$f":"IF(C562<>0,(IF(lfValidaCNPJ(C562)=TRUE,\"Válido\",\"Inválido\")),\"\")","v":""},{"$f":"IF(E562<>0,(IF(lfValidaCEP(E562)=TRUE,\"Válido\",\"Inválido\")),\"\")","v":""}]
[null,null,null,null,null,null,null,null,null,null,"",{"$f":"IF(C563<>0,(IF(lfValidaCNPJ(C563)=TRUE,\"Válido\",\"Inválido\")),\"\")","v":""},{"$f":"IF(E563<>0,(IF(lfValidaCEP(E563)=TRUE,\"Válido\",\"Inválido\")),\"\")","v":""}]
[null,null,null,null,null,null,null,null,null,null,"",{"$f":"IF(C564<>0,(IF(lfValidaCNPJ(C564)=TRUE,\"Válido\",\"Inválido\")),\"\")","v":""},{"$f":"IF(E564<>0,(IF(lfValidaCEP(E564)=TRUE,\"Válido\",\"Inválido\")),\"\")","v":""}]
[null,null,null,null,null,null,null,null,null,null,"",{"$f":"IF(C565<>0,(IF(lfValidaCNPJ(C565)=TRUE,\"Válido\",\"Inválido\")),\"\")","v":""},{"$f":"IF(E565<>0,(IF(lfValidaCEP(E565)=TRUE,\"Válido\",\"Inválido\")),\"\")","v":""}]
[null,null,null,null,null,null,null,null,null,null,"",{"$f":"IF(C566<>0,(IF(lfValidaCNPJ(C566)=TRUE,\"Válido\",\"Inválido\")),\"\")","v":""},{"$f":"IF(E566<>0,(IF(lfValidaCEP(E566)=TRUE,\"Válido\",\"Inválido\")),\"\")","v":""}]
[null,null,null,null,null,null,null,null,null,null,"",{"$f":"IF(C567<>0,(IF(lfValidaCNPJ(C567)=TRUE,\"Válido\",\"Inválido\")),\"\")","v":""},{"$f":"IF(E567<>0,(IF(lfValidaCEP(E567)=TRUE,\"Válido\",\"Inválido\")),\"\")","v":""}]
[null,null,null,null,null,null,null,null,null,null,"",{"$f":"IF(C568<>0,(IF(lfValidaCNPJ(C568)=TRUE,\"Válido\",\"Inválido\")),\"\")","v":""},{"$f":"IF(E568<>0,(IF(lfValidaCEP(E568)=TRUE,\"Válido\",\"Inválido\")),\"\")","v":""}]
[null,null,null,null,null,null,null,null,null,null,"",{"$f":"IF(C569<>0,(IF(lfValidaCNPJ(C569)=TRUE,\"Válido\",\"Inválido\")),\"\")","v":""},{"$f":"IF(E569<>0,(IF(lfValidaCEP(E569)=TRUE,\"Válido\",\"Inválido\")),\"\")","v":""}]
[null,null,null,null,null,null,null,null,null,null,"",{"$f":"IF(C570<>0,(IF(lfValidaCNPJ(C570)=TRUE,\"Válido\",\"Inválido\")),\"\")","v":""},{"$f":"IF(E570<>0,(IF(lfValidaCEP(E570)=TRUE,\"Válido\",\"Inválido\")),\"\")","v":""}]
[null,null,null,null,null,null,null,null,null,null,"",{"$f":"IF(C571<>0,(IF(lfValidaCNPJ(C571)=TRUE,\"Válido\",\"Inválido\")),\"\")","v":""},{"$f":"IF(E571<>0,(IF(lfValidaCEP(E571)=TRUE,\"Válido\",\"Inválido\")),\"\")","v":""}]
[null,null,null,null,null,null,null,null,null,null,"",{"$f":"IF(C572<>0,(IF(lfValidaCNPJ(C572)=TRUE,\"Válido\",\"Inválido\")),\"\")","v":""},{"$f":"IF(E572<>0,(IF(lfValidaCEP(E572)=TRUE,\"Válido\",\"Inválido\")),\"\")","v":""}]
[null,null,null,null,null,null,null,null,null,null,"",{"$f":"IF(C573<>0,(IF(lfValidaCNPJ(C573)=TRUE,\"Válido\",\"Inválido\")),\"\")","v":""},{"$f":"IF(E573<>0,(IF(lfValidaCEP(E573)=TRUE,\"Válido\",\"Inválido\")),\"\")","v":""}]
[null,null,null,null,null,null,null,null,null,null,"",{"$f":"IF(C574<>0,(IF(lfValidaCNPJ(C574)=TRUE,\"Válido\",\"Inválido\")),\"\")","v":""},{"$f":"IF(E574<>0,(IF(lfValidaCEP(E574)=TRUE,\"Válido\",\"Inválido\")),\"\")","v":""}]
[null,null,null,null,null,null,null,null,null,null,"",{"$f":"IF(C575<>0,(IF(lfValidaCNPJ(C575)=TRUE,\"Válido\",\"Inválido\")),\"\")","v":""},{"$f":"IF(E575<>0,(IF(lfValidaCEP(E575)=TRUE,\"Válido\",\"Inválido\")),\"\")","v":""}]
[null,null,null,null,null,null,null,null,null,null,"",{"$f":"IF(C576<>0,(IF(lfValidaCNPJ(C576)=TRUE,\"Válido\",\"Inválido\")),\"\")","v":""},{"$f":"IF(E576<>0,(IF(lfValidaCEP(E576)=TRUE,\"Válido\",\"Inválido\")),\"\")","v":""}]
[null,null,null,null,null,null,null,null,null,null,"",{"$f":"IF(C577<>0,(IF(lfValidaCNPJ(C577)=TRUE,\"Válido\",\"Inválido\")),\"\")","v":""},{"$f":"IF(E577<>0,(IF(lfValidaCEP(E577)=TRUE,\"Válido\",\"Inválido\")),\"\")","v":""}]
[null,null,null,null,null,null,null,null,null,null,"",{"$f":"IF(C578<>0,(IF(lfValidaCNPJ(C578)=TRUE,\"Válido\",\"Inválido\")),\"\")","v":""},{"$f":"IF(E578<>0,(IF(lfValidaCEP(E578)=TRUE,\"Válido\",\"Inválido\")),\"\")","v":""}]
[null,null,null,null,null,null,null,null,null,null,"",{"$f":"IF(C579<>0,(IF(lfValidaCNPJ(C579)=TRUE,\"Válido\",\"Inválido\")),\"\")","v":""},{"$f":"IF(E579<>0,(IF(lfValidaCEP(E579)=TRUE,\"Válido\",\"Inválido\")),\"\")","v":""}]
[null,null,null,null,null,null,null,null,null,null,"",{"$f":"IF(C580<>0,(IF(lfValidaCNPJ(C580)=TRUE,\"Válido\",\"Inválido\")),\"\")","v":""},{"$f":"IF(E580<>0,(IF(lfValidaCEP(E580)=TRUE,\"Válido\",\"Inválido\")),\"\")","v":""}]
[null,null,null,null,null,null,null,null,null,null,"",{"$f":"IF(C581<>0,(IF(lfValidaCNPJ(C581)=TRUE,\"Válido\",\"Inválido\")),\"\")","v":""},{"$f":"IF(E581<>0,(IF(lfValidaCEP(E581)=TRUE,\"Válido\",\"Inválido\")),\"\")","v":""}]
[null,null,null,null,null,null,null,null,null,null,"",{"$f":"IF(C582<>0,(IF(lfValidaCNPJ(C582)=TRUE,\"Válido\",\"Inválido\")),\"\")","v":""},{"$f":"IF(E582<>0,(IF(lfValidaCEP(E582)=TRUE,\"Válido\",\"Inválido\")),\"\")","v":""}]
[null,null,null,null,null,null,null,null,null,null,"",{"$f":"IF(C583<>0,(IF(lfValidaCNPJ(C583)=TRUE,\"Válido\",\"Inválido\")),\"\")","v":""},{"$f":"IF(E583<>0,(IF(lfValidaCEP(E583)=TRUE,\"Válido\",\"Inválido\")),\"\")","v":""}]
[null,null,null,null,null,null,null,null,null,null,"",{"$f":"IF(C584<>0,(IF(lfValidaCNPJ(C584)=TRUE,\"Válido\",\"Inválido\")),\"\")","v":""},{"$f":"IF(E584<>0,(IF(lfValidaCEP(E584)=TRUE,\"Válido\",\"Inválido\")),\"\")","v":""}]
[null,null,null,null,null,null,null,null,null,null,"",{"$f":"IF(C585<>0,(IF(lfValidaCNPJ(C585)=TRUE,\"Válido\",\"Inválido\")),\"\")","v":""},{"$f":"IF(E585<>0,(IF(lfValidaCEP(E585)=TRUE,\"Válido\",\"Inválido\")),\"\")","v":""}]
[null,null,null,null,null,null,null,null,null,null,"",{"$f":"IF(C586<>0,(IF(lfValidaCNPJ(C586)=TRUE,\"Válido\",\"Inválido\")),\"\")","v":""},{"$f":"IF(E586<>0,(IF(lfValidaCEP(E586)=TRUE,\"Válido\",\"Inválido\")),\"\")","v":""}]
[null,null,null,null,null,null,null,null,null,null,"",{"$f":"IF(C587<>0,(IF(lfValidaCNPJ(C587)=TRUE,\"Válido\",\"Inválido\")),\"\")","v":""},{"$f":"IF(E587<>0,(IF(lfValidaCEP(E587)=TRUE,\"Válido\",\"Inválido\")),\"\")","v":""}]
[null,null,null,null,null,null,null,null,null,null,{"$f":"IF(COUNTA(B588:I588)<>0,IF(AND(B588<>0,C588<>0,D588<>0,E588<>0,F588<>0,G588<>0,H588<>0,I588<>0),\"Completo\",\"Incompleto\"),\"\")","v":""},{"$f":"IF(C588<>0,(IF(lfValidaCNPJ(C588)=TRUE,\"Válido\",\"Inválido\")),\"\")","v":""},{"$f":"IF(E588<>0,(IF(lfValidaCEP(E588)=TRUE,\"Válido\",\"Inválido\")),\"\")","v":""}]
[null,null,null,null,null,null,null,null,null,null,"",{"$f":"IF(C589<>0,(IF(lfValidaCNPJ(C589)=TRUE,\"Válido\",\"Inválido\")),\"\")","v":""},{"$f":"IF(E589<>0,(IF(lfValidaCEP(E589)=TRUE,\"Válido\",\"Inválido\")),\"\")","v":""}]
[null,null,null,null,null,null,null,null,null,null,"",{"$f":"IF(C590<>0,(IF(lfValidaCNPJ(C590)=TRUE,\"Válido\",\"Inválido\")),\"\")","v":""},{"$f":"IF(E590<>0,(IF(lfValidaCEP(E590)=TRUE,\"Válido\",\"Inválido\")),\"\")","v":""}]
[null,null,null,null,null,null,null,null,null,null,"",{"$f":"IF(C591<>0,(IF(lfValidaCNPJ(C591)=TRUE,\"Válido\",\"Inválido\")),\"\")","v":""},{"$f":"IF(E591<>0,(IF(lfValidaCEP(E591)=TRUE,\"Válido\",\"Inválido\")),\"\")","v":""}]
[null,null,null,null,null,null,null,null,null,null,"",{"$f":"IF(C592<>0,(IF(lfValidaCNPJ(C592)=TRUE,\"Válido\",\"Inválido\")),\"\")","v":""},{"$f":"IF(E592<>0,(IF(lfValidaCEP(E592)=TRUE,\"Válido\",\"Inválido\")),\"\")","v":""}]
[null,null,null,null,null,null,null,null,null,null,"",{"$f":"IF(C593<>0,(IF(lfValidaCNPJ(C593)=TRUE,\"Válido\",\"Inválido\")),\"\")","v":""},{"$f":"IF(E593<>0,(IF(lfValidaCEP(E593)=TRUE,\"Válido\",\"Inválido\")),\"\")","v":""}]
[null,null,null,null,null,null,null,null,null,null,"",{"$f":"IF(C594<>0,(IF(lfValidaCNPJ(C594)=TRUE,\"Válido\",\"Inválido\")),\"\")","v":""},{"$f":"IF(E594<>0,(IF(lfValidaCEP(E594)=TRUE,\"Válido\",\"Inválido\")),\"\")","v":""}]
[null,null,null,null,null,null,null,null,null,null,"",{"$f":"IF(C595<>0,(IF(lfValidaCNPJ(C595)=TRUE,\"Válido\",\"Inválido\")),\"\")","v":""},{"$f":"IF(E595<>0,(IF(lfValidaCEP(E595)=TRUE,\"Válido\",\"Inválido\")),\"\")","v":""}]
[null,null,null,null,null,null,null,null,null,null,"",{"$f":"IF(C596<>0,(IF(lfValidaCNPJ(C596)=TRUE,\"Válido\",\"Inválido\")),\"\")","v":""},{"$f":"IF(E596<>0,(IF(lfValidaCEP(E596)=TRUE,\"Válido\",\"Inválido\")),\"\")","v":""}]
[null,null,null,null,null,null,null,null,null,null,"",{"$f":"IF(C597<>0,(IF(lfValidaCNPJ(C597)=TRUE,\"Válido\",\"Inválido\")),\"\")","v":""},{"$f":"IF(E597<>0,(IF(lfValidaCEP(E597)=TRUE,\"Válido\",\"Inválido\")),\"\")","v":""}]
[null,null,null,null,null,null,null,null,null,null,"",{"$f":"IF(C598<>0,(IF(lfValidaCNPJ(C598)=TRUE,\"Válido\",\"Inválido\")),\"\")","v":""},{"$f":"IF(E598<>0,(IF(lfValidaCEP(E598)=TRUE,\"Válido\",\"Inválido\")),\"\")","v":""}]
[null,null,null,null,null,null,null,null,null,null,"",{"$f":"IF(C599<>0,(IF(lfValidaCNPJ(C599)=TRUE,\"Válido\",\"Inválido\")),\"\")","v":""},{"$f":"IF(E599<>0,(IF(lfValidaCEP(E599)=TRUE,\"Válido\",\"Inválido\")),\"\")","v":""}]
[null,null,null,null,null,null,null,null,null,null,"",{"$f":"IF(C600<>0,(IF(lfValidaCNPJ(C600)=TRUE,\"Válido\",\"Inválido\")),\"\")","v":""},{"$f":"IF(E600<>0,(IF(lfValidaCEP(E600)=TRUE,\"Válido\",\"Inválido\")),\"\")","v":""}]
[null,null,null,null,null,null,null,null,null,null,"",{"$f":"IF(C601<>0,(IF(lfValidaCNPJ(C601)=TRUE,\"Válido\",\"Inválido\")),\"\")","v":""},{"$f":"IF(E601<>0,(IF(lfValidaCEP(E601)=TRUE,\"Válido\",\"Inválido\")),\"\")","v":""}]
[null,null,null,null,null,null,null,null,null,null,"",{"$f":"IF(C602<>0,(IF(lfValidaCNPJ(C602)=TRUE,\"Válido\",\"Inválido\")),\"\")","v":""},{"$f":"IF(E602<>0,(IF(lfValidaCEP(E602)=TRUE,\"Válido\",\"Inválido\")),\"\")","v":""}]
[null,null,null,null,null,null,null,null,null,null,"",{"$f":"IF(C603<>0,(IF(lfValidaCNPJ(C603)=TRUE,\"Válido\",\"Inválido\")),\"\")","v":""},{"$f":"IF(E603<>0,(IF(lfValidaCEP(E603)=TRUE,\"Válido\",\"Inválido\")),\"\")","v":""}]
[null,null,null,null,null,null,null,null,null,null,"",{"$f":"IF(C604<>0,(IF(lfValidaCNPJ(C604)=TRUE,\"Válido\",\"Inválido\")),\"\")","v":""},{"$f":"IF(E604<>0,(IF(lfValidaCEP(E604)=TRUE,\"Válido\",\"Inválido\")),\"\")","v":""}]
[null,null,null,null,null,null,null,null,null,null,"",{"$f":"IF(C605<>0,(IF(lfValidaCNPJ(C605)=TRUE,\"Válido\",\"Inválido\")),\"\")","v":""},{"$f":"IF(E605<>0,(IF(lfValidaCEP(E605)=TRUE,\"Válido\",\"Inválido\")),\"\")","v":""}]
[null,null,null,null,null,null,null,null,null,null,"",{"$f":"IF(C606<>0,(IF(lfValidaCNPJ(C606)=TRUE,\"Válido\",\"Inválido\")),\"\")","v":""},{"$f":"IF(E606<>0,(IF(lfValidaCEP(E606)=TRUE,\"Válido\",\"Inválido\")),\"\")","v":""}]
[null,null,null,null,null,null,null,null,null,null,"",{"$f":"IF(C607<>0,(IF(lfValidaCNPJ(C607)=TRUE,\"Válido\",\"Inválido\")),\"\")","v":""},{"$f":"IF(E607<>0,(IF(lfValidaCEP(E607)=TRUE,\"Válido\",\"Inválido\")),\"\")","v":""}]
[null,null,null,null,null,null,null,null,null,null,"",{"$f":"IF(C608<>0,(IF(lfValidaCNPJ(C608)=TRUE,\"Válido\",\"Inválido\")),\"\")","v":""},{"$f":"IF(E608<>0,(IF(lfValidaCEP(E608)=TRUE,\"Válido\",\"Inválido\")),\"\")","v":""}]
[null,null,null,null,null,null,null,null,null,null,"",{"$f":"IF(C609<>0,(IF(lfValidaCNPJ(C609)=TRUE,\"Válido\",\"Inválido\")),\"\")","v":""},{"$f":"IF(E609<>0,(IF(lfValidaCEP(E609)=TRUE,\"Válido\",\"Inválido\")),\"\")","v":""}]
[null,null,null,null,null,null,null,null,null,null,"",{"$f":"IF(C610<>0,(IF(lfValidaCNPJ(C610)=TRUE,\"Válido\",\"Inválido\")),\"\")","v":""},{"$f":"IF(E610<>0,(IF(lfValidaCEP(E610)=TRUE,\"Válido\",\"Inválido\")),\"\")","v":""}]
[null,null,null,null,null,null,null,null,null,null,"",{"$f":"IF(C611<>0,(IF(lfValidaCNPJ(C611)=TRUE,\"Válido\",\"Inválido\")),\"\")","v":""},{"$f":"IF(E611<>0,(IF(lfValidaCEP(E611)=TRUE,\"Válido\",\"Inválido\")),\"\")","v":""}]
[null,null,null,null,null,null,null,null,null,null,"",{"$f":"IF(C612<>0,(IF(lfValidaCNPJ(C612)=TRUE,\"Válido\",\"Inválido\")),\"\")","v":""},{"$f":"IF(E612<>0,(IF(lfValidaCEP(E612)=TRUE,\"Válido\",\"Inválido\")),\"\")","v":""}]
[null,null,null,null,null,null,null,null,null,null,"",{"$f":"IF(C613<>0,(IF(lfValidaCNPJ(C613)=TRUE,\"Válido\",\"Inválido\")),\"\")","v":""},{"$f":"IF(E613<>0,(IF(lfValidaCEP(E613)=TRUE,\"Válido\",\"Inválido\")),\"\")","v":""}]
[null,null,null,null,null,null,null,null,null,null,"",{"$f":"IF(C614<>0,(IF(lfValidaCNPJ(C614)=TRUE,\"Válido\",\"Inválido\")),\"\")","v":""},{"$f":"IF(E614<>0,(IF(lfValidaCEP(E614)=TRUE,\"Válido\",\"Inválido\")),\"\")","v":""}]
[null,null,null,null,null,null,null,null,null,null,"",{"$f":"IF(C615<>0,(IF(lfValidaCNPJ(C615)=TRUE,\"Válido\",\"Inválido\")),\"\")","v":""},{"$f":"IF(E615<>0,(IF(lfValidaCEP(E615)=TRUE,\"Válido\",\"Inválido\")),\"\")","v":""}]
[null,null,null,null,null,null,null,null,null,null,"",{"$f":"IF(C616<>0,(IF(lfValidaCNPJ(C616)=TRUE,\"Válido\",\"Inválido\")),\"\")","v":""},{"$f":"IF(E616<>0,(IF(lfValidaCEP(E616)=TRUE,\"Válido\",\"Inválido\")),\"\")","v":""}]
[null,null,null,null,null,null,null,null,null,null,"",{"$f":"IF(C617<>0,(IF(lfValidaCNPJ(C617)=TRUE,\"Válido\",\"Inválido\")),\"\")","v":""},{"$f":"IF(E617<>0,(IF(lfValidaCEP(E617)=TRUE,\"Válido\",\"Inválido\")),\"\")","v":""}]
[null,null,null,null,null,null,null,null,null,null,"",{"$f":"IF(C618<>0,(IF(lfValidaCNPJ(C618)=TRUE,\"Válido\",\"Inválido\")),\"\")","v":""},{"$f":"IF(E618<>0,(IF(lfValidaCEP(E618)=TRUE,\"Válido\",\"Inválido\")),\"\")","v":""}]
[null,null,null,null,null,null,null,null,null,null,"",{"$f":"IF(C619<>0,(IF(lfValidaCNPJ(C619)=TRUE,\"Válido\",\"Inválido\")),\"\")","v":""},{"$f":"IF(E619<>0,(IF(lfValidaCEP(E619)=TRUE,\"Válido\",\"Inválido\")),\"\")","v":""}]
[null,null,null,null,null,null,null,null,null,null,"",{"$f":"IF(C620<>0,(IF(lfValidaCNPJ(C620)=TRUE,\"Válido\",\"Inválido\")),\"\")","v":""},{"$f":"IF(E620<>0,(IF(lfValidaCEP(E620)=TRUE,\"Válido\",\"Inválido\")),\"\")","v":""}]
[null,null,null,null,null,null,null,null,null,null,"",{"$f":"IF(C621<>0,(IF(lfValidaCNPJ(C621)=TRUE,\"Válido\",\"Inválido\")),\"\")","v":""},{"$f":"IF(E621<>0,(IF(lfValidaCEP(E621)=TRUE,\"Válido\",\"Inválido\")),\"\")","v":""}]
[null,null,null,null,null,null,null,null,null,null,"",{"$f":"IF(C622<>0,(IF(lfValidaCNPJ(C622)=TRUE,\"Válido\",\"Inválido\")),\"\")","v":""},{"$f":"IF(E622<>0,(IF(lfValidaCEP(E622)=TRUE,\"Válido\",\"Inválido\")),\"\")","v":""}]
[null,null,null,null,null,null,null,null,null,null,"",{"$f":"IF(C623<>0,(IF(lfValidaCNPJ(C623)=TRUE,\"Válido\",\"Inválido\")),\"\")","v":""},{"$f":"IF(E623<>0,(IF(lfValidaCEP(E623)=TRUE,\"Válido\",\"Inválido\")),\"\")","v":""}]
[null,null,null,null,null,null,null,null,null,null,"",{"$f":"IF(C624<>0,(IF(lfValidaCNPJ(C624)=TRUE,\"Válido\",\"Inválido\")),\"\")","v":""},{"$f":"IF(E624<>0,(IF(lfValidaCEP(E624)=TRUE,\"Válido\",\"Inválido\")),\"\")","v":""}]
[null,null,null,null,null,null,null,null,null,null,"",{"$f":"IF(C625<>0,(IF(lfValidaCNPJ(C625)=TRUE,\"Válido\",\"Inválido\")),\"\")","v":""},{"$f":"IF(E625<>0,(IF(lfValidaCEP(E625)=TRUE,\"Válido\",\"Inválido\")),\"\")","v":""}]
[null,null,null,null,null,null,null,null,null,null,"",{"$f":"IF(C626<>0,(IF(lfValidaCNPJ(C626)=TRUE,\"Válido\",\"Inválido\")),\"\")","v":""},{"$f":"IF(E626<>0,(IF(lfValidaCEP(E626)=TRUE,\"Válido\",\"Inválido\")),\"\")","v":""}]
[null,null,null,null,null,null,null,null,null,null,"",{"$f":"IF(C627<>0,(IF(lfValidaCNPJ(C627)=TRUE,\"Válido\",\"Inválido\")),\"\")","v":""},{"$f":"IF(E627<>0,(IF(lfValidaCEP(E627)=TRUE,\"Válido\",\"Inválido\")),\"\")","v":""}]
[null,null,null,null,null,null,null,null,null,null,"",{"$f":"IF(C628<>0,(IF(lfValidaCNPJ(C628)=TRUE,\"Válido\",\"Inválido\")),\"\")","v":""},{"$f":"IF(E628<>0,(IF(lfValidaCEP(E628)=TRUE,\"Válido\",\"Inválido\")),\"\")","v":""}]
[null,null,null,null,null,null,null,null,null,null,"",{"$f":"IF(C629<>0,(IF(lfValidaCNPJ(C629)=TRUE,\"Válido\",\"Inválido\")),\"\")","v":""},{"$f":"IF(E629<>0,(IF(lfValidaCEP(E629)=TRUE,\"Válido\",\"Inválido\")),\"\")","v":""}]
[null,null,null,null,null,null,null,null,null,null,"",{"$f":"IF(C630<>0,(IF(lfValidaCNPJ(C630)=TRUE,\"Válido\",\"Inválido\")),\"\")","v":""},{"$f":"IF(E630<>0,(IF(lfValidaCEP(E630)=TRUE,\"Válido\",\"Inválido\")),\"\")","v":""}]
[null,null,null,null,null,null,null,null,null,null,"",{"$f":"IF(C631<>0,(IF(lfValidaCNPJ(C631)=TRUE,\"Válido\",\"Inválido\")),\"\")","v":""},{"$f":"IF(E631<>0,(IF(lfValidaCEP(E631)=TRUE,\"Válido\",\"Inválido\")),\"\")","v":""}]
[null,null,null,null,null,null,null,null,null,null,"",{"$f":"IF(C632<>0,(IF(lfValidaCNPJ(C632)=TRUE,\"Válido\",\"Inválido\")),\"\")","v":""},{"$f":"IF(E632<>0,(IF(lfValidaCEP(E632)=TRUE,\"Válido\",\"Inválido\")),\"\")","v":""}]
[null,null,null,null,null,null,null,null,null,null,"",{"$f":"IF(C633<>0,(IF(lfValidaCNPJ(C633)=TRUE,\"Válido\",\"Inválido\")),\"\")","v":""},{"$f":"IF(E633<>0,(IF(lfValidaCEP(E633)=TRUE,\"Válido\",\"Inválido\")),\"\")","v":""}]
[null,null,null,null,null,null,null,null,null,null,"",{"$f":"IF(C634<>0,(IF(lfValidaCNPJ(C634)=TRUE,\"Válido\",\"Inválido\")),\"\")","v":""},{"$f":"IF(E634<>0,(IF(lfValidaCEP(E634)=TRUE,\"Válido\",\"Inválido\")),\"\")","v":""}]
[null,null,null,null,null,null,null,null,null,null,"",{"$f":"IF(C635<>0,(IF(lfValidaCNPJ(C635)=TRUE,\"Válido\",\"Inválido\")),\"\")","v":""},{"$f":"IF(E635<>0,(IF(lfValidaCEP(E635)=TRUE,\"Válido\",\"Inválido\")),\"\")","v":""}]
[null,null,null,null,null,null,null,null,null,null,"",{"$f":"IF(C636<>0,(IF(lfValidaCNPJ(C636)=TRUE,\"Válido\",\"Inválido\")),\"\")","v":""},{"$f":"IF(E636<>0,(IF(lfValidaCEP(E636)=TRUE,\"Válido\",\"Inválido\")),\"\")","v":""}]
[null,null,null,null,null,null,null,null,null,null,"",{"$f":"IF(C637<>0,(IF(lfValidaCNPJ(C637)=TRUE,\"Válido\",\"Inválido\")),\"\")","v":""},{"$f":"IF(E637<>0,(IF(lfValidaCEP(E637)=TRUE,\"Válido\",\"Inválido\")),\"\")","v":""}]
[null,null,null,null,null,null,null,null,null,null,"",{"$f":"IF(C638<>0,(IF(lfValidaCNPJ(C638)=TRUE,\"Válido\",\"Inválido\")),\"\")","v":""},{"$f":"IF(E638<>0,(IF(lfValidaCEP(E638)=TRUE,\"Válido\",\"Inválido\")),\"\")","v":""}]
[null,null,null,null,null,null,null,null,null,null,"",{"$f":"IF(C639<>0,(IF(lfValidaCNPJ(C639)=TRUE,\"Válido\",\"Inválido\")),\"\")","v":""},{"$f":"IF(E639<>0,(IF(lfValidaCEP(E639)=TRUE,\"Válido\",\"Inválido\")),\"\")","v":""}]
[null,null,null,null,null,null,null,null,null,null,"",{"$f":"IF(C640<>0,(IF(lfValidaCNPJ(C640)=TRUE,\"Válido\",\"Inválido\")),\"\")","v":""},{"$f":"IF(E640<>0,(IF(lfValidaCEP(E640)=TRUE,\"Válido\",\"Inválido\")),\"\")","v":""}]
[null,null,null,null,null,null,null,null,null,null,"",{"$f":"IF(C641<>0,(IF(lfValidaCNPJ(C641)=TRUE,\"Válido\",\"Inválido\")),\"\")","v":""},{"$f":"IF(E641<>0,(IF(lfValidaCEP(E641)=TRUE,\"Válido\",\"Inválido\")),\"\")","v":""}]
[null,null,null,null,null,null,null,null,null,null,"",{"$f":"IF(C642<>0,(IF(lfValidaCNPJ(C642)=TRUE,\"Válido\",\"Inválido\")),\"\")","v":""},{"$f":"IF(E642<>0,(IF(lfValidaCEP(E642)=TRUE,\"Válido\",\"Inválido\")),\"\")","v":""}]
[null,null,null,null,null,null,null,null,null,null,"",{"$f":"IF(C643<>0,(IF(lfValidaCNPJ(C643)=TRUE,\"Válido\",\"Inválido\")),\"\")","v":""},{"$f":"IF(E643<>0,(IF(lfValidaCEP(E643)=TRUE,\"Válido\",\"Inválido\")),\"\")","v":""}]
[null,null,null,null,null,null,null,null,null,null,"",{"$f":"IF(C644<>0,(IF(lfValidaCNPJ(C644)=TRUE,\"Válido\",\"Inválido\")),\"\")","v":""},{"$f":"IF(E644<>0,(IF(lfValidaCEP(E644)=TRUE,\"Válido\",\"Inválido\")),\"\")","v":""}]
[null,null,null,null,null,null,null,null,null,null,"",{"$f":"IF(C645<>0,(IF(lfValidaCNPJ(C645)=TRUE,\"Válido\",\"Inválido\")),\"\")","v":""},{"$f":"IF(E645<>0,(IF(lfValidaCEP(E645)=TRUE,\"Válido\",\"Inválido\")),\"\")","v":""}]
[null,null,null,null,null,null,null,null,null,null,"",{"$f":"IF(C646<>0,(IF(lfValidaCNPJ(C646)=TRUE,\"Válido\",\"Inválido\")),\"\")","v":""},{"$f":"IF(E646<>0,(IF(lfValidaCEP(E646)=TRUE,\"Válido\",\"Inválido\")),\"\")","v":""}]
[null,null,null,null,null,null,null,null,null,null,"",{"$f":"IF(C647<>0,(IF(lfValidaCNPJ(C647)=TRUE,\"Válido\",\"Inválido\")),\"\")","v":""},{"$f":"IF(E647<>0,(IF(lfValidaCEP(E647)=TRUE,\"Válido\",\"Inválido\")),\"\")","v":""}]
[null,null,null,null,null,null,null,null,null,null,"",{"$f":"IF(C648<>0,(IF(lfValidaCNPJ(C648)=TRUE,\"Válido\",\"Inválido\")),\"\")","v":""},{"$f":"IF(E648<>0,(IF(lfValidaCEP(E648)=TRUE,\"Válido\",\"Inválido\")),\"\")","v":""}]
[null,null,null,null,null,null,null,null,null,null,"",{"$f":"IF(C649<>0,(IF(lfValidaCNPJ(C649)=TRUE,\"Válido\",\"Inválido\")),\"\")","v":""},{"$f":"IF(E649<>0,(IF(lfValidaCEP(E649)=TRUE,\"Válido\",\"Inválido\")),\"\")","v":""}]
[null,null,null,null,null,null,null,null,null,null,"",{"$f":"IF(C650<>0,(IF(lfValidaCNPJ(C650)=TRUE,\"Válido\",\"Inválido\")),\"\")","v":""},{"$f":"IF(E650<>0,(IF(lfValidaCEP(E650)=TRUE,\"Válido\",\"Inválido\")),\"\")","v":""}]
[null,null,null,null,null,null,null,null,null,null,"",{"$f":"IF(C651<>0,(IF(lfValidaCNPJ(C651)=TRUE,\"Válido\",\"Inválido\")),\"\")","v":""},{"$f":"IF(E651<>0,(IF(lfValidaCEP(E651)=TRUE,\"Válido\",\"Inválido\")),\"\")","v":""}]
[null,null,null,null,null,null,null,null,null,null,{"$f":"IF(COUNTA(B652:I652)<>0,IF(AND(B652<>0,C652<>0,D652<>0,E652<>0,F652<>0,G652<>0,H652<>0,I652<>0),\"Completo\",\"Incompleto\"),\"\")","v":""},{"$f":"IF(C652<>0,(IF(lfValidaCNPJ(C652)=TRUE,\"Válido\",\"Inválido\")),\"\")","v":""},{"$f":"IF(E652<>0,(IF(lfValidaCEP(E652)=TRUE,\"Válido\",\"Inválido\")),\"\")","v":""}]
[null,null,null,null,null,null,null,null,null,null,"",{"$f":"IF(C653<>0,(IF(lfValidaCNPJ(C653)=TRUE,\"Válido\",\"Inválido\")),\"\")","v":""},{"$f":"IF(E653<>0,(IF(lfValidaCEP(E653)=TRUE,\"Válido\",\"Inválido\")),\"\")","v":""}]
[null,null,null,null,null,null,null,null,null,null,"",{"$f":"IF(C654<>0,(IF(lfValidaCNPJ(C654)=TRUE,\"Válido\",\"Inválido\")),\"\")","v":""},{"$f":"IF(E654<>0,(IF(lfValidaCEP(E654)=TRUE,\"Válido\",\"Inválido\")),\"\")","v":""}]
[null,null,null,null,null,null,null,null,null,null,"",{"$f":"IF(C655<>0,(IF(lfValidaCNPJ(C655)=TRUE,\"Válido\",\"Inválido\")),\"\")","v":""},{"$f":"IF(E655<>0,(IF(lfValidaCEP(E655)=TRUE,\"Válido\",\"Inválido\")),\"\")","v":""}]
[null,null,null,null,null,null,null,null,null,null,"",{"$f":"IF(C656<>0,(IF(lfValidaCNPJ(C656)=TRUE,\"Válido\",\"Inválido\")),\"\")","v":""},{"$f":"IF(E656<>0,(IF(lfValidaCEP(E656)=TRUE,\"Válido\",\"Inválido\")),\"\")","v":""}]
[null,null,null,null,null,null,null,null,null,null,"",{"$f":"IF(C657<>0,(IF(lfValidaCNPJ(C657)=TRUE,\"Válido\",\"Inválido\")),\"\")","v":""},{"$f":"IF(E657<>0,(IF(lfValidaCEP(E657)=TRUE,\"Válido\",\"Inválido\")),\"\")","v":""}]
[null,null,null,null,null,null,null,null,null,null,"",{"$f":"IF(C658<>0,(IF(lfValidaCNPJ(C658)=TRUE,\"Válido\",\"Inválido\")),\"\")","v":""},{"$f":"IF(E658<>0,(IF(lfValidaCEP(E658)=TRUE,\"Válido\",\"Inválido\")),\"\")","v":""}]
[null,null,null,null,null,null,null,null,null,null,"",{"$f":"IF(C659<>0,(IF(lfValidaCNPJ(C659)=TRUE,\"Válido\",\"Inválido\")),\"\")","v":""},{"$f":"IF(E659<>0,(IF(lfValidaCEP(E659)=TRUE,\"Válido\",\"Inválido\")),\"\")","v":""}]
[null,null,null,null,null,null,null,null,null,null,"",{"$f":"IF(C660<>0,(IF(lfValidaCNPJ(C660)=TRUE,\"Válido\",\"Inválido\")),\"\")","v":""},{"$f":"IF(E660<>0,(IF(lfValidaCEP(E660)=TRUE,\"Válido\",\"Inválido\")),\"\")","v":""}]
[null,null,null,null,null,null,null,null,null,null,"",{"$f":"IF(C661<>0,(IF(lfValidaCNPJ(C661)=TRUE,\"Válido\",\"Inválido\")),\"\")","v":""},{"$f":"IF(E661<>0,(IF(lfValidaCEP(E661)=TRUE,\"Válido\",\"Inválido\")),\"\")","v":""}]
[null,null,null,null,null,null,null,null,null,null,"",{"$f":"IF(C662<>0,(IF(lfValidaCNPJ(C662)=TRUE,\"Válido\",\"Inválido\")),\"\")","v":""},{"$f":"IF(E662<>0,(IF(lfValidaCEP(E662)=TRUE,\"Válido\",\"Inválido\")),\"\")","v":""}]
[null,null,null,null,null,null,null,null,null,null,"",{"$f":"IF(C663<>0,(IF(lfValidaCNPJ(C663)=TRUE,\"Válido\",\"Inválido\")),\"\")","v":""},{"$f":"IF(E663<>0,(IF(lfValidaCEP(E663)=TRUE,\"Válido\",\"Inválido\")),\"\")","v":""}]
[null,null,null,null,null,null,null,null,null,null,"",{"$f":"IF(C664<>0,(IF(lfValidaCNPJ(C664)=TRUE,\"Válido\",\"Inválido\")),\"\")","v":""},{"$f":"IF(E664<>0,(IF(lfValidaCEP(E664)=TRUE,\"Válido\",\"Inválido\")),\"\")","v":""}]
[null,null,null,null,null,null,null,null,null,null,"",{"$f":"IF(C665<>0,(IF(lfValidaCNPJ(C665)=TRUE,\"Válido\",\"Inválido\")),\"\")","v":""},{"$f":"IF(E665<>0,(IF(lfValidaCEP(E665)=TRUE,\"Válido\",\"Inválido\")),\"\")","v":""}]
[null,null,null,null,null,null,null,null,null,null,"",{"$f":"IF(C666<>0,(IF(lfValidaCNPJ(C666)=TRUE,\"Válido\",\"Inválido\")),\"\")","v":""},{"$f":"IF(E666<>0,(IF(lfValidaCEP(E666)=TRUE,\"Válido\",\"Inválido\")),\"\")","v":""}]
[null,null,null,null,null,null,null,null,null,null,"",{"$f":"IF(C667<>0,(IF(lfValidaCNPJ(C667)=TRUE,\"Válido\",\"Inválido\")),\"\")","v":""},{"$f":"IF(E667<>0,(IF(lfValidaCEP(E667)=TRUE,\"Válido\",\"Inválido\")),\"\")","v":""}]
[null,null,null,null,null,null,null,null,null,null,"",{"$f":"IF(C668<>0,(IF(lfValidaCNPJ(C668)=TRUE,\"Válido\",\"Inválido\")),\"\")","v":""},{"$f":"IF(E668<>0,(IF(lfValidaCEP(E668)=TRUE,\"Válido\",\"Inválido\")),\"\")","v":""}]
[null,null,null,null,null,null,null,null,null,null,"",{"$f":"IF(C669<>0,(IF(lfValidaCNPJ(C669)=TRUE,\"Válido\",\"Inválido\")),\"\")","v":""},{"$f":"IF(E669<>0,(IF(lfValidaCEP(E669)=TRUE,\"Válido\",\"Inválido\")),\"\")","v":""}]
[null,null,null,null,null,null,null,null,null,null,"",{"$f":"IF(C670<>0,(IF(lfValidaCNPJ(C670)=TRUE,\"Válido\",\"Inválido\")),\"\")","v":""},{"$f":"IF(E670<>0,(IF(lfValidaCEP(E670)=TRUE,\"Válido\",\"Inválido\")),\"\")","v":""}]
[null,null,null,null,null,null,null,null,null,null,"",{"$f":"IF(C671<>0,(IF(lfValidaCNPJ(C671)=TRUE,\"Válido\",\"Inválido\")),\"\")","v":""},{"$f":"IF(E671<>0,(IF(lfValidaCEP(E671)=TRUE,\"Válido\",\"Inválido\")),\"\")","v":""}]
[null,null,null,null,null,null,null,null,null,null,"",{"$f":"IF(C672<>0,(IF(lfValidaCNPJ(C672)=TRUE,\"Válido\",\"Inválido\")),\"\")","v":""},{"$f":"IF(E672<>0,(IF(lfValidaCEP(E672)=TRUE,\"Válido\",\"Inválido\")),\"\")","v":""}]
[null,null,null,null,null,null,null,null,null,null,"",{"$f":"IF(C673<>0,(IF(lfValidaCNPJ(C673)=TRUE,\"Válido\",\"Inválido\")),\"\")","v":""},{"$f":"IF(E673<>0,(IF(lfValidaCEP(E673)=TRUE,\"Válido\",\"Inválido\")),\"\")","v":""}]
[null,null,null,null,null,null,null,null,null,null,"",{"$f":"IF(C674<>0,(IF(lfValidaCNPJ(C674)=TRUE,\"Válido\",\"Inválido\")),\"\")","v":""},{"$f":"IF(E674<>0,(IF(lfValidaCEP(E674)=TRUE,\"Válido\",\"Inválido\")),\"\")","v":""}]
[null,null,null,null,null,null,null,null,null,null,"",{"$f":"IF(C675<>0,(IF(lfValidaCNPJ(C675)=TRUE,\"Válido\",\"Inválido\")),\"\")","v":""},{"$f":"IF(E675<>0,(IF(lfValidaCEP(E675)=TRUE,\"Válido\",\"Inválido\")),\"\")","v":""}]
[null,null,null,null,null,null,null,null,null,null,"",{"$f":"IF(C676<>0,(IF(lfValidaCNPJ(C676)=TRUE,\"Válido\",\"Inválido\")),\"\")","v":""},{"$f":"IF(E676<>0,(IF(lfValidaCEP(E676)=TRUE,\"Válido\",\"Inválido\")),\"\")","v":""}]
[null,null,null,null,null,null,null,null,null,null,"",{"$f":"IF(C677<>0,(IF(lfValidaCNPJ(C677)=TRUE,\"Válido\",\"Inválido\")),\"\")","v":""},{"$f":"IF(E677<>0,(IF(lfValidaCEP(E677)=TRUE,\"Válido\",\"Inválido\")),\"\")","v":""}]
[null,null,null,null,null,null,null,null,null,null,"",{"$f":"IF(C678<>0,(IF(lfValidaCNPJ(C678)=TRUE,\"Válido\",\"Inválido\")),\"\")","v":""},{"$f":"IF(E678<>0,(IF(lfValidaCEP(E678)=TRUE,\"Válido\",\"Inválido\")),\"\")","v":""}]
[null,null,null,null,null,null,null,null,null,null,"",{"$f":"IF(C679<>0,(IF(lfValidaCNPJ(C679)=TRUE,\"Válido\",\"Inválido\")),\"\")","v":""},{"$f":"IF(E679<>0,(IF(lfValidaCEP(E679)=TRUE,\"Válido\",\"Inválido\")),\"\")","v":""}]
[null,null,null,null,null,null,null,null,null,null,"",{"$f":"IF(C680<>0,(IF(lfValidaCNPJ(C680)=TRUE,\"Válido\",\"Inválido\")),\"\")","v":""},{"$f":"IF(E680<>0,(IF(lfValidaCEP(E680)=TRUE,\"Válido\",\"Inválido\")),\"\")","v":""}]
[null,null,null,null,null,null,null,null,null,null,"",{"$f":"IF(C681<>0,(IF(lfValidaCNPJ(C681)=TRUE,\"Válido\",\"Inválido\")),\"\")","v":""},{"$f":"IF(E681<>0,(IF(lfValidaCEP(E681)=TRUE,\"Válido\",\"Inválido\")),\"\")","v":""}]
[null,null,null,null,null,null,null,null,null,null,"",{"$f":"IF(C682<>0,(IF(lfValidaCNPJ(C682)=TRUE,\"Válido\",\"Inválido\")),\"\")","v":""},{"$f":"IF(E682<>0,(IF(lfValidaCEP(E682)=TRUE,\"Válido\",\"Inválido\")),\"\")","v":""}]
[null,null,null,null,null,null,null,null,null,null,"",{"$f":"IF(C683<>0,(IF(lfValidaCNPJ(C683)=TRUE,\"Válido\",\"Inválido\")),\"\")","v":""},{"$f":"IF(E683<>0,(IF(lfValidaCEP(E683)=TRUE,\"Válido\",\"Inválido\")),\"\")","v":""}]
[null,null,null,null,null,null,null,null,null,null,"",{"$f":"IF(C684<>0,(IF(lfValidaCNPJ(C684)=TRUE,\"Válido\",\"Inválido\")),\"\")","v":""},{"$f":"IF(E684<>0,(IF(lfValidaCEP(E684)=TRUE,\"Válido\",\"Inválido\")),\"\")","v":""}]
[null,null,null,null,null,null,null,null,null,null,"",{"$f":"IF(C685<>0,(IF(lfValidaCNPJ(C685)=TRUE,\"Válido\",\"Inválido\")),\"\")","v":""},{"$f":"IF(E685<>0,(IF(lfValidaCEP(E685)=TRUE,\"Válido\",\"Inválido\")),\"\")","v":""}]
[null,null,null,null,null,null,null,null,null,null,"",{"$f":"IF(C686<>0,(IF(lfValidaCNPJ(C686)=TRUE,\"Válido\",\"Inválido\")),\"\")","v":""},{"$f":"IF(E686<>0,(IF(lfValidaCEP(E686)=TRUE,\"Válido\",\"Inválido\")),\"\")","v":""}]
[null,null,null,null,null,null,null,null,null,null,"",{"$f":"IF(C687<>0,(IF(lfValidaCNPJ(C687)=TRUE,\"Válido\",\"Inválido\")),\"\")","v":""},{"$f":"IF(E687<>0,(IF(lfValidaCEP(E687)=TRUE,\"Válido\",\"Inválido\")),\"\")","v":""}]
[null,null,null,null,null,null,null,null,null,null,"",{"$f":"IF(C688<>0,(IF(lfValidaCNPJ(C688)=TRUE,\"Válido\",\"Inválido\")),\"\")","v":""},{"$f":"IF(E688<>0,(IF(lfValidaCEP(E688)=TRUE,\"Válido\",\"Inválido\")),\"\")","v":""}]
[null,null,null,null,null,null,null,null,null,null,"",{"$f":"IF(C689<>0,(IF(lfValidaCNPJ(C689)=TRUE,\"Válido\",\"Inválido\")),\"\")","v":""},{"$f":"IF(E689<>0,(IF(lfValidaCEP(E689)=TRUE,\"Válido\",\"Inválido\")),\"\")","v":""}]
[null,null,null,null,null,null,null,null,null,null,"",{"$f":"IF(C690<>0,(IF(lfValidaCNPJ(C690)=TRUE,\"Válido\",\"Inválido\")),\"\")","v":""},{"$f":"IF(E690<>0,(IF(lfValidaCEP(E690)=TRUE,\"Válido\",\"Inválido\")),\"\")","v":""}]
[null,null,null,null,null,null,null,null,null,null,"",{"$f":"IF(C691<>0,(IF(lfValidaCNPJ(C691)=TRUE,\"Válido\",\"Inválido\")),\"\")","v":""},{"$f":"IF(E691<>0,(IF(lfValidaCEP(E691)=TRUE,\"Válido\",\"Inválido\")),\"\")","v":""}]
[null,null,null,null,null,null,null,null,null,null,"",{"$f":"IF(C692<>0,(IF(lfValidaCNPJ(C692)=TRUE,\"Válido\",\"Inválido\")),\"\")","v":""},{"$f":"IF(E692<>0,(IF(lfValidaCEP(E692)=TRUE,\"Válido\",\"Inválido\")),\"\")","v":""}]
[null,null,null,null,null,null,null,null,null,null,"",{"$f":"IF(C693<>0,(IF(lfValidaCNPJ(C693)=TRUE,\"Válido\",\"Inválido\")),\"\")","v":""},{"$f":"IF(E693<>0,(IF(lfValidaCEP(E693)=TRUE,\"Válido\",\"Inválido\")),\"\")","v":""}]
[null,null,null,null,null,null,null,null,null,null,"",{"$f":"IF(C694<>0,(IF(lfValidaCNPJ(C694)=TRUE,\"Válido\",\"Inválido\")),\"\")","v":""},{"$f":"IF(E694<>0,(IF(lfValidaCEP(E694)=TRUE,\"Válido\",\"Inválido\")),\"\")","v":""}]
[null,null,null,null,null,null,null,null,null,null,"",{"$f":"IF(C695<>0,(IF(lfValidaCNPJ(C695)=TRUE,\"Válido\",\"Inválido\")),\"\")","v":""},{"$f":"IF(E695<>0,(IF(lfValidaCEP(E695)=TRUE,\"Válido\",\"Inválido\")),\"\")","v":""}]
[null,null,null,null,null,null,null,null,null,null,"",{"$f":"IF(C696<>0,(IF(lfValidaCNPJ(C696)=TRUE,\"Válido\",\"Inválido\")),\"\")","v":""},{"$f":"IF(E696<>0,(IF(lfValidaCEP(E696)=TRUE,\"Válido\",\"Inválido\")),\"\")","v":""}]
[null,null,null,null,null,null,null,null,null,null,"",{"$f":"IF(C697<>0,(IF(lfValidaCNPJ(C697)=TRUE,\"Válido\",\"Inválido\")),\"\")","v":""},{"$f":"IF(E697<>0,(IF(lfValidaCEP(E697)=TRUE,\"Válido\",\"Inválido\")),\"\")","v":""}]
[null,null,null,null,null,null,null,null,null,null,"",{"$f":"IF(C698<>0,(IF(lfValidaCNPJ(C698)=TRUE,\"Válido\",\"Inválido\")),\"\")","v":""},{"$f":"IF(E698<>0,(IF(lfValidaCEP(E698)=TRUE,\"Válido\",\"Inválido\")),\"\")","v":""}]
[null,null,null,null,null,null,null,null,null,null,"",{"$f":"IF(C699<>0,(IF(lfValidaCNPJ(C699)=TRUE,\"Válido\",\"Inválido\")),\"\")","v":""},{"$f":"IF(E699<>0,(IF(lfValidaCEP(E699)=TRUE,\"Válido\",\"Inválido\")),\"\")","v":""}]
[null,null,null,null,null,null,null,null,null,null,"",{"$f":"IF(C700<>0,(IF(lfValidaCNPJ(C700)=TRUE,\"Válido\",\"Inválido\")),\"\")","v":""},{"$f":"IF(E700<>0,(IF(lfValidaCEP(E700)=TRUE,\"Válido\",\"Inválido\")),\"\")","v":""}]
[null,null,null,null,null,null,null,null,null,null,"",{"$f":"IF(C701<>0,(IF(lfValidaCNPJ(C701)=TRUE,\"Válido\",\"Inválido\")),\"\")","v":""},{"$f":"IF(E701<>0,(IF(lfValidaCEP(E701)=TRUE,\"Válido\",\"Inválido\")),\"\")","v":""}]
[null,null,null,null,null,null,null,null,null,null,"",{"$f":"IF(C702<>0,(IF(lfValidaCNPJ(C702)=TRUE,\"Válido\",\"Inválido\")),\"\")","v":""},{"$f":"IF(E702<>0,(IF(lfValidaCEP(E702)=TRUE,\"Válido\",\"Inválido\")),\"\")","v":""}]
[null,null,null,null,null,null,null,null,null,null,"",{"$f":"IF(C703<>0,(IF(lfValidaCNPJ(C703)=TRUE,\"Válido\",\"Inválido\")),\"\")","v":""},{"$f":"IF(E703<>0,(IF(lfValidaCEP(E703)=TRUE,\"Válido\",\"Inválido\")),\"\")","v":""}]
[null,null,null,null,null,null,null,null,null,null,"",{"$f":"IF(C704<>0,(IF(lfValidaCNPJ(C704)=TRUE,\"Válido\",\"Inválido\")),\"\")","v":""},{"$f":"IF(E704<>0,(IF(lfValidaCEP(E704)=TRUE,\"Válido\",\"Inválido\")),\"\")","v":""}]
[null,null,null,null,null,null,null,null,null,null,"",{"$f":"IF(C705<>0,(IF(lfValidaCNPJ(C705)=TRUE,\"Válido\",\"Inválido\")),\"\")","v":""},{"$f":"IF(E705<>0,(IF(lfValidaCEP(E705)=TRUE,\"Válido\",\"Inválido\")),\"\")","v":""}]
[null,null,null,null,null,null,null,null,null,null,"",{"$f":"IF(C706<>0,(IF(lfValidaCNPJ(C706)=TRUE,\"Válido\",\"Inválido\")),\"\")","v":""},{"$f":"IF(E706<>0,(IF(lfValidaCEP(E706)=TRUE,\"Válido\",\"Inválido\")),\"\")","v":""}]
[null,null,null,null,null,null,null,null,null,null,"",{"$f":"IF(C707<>0,(IF(lfValidaCNPJ(C707)=TRUE,\"Válido\",\"Inválido\")),\"\")","v":""},{"$f":"IF(E707<>0,(IF(lfValidaCEP(E707)=TRUE,\"Válido\",\"Inválido\")),\"\")","v":""}]
[null,null,null,null,null,null,null,null,null,null,"",{"$f":"IF(C708<>0,(IF(lfValidaCNPJ(C708)=TRUE,\"Válido\",\"Inválido\")),\"\")","v":""},{"$f":"IF(E708<>0,(IF(lfValidaCEP(E708)=TRUE,\"Válido\",\"Inválido\")),\"\")","v":""}]
[null,null,null,null,null,null,null,null,null,null,"",{"$f":"IF(C709<>0,(IF(lfValidaCNPJ(C709)=TRUE,\"Válido\",\"Inválido\")),\"\")","v":""},{"$f":"IF(E709<>0,(IF(lfValidaCEP(E709)=TRUE,\"Válido\",\"Inválido\")),\"\")","v":""}]
[null,null,null,null,null,null,null,null,null,null,"",{"$f":"IF(C710<>0,(IF(lfValidaCNPJ(C710)=TRUE,\"Válido\",\"Inválido\")),\"\")","v":""},{"$f":"IF(E710<>0,(IF(lfValidaCEP(E710)=TRUE,\"Válido\",\"Inválido\")),\"\")","v":""}]
[null,null,null,null,null,null,null,null,null,null,"",{"$f":"IF(C711<>0,(IF(lfValidaCNPJ(C711)=TRUE,\"Válido\",\"Inválido\")),\"\")","v":""},{"$f":"IF(E711<>0,(IF(lfValidaCEP(E711)=TRUE,\"Válido\",\"Inválido\")),\"\")","v":""}]
[null,null,null,null,null,null,null,null,null,null,"",{"$f":"IF(C712<>0,(IF(lfValidaCNPJ(C712)=TRUE,\"Válido\",\"Inválido\")),\"\")","v":""},{"$f":"IF(E712<>0,(IF(lfValidaCEP(E712)=TRUE,\"Válido\",\"Inválido\")),\"\")","v":""}]
[null,null,null,null,null,null,null,null,null,null,"",{"$f":"IF(C713<>0,(IF(lfValidaCNPJ(C713)=TRUE,\"Válido\",\"Inválido\")),\"\")","v":""},{"$f":"IF(E713<>0,(IF(lfValidaCEP(E713)=TRUE,\"Válido\",\"Inválido\")),\"\")","v":""}]
[null,null,null,null,null,null,null,null,null,null,"",{"$f":"IF(C714<>0,(IF(lfValidaCNPJ(C714)=TRUE,\"Válido\",\"Inválido\")),\"\")","v":""},{"$f":"IF(E714<>0,(IF(lfValidaCEP(E714)=TRUE,\"Válido\",\"Inválido\")),\"\")","v":""}]
[null,null,null,null,null,null,null,null,null,null,"",{"$f":"IF(C715<>0,(IF(lfValidaCNPJ(C715)=TRUE,\"Válido\",\"Inválido\")),\"\")","v":""},{"$f":"IF(E715<>0,(IF(lfValidaCEP(E715)=TRUE,\"Válido\",\"Inválido\")),\"\")","v":""}]
[null,null,null,null,null,null,null,null,null,null,{"$f":"IF(COUNTA(B716:I716)<>0,IF(AND(B716<>0,C716<>0,D716<>0,E716<>0,F716<>0,G716<>0,H716<>0,I716<>0),\"Completo\",\"Incompleto\"),\"\")","v":""},{"$f":"IF(C716<>0,(IF(lfValidaCNPJ(C716)=TRUE,\"Válido\",\"Inválido\")),\"\")","v":""},{"$f":"IF(E716<>0,(IF(lfValidaCEP(E716)=TRUE,\"Válido\",\"Inválido\")),\"\")","v":""}]
[null,null,null,null,null,null,null,null,null,null,"",{"$f":"IF(C717<>0,(IF(lfValidaCNPJ(C717)=TRUE,\"Válido\",\"Inválido\")),\"\")","v":""},{"$f":"IF(E717<>0,(IF(lfValidaCEP(E717)=TRUE,\"Válido\",\"Inválido\")),\"\")","v":""}]
[null,null,null,null,null,null,null,null,null,null,"",{"$f":"IF(C718<>0,(IF(lfValidaCNPJ(C718)=TRUE,\"Válido\",\"Inválido\")),\"\")","v":""},{"$f":"IF(E718<>0,(IF(lfValidaCEP(E718)=TRUE,\"Válido\",\"Inválido\")),\"\")","v":""}]
[null,null,null,null,null,null,null,null,null,null,"",{"$f":"IF(C719<>0,(IF(lfValidaCNPJ(C719)=TRUE,\"Válido\",\"Inválido\")),\"\")","v":""},{"$f":"IF(E719<>0,(IF(lfValidaCEP(E719)=TRUE,\"Válido\",\"Inválido\")),\"\")","v":""}]
[null,null,null,null,null,null,null,null,null,null,"",{"$f":"IF(C720<>0,(IF(lfValidaCNPJ(C720)=TRUE,\"Válido\",\"Inválido\")),\"\")","v":""},{"$f":"IF(E720<>0,(IF(lfValidaCEP(E720)=TRUE,\"Válido\",\"Inválido\")),\"\")","v":""}]
[null,null,null,null,null,null,null,null,null,null,"",{"$f":"IF(C721<>0,(IF(lfValidaCNPJ(C721)=TRUE,\"Válido\",\"Inválido\")),\"\")","v":""},{"$f":"IF(E721<>0,(IF(lfValidaCEP(E721)=TRUE,\"Válido\",\"Inválido\")),\"\")","v":""}]
[null,null,null,null,null,null,null,null,null,null,"",{"$f":"IF(C722<>0,(IF(lfValidaCNPJ(C722)=TRUE,\"Válido\",\"Inválido\")),\"\")","v":""},{"$f":"IF(E722<>0,(IF(lfValidaCEP(E722)=TRUE,\"Válido\",\"Inválido\")),\"\")","v":""}]
[null,null,null,null,null,null,null,null,null,null,"",{"$f":"IF(C723<>0,(IF(lfValidaCNPJ(C723)=TRUE,\"Válido\",\"Inválido\")),\"\")","v":""},{"$f":"IF(E723<>0,(IF(lfValidaCEP(E723)=TRUE,\"Válido\",\"Inválido\")),\"\")","v":""}]
[null,null,null,null,null,null,null,null,null,null,"",{"$f":"IF(C724<>0,(IF(lfValidaCNPJ(C724)=TRUE,\"Válido\",\"Inválido\")),\"\")","v":""},{"$f":"IF(E724<>0,(IF(lfValidaCEP(E724)=TRUE,\"Válido\",\"Inválido\")),\"\")","v":""}]
[null,null,null,null,null,null,null,null,null,null,"",{"$f":"IF(C725<>0,(IF(lfValidaCNPJ(C725)=TRUE,\"Válido\",\"Inválido\")),\"\")","v":""},{"$f":"IF(E725<>0,(IF(lfValidaCEP(E725)=TRUE,\"Válido\",\"Inválido\")),\"\")","v":""}]
[null,null,null,null,null,null,null,null,null,null,"",{"$f":"IF(C726<>0,(IF(lfValidaCNPJ(C726)=TRUE,\"Válido\",\"Inválido\")),\"\")","v":""},{"$f":"IF(E726<>0,(IF(lfValidaCEP(E726)=TRUE,\"Válido\",\"Inválido\")),\"\")","v":""}]
[null,null,null,null,null,null,null,null,null,null,"",{"$f":"IF(C727<>0,(IF(lfValidaCNPJ(C727)=TRUE,\"Válido\",\"Inválido\")),\"\")","v":""},{"$f":"IF(E727<>0,(IF(lfValidaCEP(E727)=TRUE,\"Válido\",\"Inválido\")),\"\")","v":""}]
[null,null,null,null,null,null,null,null,null,null,"",{"$f":"IF(C728<>0,(IF(lfValidaCNPJ(C728)=TRUE,\"Válido\",\"Inválido\")),\"\")","v":""},{"$f":"IF(E728<>0,(IF(lfValidaCEP(E728)=TRUE,\"Válido\",\"Inválido\")),\"\")","v":""}]
[null,null,null,null,null,null,null,null,null,null,"",{"$f":"IF(C729<>0,(IF(lfValidaCNPJ(C729)=TRUE,\"Válido\",\"Inválido\")),\"\")","v":""},{"$f":"IF(E729<>0,(IF(lfValidaCEP(E729)=TRUE,\"Válido\",\"Inválido\")),\"\")","v":""}]
[null,null,null,null,null,null,null,null,null,null,"",{"$f":"IF(C730<>0,(IF(lfValidaCNPJ(C730)=TRUE,\"Válido\",\"Inválido\")),\"\")","v":""},{"$f":"IF(E730<>0,(IF(lfValidaCEP(E730)=TRUE,\"Válido\",\"Inválido\")),\"\")","v":""}]
[null,null,null,null,null,null,null,null,null,null,"",{"$f":"IF(C731<>0,(IF(lfValidaCNPJ(C731)=TRUE,\"Válido\",\"Inválido\")),\"\")","v":""},{"$f":"IF(E731<>0,(IF(lfValidaCEP(E731)=TRUE,\"Válido\",\"Inválido\")),\"\")","v":""}]
[null,null,null,null,null,null,null,null,null,null,"",{"$f":"IF(C732<>0,(IF(lfValidaCNPJ(C732)=TRUE,\"Válido\",\"Inválido\")),\"\")","v":""},{"$f":"IF(E732<>0,(IF(lfValidaCEP(E732)=TRUE,\"Válido\",\"Inválido\")),\"\")","v":""}]
[null,null,null,null,null,null,null,null,null,null,"",{"$f":"IF(C733<>0,(IF(lfValidaCNPJ(C733)=TRUE,\"Válido\",\"Inválido\")),\"\")","v":""},{"$f":"IF(E733<>0,(IF(lfValidaCEP(E733)=TRUE,\"Válido\",\"Inválido\")),\"\")","v":""}]
[null,null,null,null,null,null,null,null,null,null,"",{"$f":"IF(C734<>0,(IF(lfValidaCNPJ(C734)=TRUE,\"Válido\",\"Inválido\")),\"\")","v":""},{"$f":"IF(E734<>0,(IF(lfValidaCEP(E734)=TRUE,\"Válido\",\"Inválido\")),\"\")","v":""}]
[null,null,null,null,null,null,null,null,null,null,"",{"$f":"IF(C735<>0,(IF(lfValidaCNPJ(C735)=TRUE,\"Válido\",\"Inválido\")),\"\")","v":""},{"$f":"IF(E735<>0,(IF(lfValidaCEP(E735)=TRUE,\"Válido\",\"Inválido\")),\"\")","v":""}]
[null,null,null,null,null,null,null,null,null,null,"",{"$f":"IF(C736<>0,(IF(lfValidaCNPJ(C736)=TRUE,\"Válido\",\"Inválido\")),\"\")","v":""},{"$f":"IF(E736<>0,(IF(lfValidaCEP(E736)=TRUE,\"Válido\",\"Inválido\")),\"\")","v":""}]
[null,null,null,null,null,null,null,null,null,null,"",{"$f":"IF(C737<>0,(IF(lfValidaCNPJ(C737)=TRUE,\"Válido\",\"Inválido\")),\"\")","v":""},{"$f":"IF(E737<>0,(IF(lfValidaCEP(E737)=TRUE,\"Válido\",\"Inválido\")),\"\")","v":""}]
[null,null,null,null,null,null,null,null,null,null,"",{"$f":"IF(C738<>0,(IF(lfValidaCNPJ(C738)=TRUE,\"Válido\",\"Inválido\")),\"\")","v":""},{"$f":"IF(E738<>0,(IF(lfValidaCEP(E738)=TRUE,\"Válido\",\"Inválido\")),\"\")","v":""}]
[null,null,null,null,null,null,null,null,null,null,"",{"$f":"IF(C739<>0,(IF(lfValidaCNPJ(C739)=TRUE,\"Válido\",\"Inválido\")),\"\")","v":""},{"$f":"IF(E739<>0,(IF(lfValidaCEP(E739)=TRUE,\"Válido\",\"Inválido\")),\"\")","v":""}]
[null,null,null,null,null,null,null,null,null,null,"",{"$f":"IF(C740<>0,(IF(lfValidaCNPJ(C740)=TRUE,\"Válido\",\"Inválido\")),\"\")","v":""},{"$f":"IF(E740<>0,(IF(lfValidaCEP(E740)=TRUE,\"Válido\",\"Inválido\")),\"\")","v":""}]
[null,null,null,null,null,null,null,null,null,null,"",{"$f":"IF(C741<>0,(IF(lfValidaCNPJ(C741)=TRUE,\"Válido\",\"Inválido\")),\"\")","v":""},{"$f":"IF(E741<>0,(IF(lfValidaCEP(E741)=TRUE,\"Válido\",\"Inválido\")),\"\")","v":""}]
[null,null,null,null,null,null,null,null,null,null,"",{"$f":"IF(C742<>0,(IF(lfValidaCNPJ(C742)=TRUE,\"Válido\",\"Inválido\")),\"\")","v":""},{"$f":"IF(E742<>0,(IF(lfValidaCEP(E742)=TRUE,\"Válido\",\"Inválido\")),\"\")","v":""}]
[null,null,null,null,null,null,null,null,null,null,"",{"$f":"IF(C743<>0,(IF(lfValidaCNPJ(C743)=TRUE,\"Válido\",\"Inválido\")),\"\")","v":""},{"$f":"IF(E743<>0,(IF(lfValidaCEP(E743)=TRUE,\"Válido\",\"Inválido\")),\"\")","v":""}]
[null,null,null,null,null,null,null,null,null,null,"",{"$f":"IF(C744<>0,(IF(lfValidaCNPJ(C744)=TRUE,\"Válido\",\"Inválido\")),\"\")","v":""},{"$f":"IF(E744<>0,(IF(lfValidaCEP(E744)=TRUE,\"Válido\",\"Inválido\")),\"\")","v":""}]
[null,null,null,null,null,null,null,null,null,null,"",{"$f":"IF(C745<>0,(IF(lfValidaCNPJ(C745)=TRUE,\"Válido\",\"Inválido\")),\"\")","v":""},{"$f":"IF(E745<>0,(IF(lfValidaCEP(E745)=TRUE,\"Válido\",\"Inválido\")),\"\")","v":""}]
[null,null,null,null,null,null,null,null,null,null,"",{"$f":"IF(C746<>0,(IF(lfValidaCNPJ(C746)=TRUE,\"Válido\",\"Inválido\")),\"\")","v":""},{"$f":"IF(E746<>0,(IF(lfValidaCEP(E746)=TRUE,\"Válido\",\"Inválido\")),\"\")","v":""}]
[null,null,null,null,null,null,null,null,null,null,"",{"$f":"IF(C747<>0,(IF(lfValidaCNPJ(C747)=TRUE,\"Válido\",\"Inválido\")),\"\")","v":""},{"$f":"IF(E747<>0,(IF(lfValidaCEP(E747)=TRUE,\"Válido\",\"Inválido\")),\"\")","v":""}]
[null,null,null,null,null,null,null,null,null,null,"",{"$f":"IF(C748<>0,(IF(lfValidaCNPJ(C748)=TRUE,\"Válido\",\"Inválido\")),\"\")","v":""},{"$f":"IF(E748<>0,(IF(lfValidaCEP(E748)=TRUE,\"Válido\",\"Inválido\")),\"\")","v":""}]
[null,null,null,null,null,null,null,null,null,null,"",{"$f":"IF(C749<>0,(IF(lfValidaCNPJ(C749)=TRUE,\"Válido\",\"Inválido\")),\"\")","v":""},{"$f":"IF(E749<>0,(IF(lfValidaCEP(E749)=TRUE,\"Válido\",\"Inválido\")),\"\")","v":""}]
[null,null,null,null,null,null,null,null,null,null,"",{"$f":"IF(C750<>0,(IF(lfValidaCNPJ(C750)=TRUE,\"Válido\",\"Inválido\")),\"\")","v":""},{"$f":"IF(E750<>0,(IF(lfValidaCEP(E750)=TRUE,\"Válido\",\"Inválido\")),\"\")","v":""}]
[null,null,null,null,null,null,null,null,null,null,"",{"$f":"IF(C751<>0,(IF(lfValidaCNPJ(C751)=TRUE,\"Válido\",\"Inválido\")),\"\")","v":""},{"$f":"IF(E751<>0,(IF(lfValidaCEP(E751)=TRUE,\"Válido\",\"Inválido\")),\"\")","v":""}]
[null,null,null,null,null,null,null,null,null,null,"",{"$f":"IF(C752<>0,(IF(lfValidaCNPJ(C752)=TRUE,\"Válido\",\"Inválido\")),\"\")","v":""},{"$f":"IF(E752<>0,(IF(lfValidaCEP(E752)=TRUE,\"Válido\",\"Inválido\")),\"\")","v":""}]
[null,null,null,null,null,null,null,null,null,null,"",{"$f":"IF(C753<>0,(IF(lfValidaCNPJ(C753)=TRUE,\"Válido\",\"Inválido\")),\"\")","v":""},{"$f":"IF(E753<>0,(IF(lfValidaCEP(E753)=TRUE,\"Válido\",\"Inválido\")),\"\")","v":""}]
[null,null,null,null,null,null,null,null,null,null,"",{"$f":"IF(C754<>0,(IF(lfValidaCNPJ(C754)=TRUE,\"Válido\",\"Inválido\")),\"\")","v":""},{"$f":"IF(E754<>0,(IF(lfValidaCEP(E754)=TRUE,\"Válido\",\"Inválido\")),\"\")","v":""}]
[null,null,null,null,null,null,null,null,null,null,"",{"$f":"IF(C755<>0,(IF(lfValidaCNPJ(C755)=TRUE,\"Válido\",\"Inválido\")),\"\")","v":""},{"$f":"IF(E755<>0,(IF(lfValidaCEP(E755)=TRUE,\"Válido\",\"Inválido\")),\"\")","v":""}]
[null,null,null,null,null,null,null,null,null,null,"",{"$f":"IF(C756<>0,(IF(lfValidaCNPJ(C756)=TRUE,\"Válido\",\"Inválido\")),\"\")","v":""},{"$f":"IF(E756<>0,(IF(lfValidaCEP(E756)=TRUE,\"Válido\",\"Inválido\")),\"\")","v":""}]
[null,null,null,null,null,null,null,null,null,null,"",{"$f":"IF(C757<>0,(IF(lfValidaCNPJ(C757)=TRUE,\"Válido\",\"Inválido\")),\"\")","v":""},{"$f":"IF(E757<>0,(IF(lfValidaCEP(E757)=TRUE,\"Válido\",\"Inválido\")),\"\")","v":""}]
[null,null,null,null,null,null,null,null,null,null,"",{"$f":"IF(C758<>0,(IF(lfValidaCNPJ(C758)=TRUE,\"Válido\",\"Inválido\")),\"\")","v":""},{"$f":"IF(E758<>0,(IF(lfValidaCEP(E758)=TRUE,\"Válido\",\"Inválido\")),\"\")","v":""}]
[null,null,null,null,null,null,null,null,null,null,"",{"$f":"IF(C759<>0,(IF(lfValidaCNPJ(C759)=TRUE,\"Válido\",\"Inválido\")),\"\")","v":""},{"$f":"IF(E759<>0,(IF(lfValidaCEP(E759)=TRUE,\"Válido\",\"Inválido\")),\"\")","v":""}]
[null,null,null,null,null,null,null,null,null,null,"",{"$f":"IF(C760<>0,(IF(lfValidaCNPJ(C760)=TRUE,\"Válido\",\"Inválido\")),\"\")","v":""},{"$f":"IF(E760<>0,(IF(lfValidaCEP(E760)=TRUE,\"Válido\",\"Inválido\")),\"\")","v":""}]
[null,null,null,null,null,null,null,null,null,null,"",{"$f":"IF(C761<>0,(IF(lfValidaCNPJ(C761)=TRUE,\"Válido\",\"Inválido\")),\"\")","v":""},{"$f":"IF(E761<>0,(IF(lfValidaCEP(E761)=TRUE,\"Válido\",\"Inválido\")),\"\")","v":""}]
[null,null,null,null,null,null,null,null,null,null,"",{"$f":"IF(C762<>0,(IF(lfValidaCNPJ(C762)=TRUE,\"Válido\",\"Inválido\")),\"\")","v":""},{"$f":"IF(E762<>0,(IF(lfValidaCEP(E762)=TRUE,\"Válido\",\"Inválido\")),\"\")","v":""}]
[null,null,null,null,null,null,null,null,null,null,"",{"$f":"IF(C763<>0,(IF(lfValidaCNPJ(C763)=TRUE,\"Válido\",\"Inválido\")),\"\")","v":""},{"$f":"IF(E763<>0,(IF(lfValidaCEP(E763)=TRUE,\"Válido\",\"Inválido\")),\"\")","v":""}]
[null,null,null,null,null,null,null,null,null,null,"",{"$f":"IF(C764<>0,(IF(lfValidaCNPJ(C764)=TRUE,\"Válido\",\"Inválido\")),\"\")","v":""},{"$f":"IF(E764<>0,(IF(lfValidaCEP(E764)=TRUE,\"Válido\",\"Inválido\")),\"\")","v":""}]
[null,null,null,null,null,null,null,null,null,null,"",{"$f":"IF(C765<>0,(IF(lfValidaCNPJ(C765)=TRUE,\"Válido\",\"Inválido\")),\"\")","v":""},{"$f":"IF(E765<>0,(IF(lfValidaCEP(E765)=TRUE,\"Válido\",\"Inválido\")),\"\")","v":""}]
[null,null,null,null,null,null,null,null,null,null,"",{"$f":"IF(C766<>0,(IF(lfValidaCNPJ(C766)=TRUE,\"Válido\",\"Inválido\")),\"\")","v":""},{"$f":"IF(E766<>0,(IF(lfValidaCEP(E766)=TRUE,\"Válido\",\"Inválido\")),\"\")","v":""}]
[null,null,null,null,null,null,null,null,null,null,"",{"$f":"IF(C767<>0,(IF(lfValidaCNPJ(C767)=TRUE,\"Válido\",\"Inválido\")),\"\")","v":""},{"$f":"IF(E767<>0,(IF(lfValidaCEP(E767)=TRUE,\"Válido\",\"Inválido\")),\"\")","v":""}]
[null,null,null,null,null,null,null,null,null,null,"",{"$f":"IF(C768<>0,(IF(lfValidaCNPJ(C768)=TRUE,\"Válido\",\"Inválido\")),\"\")","v":""},{"$f":"IF(E768<>0,(IF(lfValidaCEP(E768)=TRUE,\"Válido\",\"Inválido\")),\"\")","v":""}]
[null,null,null,null,null,null,null,null,null,null,"",{"$f":"IF(C769<>0,(IF(lfValidaCNPJ(C769)=TRUE,\"Válido\",\"Inválido\")),\"\")","v":""},{"$f":"IF(E769<>0,(IF(lfValidaCEP(E769)=TRUE,\"Válido\",\"Inválido\")),\"\")","v":""}]
[null,null,null,null,null,null,null,null,null,null,"",{"$f":"IF(C770<>0,(IF(lfValidaCNPJ(C770)=TRUE,\"Válido\",\"Inválido\")),\"\")","v":""},{"$f":"IF(E770<>0,(IF(lfValidaCEP(E770)=TRUE,\"Válido\",\"Inválido\")),\"\")","v":""}]
[null,null,null,null,null,null,null,null,null,null,"",{"$f":"IF(C771<>0,(IF(lfValidaCNPJ(C771)=TRUE,\"Válido\",\"Inválido\")),\"\")","v":""},{"$f":"IF(E771<>0,(IF(lfValidaCEP(E771)=TRUE,\"Válido\",\"Inválido\")),\"\")","v":""}]
[null,null,null,null,null,null,null,null,null,null,"",{"$f":"IF(C772<>0,(IF(lfValidaCNPJ(C772)=TRUE,\"Válido\",\"Inválido\")),\"\")","v":""},{"$f":"IF(E772<>0,(IF(lfValidaCEP(E772)=TRUE,\"Válido\",\"Inválido\")),\"\")","v":""}]
[null,null,null,null,null,null,null,null,null,null,"",{"$f":"IF(C773<>0,(IF(lfValidaCNPJ(C773)=TRUE,\"Válido\",\"Inválido\")),\"\")","v":""},{"$f":"IF(E773<>0,(IF(lfValidaCEP(E773)=TRUE,\"Válido\",\"Inválido\")),\"\")","v":""}]
[null,null,null,null,null,null,null,null,null,null,"",{"$f":"IF(C774<>0,(IF(lfValidaCNPJ(C774)=TRUE,\"Válido\",\"Inválido\")),\"\")","v":""},{"$f":"IF(E774<>0,(IF(lfValidaCEP(E774)=TRUE,\"Válido\",\"Inválido\")),\"\")","v":""}]
[null,null,null,null,null,null,null,null,null,null,"",{"$f":"IF(C775<>0,(IF(lfValidaCNPJ(C775)=TRUE,\"Válido\",\"Inválido\")),\"\")","v":""},{"$f":"IF(E775<>0,(IF(lfValidaCEP(E775)=TRUE,\"Válido\",\"Inválido\")),\"\")","v":""}]
[null,null,null,null,null,null,null,null,null,null,"",{"$f":"IF(C776<>0,(IF(lfValidaCNPJ(C776)=TRUE,\"Válido\",\"Inválido\")),\"\")","v":""},{"$f":"IF(E776<>0,(IF(lfValidaCEP(E776)=TRUE,\"Válido\",\"Inválido\")),\"\")","v":""}]
[null,null,null,null,null,null,null,null,null,null,"",{"$f":"IF(C777<>0,(IF(lfValidaCNPJ(C777)=TRUE,\"Válido\",\"Inválido\")),\"\")","v":""},{"$f":"IF(E777<>0,(IF(lfValidaCEP(E777)=TRUE,\"Válido\",\"Inválido\")),\"\")","v":""}]
[null,null,null,null,null,null,null,null,null,null,"",{"$f":"IF(C778<>0,(IF(lfValidaCNPJ(C778)=TRUE,\"Válido\",\"Inválido\")),\"\")","v":""},{"$f":"IF(E778<>0,(IF(lfValidaCEP(E778)=TRUE,\"Válido\",\"Inválido\")),\"\")","v":""}]
[null,null,null,null,null,null,null,null,null,null,"",{"$f":"IF(C779<>0,(IF(lfValidaCNPJ(C779)=TRUE,\"Válido\",\"Inválido\")),\"\")","v":""},{"$f":"IF(E779<>0,(IF(lfValidaCEP(E779)=TRUE,\"Válido\",\"Inválido\")),\"\")","v":""}]
[null,null,null,null,null,null,null,null,null,null,{"$f":"IF(COUNTA(B780:I780)<>0,IF(AND(B780<>0,C780<>0,D780<>0,E780<>0,F780<>0,G780<>0,H780<>0,I780<>0),\"Completo\",\"Incompleto\"),\"\")","v":""},{"$f":"IF(C780<>0,(IF(lfValidaCNPJ(C780)=TRUE,\"Válido\",\"Inválido\")),\"\")","v":""},{"$f":"IF(E780<>0,(IF(lfValidaCEP(E780)=TRUE,\"Válido\",\"Inválido\")),\"\")","v":""}]
[null,null,null,null,null,null,null,null,null,null,"",{"$f":"IF(C781<>0,(IF(lfValidaCNPJ(C781)=TRUE,\"Válido\",\"Inválido\")),\"\")","v":""},{"$f":"IF(E781<>0,(IF(lfValidaCEP(E781)=TRUE,\"Válido\",\"Inválido\")),\"\")","v":""}]
[null,null,null,null,null,null,null,null,null,null,"",{"$f":"IF(C782<>0,(IF(lfValidaCNPJ(C782)=TRUE,\"Válido\",\"Inválido\")),\"\")","v":""},{"$f":"IF(E782<>0,(IF(lfValidaCEP(E782)=TRUE,\"Válido\",\"Inválido\")),\"\")","v":""}]
[null,null,null,null,null,null,null,null,null,null,"",{"$f":"IF(C783<>0,(IF(lfValidaCNPJ(C783)=TRUE,\"Válido\",\"Inválido\")),\"\")","v":""},{"$f":"IF(E783<>0,(IF(lfValidaCEP(E783)=TRUE,\"Válido\",\"Inválido\")),\"\")","v":""}]
[null,null,null,null,null,null,null,null,null,null,"",{"$f":"IF(C784<>0,(IF(lfValidaCNPJ(C784)=TRUE,\"Válido\",\"Inválido\")),\"\")","v":""},{"$f":"IF(E784<>0,(IF(lfValidaCEP(E784)=TRUE,\"Válido\",\"Inválido\")),\"\")","v":""}]
[null,null,null,null,null,null,null,null,null,null,"",{"$f":"IF(C785<>0,(IF(lfValidaCNPJ(C785)=TRUE,\"Válido\",\"Inválido\")),\"\")","v":""},{"$f":"IF(E785<>0,(IF(lfValidaCEP(E785)=TRUE,\"Válido\",\"Inválido\")),\"\")","v":""}]
[null,null,null,null,null,null,null,null,null,null,"",{"$f":"IF(C786<>0,(IF(lfValidaCNPJ(C786)=TRUE,\"Válido\",\"Inválido\")),\"\")","v":""},{"$f":"IF(E786<>0,(IF(lfValidaCEP(E786)=TRUE,\"Válido\",\"Inválido\")),\"\")","v":""}]
[null,null,null,null,null,null,null,null,null,null,"",{"$f":"IF(C787<>0,(IF(lfValidaCNPJ(C787)=TRUE,\"Válido\",\"Inválido\")),\"\")","v":""},{"$f":"IF(E787<>0,(IF(lfValidaCEP(E787)=TRUE,\"Válido\",\"Inválido\")),\"\")","v":""}]
[null,null,null,null,null,null,null,null,null,null,"",{"$f":"IF(C788<>0,(IF(lfValidaCNPJ(C788)=TRUE,\"Válido\",\"Inválido\")),\"\")","v":""},{"$f":"IF(E788<>0,(IF(lfValidaCEP(E788)=TRUE,\"Válido\",\"Inválido\")),\"\")","v":""}]
[null,null,null,null,null,null,null,null,null,null,"",{"$f":"IF(C789<>0,(IF(lfValidaCNPJ(C789)=TRUE,\"Válido\",\"Inválido\")),\"\")","v":""},{"$f":"IF(E789<>0,(IF(lfValidaCEP(E789)=TRUE,\"Válido\",\"Inválido\")),\"\")","v":""}]
[null,null,null,null,null,null,null,null,null,null,"",{"$f":"IF(C790<>0,(IF(lfValidaCNPJ(C790)=TRUE,\"Válido\",\"Inválido\")),\"\")","v":""},{"$f":"IF(E790<>0,(IF(lfValidaCEP(E790)=TRUE,\"Válido\",\"Inválido\")),\"\")","v":""}]
[null,null,null,null,null,null,null,null,null,null,"",{"$f":"IF(C791<>0,(IF(lfValidaCNPJ(C791)=TRUE,\"Válido\",\"Inválido\")),\"\")","v":""},{"$f":"IF(E791<>0,(IF(lfValidaCEP(E791)=TRUE,\"Válido\",\"Inválido\")),\"\")","v":""}]
[null,null,null,null,null,null,null,null,null,null,"",{"$f":"IF(C792<>0,(IF(lfValidaCNPJ(C792)=TRUE,\"Válido\",\"Inválido\")),\"\")","v":""},{"$f":"IF(E792<>0,(IF(lfValidaCEP(E792)=TRUE,\"Válido\",\"Inválido\")),\"\")","v":""}]
[null,null,null,null,null,null,null,null,null,null,"",{"$f":"IF(C793<>0,(IF(lfValidaCNPJ(C793)=TRUE,\"Válido\",\"Inválido\")),\"\")","v":""},{"$f":"IF(E793<>0,(IF(lfValidaCEP(E793)=TRUE,\"Válido\",\"Inválido\")),\"\")","v":""}]
[null,null,null,null,null,null,null,null,null,null,"",{"$f":"IF(C794<>0,(IF(lfValidaCNPJ(C794)=TRUE,\"Válido\",\"Inválido\")),\"\")","v":""},{"$f":"IF(E794<>0,(IF(lfValidaCEP(E794)=TRUE,\"Válido\",\"Inválido\")),\"\")","v":""}]
[null,null,null,null,null,null,null,null,null,null,"",{"$f":"IF(C795<>0,(IF(lfValidaCNPJ(C795)=TRUE,\"Válido\",\"Inválido\")),\"\")","v":""},{"$f":"IF(E795<>0,(IF(lfValidaCEP(E795)=TRUE,\"Válido\",\"Inválido\")),\"\")","v":""}]
[null,null,null,null,null,null,null,null,null,null,"",{"$f":"IF(C796<>0,(IF(lfValidaCNPJ(C796)=TRUE,\"Válido\",\"Inválido\")),\"\")","v":""},{"$f":"IF(E796<>0,(IF(lfValidaCEP(E796)=TRUE,\"Válido\",\"Inválido\")),\"\")","v":""}]
[null,null,null,null,null,null,null,null,null,null,"",{"$f":"IF(C797<>0,(IF(lfValidaCNPJ(C797)=TRUE,\"Válido\",\"Inválido\")),\"\")","v":""},{"$f":"IF(E797<>0,(IF(lfValidaCEP(E797)=TRUE,\"Válido\",\"Inválido\")),\"\")","v":""}]
[null,null,null,null,null,null,null,null,null,null,"",{"$f":"IF(C798<>0,(IF(lfValidaCNPJ(C798)=TRUE,\"Válido\",\"Inválido\")),\"\")","v":""},{"$f":"IF(E798<>0,(IF(lfValidaCEP(E798)=TRUE,\"Válido\",\"Inválido\")),\"\")","v":""}]
[null,null,null,null,null,null,null,null,null,null,"",{"$f":"IF(C799<>0,(IF(lfValidaCNPJ(C799)=TRUE,\"Válido\",\"Inválido\")),\"\")","v":""},{"$f":"IF(E799<>0,(IF(lfValidaCEP(E799)=TRUE,\"Válido\",\"Inválido\")),\"\")","v":""}]
[null,null,null,null,null,null,null,null,null,null,"",{"$f":"IF(C800<>0,(IF(lfValidaCNPJ(C800)=TRUE,\"Válido\",\"Inválido\")),\"\")","v":""},{"$f":"IF(E800<>0,(IF(lfValidaCEP(E800)=TRUE,\"Válido\",\"Inválido\")),\"\")","v":""}]
[null,null,null,null,null,null,null,null,null,null,"",{"$f":"IF(C801<>0,(IF(lfValidaCNPJ(C801)=TRUE,\"Válido\",\"Inválido\")),\"\")","v":""},{"$f":"IF(E801<>0,(IF(lfValidaCEP(E801)=TRUE,\"Válido\",\"Inválido\")),\"\")","v":""}]
[null,null,null,null,null,null,null,null,null,null,"",{"$f":"IF(C802<>0,(IF(lfValidaCNPJ(C802)=TRUE,\"Válido\",\"Inválido\")),\"\")","v":""},{"$f":"IF(E802<>0,(IF(lfValidaCEP(E802)=TRUE,\"Válido\",\"Inválido\")),\"\")","v":""}]
[null,null,null,null,null,null,null,null,null,null,"",{"$f":"IF(C803<>0,(IF(lfValidaCNPJ(C803)=TRUE,\"Válido\",\"Inválido\")),\"\")","v":""},{"$f":"IF(E803<>0,(IF(lfValidaCEP(E803)=TRUE,\"Válido\",\"Inválido\")),\"\")","v":""}]
[null,null,null,null,null,null,null,null,null,null,"",{"$f":"IF(C804<>0,(IF(lfValidaCNPJ(C804)=TRUE,\"Válido\",\"Inválido\")),\"\")","v":""},{"$f":"IF(E804<>0,(IF(lfValidaCEP(E804)=TRUE,\"Válido\",\"Inválido\")),\"\")","v":""}]
[null,null,null,null,null,null,null,null,null,null,"",{"$f":"IF(C805<>0,(IF(lfValidaCNPJ(C805)=TRUE,\"Válido\",\"Inválido\")),\"\")","v":""},{"$f":"IF(E805<>0,(IF(lfValidaCEP(E805)=TRUE,\"Válido\",\"Inválido\")),\"\")","v":""}]
[null,null,null,null,null,null,null,null,null,null,"",{"$f":"IF(C806<>0,(IF(lfValidaCNPJ(C806)=TRUE,\"Válido\",\"Inválido\")),\"\")","v":""},{"$f":"IF(E806<>0,(IF(lfValidaCEP(E806)=TRUE,\"Válido\",\"Inválido\")),\"\")","v":""}]
[null,null,null,null,null,null,null,null,null,null,"",{"$f":"IF(C807<>0,(IF(lfValidaCNPJ(C807)=TRUE,\"Válido\",\"Inválido\")),\"\")","v":""},{"$f":"IF(E807<>0,(IF(lfValidaCEP(E807)=TRUE,\"Válido\",\"Inválido\")),\"\")","v":""}]
[null,null,null,null,null,null,null,null,null,null,"",{"$f":"IF(C808<>0,(IF(lfValidaCNPJ(C808)=TRUE,\"Válido\",\"Inválido\")),\"\")","v":""},{"$f":"IF(E808<>0,(IF(lfValidaCEP(E808)=TRUE,\"Válido\",\"Inválido\")),\"\")","v":""}]
[null,null,null,null,null,null,null,null,null,null,"",{"$f":"IF(C809<>0,(IF(lfValidaCNPJ(C809)=TRUE,\"Válido\",\"Inválido\")),\"\")","v":""},{"$f":"IF(E809<>0,(IF(lfValidaCEP(E809)=TRUE,\"Válido\",\"Inválido\")),\"\")","v":""}]
[null,null,null,null,null,null,null,null,null,null,"",{"$f":"IF(C810<>0,(IF(lfValidaCNPJ(C810)=TRUE,\"Válido\",\"Inválido\")),\"\")","v":""},{"$f":"IF(E810<>0,(IF(lfValidaCEP(E810)=TRUE,\"Válido\",\"Inválido\")),\"\")","v":""}]
[null,null,null,null,null,null,null,null,null,null,"",{"$f":"IF(C811<>0,(IF(lfValidaCNPJ(C811)=TRUE,\"Válido\",\"Inválido\")),\"\")","v":""},{"$f":"IF(E811<>0,(IF(lfValidaCEP(E811)=TRUE,\"Válido\",\"Inválido\")),\"\")","v":""}]
[null,null,null,null,null,null,null,null,null,null,"",{"$f":"IF(C812<>0,(IF(lfValidaCNPJ(C812)=TRUE,\"Válido\",\"Inválido\")),\"\")","v":""},{"$f":"IF(E812<>0,(IF(lfValidaCEP(E812)=TRUE,\"Válido\",\"Inválido\")),\"\")","v":""}]
[null,null,null,null,null,null,null,null,null,null,"",{"$f":"IF(C813<>0,(IF(lfValidaCNPJ(C813)=TRUE,\"Válido\",\"Inválido\")),\"\")","v":""},{"$f":"IF(E813<>0,(IF(lfValidaCEP(E813)=TRUE,\"Válido\",\"Inválido\")),\"\")","v":""}]
[null,null,null,null,null,null,null,null,null,null,"",{"$f":"IF(C814<>0,(IF(lfValidaCNPJ(C814)=TRUE,\"Válido\",\"Inválido\")),\"\")","v":""},{"$f":"IF(E814<>0,(IF(lfValidaCEP(E814)=TRUE,\"Válido\",\"Inválido\")),\"\")","v":""}]
[null,null,null,null,null,null,null,null,null,null,"",{"$f":"IF(C815<>0,(IF(lfValidaCNPJ(C815)=TRUE,\"Válido\",\"Inválido\")),\"\")","v":""},{"$f":"IF(E815<>0,(IF(lfValidaCEP(E815)=TRUE,\"Válido\",\"Inválido\")),\"\")","v":""}]
[null,null,null,null,null,null,null,null,null,null,"",{"$f":"IF(C816<>0,(IF(lfValidaCNPJ(C816)=TRUE,\"Válido\",\"Inválido\")),\"\")","v":""},{"$f":"IF(E816<>0,(IF(lfValidaCEP(E816)=TRUE,\"Válido\",\"Inválido\")),\"\")","v":""}]
[null,null,null,null,null,null,null,null,null,null,"",{"$f":"IF(C817<>0,(IF(lfValidaCNPJ(C817)=TRUE,\"Válido\",\"Inválido\")),\"\")","v":""},{"$f":"IF(E817<>0,(IF(lfValidaCEP(E817)=TRUE,\"Válido\",\"Inválido\")),\"\")","v":""}]
[null,null,null,null,null,null,null,null,null,null,"",{"$f":"IF(C818<>0,(IF(lfValidaCNPJ(C818)=TRUE,\"Válido\",\"Inválido\")),\"\")","v":""},{"$f":"IF(E818<>0,(IF(lfValidaCEP(E818)=TRUE,\"Válido\",\"Inválido\")),\"\")","v":""}]
[null,null,null,null,null,null,null,null,null,null,"",{"$f":"IF(C819<>0,(IF(lfValidaCNPJ(C819)=TRUE,\"Válido\",\"Inválido\")),\"\")","v":""},{"$f":"IF(E819<>0,(IF(lfValidaCEP(E819)=TRUE,\"Válido\",\"Inválido\")),\"\")","v":""}]
[null,null,null,null,null,null,null,null,null,null,"",{"$f":"IF(C820<>0,(IF(lfValidaCNPJ(C820)=TRUE,\"Válido\",\"Inválido\")),\"\")","v":""},{"$f":"IF(E820<>0,(IF(lfValidaCEP(E820)=TRUE,\"Válido\",\"Inválido\")),\"\")","v":""}]
[null,null,null,null,null,null,null,null,null,null,"",{"$f":"IF(C821<>0,(IF(lfValidaCNPJ(C821)=TRUE,\"Válido\",\"Inválido\")),\"\")","v":""},{"$f":"IF(E821<>0,(IF(lfValidaCEP(E821)=TRUE,\"Válido\",\"Inválido\")),\"\")","v":""}]
[null,null,null,null,null,null,null,null,null,null,"",{"$f":"IF(C822<>0,(IF(lfValidaCNPJ(C822)=TRUE,\"Válido\",\"Inválido\")),\"\")","v":""},{"$f":"IF(E822<>0,(IF(lfValidaCEP(E822)=TRUE,\"Válido\",\"Inválido\")),\"\")","v":""}]
[null,null,null,null,null,null,null,null,null,null,"",{"$f":"IF(C823<>0,(IF(lfValidaCNPJ(C823)=TRUE,\"Válido\",\"Inválido\")),\"\")","v":""},{"$f":"IF(E823<>0,(IF(lfValidaCEP(E823)=TRUE,\"Válido\",\"Inválido\")),\"\")","v":""}]
[null,null,null,null,null,null,null,null,null,null,"",{"$f":"IF(C824<>0,(IF(lfValidaCNPJ(C824)=TRUE,\"Válido\",\"Inválido\")),\"\")","v":""},{"$f":"IF(E824<>0,(IF(lfValidaCEP(E824)=TRUE,\"Válido\",\"Inválido\")),\"\")","v":""}]
[null,null,null,null,null,null,null,null,null,null,"",{"$f":"IF(C825<>0,(IF(lfValidaCNPJ(C825)=TRUE,\"Válido\",\"Inválido\")),\"\")","v":""},{"$f":"IF(E825<>0,(IF(lfValidaCEP(E825)=TRUE,\"Válido\",\"Inválido\")),\"\")","v":""}]
[null,null,null,null,null,null,null,null,null,null,"",{"$f":"IF(C826<>0,(IF(lfValidaCNPJ(C826)=TRUE,\"Válido\",\"Inválido\")),\"\")","v":""},{"$f":"IF(E826<>0,(IF(lfValidaCEP(E826)=TRUE,\"Válido\",\"Inválido\")),\"\")","v":""}]
[null,null,null,null,null,null,null,null,null,null,"",{"$f":"IF(C827<>0,(IF(lfValidaCNPJ(C827)=TRUE,\"Válido\",\"Inválido\")),\"\")","v":""},{"$f":"IF(E827<>0,(IF(lfValidaCEP(E827)=TRUE,\"Válido\",\"Inválido\")),\"\")","v":""}]
[null,null,null,null,null,null,null,null,null,null,"",{"$f":"IF(C828<>0,(IF(lfValidaCNPJ(C828)=TRUE,\"Válido\",\"Inválido\")),\"\")","v":""},{"$f":"IF(E828<>0,(IF(lfValidaCEP(E828)=TRUE,\"Válido\",\"Inválido\")),\"\")","v":""}]
[null,null,null,null,null,null,null,null,null,null,"",{"$f":"IF(C829<>0,(IF(lfValidaCNPJ(C829)=TRUE,\"Válido\",\"Inválido\")),\"\")","v":""},{"$f":"IF(E829<>0,(IF(lfValidaCEP(E829)=TRUE,\"Válido\",\"Inválido\")),\"\")","v":""}]
[null,null,null,null,null,null,null,null,null,null,"",{"$f":"IF(C830<>0,(IF(lfValidaCNPJ(C830)=TRUE,\"Válido\",\"Inválido\")),\"\")","v":""},{"$f":"IF(E830<>0,(IF(lfValidaCEP(E830)=TRUE,\"Válido\",\"Inválido\")),\"\")","v":""}]
[null,null,null,null,null,null,null,null,null,null,"",{"$f":"IF(C831<>0,(IF(lfValidaCNPJ(C831)=TRUE,\"Válido\",\"Inválido\")),\"\")","v":""},{"$f":"IF(E831<>0,(IF(lfValidaCEP(E831)=TRUE,\"Válido\",\"Inválido\")),\"\")","v":""}]
[null,null,null,null,null,null,null,null,null,null,"",{"$f":"IF(C832<>0,(IF(lfValidaCNPJ(C832)=TRUE,\"Válido\",\"Inválido\")),\"\")","v":""},{"$f":"IF(E832<>0,(IF(lfValidaCEP(E832)=TRUE,\"Válido\",\"Inválido\")),\"\")","v":""}]
[null,null,null,null,null,null,null,null,null,null,"",{"$f":"IF(C833<>0,(IF(lfValidaCNPJ(C833)=TRUE,\"Válido\",\"Inválido\")),\"\")","v":""},{"$f":"IF(E833<>0,(IF(lfValidaCEP(E833)=TRUE,\"Válido\",\"Inválido\")),\"\")","v":""}]
[null,null,null,null,null,null,null,null,null,null,"",{"$f":"IF(C834<>0,(IF(lfValidaCNPJ(C834)=TRUE,\"Válido\",\"Inválido\")),\"\")","v":""},{"$f":"IF(E834<>0,(IF(lfValidaCEP(E834)=TRUE,\"Válido\",\"Inválido\")),\"\")","v":""}]
[null,null,null,null,null,null,null,null,null,null,"",{"$f":"IF(C835<>0,(IF(lfValidaCNPJ(C835)=TRUE,\"Válido\",\"Inválido\")),\"\")","v":""},{"$f":"IF(E835<>0,(IF(lfValidaCEP(E835)=TRUE,\"Válido\",\"Inválido\")),\"\")","v":""}]
[null,null,null,null,null,null,null,null,null,null,"",{"$f":"IF(C836<>0,(IF(lfValidaCNPJ(C836)=TRUE,\"Válido\",\"Inválido\")),\"\")","v":""},{"$f":"IF(E836<>0,(IF(lfValidaCEP(E836)=TRUE,\"Válido\",\"Inválido\")),\"\")","v":""}]
[null,null,null,null,null,null,null,null,null,null,"",{"$f":"IF(C837<>0,(IF(lfValidaCNPJ(C837)=TRUE,\"Válido\",\"Inválido\")),\"\")","v":""},{"$f":"IF(E837<>0,(IF(lfValidaCEP(E837)=TRUE,\"Válido\",\"Inválido\")),\"\")","v":""}]
[null,null,null,null,null,null,null,null,null,null,"",{"$f":"IF(C838<>0,(IF(lfValidaCNPJ(C838)=TRUE,\"Válido\",\"Inválido\")),\"\")","v":""},{"$f":"IF(E838<>0,(IF(lfValidaCEP(E838)=TRUE,\"Válido\",\"Inválido\")),\"\")","v":""}]
[null,null,null,null,null,null,null,null,null,null,"",{"$f":"IF(C839<>0,(IF(lfValidaCNPJ(C839)=TRUE,\"Válido\",\"Inválido\")),\"\")","v":""},{"$f":"IF(E839<>0,(IF(lfValidaCEP(E839)=TRUE,\"Válido\",\"Inválido\")),\"\")","v":""}]
[null,null,null,null,null,null,null,null,null,null,"",{"$f":"IF(C840<>0,(IF(lfValidaCNPJ(C840)=TRUE,\"Válido\",\"Inválido\")),\"\")","v":""},{"$f":"IF(E840<>0,(IF(lfValidaCEP(E840)=TRUE,\"Válido\",\"Inválido\")),\"\")","v":""}]
[null,null,null,null,null,null,null,null,null,null,"",{"$f":"IF(C841<>0,(IF(lfValidaCNPJ(C841)=TRUE,\"Válido\",\"Inválido\")),\"\")","v":""},{"$f":"IF(E841<>0,(IF(lfValidaCEP(E841)=TRUE,\"Válido\",\"Inválido\")),\"\")","v":""}]
[null,null,null,null,null,null,null,null,null,null,"",{"$f":"IF(C842<>0,(IF(lfValidaCNPJ(C842)=TRUE,\"Válido\",\"Inválido\")),\"\")","v":""},{"$f":"IF(E842<>0,(IF(lfValidaCEP(E842)=TRUE,\"Válido\",\"Inválido\")),\"\")","v":""}]
[null,null,null,null,null,null,null,null,null,null,"",{"$f":"IF(C843<>0,(IF(lfValidaCNPJ(C843)=TRUE,\"Válido\",\"Inválido\")),\"\")","v":""},{"$f":"IF(E843<>0,(IF(lfValidaCEP(E843)=TRUE,\"Válido\",\"Inválido\")),\"\")","v":""}]
[null,null,null,null,null,null,null,null,null,null,{"$f":"IF(COUNTA(B844:I844)<>0,IF(AND(B844<>0,C844<>0,D844<>0,E844<>0,F844<>0,G844<>0,H844<>0,I844<>0),\"Completo\",\"Incompleto\"),\"\")","v":""},{"$f":"IF(C844<>0,(IF(lfValidaCNPJ(C844)=TRUE,\"Válido\",\"Inválido\")),\"\")","v":""},{"$f":"IF(E844<>0,(IF(lfValidaCEP(E844)=TRUE,\"Válido\",\"Inválido\")),\"\")","v":""}]
[null,null,null,null,null,null,null,null,null,null,"",{"$f":"IF(C845<>0,(IF(lfValidaCNPJ(C845)=TRUE,\"Válido\",\"Inválido\")),\"\")","v":""},{"$f":"IF(E845<>0,(IF(lfValidaCEP(E845)=TRUE,\"Válido\",\"Inválido\")),\"\")","v":""}]
[null,null,null,null,null,null,null,null,null,null,"",{"$f":"IF(C846<>0,(IF(lfValidaCNPJ(C846)=TRUE,\"Válido\",\"Inválido\")),\"\")","v":""},{"$f":"IF(E846<>0,(IF(lfValidaCEP(E846)=TRUE,\"Válido\",\"Inválido\")),\"\")","v":""}]
[null,null,null,null,null,null,null,null,null,null,"",{"$f":"IF(C847<>0,(IF(lfValidaCNPJ(C847)=TRUE,\"Válido\",\"Inválido\")),\"\")","v":""},{"$f":"IF(E847<>0,(IF(lfValidaCEP(E847)=TRUE,\"Válido\",\"Inválido\")),\"\")","v":""}]
[null,null,null,null,null,null,null,null,null,null,"",{"$f":"IF(C848<>0,(IF(lfValidaCNPJ(C848)=TRUE,\"Válido\",\"Inválido\")),\"\")","v":""},{"$f":"IF(E848<>0,(IF(lfValidaCEP(E848)=TRUE,\"Válido\",\"Inválido\")),\"\")","v":""}]
[null,null,null,null,null,null,null,null,null,null,"",{"$f":"IF(C849<>0,(IF(lfValidaCNPJ(C849)=TRUE,\"Válido\",\"Inválido\")),\"\")","v":""},{"$f":"IF(E849<>0,(IF(lfValidaCEP(E849)=TRUE,\"Válido\",\"Inválido\")),\"\")","v":""}]
[null,null,null,null,null,null,null,null,null,null,"",{"$f":"IF(C850<>0,(IF(lfValidaCNPJ(C850)=TRUE,\"Válido\",\"Inválido\")),\"\")","v":""},{"$f":"IF(E850<>0,(IF(lfValidaCEP(E850)=TRUE,\"Válido\",\"Inválido\")),\"\")","v":""}]
[null,null,null,null,null,null,null,null,null,null,"",{"$f":"IF(C851<>0,(IF(lfValidaCNPJ(C851)=TRUE,\"Válido\",\"Inválido\")),\"\")","v":""},{"$f":"IF(E851<>0,(IF(lfValidaCEP(E851)=TRUE,\"Válido\",\"Inválido\")),\"\")","v":""}]
[null,null,null,null,null,null,null,null,null,null,"",{"$f":"IF(C852<>0,(IF(lfValidaCNPJ(C852)=TRUE,\"Válido\",\"Inválido\")),\"\")","v":""},{"$f":"IF(E852<>0,(IF(lfValidaCEP(E852)=TRUE,\"Válido\",\"Inválido\")),\"\")","v":""}]
[null,null,null,null,null,null,null,null,null,null,"",{"$f":"IF(C853<>0,(IF(lfValidaCNPJ(C853)=TRUE,\"Válido\",\"Inválido\")),\"\")","v":""},{"$f":"IF(E853<>0,(IF(lfValidaCEP(E853)=TRUE,\"Válido\",\"Inválido\")),\"\")","v":""}]
[null,null,null,null,null,null,null,null,null,null,"",{"$f":"IF(C854<>0,(IF(lfValidaCNPJ(C854)=TRUE,\"Válido\",\"Inválido\")),\"\")","v":""},{"$f":"IF(E854<>0,(IF(lfValidaCEP(E854)=TRUE,\"Válido\",\"Inválido\")),\"\")","v":""}]
[null,null,null,null,null,null,null,null,null,null,"",{"$f":"IF(C855<>0,(IF(lfValidaCNPJ(C855)=TRUE,\"Válido\",\"Inválido\")),\"\")","v":""},{"$f":"IF(E855<>0,(IF(lfValidaCEP(E855)=TRUE,\"Válido\",\"Inválido\")),\"\")","v":""}]
[null,null,null,null,null,null,null,null,null,null,"",{"$f":"IF(C856<>0,(IF(lfValidaCNPJ(C856)=TRUE,\"Válido\",\"Inválido\")),\"\")","v":""},{"$f":"IF(E856<>0,(IF(lfValidaCEP(E856)=TRUE,\"Válido\",\"Inválido\")),\"\")","v":""}]
[null,null,null,null,null,null,null,null,null,null,"",{"$f":"IF(C857<>0,(IF(lfValidaCNPJ(C857)=TRUE,\"Válido\",\"Inválido\")),\"\")","v":""},{"$f":"IF(E857<>0,(IF(lfValidaCEP(E857)=TRUE,\"Válido\",\"Inválido\")),\"\")","v":""}]
[null,null,null,null,null,null,null,null,null,null,"",{"$f":"IF(C858<>0,(IF(lfValidaCNPJ(C858)=TRUE,\"Válido\",\"Inválido\")),\"\")","v":""},{"$f":"IF(E858<>0,(IF(lfValidaCEP(E858)=TRUE,\"Válido\",\"Inválido\")),\"\")","v":""}]
[null,null,null,null,null,null,null,null,null,null,"",{"$f":"IF(C859<>0,(IF(lfValidaCNPJ(C859)=TRUE,\"Válido\",\"Inválido\")),\"\")","v":""},{"$f":"IF(E859<>0,(IF(lfValidaCEP(E859)=TRUE,\"Válido\",\"Inválido\")),\"\")","v":""}]
[null,null,null,null,null,null,null,null,null,null,"",{"$f":"IF(C860<>0,(IF(lfValidaCNPJ(C860)=TRUE,\"Válido\",\"Inválido\")),\"\")","v":""},{"$f":"IF(E860<>0,(IF(lfValidaCEP(E860)=TRUE,\"Válido\",\"Inválido\")),\"\")","v":""}]
[null,null,null,null,null,null,null,null,null,null,"",{"$f":"IF(C861<>0,(IF(lfValidaCNPJ(C861)=TRUE,\"Válido\",\"Inválido\")),\"\")","v":""},{"$f":"IF(E861<>0,(IF(lfValidaCEP(E861)=TRUE,\"Válido\",\"Inválido\")),\"\")","v":""}]
[null,null,null,null,null,null,null,null,null,null,"",{"$f":"IF(C862<>0,(IF(lfValidaCNPJ(C862)=TRUE,\"Válido\",\"Inválido\")),\"\")","v":""},{"$f":"IF(E862<>0,(IF(lfValidaCEP(E862)=TRUE,\"Válido\",\"Inválido\")),\"\")","v":""}]
[null,null,null,null,null,null,null,null,null,null,"",{"$f":"IF(C863<>0,(IF(lfValidaCNPJ(C863)=TRUE,\"Válido\",\"Inválido\")),\"\")","v":""},{"$f":"IF(E863<>0,(IF(lfValidaCEP(E863)=TRUE,\"Válido\",\"Inválido\")),\"\")","v":""}]
[null,null,null,null,null,null,null,null,null,null,"",{"$f":"IF(C864<>0,(IF(lfValidaCNPJ(C864)=TRUE,\"Válido\",\"Inválido\")),\"\")","v":""},{"$f":"IF(E864<>0,(IF(lfValidaCEP(E864)=TRUE,\"Válido\",\"Inválido\")),\"\")","v":""}]
[null,null,null,null,null,null,null,null,null,null,"",{"$f":"IF(C865<>0,(IF(lfValidaCNPJ(C865)=TRUE,\"Válido\",\"Inválido\")),\"\")","v":""},{"$f":"IF(E865<>0,(IF(lfValidaCEP(E865)=TRUE,\"Válido\",\"Inválido\")),\"\")","v":""}]
[null,null,null,null,null,null,null,null,null,null,"",{"$f":"IF(C866<>0,(IF(lfValidaCNPJ(C866)=TRUE,\"Válido\",\"Inválido\")),\"\")","v":""},{"$f":"IF(E866<>0,(IF(lfValidaCEP(E866)=TRUE,\"Válido\",\"Inválido\")),\"\")","v":""}]
[null,null,null,null,null,null,null,null,null,null,"",{"$f":"IF(C867<>0,(IF(lfValidaCNPJ(C867)=TRUE,\"Válido\",\"Inválido\")),\"\")","v":""},{"$f":"IF(E867<>0,(IF(lfValidaCEP(E867)=TRUE,\"Válido\",\"Inválido\")),\"\")","v":""}]
[null,null,null,null,null,null,null,null,null,null,"",{"$f":"IF(C868<>0,(IF(lfValidaCNPJ(C868)=TRUE,\"Válido\",\"Inválido\")),\"\")","v":""},{"$f":"IF(E868<>0,(IF(lfValidaCEP(E868)=TRUE,\"Válido\",\"Inválido\")),\"\")","v":""}]
[null,null,null,null,null,null,null,null,null,null,"",{"$f":"IF(C869<>0,(IF(lfValidaCNPJ(C869)=TRUE,\"Válido\",\"Inválido\")),\"\")","v":""},{"$f":"IF(E869<>0,(IF(lfValidaCEP(E869)=TRUE,\"Válido\",\"Inválido\")),\"\")","v":""}]
[null,null,null,null,null,null,null,null,null,null,"",{"$f":"IF(C870<>0,(IF(lfValidaCNPJ(C870)=TRUE,\"Válido\",\"Inválido\")),\"\")","v":""},{"$f":"IF(E870<>0,(IF(lfValidaCEP(E870)=TRUE,\"Válido\",\"Inválido\")),\"\")","v":""}]
[null,null,null,null,null,null,null,null,null,null,"",{"$f":"IF(C871<>0,(IF(lfValidaCNPJ(C871)=TRUE,\"Válido\",\"Inválido\")),\"\")","v":""},{"$f":"IF(E871<>0,(IF(lfValidaCEP(E871)=TRUE,\"Válido\",\"Inválido\")),\"\")","v":""}]
[null,null,null,null,null,null,null,null,null,null,"",{"$f":"IF(C872<>0,(IF(lfValidaCNPJ(C872)=TRUE,\"Válido\",\"Inválido\")),\"\")","v":""},{"$f":"IF(E872<>0,(IF(lfValidaCEP(E872)=TRUE,\"Válido\",\"Inválido\")),\"\")","v":""}]
[null,null,null,null,null,null,null,null,null,null,"",{"$f":"IF(C873<>0,(IF(lfValidaCNPJ(C873)=TRUE,\"Válido\",\"Inválido\")),\"\")","v":""},{"$f":"IF(E873<>0,(IF(lfValidaCEP(E873)=TRUE,\"Válido\",\"Inválido\")),\"\")","v":""}]
[null,null,null,null,null,null,null,null,null,null,"",{"$f":"IF(C874<>0,(IF(lfValidaCNPJ(C874)=TRUE,\"Válido\",\"Inválido\")),\"\")","v":""},{"$f":"IF(E874<>0,(IF(lfValidaCEP(E874)=TRUE,\"Válido\",\"Inválido\")),\"\")","v":""}]
[null,null,null,null,null,null,null,null,null,null,"",{"$f":"IF(C875<>0,(IF(lfValidaCNPJ(C875)=TRUE,\"Válido\",\"Inválido\")),\"\")","v":""},{"$f":"IF(E875<>0,(IF(lfValidaCEP(E875)=TRUE,\"Válido\",\"Inválido\")),\"\")","v":""}]
[null,null,null,null,null,null,null,null,null,null,"",{"$f":"IF(C876<>0,(IF(lfValidaCNPJ(C876)=TRUE,\"Válido\",\"Inválido\")),\"\")","v":""},{"$f":"IF(E876<>0,(IF(lfValidaCEP(E876)=TRUE,\"Válido\",\"Inválido\")),\"\")","v":""}]
[null,null,null,null,null,null,null,null,null,null,"",{"$f":"IF(C877<>0,(IF(lfValidaCNPJ(C877)=TRUE,\"Válido\",\"Inválido\")),\"\")","v":""},{"$f":"IF(E877<>0,(IF(lfValidaCEP(E877)=TRUE,\"Válido\",\"Inválido\")),\"\")","v":""}]
[null,null,null,null,null,null,null,null,null,null,"",{"$f":"IF(C878<>0,(IF(lfValidaCNPJ(C878)=TRUE,\"Válido\",\"Inválido\")),\"\")","v":""},{"$f":"IF(E878<>0,(IF(lfValidaCEP(E878)=TRUE,\"Válido\",\"Inválido\")),\"\")","v":""}]
[null,null,null,null,null,null,null,null,null,null,"",{"$f":"IF(C879<>0,(IF(lfValidaCNPJ(C879)=TRUE,\"Válido\",\"Inválido\")),\"\")","v":""},{"$f":"IF(E879<>0,(IF(lfValidaCEP(E879)=TRUE,\"Válido\",\"Inválido\")),\"\")","v":""}]
[null,null,null,null,null,null,null,null,null,null,"",{"$f":"IF(C880<>0,(IF(lfValidaCNPJ(C880)=TRUE,\"Válido\",\"Inválido\")),\"\")","v":""},{"$f":"IF(E880<>0,(IF(lfValidaCEP(E880)=TRUE,\"Válido\",\"Inválido\")),\"\")","v":""}]
[null,null,null,null,null,null,null,null,null,null,"",{"$f":"IF(C881<>0,(IF(lfValidaCNPJ(C881)=TRUE,\"Válido\",\"Inválido\")),\"\")","v":""},{"$f":"IF(E881<>0,(IF(lfValidaCEP(E881)=TRUE,\"Válido\",\"Inválido\")),\"\")","v":""}]
[null,null,null,null,null,null,null,null,null,null,"",{"$f":"IF(C882<>0,(IF(lfValidaCNPJ(C882)=TRUE,\"Válido\",\"Inválido\")),\"\")","v":""},{"$f":"IF(E882<>0,(IF(lfValidaCEP(E882)=TRUE,\"Válido\",\"Inválido\")),\"\")","v":""}]
[null,null,null,null,null,null,null,null,null,null,"",{"$f":"IF(C883<>0,(IF(lfValidaCNPJ(C883)=TRUE,\"Válido\",\"Inválido\")),\"\")","v":""},{"$f":"IF(E883<>0,(IF(lfValidaCEP(E883)=TRUE,\"Válido\",\"Inválido\")),\"\")","v":""}]
[null,null,null,null,null,null,null,null,null,null,"",{"$f":"IF(C884<>0,(IF(lfValidaCNPJ(C884)=TRUE,\"Válido\",\"Inválido\")),\"\")","v":""},{"$f":"IF(E884<>0,(IF(lfValidaCEP(E884)=TRUE,\"Válido\",\"Inválido\")),\"\")","v":""}]
[null,null,null,null,null,null,null,null,null,null,"",{"$f":"IF(C885<>0,(IF(lfValidaCNPJ(C885)=TRUE,\"Válido\",\"Inválido\")),\"\")","v":""},{"$f":"IF(E885<>0,(IF(lfValidaCEP(E885)=TRUE,\"Válido\",\"Inválido\")),\"\")","v":""}]
[null,null,null,null,null,null,null,null,null,null,"",{"$f":"IF(C886<>0,(IF(lfValidaCNPJ(C886)=TRUE,\"Válido\",\"Inválido\")),\"\")","v":""},{"$f":"IF(E886<>0,(IF(lfValidaCEP(E886)=TRUE,\"Válido\",\"Inválido\")),\"\")","v":""}]
[null,null,null,null,null,null,null,null,null,null,"",{"$f":"IF(C887<>0,(IF(lfValidaCNPJ(C887)=TRUE,\"Válido\",\"Inválido\")),\"\")","v":""},{"$f":"IF(E887<>0,(IF(lfValidaCEP(E887)=TRUE,\"Válido\",\"Inválido\")),\"\")","v":""}]
[null,null,null,null,null,null,null,null,null,null,"",{"$f":"IF(C888<>0,(IF(lfValidaCNPJ(C888)=TRUE,\"Válido\",\"Inválido\")),\"\")","v":""},{"$f":"IF(E888<>0,(IF(lfValidaCEP(E888)=TRUE,\"Válido\",\"Inválido\")),\"\")","v":""}]
[null,null,null,null,null,null,null,null,null,null,"",{"$f":"IF(C889<>0,(IF(lfValidaCNPJ(C889)=TRUE,\"Válido\",\"Inválido\")),\"\")","v":""},{"$f":"IF(E889<>0,(IF(lfValidaCEP(E889)=TRUE,\"Válido\",\"Inválido\")),\"\")","v":""}]
[null,null,null,null,null,null,null,null,null,null,"",{"$f":"IF(C890<>0,(IF(lfValidaCNPJ(C890)=TRUE,\"Válido\",\"Inválido\")),\"\")","v":""},{"$f":"IF(E890<>0,(IF(lfValidaCEP(E890)=TRUE,\"Válido\",\"Inválido\")),\"\")","v":""}]
[null,null,null,null,null,null,null,null,null,null,"",{"$f":"IF(C891<>0,(IF(lfValidaCNPJ(C891)=TRUE,\"Válido\",\"Inválido\")),\"\")","v":""},{"$f":"IF(E891<>0,(IF(lfValidaCEP(E891)=TRUE,\"Válido\",\"Inválido\")),\"\")","v":""}]
[null,null,null,null,null,null,null,null,null,null,"",{"$f":"IF(C892<>0,(IF(lfValidaCNPJ(C892)=TRUE,\"Válido\",\"Inválido\")),\"\")","v":""},{"$f":"IF(E892<>0,(IF(lfValidaCEP(E892)=TRUE,\"Válido\",\"Inválido\")),\"\")","v":""}]
[null,null,null,null,null,null,null,null,null,null,"",{"$f":"IF(C893<>0,(IF(lfValidaCNPJ(C893)=TRUE,\"Válido\",\"Inválido\")),\"\")","v":""},{"$f":"IF(E893<>0,(IF(lfValidaCEP(E893)=TRUE,\"Válido\",\"Inválido\")),\"\")","v":""}]
[null,null,null,null,null,null,null,null,null,null,"",{"$f":"IF(C894<>0,(IF(lfValidaCNPJ(C894)=TRUE,\"Válido\",\"Inválido\")),\"\")","v":""},{"$f":"IF(E894<>0,(IF(lfValidaCEP(E894)=TRUE,\"Válido\",\"Inválido\")),\"\")","v":""}]
[null,null,null,null,null,null,null,null,null,null,"",{"$f":"IF(C895<>0,(IF(lfValidaCNPJ(C895)=TRUE,\"Válido\",\"Inválido\")),\"\")","v":""},{"$f":"IF(E895<>0,(IF(lfValidaCEP(E895)=TRUE,\"Válido\",\"Inválido\")),\"\")","v":""}]
[null,null,null,null,null,null,null,null,null,null,"",{"$f":"IF(C896<>0,(IF(lfValidaCNPJ(C896)=TRUE,\"Válido\",\"Inválido\")),\"\")","v":""},{"$f":"IF(E896<>0,(IF(lfValidaCEP(E896)=TRUE,\"Válido\",\"Inválido\")),\"\")","v":""}]
[null,null,null,null,null,null,null,null,null,null,"",{"$f":"IF(C897<>0,(IF(lfValidaCNPJ(C897)=TRUE,\"Válido\",\"Inválido\")),\"\")","v":""},{"$f":"IF(E897<>0,(IF(lfValidaCEP(E897)=TRUE,\"Válido\",\"Inválido\")),\"\")","v":""}]
[null,null,null,null,null,null,null,null,null,null,"",{"$f":"IF(C898<>0,(IF(lfValidaCNPJ(C898)=TRUE,\"Válido\",\"Inválido\")),\"\")","v":""},{"$f":"IF(E898<>0,(IF(lfValidaCEP(E898)=TRUE,\"Válido\",\"Inválido\")),\"\")","v":""}]
[null,null,null,null,null,null,null,null,null,null,"",{"$f":"IF(C899<>0,(IF(lfValidaCNPJ(C899)=TRUE,\"Válido\",\"Inválido\")),\"\")","v":""},{"$f":"IF(E899<>0,(IF(lfValidaCEP(E899)=TRUE,\"Válido\",\"Inválido\")),\"\")","v":""}]
[null,null,null,null,null,null,null,null,null,null,"",{"$f":"IF(C900<>0,(IF(lfValidaCNPJ(C900)=TRUE,\"Válido\",\"Inválido\")),\"\")","v":""},{"$f":"IF(E900<>0,(IF(lfValidaCEP(E900)=TRUE,\"Válido\",\"Inválido\")),\"\")","v":""}]
[null,null,null,null,null,null,null,null,null,null,"",{"$f":"IF(C901<>0,(IF(lfValidaCNPJ(C901)=TRUE,\"Válido\",\"Inválido\")),\"\")","v":""},{"$f":"IF(E901<>0,(IF(lfValidaCEP(E901)=TRUE,\"Válido\",\"Inválido\")),\"\")","v":""}]
[null,null,null,null,null,null,null,null,null,null,"",{"$f":"IF(C902<>0,(IF(lfValidaCNPJ(C902)=TRUE,\"Válido\",\"Inválido\")),\"\")","v":""},{"$f":"IF(E902<>0,(IF(lfValidaCEP(E902)=TRUE,\"Válido\",\"Inválido\")),\"\")","v":""}]
[null,null,null,null,null,null,null,null,null,null,"",{"$f":"IF(C903<>0,(IF(lfValidaCNPJ(C903)=TRUE,\"Válido\",\"Inválido\")),\"\")","v":""},{"$f":"IF(E903<>0,(IF(lfValidaCEP(E903)=TRUE,\"Válido\",\"Inválido\")),\"\")","v":""}]
[null,null,null,null,null,null,null,null,null,null,"",{"$f":"IF(C904<>0,(IF(lfValidaCNPJ(C904)=TRUE,\"Válido\",\"Inválido\")),\"\")","v":""},{"$f":"IF(E904<>0,(IF(lfValidaCEP(E904)=TRUE,\"Válido\",\"Inválido\")),\"\")","v":""}]
[null,null,null,null,null,null,null,null,null,null,"",{"$f":"IF(C905<>0,(IF(lfValidaCNPJ(C905)=TRUE,\"Válido\",\"Inválido\")),\"\")","v":""},{"$f":"IF(E905<>0,(IF(lfValidaCEP(E905)=TRUE,\"Válido\",\"Inválido\")),\"\")","v":""}]
[null,null,null,null,null,null,null,null,null,null,"",{"$f":"IF(C906<>0,(IF(lfValidaCNPJ(C906)=TRUE,\"Válido\",\"Inválido\")),\"\")","v":""},{"$f":"IF(E906<>0,(IF(lfValidaCEP(E906)=TRUE,\"Válido\",\"Inválido\")),\"\")","v":""}]
[null,null,null,null,null,null,null,null,null,null,"",{"$f":"IF(C907<>0,(IF(lfValidaCNPJ(C907)=TRUE,\"Válido\",\"Inválido\")),\"\")","v":""},{"$f":"IF(E907<>0,(IF(lfValidaCEP(E907)=TRUE,\"Válido\",\"Inválido\")),\"\")","v":""}]
[null,null,null,null,null,null,null,null,null,null,{"$f":"IF(COUNTA(B908:I908)<>0,IF(AND(B908<>0,C908<>0,D908<>0,E908<>0,F908<>0,G908<>0,H908<>0,I908<>0),\"Completo\",\"Incompleto\"),\"\")","v":""},{"$f":"IF(C908<>0,(IF(lfValidaCNPJ(C908)=TRUE,\"Válido\",\"Inválido\")),\"\")","v":""},{"$f":"IF(E908<>0,(IF(lfValidaCEP(E908)=TRUE,\"Válido\",\"Inválido\")),\"\")","v":""}]
[null,null,null,null,null,null,null,null,null,null,"",{"$f":"IF(C909<>0,(IF(lfValidaCNPJ(C909)=TRUE,\"Válido\",\"Inválido\")),\"\")","v":""},{"$f":"IF(E909<>0,(IF(lfValidaCEP(E909)=TRUE,\"Válido\",\"Inválido\")),\"\")","v":""}]
[null,null,null,null,null,null,null,null,null,null,"",{"$f":"IF(C910<>0,(IF(lfValidaCNPJ(C910)=TRUE,\"Válido\",\"Inválido\")),\"\")","v":""},{"$f":"IF(E910<>0,(IF(lfValidaCEP(E910)=TRUE,\"Válido\",\"Inválido\")),\"\")","v":""}]
[null,null,null,null,null,null,null,null,null,null,"",{"$f":"IF(C911<>0,(IF(lfValidaCNPJ(C911)=TRUE,\"Válido\",\"Inválido\")),\"\")","v":""},{"$f":"IF(E911<>0,(IF(lfValidaCEP(E911)=TRUE,\"Válido\",\"Inválido\")),\"\")","v":""}]
[null,null,null,null,null,null,null,null,null,null,"",{"$f":"IF(C912<>0,(IF(lfValidaCNPJ(C912)=TRUE,\"Válido\",\"Inválido\")),\"\")","v":""},{"$f":"IF(E912<>0,(IF(lfValidaCEP(E912)=TRUE,\"Válido\",\"Inválido\")),\"\")","v":""}]
[null,null,null,null,null,null,null,null,null,null,"",{"$f":"IF(C913<>0,(IF(lfValidaCNPJ(C913)=TRUE,\"Válido\",\"Inválido\")),\"\")","v":""},{"$f":"IF(E913<>0,(IF(lfValidaCEP(E913)=TRUE,\"Válido\",\"Inválido\")),\"\")","v":""}]
[null,null,null,null,null,null,null,null,null,null,"",{"$f":"IF(C914<>0,(IF(lfValidaCNPJ(C914)=TRUE,\"Válido\",\"Inválido\")),\"\")","v":""},{"$f":"IF(E914<>0,(IF(lfValidaCEP(E914)=TRUE,\"Válido\",\"Inválido\")),\"\")","v":""}]
[null,null,null,null,null,null,null,null,null,null,"",{"$f":"IF(C915<>0,(IF(lfValidaCNPJ(C915)=TRUE,\"Válido\",\"Inválido\")),\"\")","v":""},{"$f":"IF(E915<>0,(IF(lfValidaCEP(E915)=TRUE,\"Válido\",\"Inválido\")),\"\")","v":""}]
[null,null,null,null,null,null,null,null,null,null,"",{"$f":"IF(C916<>0,(IF(lfValidaCNPJ(C916)=TRUE,\"Válido\",\"Inválido\")),\"\")","v":""},{"$f":"IF(E916<>0,(IF(lfValidaCEP(E916)=TRUE,\"Válido\",\"Inválido\")),\"\")","v":""}]
[null,null,null,null,null,null,null,null,null,null,"",{"$f":"IF(C917<>0,(IF(lfValidaCNPJ(C917)=TRUE,\"Válido\",\"Inválido\")),\"\")","v":""},{"$f":"IF(E917<>0,(IF(lfValidaCEP(E917)=TRUE,\"Válido\",\"Inválido\")),\"\")","v":""}]
[null,null,null,null,null,null,null,null,null,null,"",{"$f":"IF(C918<>0,(IF(lfValidaCNPJ(C918)=TRUE,\"Válido\",\"Inválido\")),\"\")","v":""},{"$f":"IF(E918<>0,(IF(lfValidaCEP(E918)=TRUE,\"Válido\",\"Inválido\")),\"\")","v":""}]
[null,null,null,null,null,null,null,null,null,null,"",{"$f":"IF(C919<>0,(IF(lfValidaCNPJ(C919)=TRUE,\"Válido\",\"Inválido\")),\"\")","v":""},{"$f":"IF(E919<>0,(IF(lfValidaCEP(E919)=TRUE,\"Válido\",\"Inválido\")),\"\")","v":""}]
[null,null,null,null,null,null,null,null,null,null,"",{"$f":"IF(C920<>0,(IF(lfValidaCNPJ(C920)=TRUE,\"Válido\",\"Inválido\")),\"\")","v":""},{"$f":"IF(E920<>0,(IF(lfValidaCEP(E920)=TRUE,\"Válido\",\"Inválido\")),\"\")","v":""}]
[null,null,null,null,null,null,null,null,null,null,"",{"$f":"IF(C921<>0,(IF(lfValidaCNPJ(C921)=TRUE,\"Válido\",\"Inválido\")),\"\")","v":""},{"$f":"IF(E921<>0,(IF(lfValidaCEP(E921)=TRUE,\"Válido\",\"Inválido\")),\"\")","v":""}]
[null,null,null,null,null,null,null,null,null,null,"",{"$f":"IF(C922<>0,(IF(lfValidaCNPJ(C922)=TRUE,\"Válido\",\"Inválido\")),\"\")","v":""},{"$f":"IF(E922<>0,(IF(lfValidaCEP(E922)=TRUE,\"Válido\",\"Inválido\")),\"\")","v":""}]
[null,null,null,null,null,null,null,null,null,null,"",{"$f":"IF(C923<>0,(IF(lfValidaCNPJ(C923)=TRUE,\"Válido\",\"Inválido\")),\"\")","v":""},{"$f":"IF(E923<>0,(IF(lfValidaCEP(E923)=TRUE,\"Válido\",\"Inválido\")),\"\")","v":""}]
[null,null,null,null,null,null,null,null,null,null,"",{"$f":"IF(C924<>0,(IF(lfValidaCNPJ(C924)=TRUE,\"Válido\",\"Inválido\")),\"\")","v":""},{"$f":"IF(E924<>0,(IF(lfValidaCEP(E924)=TRUE,\"Válido\",\"Inválido\")),\"\")","v":""}]
[null,null,null,null,null,null,null,null,null,null,"",{"$f":"IF(C925<>0,(IF(lfValidaCNPJ(C925)=TRUE,\"Válido\",\"Inválido\")),\"\")","v":""},{"$f":"IF(E925<>0,(IF(lfValidaCEP(E925)=TRUE,\"Válido\",\"Inválido\")),\"\")","v":""}]
[null,null,null,null,null,null,null,null,null,null,"",{"$f":"IF(C926<>0,(IF(lfValidaCNPJ(C926)=TRUE,\"Válido\",\"Inválido\")),\"\")","v":""},{"$f":"IF(E926<>0,(IF(lfValidaCEP(E926)=TRUE,\"Válido\",\"Inválido\")),\"\")","v":""}]
[null,null,null,null,null,null,null,null,null,null,"",{"$f":"IF(C927<>0,(IF(lfValidaCNPJ(C927)=TRUE,\"Válido\",\"Inválido\")),\"\")","v":""},{"$f":"IF(E927<>0,(IF(lfValidaCEP(E927)=TRUE,\"Válido\",\"Inválido\")),\"\")","v":""}]
[null,null,null,null,null,null,null,null,null,null,"",{"$f":"IF(C928<>0,(IF(lfValidaCNPJ(C928)=TRUE,\"Válido\",\"Inválido\")),\"\")","v":""},{"$f":"IF(E928<>0,(IF(lfValidaCEP(E928)=TRUE,\"Válido\",\"Inválido\")),\"\")","v":""}]
[null,null,null,null,null,null,null,null,null,null,"",{"$f":"IF(C929<>0,(IF(lfValidaCNPJ(C929)=TRUE,\"Válido\",\"Inválido\")),\"\")","v":""},{"$f":"IF(E929<>0,(IF(lfValidaCEP(E929)=TRUE,\"Válido\",\"Inválido\")),\"\")","v":""}]
[null,null,null,null,null,null,null,null,null,null,"",{"$f":"IF(C930<>0,(IF(lfValidaCNPJ(C930)=TRUE,\"Válido\",\"Inválido\")),\"\")","v":""},{"$f":"IF(E930<>0,(IF(lfValidaCEP(E930)=TRUE,\"Válido\",\"Inválido\")),\"\")","v":""}]
[null,null,null,null,null,null,null,null,null,null,"",{"$f":"IF(C931<>0,(IF(lfValidaCNPJ(C931)=TRUE,\"Válido\",\"Inválido\")),\"\")","v":""},{"$f":"IF(E931<>0,(IF(lfValidaCEP(E931)=TRUE,\"Válido\",\"Inválido\")),\"\")","v":""}]
[null,null,null,null,null,null,null,null,null,null,"",{"$f":"IF(C932<>0,(IF(lfValidaCNPJ(C932)=TRUE,\"Válido\",\"Inválido\")),\"\")","v":""},{"$f":"IF(E932<>0,(IF(lfValidaCEP(E932)=TRUE,\"Válido\",\"Inválido\")),\"\")","v":""}]
[null,null,null,null,null,null,null,null,null,null,"",{"$f":"IF(C933<>0,(IF(lfValidaCNPJ(C933)=TRUE,\"Válido\",\"Inválido\")),\"\")","v":""},{"$f":"IF(E933<>0,(IF(lfValidaCEP(E933)=TRUE,\"Válido\",\"Inválido\")),\"\")","v":""}]
[null,null,null,null,null,null,null,null,null,null,"",{"$f":"IF(C934<>0,(IF(lfValidaCNPJ(C934)=TRUE,\"Válido\",\"Inválido\")),\"\")","v":""},{"$f":"IF(E934<>0,(IF(lfValidaCEP(E934)=TRUE,\"Válido\",\"Inválido\")),\"\")","v":""}]
[null,null,null,null,null,null,null,null,null,null,"",{"$f":"IF(C935<>0,(IF(lfValidaCNPJ(C935)=TRUE,\"Válido\",\"Inválido\")),\"\")","v":""},{"$f":"IF(E935<>0,(IF(lfValidaCEP(E935)=TRUE,\"Válido\",\"Inválido\")),\"\")","v":""}]
[null,null,null,null,null,null,null,null,null,null,"",{"$f":"IF(C936<>0,(IF(lfValidaCNPJ(C936)=TRUE,\"Válido\",\"Inválido\")),\"\")","v":""},{"$f":"IF(E936<>0,(IF(lfValidaCEP(E936)=TRUE,\"Válido\",\"Inválido\")),\"\")","v":""}]
[null,null,null,null,null,null,null,null,null,null,"",{"$f":"IF(C937<>0,(IF(lfValidaCNPJ(C937)=TRUE,\"Válido\",\"Inválido\")),\"\")","v":""},{"$f":"IF(E937<>0,(IF(lfValidaCEP(E937)=TRUE,\"Válido\",\"Inválido\")),\"\")","v":""}]
[null,null,null,null,null,null,null,null,null,null,"",{"$f":"IF(C938<>0,(IF(lfValidaCNPJ(C938)=TRUE,\"Válido\",\"Inválido\")),\"\")","v":""},{"$f":"IF(E938<>0,(IF(lfValidaCEP(E938)=TRUE,\"Válido\",\"Inválido\")),\"\")","v":""}]
[null,null,null,null,null,null,null,null,null,null,"",{"$f":"IF(C939<>0,(IF(lfValidaCNPJ(C939)=TRUE,\"Válido\",\"Inválido\")),\"\")","v":""},{"$f":"IF(E939<>0,(IF(lfValidaCEP(E939)=TRUE,\"Válido\",\"Inválido\")),\"\")","v":""}]
[null,null,null,null,null,null,null,null,null,null,"",{"$f":"IF(C940<>0,(IF(lfValidaCNPJ(C940)=TRUE,\"Válido\",\"Inválido\")),\"\")","v":""},{"$f":"IF(E940<>0,(IF(lfValidaCEP(E940)=TRUE,\"Válido\",\"Inválido\")),\"\")","v":""}]
[null,null,null,null,null,null,null,null,null,null,"",{"$f":"IF(C941<>0,(IF(lfValidaCNPJ(C941)=TRUE,\"Válido\",\"Inválido\")),\"\")","v":""},{"$f":"IF(E941<>0,(IF(lfValidaCEP(E941)=TRUE,\"Válido\",\"Inválido\")),\"\")","v":""}]
[null,null,null,null,null,null,null,null,null,null,"",{"$f":"IF(C942<>0,(IF(lfValidaCNPJ(C942)=TRUE,\"Válido\",\"Inválido\")),\"\")","v":""},{"$f":"IF(E942<>0,(IF(lfValidaCEP(E942)=TRUE,\"Válido\",\"Inválido\")),\"\")","v":""}]
[null,null,null,null,null,null,null,null,null,null,"",{"$f":"IF(C943<>0,(IF(lfValidaCNPJ(C943)=TRUE,\"Válido\",\"Inválido\")),\"\")","v":""},{"$f":"IF(E943<>0,(IF(lfValidaCEP(E943)=TRUE,\"Válido\",\"Inválido\")),\"\")","v":""}]
[null,null,null,null,null,null,null,null,null,null,"",{"$f":"IF(C944<>0,(IF(lfValidaCNPJ(C944)=TRUE,\"Válido\",\"Inválido\")),\"\")","v":""},{"$f":"IF(E944<>0,(IF(lfValidaCEP(E944)=TRUE,\"Válido\",\"Inválido\")),\"\")","v":""}]
[null,null,null,null,null,null,null,null,null,null,"",{"$f":"IF(C945<>0,(IF(lfValidaCNPJ(C945)=TRUE,\"Válido\",\"Inválido\")),\"\")","v":""},{"$f":"IF(E945<>0,(IF(lfValidaCEP(E945)=TRUE,\"Válido\",\"Inválido\")),\"\")","v":""}]
[null,null,null,null,null,null,null,null,null,null,"",{"$f":"IF(C946<>0,(IF(lfValidaCNPJ(C946)=TRUE,\"Válido\",\"Inválido\")),\"\")","v":""},{"$f":"IF(E946<>0,(IF(lfValidaCEP(E946)=TRUE,\"Válido\",\"Inválido\")),\"\")","v":""}]
[null,null,null,null,null,null,null,null,null,null,"",{"$f":"IF(C947<>0,(IF(lfValidaCNPJ(C947)=TRUE,\"Válido\",\"Inválido\")),\"\")","v":""},{"$f":"IF(E947<>0,(IF(lfValidaCEP(E947)=TRUE,\"Válido\",\"Inválido\")),\"\")","v":""}]
[null,null,null,null,null,null,null,null,null,null,"",{"$f":"IF(C948<>0,(IF(lfValidaCNPJ(C948)=TRUE,\"Válido\",\"Inválido\")),\"\")","v":""},{"$f":"IF(E948<>0,(IF(lfValidaCEP(E948)=TRUE,\"Válido\",\"Inválido\")),\"\")","v":""}]
[null,null,null,null,null,null,null,null,null,null,"",{"$f":"IF(C949<>0,(IF(lfValidaCNPJ(C949)=TRUE,\"Válido\",\"Inválido\")),\"\")","v":""},{"$f":"IF(E949<>0,(IF(lfValidaCEP(E949)=TRUE,\"Válido\",\"Inválido\")),\"\")","v":""}]
[null,null,null,null,null,null,null,null,null,null,"",{"$f":"IF(C950<>0,(IF(lfValidaCNPJ(C950)=TRUE,\"Válido\",\"Inválido\")),\"\")","v":""},{"$f":"IF(E950<>0,(IF(lfValidaCEP(E950)=TRUE,\"Válido\",\"Inválido\")),\"\")","v":""}]
[null,null,null,null,null,null,null,null,null,null,"",{"$f":"IF(C951<>0,(IF(lfValidaCNPJ(C951)=TRUE,\"Válido\",\"Inválido\")),\"\")","v":""},{"$f":"IF(E951<>0,(IF(lfValidaCEP(E951)=TRUE,\"Válido\",\"Inválido\")),\"\")","v":""}]
[null,null,null,null,null,null,null,null,null,null,"",{"$f":"IF(C952<>0,(IF(lfValidaCNPJ(C952)=TRUE,\"Válido\",\"Inválido\")),\"\")","v":""},{"$f":"IF(E952<>0,(IF(lfValidaCEP(E952)=TRUE,\"Válido\",\"Inválido\")),\"\")","v":""}]
[null,null,null,null,null,null,null,null,null,null,"",{"$f":"IF(C953<>0,(IF(lfValidaCNPJ(C953)=TRUE,\"Válido\",\"Inválido\")),\"\")","v":""},{"$f":"IF(E953<>0,(IF(lfValidaCEP(E953)=TRUE,\"Válido\",\"Inválido\")),\"\")","v":""}]
[null,null,null,null,null,null,null,null,null,null,"",{"$f":"IF(C954<>0,(IF(lfValidaCNPJ(C954)=TRUE,\"Válido\",\"Inválido\")),\"\")","v":""},{"$f":"IF(E954<>0,(IF(lfValidaCEP(E954)=TRUE,\"Válido\",\"Inválido\")),\"\")","v":""}]
[null,null,null,null,null,null,null,null,null,null,"",{"$f":"IF(C955<>0,(IF(lfValidaCNPJ(C955)=TRUE,\"Válido\",\"Inválido\")),\"\")","v":""},{"$f":"IF(E955<>0,(IF(lfValidaCEP(E955)=TRUE,\"Válido\",\"Inválido\")),\"\")","v":""}]
[null,null,null,null,null,null,null,null,null,null,"",{"$f":"IF(C956<>0,(IF(lfValidaCNPJ(C956)=TRUE,\"Válido\",\"Inválido\")),\"\")","v":""},{"$f":"IF(E956<>0,(IF(lfValidaCEP(E956)=TRUE,\"Válido\",\"Inválido\")),\"\")","v":""}]
[null,null,null,null,null,null,null,null,null,null,"",{"$f":"IF(C957<>0,(IF(lfValidaCNPJ(C957)=TRUE,\"Válido\",\"Inválido\")),\"\")","v":""},{"$f":"IF(E957<>0,(IF(lfValidaCEP(E957)=TRUE,\"Válido\",\"Inválido\")),\"\")","v":""}]
[null,null,null,null,null,null,null,null,null,null,"",{"$f":"IF(C958<>0,(IF(lfValidaCNPJ(C958)=TRUE,\"Válido\",\"Inválido\")),\"\")","v":""},{"$f":"IF(E958<>0,(IF(lfValidaCEP(E958)=TRUE,\"Válido\",\"Inválido\")),\"\")","v":""}]
[null,null,null,null,null,null,null,null,null,null,"",{"$f":"IF(C959<>0,(IF(lfValidaCNPJ(C959)=TRUE,\"Válido\",\"Inválido\")),\"\")","v":""},{"$f":"IF(E959<>0,(IF(lfValidaCEP(E959)=TRUE,\"Válido\",\"Inválido\")),\"\")","v":""}]
[null,null,null,null,null,null,null,null,null,null,"",{"$f":"IF(C960<>0,(IF(lfValidaCNPJ(C960)=TRUE,\"Válido\",\"Inválido\")),\"\")","v":""},{"$f":"IF(E960<>0,(IF(lfValidaCEP(E960)=TRUE,\"Válido\",\"Inválido\")),\"\")","v":""}]
[null,null,null,null,null,null,null,null,null,null,"",{"$f":"IF(C961<>0,(IF(lfValidaCNPJ(C961)=TRUE,\"Válido\",\"Inválido\")),\"\")","v":""},{"$f":"IF(E961<>0,(IF(lfValidaCEP(E961)=TRUE,\"Válido\",\"Inválido\")),\"\")","v":""}]
[null,null,null,null,null,null,null,null,null,null,"",{"$f":"IF(C962<>0,(IF(lfValidaCNPJ(C962)=TRUE,\"Válido\",\"Inválido\")),\"\")","v":""},{"$f":"IF(E962<>0,(IF(lfValidaCEP(E962)=TRUE,\"Válido\",\"Inválido\")),\"\")","v":""}]
[null,null,null,null,null,null,null,null,null,null,"",{"$f":"IF(C963<>0,(IF(lfValidaCNPJ(C963)=TRUE,\"Válido\",\"Inválido\")),\"\")","v":""},{"$f":"IF(E963<>0,(IF(lfValidaCEP(E963)=TRUE,\"Válido\",\"Inválido\")),\"\")","v":""}]
[null,null,null,null,null,null,null,null,null,null,"",{"$f":"IF(C964<>0,(IF(lfValidaCNPJ(C964)=TRUE,\"Válido\",\"Inválido\")),\"\")","v":""},{"$f":"IF(E964<>0,(IF(lfValidaCEP(E964)=TRUE,\"Válido\",\"Inválido\")),\"\")","v":""}]
[null,null,null,null,null,null,null,null,null,null,"",{"$f":"IF(C965<>0,(IF(lfValidaCNPJ(C965)=TRUE,\"Válido\",\"Inválido\")),\"\")","v":""},{"$f":"IF(E965<>0,(IF(lfValidaCEP(E965)=TRUE,\"Válido\",\"Inválido\")),\"\")","v":""}]
[null,null,null,null,null,null,null,null,null,null,"",{"$f":"IF(C966<>0,(IF(lfValidaCNPJ(C966)=TRUE,\"Válido\",\"Inválido\")),\"\")","v":""},{"$f":"IF(E966<>0,(IF(lfValidaCEP(E966)=TRUE,\"Válido\",\"Inválido\")),\"\")","v":""}]
[null,null,null,null,null,null,null,null,null,null,"",{"$f":"IF(C967<>0,(IF(lfValidaCNPJ(C967)=TRUE,\"Válido\",\"Inválido\")),\"\")","v":""},{"$f":"IF(E967<>0,(IF(lfValidaCEP(E967)=TRUE,\"Válido\",\"Inválido\")),\"\")","v":""}]
[null,null,null,null,null,null,null,null,null,null,"",{"$f":"IF(C968<>0,(IF(lfValidaCNPJ(C968)=TRUE,\"Válido\",\"Inválido\")),\"\")","v":""},{"$f":"IF(E968<>0,(IF(lfValidaCEP(E968)=TRUE,\"Válido\",\"Inválido\")),\"\")","v":""}]
[null,null,null,null,null,null,null,null,null,null,"",{"$f":"IF(C969<>0,(IF(lfValidaCNPJ(C969)=TRUE,\"Válido\",\"Inválido\")),\"\")","v":""},{"$f":"IF(E969<>0,(IF(lfValidaCEP(E969)=TRUE,\"Válido\",\"Inválido\")),\"\")","v":""}]
[null,null,null,null,null,null,null,null,null,null,"",{"$f":"IF(C970<>0,(IF(lfValidaCNPJ(C970)=TRUE,\"Válido\",\"Inválido\")),\"\")","v":""},{"$f":"IF(E970<>0,(IF(lfValidaCEP(E970)=TRUE,\"Válido\",\"Inválido\")),\"\")","v":""}]
[null,null,null,null,null,null,null,null,null,null,"",{"$f":"IF(C971<>0,(IF(lfValidaCNPJ(C971)=TRUE,\"Válido\",\"Inválido\")),\"\")","v":""},{"$f":"IF(E971<>0,(IF(lfValidaCEP(E971)=TRUE,\"Válido\",\"Inválido\")),\"\")","v":""}]
[null,null,null,null,null,null,null,null,null,null,{"$f":"IF(COUNTA(B972:I972)<>0,IF(AND(B972<>0,C972<>0,D972<>0,E972<>0,F972<>0,G972<>0,H972<>0,I972<>0),\"Completo\",\"Incompleto\"),\"\")","v":""},{"$f":"IF(C972<>0,(IF(lfValidaCNPJ(C972)=TRUE,\"Válido\",\"Inválido\")),\"\")","v":""},{"$f":"IF(E972<>0,(IF(lfValidaCEP(E972)=TRUE,\"Válido\",\"Inválido\")),\"\")","v":""}]
[null,null,null,null,null,null,null,null,null,null,"",{"$f":"IF(C973<>0,(IF(lfValidaCNPJ(C973)=TRUE,\"Válido\",\"Inválido\")),\"\")","v":""},{"$f":"IF(E973<>0,(IF(lfValidaCEP(E973)=TRUE,\"Válido\",\"Inválido\")),\"\")","v":""}]
[null,null,null,null,null,null,null,null,null,null,"",{"$f":"IF(C974<>0,(IF(lfValidaCNPJ(C974)=TRUE,\"Válido\",\"Inválido\")),\"\")","v":""},{"$f":"IF(E974<>0,(IF(lfValidaCEP(E974)=TRUE,\"Válido\",\"Inválido\")),\"\")","v":""}]
[null,null,null,null,null,null,null,null,null,null,"",{"$f":"IF(C975<>0,(IF(lfValidaCNPJ(C975)=TRUE,\"Válido\",\"Inválido\")),\"\")","v":""},{"$f":"IF(E975<>0,(IF(lfValidaCEP(E975)=TRUE,\"Válido\",\"Inválido\")),\"\")","v":""}]
[null,null,null,null,null,null,null,null,null,null,"",{"$f":"IF(C976<>0,(IF(lfValidaCNPJ(C976)=TRUE,\"Válido\",\"Inválido\")),\"\")","v":""},{"$f":"IF(E976<>0,(IF(lfValidaCEP(E976)=TRUE,\"Válido\",\"Inválido\")),\"\")","v":""}]
[null,null,null,null,null,null,null,null,null,null,"",{"$f":"IF(C977<>0,(IF(lfValidaCNPJ(C977)=TRUE,\"Válido\",\"Inválido\")),\"\")","v":""},{"$f":"IF(E977<>0,(IF(lfValidaCEP(E977)=TRUE,\"Válido\",\"Inválido\")),\"\")","v":""}]
[null,null,null,null,null,null,null,null,null,null,"",{"$f":"IF(C978<>0,(IF(lfValidaCNPJ(C978)=TRUE,\"Válido\",\"Inválido\")),\"\")","v":""},{"$f":"IF(E978<>0,(IF(lfValidaCEP(E978)=TRUE,\"Válido\",\"Inválido\")),\"\")","v":""}]
[null,null,null,null,null,null,null,null,null,null,"",{"$f":"IF(C979<>0,(IF(lfValidaCNPJ(C979)=TRUE,\"Válido\",\"Inválido\")),\"\")","v":""},{"$f":"IF(E979<>0,(IF(lfValidaCEP(E979)=TRUE,\"Válido\",\"Inválido\")),\"\")","v":""}]
[null,null,null,null,null,null,null,null,null,null,"",{"$f":"IF(C980<>0,(IF(lfValidaCNPJ(C980)=TRUE,\"Válido\",\"Inválido\")),\"\")","v":""},{"$f":"IF(E980<>0,(IF(lfValidaCEP(E980)=TRUE,\"Válido\",\"Inválido\")),\"\")","v":""}]
[null,null,null,null,null,null,null,null,null,null,"",{"$f":"IF(C981<>0,(IF(lfValidaCNPJ(C981)=TRUE,\"Válido\",\"Inválido\")),\"\")","v":""},{"$f":"IF(E981<>0,(IF(lfValidaCEP(E981)=TRUE,\"Válido\",\"Inválido\")),\"\")","v":""}]
[null,null,null,null,null,null,null,null,null,null,"",{"$f":"IF(C982<>0,(IF(lfValidaCNPJ(C982)=TRUE,\"Válido\",\"Inválido\")),\"\")","v":""},{"$f":"IF(E982<>0,(IF(lfValidaCEP(E982)=TRUE,\"Válido\",\"Inválido\")),\"\")","v":""}]
[null,null,null,null,null,null,null,null,null,null,"",{"$f":"IF(C983<>0,(IF(lfValidaCNPJ(C983)=TRUE,\"Válido\",\"Inválido\")),\"\")","v":""},{"$f":"IF(E983<>0,(IF(lfValidaCEP(E983)=TRUE,\"Válido\",\"Inválido\")),\"\")","v":""}]
[null,null,null,null,null,null,null,null,null,null,"",{"$f":"IF(C984<>0,(IF(lfValidaCNPJ(C984)=TRUE,\"Válido\",\"Inválido\")),\"\")","v":""},{"$f":"IF(E984<>0,(IF(lfValidaCEP(E984)=TRUE,\"Válido\",\"Inválido\")),\"\")","v":""}]
[null,null,null,null,null,null,null,null,null,null,"",{"$f":"IF(C985<>0,(IF(lfValidaCNPJ(C985)=TRUE,\"Válido\",\"Inválido\")),\"\")","v":""},{"$f":"IF(E985<>0,(IF(lfValidaCEP(E985)=TRUE,\"Válido\",\"Inválido\")),\"\")","v":""}]
[null,null,null,null,null,null,null,null,null,null,"",{"$f":"IF(C986<>0,(IF(lfValidaCNPJ(C986)=TRUE,\"Válido\",\"Inválido\")),\"\")","v":""},{"$f":"IF(E986<>0,(IF(lfValidaCEP(E986)=TRUE,\"Válido\",\"Inválido\")),\"\")","v":""}]
[null,null,null,null,null,null,null,null,null,null,"",{"$f":"IF(C987<>0,(IF(lfValidaCNPJ(C987)=TRUE,\"Válido\",\"Inválido\")),\"\")","v":""},{"$f":"IF(E987<>0,(IF(lfValidaCEP(E987)=TRUE,\"Válido\",\"Inválido\")),\"\")","v":""}]
[null,null,null,null,null,null,null,null,null,null,"",{"$f":"IF(C988<>0,(IF(lfValidaCNPJ(C988)=TRUE,\"Válido\",\"Inválido\")),\"\")","v":""},{"$f":"IF(E988<>0,(IF(lfValidaCEP(E988)=TRUE,\"Válido\",\"Inválido\")),\"\")","v":""}]
[null,null,null,null,null,null,null,null,null,null,"",{"$f":"IF(C989<>0,(IF(lfValidaCNPJ(C989)=TRUE,\"Válido\",\"Inválido\")),\"\")","v":""},{"$f":"IF(E989<>0,(IF(lfValidaCEP(E989)=TRUE,\"Válido\",\"Inválido\")),\"\")","v":""}]
[null,null,null,null,null,null,null,null,null,null,"",{"$f":"IF(C990<>0,(IF(lfValidaCNPJ(C990)=TRUE,\"Válido\",\"Inválido\")),\"\")","v":""},{"$f":"IF(E990<>0,(IF(lfValidaCEP(E990)=TRUE,\"Válido\",\"Inválido\")),\"\")","v":""}]
[null,null,null,null,null,null,null,null,null,null,"",{"$f":"IF(C991<>0,(IF(lfValidaCNPJ(C991)=TRUE,\"Válido\",\"Inválido\")),\"\")","v":""},{"$f":"IF(E991<>0,(IF(lfValidaCEP(E991)=TRUE,\"Válido\",\"Inválido\")),\"\")","v":""}]
[null,null,null,null,null,null,null,null,null,null,"",{"$f":"IF(C992<>0,(IF(lfValidaCNPJ(C992)=TRUE,\"Válido\",\"Inválido\")),\"\")","v":""},{"$f":"IF(E992<>0,(IF(lfValidaCEP(E992)=TRUE,\"Válido\",\"Inválido\")),\"\")","v":""}]
[null,null,null,null,null,null,null,null,null,null,"",{"$f":"IF(C993<>0,(IF(lfValidaCNPJ(C993)=TRUE,\"Válido\",\"Inválido\")),\"\")","v":""},{"$f":"IF(E993<>0,(IF(lfValidaCEP(E993)=TRUE,\"Válido\",\"Inválido\")),\"\")","v":""}]
[null,null,null,null,null,null,null,null,null,null,"",{"$f":"IF(C994<>0,(IF(lfValidaCNPJ(C994)=TRUE,\"Válido\",\"Inválido\")),\"\")","v":""},{"$f":"IF(E994<>0,(IF(lfValidaCEP(E994)=TRUE,\"Válido\",\"Inválido\")),\"\")","v":""}]
[null,null,null,null,null,null,null,null,null,null,"",{"$f":"IF(C995<>0,(IF(lfValidaCNPJ(C995)=TRUE,\"Válido\",\"Inválido\")),\"\")","v":""},{"$f":"IF(E995<>0,(IF(lfValidaCEP(E995)=TRUE,\"Válido\",\"Inválido\")),\"\")","v":""}]
[null,null,null,null,null,null,null,null,null,null,"",{"$f":"IF(C996<>0,(IF(lfValidaCNPJ(C996)=TRUE,\"Válido\",\"Inválido\")),\"\")","v":""},{"$f":"IF(E996<>0,(IF(lfValidaCEP(E996)=TRUE,\"Válido\",\"Inválido\")),\"\")","v":""}]
[null,null,null,null,null,null,null,null,null,null,"",{"$f":"IF(C997<>0,(IF(lfValidaCNPJ(C997)=TRUE,\"Válido\",\"Inválido\")),\"\")","v":""},{"$f":"IF(E997<>0,(IF(lfValidaCEP(E997)=TRUE,\"Válido\",\"Inválido\")),\"\")","v":""}]
[null,null,null,null,null,null,null,null,null,null,"",{"$f":"IF(C998<>0,(IF(lfValidaCNPJ(C998)=TRUE,\"Válido\",\"Inválido\")),\"\")","v":""},{"$f":"IF(E998<>0,(IF(lfValidaCEP(E998)=TRUE,\"Válido\",\"Inválido\")),\"\")","v":""}]
[null,null,null,null,null,null,null,null,null,null,"",{"$f":"IF(C999<>0,(IF(lfValidaCNPJ(C999)=TRUE,\"Válido\",\"Inválido\")),\"\")","v":""},{"$f":"IF(E999<>0,(IF(lfValidaCEP(E999)=TRUE,\"Válido\",\"Inválido\")),\"\")","v":""}]
[null,null,null,null,null,null,null,null,null,null,"",{"$f":"IF(C1000<>0,(IF(lfValidaCNPJ(C1000)=TRUE,\"Válido\",\"Inválido\")),\"\")","v":""},{"$f":"IF(E1000<>0,(IF(lfValidaCEP(E1000)=TRUE,\"Válido\",\"Inválido\")),\"\")","v":""}]
[null,null,null,null,null,null,null,null,null,null,"",{"$f":"IF(C1001<>0,(IF(lfValidaCNPJ(C1001)=TRUE,\"Válido\",\"Inválido\")),\"\")","v":""},{"$f":"IF(E1001<>0,(IF(lfValidaCEP(E1001)=TRUE,\"Válido\",\"Inválido\")),\"\")","v":""}]
[null,null,null,null,null,null,null,null,null,null,"",{"$f":"IF(C1002<>0,(IF(lfValidaCNPJ(C1002)=TRUE,\"Válido\",\"Inválido\")),\"\")","v":""},{"$f":"IF(E1002<>0,(IF(lfValidaCEP(E1002)=TRUE,\"Válido\",\"Inválido\")),\"\")","v":""}]
[null,null,null,null,null,null,null,null,null,null,"",{"$f":"IF(C1003<>0,(IF(lfValidaCNPJ(C1003)=TRUE,\"Válido\",\"Inválido\")),\"\")","v":""},{"$f":"IF(E1003<>0,(IF(lfValidaCEP(E1003)=TRUE,\"Válido\",\"Inválido\")),\"\")","v":""}]
[null,null,null,null,null,null,null,null,null,null,"",{"$f":"IF(C1004<>0,(IF(lfValidaCNPJ(C1004)=TRUE,\"Válido\",\"Inválido\")),\"\")","v":""},{"$f":"IF(E1004<>0,(IF(lfValidaCEP(E1004)=TRUE,\"Válido\",\"Inválido\")),\"\")","v":""}]
[null,null,null,null,null,null,null,null,null,null,"",{"$f":"IF(C1005<>0,(IF(lfValidaCNPJ(C1005)=TRUE,\"Válido\",\"Inválido\")),\"\")","v":""},{"$f":"IF(E1005<>0,(IF(lfValidaCEP(E1005)=TRUE,\"Válido\",\"Inválido\")),\"\")","v":""}]
[null,null,null,null,null,null,null,null,null,null,"",{"$f":"IF(C1006<>0,(IF(lfValidaCNPJ(C1006)=TRUE,\"Válido\",\"Inválido\")),\"\")","v":""},{"$f":"IF(E1006<>0,(IF(lfValidaCEP(E1006)=TRUE,\"Válido\",\"Inválido\")),\"\")","v":""}]
[null,null,null,null,null,null,null,null,null,null,"",{"$f":"IF(C1007<>0,(IF(lfValidaCNPJ(C1007)=TRUE,\"Válido\",\"Inválido\")),\"\")","v":""},{"$f":"IF(E1007<>0,(IF(lfValidaCEP(E1007)=TRUE,\"Válido\",\"Inválido\")),\"\")","v":""}]
[null,null,null,null,null,null,null,null,null,null,"",{"$f":"IF(C1008<>0,(IF(lfValidaCNPJ(C1008)=TRUE,\"Válido\",\"Inválido\")),\"\")","v":""},{"$f":"IF(E1008<>0,(IF(lfValidaCEP(E1008)=TRUE,\"Válido\",\"Inválido\")),\"\")","v":""}]
[null,null,null,null,null,null,null,null,null,null,"",{"$f":"IF(C1009<>0,(IF(lfValidaCNPJ(C1009)=TRUE,\"Válido\",\"Inválido\")),\"\")","v":""},{"$f":"IF(E1009<>0,(IF(lfValidaCEP(E1009)=TRUE,\"Válido\",\"Inválido\")),\"\")","v":""}]
[null,null,null,null,null,null,null,null,null,null,"",{"$f":"IF(C1010<>0,(IF(lfValidaCNPJ(C1010)=TRUE,\"Válido\",\"Inválido\")),\"\")","v":""},{"$f":"IF(E1010<>0,(IF(lfValidaCEP(E1010)=TRUE,\"Válido\",\"Inválido\")),\"\")","v":""}]
[null,null,null,null,null,null,null,null,null,null,"",{"$f":"IF(C1011<>0,(IF(lfValidaCNPJ(C1011)=TRUE,\"Válido\",\"Inválido\")),\"\")","v":""},{"$f":"IF(E1011<>0,(IF(lfValidaCEP(E1011)=TRUE,\"Válido\",\"Inválido\")),\"\")","v":""}]
[null,null,null,null,null,null,null,null,null,null,"",{"$f":"IF(C1012<>0,(IF(lfValidaCNPJ(C1012)=TRUE,\"Válido\",\"Inválido\")),\"\")","v":""},{"$f":"IF(E1012<>0,(IF(lfValidaCEP(E1012)=TRUE,\"Válido\",\"Inválido\")),\"\")","v":""}]
[null,null,null,null,null,null,null,null,null,null,"",{"$f":"IF(C1013<>0,(IF(lfValidaCNPJ(C1013)=TRUE,\"Válido\",\"Inválido\")),\"\")","v":""},{"$f":"IF(E1013<>0,(IF(lfValidaCEP(E1013)=TRUE,\"Válido\",\"Inválido\")),\"\")","v":""}]
[null,null,null,null,null,null,null,null,null,null,"",{"$f":"IF(C1014<>0,(IF(lfValidaCNPJ(C1014)=TRUE,\"Válido\",\"Inválido\")),\"\")","v":""},{"$f":"IF(E1014<>0,(IF(lfValidaCEP(E1014)=TRUE,\"Válido\",\"Inválido\")),\"\")","v":""}]
[null,null,null,null,null,null,null,null,null,null,"",{"$f":"IF(C1015<>0,(IF(lfValidaCNPJ(C1015)=TRUE,\"Válido\",\"Inválido\")),\"\")","v":""},{"$f":"IF(E1015<>0,(IF(lfValidaCEP(E1015)=TRUE,\"Válido\",\"Inválido\")),\"\")","v":""}]
[null,null,null,null,null,null,null,null,null,null,"",{"$f":"IF(C1016<>0,(IF(lfValidaCNPJ(C1016)=TRUE,\"Válido\",\"Inválido\")),\"\")","v":""},{"$f":"IF(E1016<>0,(IF(lfValidaCEP(E1016)=TRUE,\"Válido\",\"Inválido\")),\"\")","v":""}]
[null,null,null,null,null,null,null,null,null,null,"",{"$f":"IF(C1017<>0,(IF(lfValidaCNPJ(C1017)=TRUE,\"Válido\",\"Inválido\")),\"\")","v":""},{"$f":"IF(E1017<>0,(IF(lfValidaCEP(E1017)=TRUE,\"Válido\",\"Inválido\")),\"\")","v":""}]
[null,null,null,null,null,null,null,null,null,null,"",{"$f":"IF(C1018<>0,(IF(lfValidaCNPJ(C1018)=TRUE,\"Válido\",\"Inválido\")),\"\")","v":""},{"$f":"IF(E1018<>0,(IF(lfValidaCEP(E1018)=TRUE,\"Válido\",\"Inválido\")),\"\")","v":""}]
[null,null,null,null,null,null,null,null,null,null,"",{"$f":"IF(C1019<>0,(IF(lfValidaCNPJ(C1019)=TRUE,\"Válido\",\"Inválido\")),\"\")","v":""},{"$f":"IF(E1019<>0,(IF(lfValidaCEP(E1019)=TRUE,\"Válido\",\"Inválido\")),\"\")","v":""}]
[null,null,null,null,null,null,null,null,null,null,"",{"$f":"IF(C1020<>0,(IF(lfValidaCNPJ(C1020)=TRUE,\"Válido\",\"Inválido\")),\"\")","v":""},{"$f":"IF(E1020<>0,(IF(lfValidaCEP(E1020)=TRUE,\"Válido\",\"Inválido\")),\"\")","v":""}]
[null,null,null,null,null,null,null,null,null,null,"",{"$f":"IF(C1021<>0,(IF(lfValidaCNPJ(C1021)=TRUE,\"Válido\",\"Inválido\")),\"\")","v":""},{"$f":"IF(E1021<>0,(IF(lfValidaCEP(E1021)=TRUE,\"Válido\",\"Inválido\")),\"\")","v":""}]
[null,null,null,null,null,null,null,null,null,null,"",{"$f":"IF(C1022<>0,(IF(lfValidaCNPJ(C1022)=TRUE,\"Válido\",\"Inválido\")),\"\")","v":""},{"$f":"IF(E1022<>0,(IF(lfValidaCEP(E1022)=TRUE,\"Válido\",\"Inválido\")),\"\")","v":""}]
[null,null,null,null,null,null,null,null,null,null,"",{"$f":"IF(C1023<>0,(IF(lfValidaCNPJ(C1023)=TRUE,\"Válido\",\"Inválido\")),\"\")","v":""},{"$f":"IF(E1023<>0,(IF(lfValidaCEP(E1023)=TRUE,\"Válido\",\"Inválido\")),\"\")","v":""}]
[null,null,null,null,null,null,null,null,null,null,"",{"$f":"IF(C1024<>0,(IF(lfValidaCNPJ(C1024)=TRUE,\"Válido\",\"Inválido\")),\"\")","v":""},{"$f":"IF(E1024<>0,(IF(lfValidaCEP(E1024)=TRUE,\"Válido\",\"Inválido\")),\"\")","v":""}]
[null,null,null,null,null,null,null,null,null,null,"",{"$f":"IF(C1025<>0,(IF(lfValidaCNPJ(C1025)=TRUE,\"Válido\",\"Inválido\")),\"\")","v":""},{"$f":"IF(E1025<>0,(IF(lfValidaCEP(E1025)=TRUE,\"Válido\",\"Inválido\")),\"\")","v":""}]
[null,null,null,null,null,null,null,null,null,null,"",{"$f":"IF(C1026<>0,(IF(lfValidaCNPJ(C1026)=TRUE,\"Válido\",\"Inválido\")),\"\")","v":""},{"$f":"IF(E1026<>0,(IF(lfValidaCEP(E1026)=TRUE,\"Válido\",\"Inválido\")),\"\")","v":""}]
[null,null,null,null,null,null,null,null,null,null,"",{"$f":"IF(C1027<>0,(IF(lfValidaCNPJ(C1027)=TRUE,\"Válido\",\"Inválido\")),\"\")","v":""},{"$f":"IF(E1027<>0,(IF(lfValidaCEP(E1027)=TRUE,\"Válido\",\"Inválido\")),\"\")","v":""}]
[null,null,null,null,null,null,null,null,null,null,"",{"$f":"IF(C1028<>0,(IF(lfValidaCNPJ(C1028)=TRUE,\"Válido\",\"Inválido\")),\"\")","v":""},{"$f":"IF(E1028<>0,(IF(lfValidaCEP(E1028)=TRUE,\"Válido\",\"Inválido\")),\"\")","v":""}]
[null,null,null,null,null,null,null,null,null,null,"",{"$f":"IF(C1029<>0,(IF(lfValidaCNPJ(C1029)=TRUE,\"Válido\",\"Inválido\")),\"\")","v":""},{"$f":"IF(E1029<>0,(IF(lfValidaCEP(E1029)=TRUE,\"Válido\",\"Inválido\")),\"\")","v":""}]
[null,null,null,null,null,null,null,null,null,null,"",{"$f":"IF(C1030<>0,(IF(lfValidaCNPJ(C1030)=TRUE,\"Válido\",\"Inválido\")),\"\")","v":""},{"$f":"IF(E1030<>0,(IF(lfValidaCEP(E1030)=TRUE,\"Válido\",\"Inválido\")),\"\")","v":""}]
[null,null,null,null,null,null,null,null,null,null,"",{"$f":"IF(C1031<>0,(IF(lfValidaCNPJ(C1031)=TRUE,\"Válido\",\"Inválido\")),\"\")","v":""},{"$f":"IF(E1031<>0,(IF(lfValidaCEP(E1031)=TRUE,\"Válido\",\"Inválido\")),\"\")","v":""}]
[null,null,null,null,null,null,null,null,null,null,"",{"$f":"IF(C1032<>0,(IF(lfValidaCNPJ(C1032)=TRUE,\"Válido\",\"Inválido\")),\"\")","v":""},{"$f":"IF(E1032<>0,(IF(lfValidaCEP(E1032)=TRUE,\"Válido\",\"Inválido\")),\"\")","v":""}]
[null,null,null,null,null,null,null,null,null,null,"",{"$f":"IF(C1033<>0,(IF(lfValidaCNPJ(C1033)=TRUE,\"Válido\",\"Inválido\")),\"\")","v":""},{"$f":"IF(E1033<>0,(IF(lfValidaCEP(E1033)=TRUE,\"Válido\",\"Inválido\")),\"\")","v":""}]
[null,null,null,null,null,null,null,null,null,null,"",{"$f":"IF(C1034<>0,(IF(lfValidaCNPJ(C1034)=TRUE,\"Válido\",\"Inválido\")),\"\")","v":""},{"$f":"IF(E1034<>0,(IF(lfValidaCEP(E1034)=TRUE,\"Válido\",\"Inválido\")),\"\")","v":""}]
[null,null,null,null,null,null,null,null,null,null,"",{"$f":"IF(C1035<>0,(IF(lfValidaCNPJ(C1035)=TRUE,\"Válido\",\"Inválido\")),\"\")","v":""},{"$f":"IF(E1035<>0,(IF(lfValidaCEP(E1035)=TRUE,\"Válido\",\"Inválido\")),\"\")","v":""}]
[null,null,null,null,null,null,null,null,null,null,{"$f":"IF(COUNTA(B1036:I1036)<>0,IF(AND(B1036<>0,C1036<>0,D1036<>0,E1036<>0,F1036<>0,G1036<>0,H1036<>0,I1036<>0),\"Completo\",\"Incompleto\"),\"\")","v":""},{"$f":"IF(C1036<>0,(IF(lfValidaCNPJ(C1036)=TRUE,\"Válido\",\"Inválido\")),\"\")","v":""},{"$f":"IF(E1036<>0,(IF(lfValidaCEP(E1036)=TRUE,\"Válido\",\"Inválido\")),\"\")","v":""}]
[null,null,null,null,null,null,null,null,null,null,"",{"$f":"IF(C1037<>0,(IF(lfValidaCNPJ(C1037)=TRUE,\"Válido\",\"Inválido\")),\"\")","v":""},{"$f":"IF(E1037<>0,(IF(lfValidaCEP(E1037)=TRUE,\"Válido\",\"Inválido\")),\"\")","v":""}]
[null,null,null,null,null,null,null,null,null,null,"",{"$f":"IF(C1038<>0,(IF(lfValidaCNPJ(C1038)=TRUE,\"Válido\",\"Inválido\")),\"\")","v":""},{"$f":"IF(E1038<>0,(IF(lfValidaCEP(E1038)=TRUE,\"Válido\",\"Inválido\")),\"\")","v":""}]
[null,null,null,null,null,null,null,null,null,null,"",{"$f":"IF(C1039<>0,(IF(lfValidaCNPJ(C1039)=TRUE,\"Válido\",\"Inválido\")),\"\")","v":""},{"$f":"IF(E1039<>0,(IF(lfValidaCEP(E1039)=TRUE,\"Válido\",\"Inválido\")),\"\")","v":""}]
[null,null,null,null,null,null,null,null,null,null,"",{"$f":"IF(C1040<>0,(IF(lfValidaCNPJ(C1040)=TRUE,\"Válido\",\"Inválido\")),\"\")","v":""},{"$f":"IF(E1040<>0,(IF(lfValidaCEP(E1040)=TRUE,\"Válido\",\"Inválido\")),\"\")","v":""}]
[null,null,null,null,null,null,null,null,null,null,"",{"$f":"IF(C1041<>0,(IF(lfValidaCNPJ(C1041)=TRUE,\"Válido\",\"Inválido\")),\"\")","v":""},{"$f":"IF(E1041<>0,(IF(lfValidaCEP(E1041)=TRUE,\"Válido\",\"Inválido\")),\"\")","v":""}]
[null,null,null,null,null,null,null,null,null,null,"",{"$f":"IF(C1042<>0,(IF(lfValidaCNPJ(C1042)=TRUE,\"Válido\",\"Inválido\")),\"\")","v":""},{"$f":"IF(E1042<>0,(IF(lfValidaCEP(E1042)=TRUE,\"Válido\",\"Inválido\")),\"\")","v":""}]
[null,null,null,null,null,null,null,null,null,null,"",{"$f":"IF(C1043<>0,(IF(lfValidaCNPJ(C1043)=TRUE,\"Válido\",\"Inválido\")),\"\")","v":""},{"$f":"IF(E1043<>0,(IF(lfValidaCEP(E1043)=TRUE,\"Válido\",\"Inválido\")),\"\")","v":""}]
[null,null,null,null,null,null,null,null,null,null,"",{"$f":"IF(C1044<>0,(IF(lfValidaCNPJ(C1044)=TRUE,\"Válido\",\"Inválido\")),\"\")","v":""},{"$f":"IF(E1044<>0,(IF(lfValidaCEP(E1044)=TRUE,\"Válido\",\"Inválido\")),\"\")","v":""}]
[null,null,null,null,null,null,null,null,null,null,"",{"$f":"IF(C1045<>0,(IF(lfValidaCNPJ(C1045)=TRUE,\"Válido\",\"Inválido\")),\"\")","v":""},{"$f":"IF(E1045<>0,(IF(lfValidaCEP(E1045)=TRUE,\"Válido\",\"Inválido\")),\"\")","v":""}]
[null,null,null,null,null,null,null,null,null,null,"",{"$f":"IF(C1046<>0,(IF(lfValidaCNPJ(C1046)=TRUE,\"Válido\",\"Inválido\")),\"\")","v":""},{"$f":"IF(E1046<>0,(IF(lfValidaCEP(E1046)=TRUE,\"Válido\",\"Inválido\")),\"\")","v":""}]
[null,null,null,null,null,null,null,null,null,null,"",{"$f":"IF(C1047<>0,(IF(lfValidaCNPJ(C1047)=TRUE,\"Válido\",\"Inválido\")),\"\")","v":""},{"$f":"IF(E1047<>0,(IF(lfValidaCEP(E1047)=TRUE,\"Válido\",\"Inválido\")),\"\")","v":""}]
[null,null,null,null,null,null,null,null,null,null,"",{"$f":"IF(C1048<>0,(IF(lfValidaCNPJ(C1048)=TRUE,\"Válido\",\"Inválido\")),\"\")","v":""},{"$f":"IF(E1048<>0,(IF(lfValidaCEP(E1048)=TRUE,\"Válido\",\"Inválido\")),\"\")","v":""}]
[null,null,null,null,null,null,null,null,null,null,"",{"$f":"IF(C1049<>0,(IF(lfValidaCNPJ(C1049)=TRUE,\"Válido\",\"Inválido\")),\"\")","v":""},{"$f":"IF(E1049<>0,(IF(lfValidaCEP(E1049)=TRUE,\"Válido\",\"Inválido\")),\"\")","v":""}]
[null,null,null,null,null,null,null,null,null,null,"",{"$f":"IF(C1050<>0,(IF(lfValidaCNPJ(C1050)=TRUE,\"Válido\",\"Inválido\")),\"\")","v":""},{"$f":"IF(E1050<>0,(IF(lfValidaCEP(E1050)=TRUE,\"Válido\",\"Inválido\")),\"\")","v":""}]
[null,null,null,null,null,null,null,null,null,null,"",{"$f":"IF(C1051<>0,(IF(lfValidaCNPJ(C1051)=TRUE,\"Válido\",\"Inválido\")),\"\")","v":""},{"$f":"IF(E1051<>0,(IF(lfValidaCEP(E1051)=TRUE,\"Válido\",\"Inválido\")),\"\")","v":""}]
[null,null,null,null,null,null,null,null,null,null,"",{"$f":"IF(C1052<>0,(IF(lfValidaCNPJ(C1052)=TRUE,\"Válido\",\"Inválido\")),\"\")","v":""},{"$f":"IF(E1052<>0,(IF(lfValidaCEP(E1052)=TRUE,\"Válido\",\"Inválido\")),\"\")","v":""}]
[null,null,null,null,null,null,null,null,null,null,"",{"$f":"IF(C1053<>0,(IF(lfValidaCNPJ(C1053)=TRUE,\"Válido\",\"Inválido\")),\"\")","v":""},{"$f":"IF(E1053<>0,(IF(lfValidaCEP(E1053)=TRUE,\"Válido\",\"Inválido\")),\"\")","v":""}]
[null,null,null,null,null,null,null,null,null,null,"",{"$f":"IF(C1054<>0,(IF(lfValidaCNPJ(C1054)=TRUE,\"Válido\",\"Inválido\")),\"\")","v":""},{"$f":"IF(E1054<>0,(IF(lfValidaCEP(E1054)=TRUE,\"Válido\",\"Inválido\")),\"\")","v":""}]
[null,null,null,null,null,null,null,null,null,null,"",{"$f":"IF(C1055<>0,(IF(lfValidaCNPJ(C1055)=TRUE,\"Válido\",\"Inválido\")),\"\")","v":""},{"$f":"IF(E1055<>0,(IF(lfValidaCEP(E1055)=TRUE,\"Válido\",\"Inválido\")),\"\")","v":""}]
[null,null,null,null,null,null,null,null,null,null,"",{"$f":"IF(C1056<>0,(IF(lfValidaCNPJ(C1056)=TRUE,\"Válido\",\"Inválido\")),\"\")","v":""},{"$f":"IF(E1056<>0,(IF(lfValidaCEP(E1056)=TRUE,\"Válido\",\"Inválido\")),\"\")","v":""}]
[null,null,null,null,null,null,null,null,null,null,"",{"$f":"IF(C1057<>0,(IF(lfValidaCNPJ(C1057)=TRUE,\"Válido\",\"Inválido\")),\"\")","v":""},{"$f":"IF(E1057<>0,(IF(lfValidaCEP(E1057)=TRUE,\"Válido\",\"Inválido\")),\"\")","v":""}]
[null,null,null,null,null,null,null,null,null,null,"",{"$f":"IF(C1058<>0,(IF(lfValidaCNPJ(C1058)=TRUE,\"Válido\",\"Inválido\")),\"\")","v":""},{"$f":"IF(E1058<>0,(IF(lfValidaCEP(E1058)=TRUE,\"Válido\",\"Inválido\")),\"\")","v":""}]
[null,null,null,null,null,null,null,null,null,null,"",{"$f":"IF(C1059<>0,(IF(lfValidaCNPJ(C1059)=TRUE,\"Válido\",\"Inválido\")),\"\")","v":""},{"$f":"IF(E1059<>0,(IF(lfValidaCEP(E1059)=TRUE,\"Válido\",\"Inválido\")),\"\")","v":""}]
[null,null,null,null,null,null,null,null,null,null,"",{"$f":"IF(C1060<>0,(IF(lfValidaCNPJ(C1060)=TRUE,\"Válido\",\"Inválido\")),\"\")","v":""},{"$f":"IF(E1060<>0,(IF(lfValidaCEP(E1060)=TRUE,\"Válido\",\"Inválido\")),\"\")","v":""}]
[null,null,null,null,null,null,null,null,null,null,"",{"$f":"IF(C1061<>0,(IF(lfValidaCNPJ(C1061)=TRUE,\"Válido\",\"Inválido\")),\"\")","v":""},{"$f":"IF(E1061<>0,(IF(lfValidaCEP(E1061)=TRUE,\"Válido\",\"Inválido\")),\"\")","v":""}]
[null,null,null,null,null,null,null,null,null,null,"",{"$f":"IF(C1062<>0,(IF(lfValidaCNPJ(C1062)=TRUE,\"Válido\",\"Inválido\")),\"\")","v":""},{"$f":"IF(E1062<>0,(IF(lfValidaCEP(E1062)=TRUE,\"Válido\",\"Inválido\")),\"\")","v":""}]
[null,null,null,null,null,null,null,null,null,null,"",{"$f":"IF(C1063<>0,(IF(lfValidaCNPJ(C1063)=TRUE,\"Válido\",\"Inválido\")),\"\")","v":""},{"$f":"IF(E1063<>0,(IF(lfValidaCEP(E1063)=TRUE,\"Válido\",\"Inválido\")),\"\")","v":""}]
[null,null,null,null,null,null,null,null,null,null,"",{"$f":"IF(C1064<>0,(IF(lfValidaCNPJ(C1064)=TRUE,\"Válido\",\"Inválido\")),\"\")","v":""},{"$f":"IF(E1064<>0,(IF(lfValidaCEP(E1064)=TRUE,\"Válido\",\"Inválido\")),\"\")","v":""}]
[null,null,null,null,null,null,null,null,null,null,"",{"$f":"IF(C1065<>0,(IF(lfValidaCNPJ(C1065)=TRUE,\"Válido\",\"Inválido\")),\"\")","v":""},{"$f":"IF(E1065<>0,(IF(lfValidaCEP(E1065)=TRUE,\"Válido\",\"Inválido\")),\"\")","v":""}]
[null,null,null,null,null,null,null,null,null,null,"",{"$f":"IF(C1066<>0,(IF(lfValidaCNPJ(C1066)=TRUE,\"Válido\",\"Inválido\")),\"\")","v":""},{"$f":"IF(E1066<>0,(IF(lfValidaCEP(E1066)=TRUE,\"Válido\",\"Inválido\")),\"\")","v":""}]
[null,null,null,null,null,null,null,null,null,null,"",{"$f":"IF(C1067<>0,(IF(lfValidaCNPJ(C1067)=TRUE,\"Válido\",\"Inválido\")),\"\")","v":""},{"$f":"IF(E1067<>0,(IF(lfValidaCEP(E1067)=TRUE,\"Válido\",\"Inválido\")),\"\")","v":""}]
[null,null,null,null,null,null,null,null,null,null,"",{"$f":"IF(C1068<>0,(IF(lfValidaCNPJ(C1068)=TRUE,\"Válido\",\"Inválido\")),\"\")","v":""},{"$f":"IF(E1068<>0,(IF(lfValidaCEP(E1068)=TRUE,\"Válido\",\"Inválido\")),\"\")","v":""}]
[null,null,null,null,null,null,null,null,null,null,"",{"$f":"IF(C1069<>0,(IF(lfValidaCNPJ(C1069)=TRUE,\"Válido\",\"Inválido\")),\"\")","v":""},{"$f":"IF(E1069<>0,(IF(lfValidaCEP(E1069)=TRUE,\"Válido\",\"Inválido\")),\"\")","v":""}]
[null,null,null,null,null,null,null,null,null,null,"",{"$f":"IF(C1070<>0,(IF(lfValidaCNPJ(C1070)=TRUE,\"Válido\",\"Inválido\")),\"\")","v":""},{"$f":"IF(E1070<>0,(IF(lfValidaCEP(E1070)=TRUE,\"Válido\",\"Inválido\")),\"\")","v":""}]
[null,null,null,null,null,null,null,null,null,null,"",{"$f":"IF(C1071<>0,(IF(lfValidaCNPJ(C1071)=TRUE,\"Válido\",\"Inválido\")),\"\")","v":""},{"$f":"IF(E1071<>0,(IF(lfValidaCEP(E1071)=TRUE,\"Válido\",\"Inválido\")),\"\")","v":""}]
[null,null,null,null,null,null,null,null,null,null,"",{"$f":"IF(C1072<>0,(IF(lfValidaCNPJ(C1072)=TRUE,\"Válido\",\"Inválido\")),\"\")","v":""},{"$f":"IF(E1072<>0,(IF(lfValidaCEP(E1072)=TRUE,\"Válido\",\"Inválido\")),\"\")","v":""}]
[null,null,null,null,null,null,null,null,null,null,"",{"$f":"IF(C1073<>0,(IF(lfValidaCNPJ(C1073)=TRUE,\"Válido\",\"Inválido\")),\"\")","v":""},{"$f":"IF(E1073<>0,(IF(lfValidaCEP(E1073)=TRUE,\"Válido\",\"Inválido\")),\"\")","v":""}]
[null,null,null,null,null,null,null,null,null,null,"",{"$f":"IF(C1074<>0,(IF(lfValidaCNPJ(C1074)=TRUE,\"Válido\",\"Inválido\")),\"\")","v":""},{"$f":"IF(E1074<>0,(IF(lfValidaCEP(E1074)=TRUE,\"Válido\",\"Inválido\")),\"\")","v":""}]
[null,null,null,null,null,null,null,null,null,null,"",{"$f":"IF(C1075<>0,(IF(lfValidaCNPJ(C1075)=TRUE,\"Válido\",\"Inválido\")),\"\")","v":""},{"$f":"IF(E1075<>0,(IF(lfValidaCEP(E1075)=TRUE,\"Válido\",\"Inválido\")),\"\")","v":""}]
[null,null,null,null,null,null,null,null,null,null,"",{"$f":"IF(C1076<>0,(IF(lfValidaCNPJ(C1076)=TRUE,\"Válido\",\"Inválido\")),\"\")","v":""},{"$f":"IF(E1076<>0,(IF(lfValidaCEP(E1076)=TRUE,\"Válido\",\"Inválido\")),\"\")","v":""}]
[null,null,null,null,null,null,null,null,null,null,"",{"$f":"IF(C1077<>0,(IF(lfValidaCNPJ(C1077)=TRUE,\"Válido\",\"Inválido\")),\"\")","v":""},{"$f":"IF(E1077<>0,(IF(lfValidaCEP(E1077)=TRUE,\"Válido\",\"Inválido\")),\"\")","v":""}]
[null,null,null,null,null,null,null,null,null,null,"",{"$f":"IF(C1078<>0,(IF(lfValidaCNPJ(C1078)=TRUE,\"Válido\",\"Inválido\")),\"\")","v":""},{"$f":"IF(E1078<>0,(IF(lfValidaCEP(E1078)=TRUE,\"Válido\",\"Inválido\")),\"\")","v":""}]
[null,null,null,null,null,null,null,null,null,null,"",{"$f":"IF(C1079<>0,(IF(lfValidaCNPJ(C1079)=TRUE,\"Válido\",\"Inválido\")),\"\")","v":""},{"$f":"IF(E1079<>0,(IF(lfValidaCEP(E1079)=TRUE,\"Válido\",\"Inválido\")),\"\")","v":""}]
[null,null,null,null,null,null,null,null,null,null,"",{"$f":"IF(C1080<>0,(IF(lfValidaCNPJ(C1080)=TRUE,\"Válido\",\"Inválido\")),\"\")","v":""},{"$f":"IF(E1080<>0,(IF(lfValidaCEP(E1080)=TRUE,\"Válido\",\"Inválido\")),\"\")","v":""}]
[null,null,null,null,null,null,null,null,null,null,"",{"$f":"IF(C1081<>0,(IF(lfValidaCNPJ(C1081)=TRUE,\"Válido\",\"Inválido\")),\"\")","v":""},{"$f":"IF(E1081<>0,(IF(lfValidaCEP(E1081)=TRUE,\"Válido\",\"Inválido\")),\"\")","v":""}]
[null,null,null,null,null,null,null,null,null,null,"",{"$f":"IF(C1082<>0,(IF(lfValidaCNPJ(C1082)=TRUE,\"Válido\",\"Inválido\")),\"\")","v":""},{"$f":"IF(E1082<>0,(IF(lfValidaCEP(E1082)=TRUE,\"Válido\",\"Inválido\")),\"\")","v":""}]
[null,null,null,null,null,null,null,null,null,null,"",{"$f":"IF(C1083<>0,(IF(lfValidaCNPJ(C1083)=TRUE,\"Válido\",\"Inválido\")),\"\")","v":""},{"$f":"IF(E1083<>0,(IF(lfValidaCEP(E1083)=TRUE,\"Válido\",\"Inválido\")),\"\")","v":""}]
[null,null,null,null,null,null,null,null,null,null,"",{"$f":"IF(C1084<>0,(IF(lfValidaCNPJ(C1084)=TRUE,\"Válido\",\"Inválido\")),\"\")","v":""},{"$f":"IF(E1084<>0,(IF(lfValidaCEP(E1084)=TRUE,\"Válido\",\"Inválido\")),\"\")","v":""}]
[null,null,null,null,null,null,null,null,null,null,"",{"$f":"IF(C1085<>0,(IF(lfValidaCNPJ(C1085)=TRUE,\"Válido\",\"Inválido\")),\"\")","v":""},{"$f":"IF(E1085<>0,(IF(lfValidaCEP(E1085)=TRUE,\"Válido\",\"Inválido\")),\"\")","v":""}]
[null,null,null,null,null,null,null,null,null,null,"",{"$f":"IF(C1086<>0,(IF(lfValidaCNPJ(C1086)=TRUE,\"Válido\",\"Inválido\")),\"\")","v":""},{"$f":"IF(E1086<>0,(IF(lfValidaCEP(E1086)=TRUE,\"Válido\",\"Inválido\")),\"\")","v":""}]
[null,null,null,null,null,null,null,null,null,null,"",{"$f":"IF(C1087<>0,(IF(lfValidaCNPJ(C1087)=TRUE,\"Válido\",\"Inválido\")),\"\")","v":""},{"$f":"IF(E1087<>0,(IF(lfValidaCEP(E1087)=TRUE,\"Válido\",\"Inválido\")),\"\")","v":""}]
[null,null,null,null,null,null,null,null,null,null,"",{"$f":"IF(C1088<>0,(IF(lfValidaCNPJ(C1088)=TRUE,\"Válido\",\"Inválido\")),\"\")","v":""},{"$f":"IF(E1088<>0,(IF(lfValidaCEP(E1088)=TRUE,\"Válido\",\"Inválido\")),\"\")","v":""}]
[null,null,null,null,null,null,null,null,null,null,"",{"$f":"IF(C1089<>0,(IF(lfValidaCNPJ(C1089)=TRUE,\"Válido\",\"Inválido\")),\"\")","v":""},{"$f":"IF(E1089<>0,(IF(lfValidaCEP(E1089)=TRUE,\"Válido\",\"Inválido\")),\"\")","v":""}]
[null,null,null,null,null,null,null,null,null,null,"",{"$f":"IF(C1090<>0,(IF(lfValidaCNPJ(C1090)=TRUE,\"Válido\",\"Inválido\")),\"\")","v":""},{"$f":"IF(E1090<>0,(IF(lfValidaCEP(E1090)=TRUE,\"Válido\",\"Inválido\")),\"\")","v":""}]
[null,null,null,null,null,null,null,null,null,null,"",{"$f":"IF(C1091<>0,(IF(lfValidaCNPJ(C1091)=TRUE,\"Válido\",\"Inválido\")),\"\")","v":""},{"$f":"IF(E1091<>0,(IF(lfValidaCEP(E1091)=TRUE,\"Válido\",\"Inválido\")),\"\")","v":""}]
[null,null,null,null,null,null,null,null,null,null,"",{"$f":"IF(C1092<>0,(IF(lfValidaCNPJ(C1092)=TRUE,\"Válido\",\"Inválido\")),\"\")","v":""},{"$f":"IF(E1092<>0,(IF(lfValidaCEP(E1092)=TRUE,\"Válido\",\"Inválido\")),\"\")","v":""}]
[null,null,null,null,null,null,null,null,null,null,"",{"$f":"IF(C1093<>0,(IF(lfValidaCNPJ(C1093)=TRUE,\"Válido\",\"Inválido\")),\"\")","v":""},{"$f":"IF(E1093<>0,(IF(lfValidaCEP(E1093)=TRUE,\"Válido\",\"Inválido\")),\"\")","v":""}]
[null,null,null,null,null,null,null,null,null,null,"",{"$f":"IF(C1094<>0,(IF(lfValidaCNPJ(C1094)=TRUE,\"Válido\",\"Inválido\")),\"\")","v":""},{"$f":"IF(E1094<>0,(IF(lfValidaCEP(E1094)=TRUE,\"Válido\",\"Inválido\")),\"\")","v":""}]
[null,null,null,null,null,null,null,null,null,null,"",{"$f":"IF(C1095<>0,(IF(lfValidaCNPJ(C1095)=TRUE,\"Válido\",\"Inválido\")),\"\")","v":""},{"$f":"IF(E1095<>0,(IF(lfValidaCEP(E1095)=TRUE,\"Válido\",\"Inválido\")),\"\")","v":""}]
[null,null,null,null,null,null,null,null,null,null,"",{"$f":"IF(C1096<>0,(IF(lfValidaCNPJ(C1096)=TRUE,\"Válido\",\"Inválido\")),\"\")","v":""},{"$f":"IF(E1096<>0,(IF(lfValidaCEP(E1096)=TRUE,\"Válido\",\"Inválido\")),\"\")","v":""}]
[null,null,null,null,null,null,null,null,null,null,"",{"$f":"IF(C1097<>0,(IF(lfValidaCNPJ(C1097)=TRUE,\"Válido\",\"Inválido\")),\"\")","v":""},{"$f":"IF(E1097<>0,(IF(lfValidaCEP(E1097)=TRUE,\"Válido\",\"Inválido\")),\"\")","v":""}]
[null,null,null,null,null,null,null,null,null,null,"",{"$f":"IF(C1098<>0,(IF(lfValidaCNPJ(C1098)=TRUE,\"Válido\",\"Inválido\")),\"\")","v":""},{"$f":"IF(E1098<>0,(IF(lfValidaCEP(E1098)=TRUE,\"Válido\",\"Inválido\")),\"\")","v":""}]
[null,null,null,null,null,null,null,null,null,null,"",{"$f":"IF(C1099<>0,(IF(lfValidaCNPJ(C1099)=TRUE,\"Válido\",\"Inválido\")),\"\")","v":""},{"$f":"IF(E1099<>0,(IF(lfValidaCEP(E1099)=TRUE,\"Válido\",\"Inválido\")),\"\")","v":""}]
[null,null,null,null,null,null,null,null,null,null,{"$f":"IF(COUNTA(B1100:I1100)<>0,IF(AND(B1100<>0,C1100<>0,D1100<>0,E1100<>0,F1100<>0,G1100<>0,H1100<>0,I1100<>0),\"Completo\",\"Incompleto\"),\"\")","v":""},{"$f":"IF(C1100<>0,(IF(lfValidaCNPJ(C1100)=TRUE,\"Válido\",\"Inválido\")),\"\")","v":""},{"$f":"IF(E1100<>0,(IF(lfValidaCEP(E1100)=TRUE,\"Válido\",\"Inválido\")),\"\")","v":""}]
[null,null,null,null,null,null,null,null,null,null,"",{"$f":"IF(C1101<>0,(IF(lfValidaCNPJ(C1101)=TRUE,\"Válido\",\"Inválido\")),\"\")","v":""},{"$f":"IF(E1101<>0,(IF(lfValidaCEP(E1101)=TRUE,\"Válido\",\"Inválido\")),\"\")","v":""}]
[null,null,null,null,null,null,null,null,null,null,"",{"$f":"IF(C1102<>0,(IF(lfValidaCNPJ(C1102)=TRUE,\"Válido\",\"Inválido\")),\"\")","v":""},{"$f":"IF(E1102<>0,(IF(lfValidaCEP(E1102)=TRUE,\"Válido\",\"Inválido\")),\"\")","v":""}]
[null,null,null,null,null,null,null,null,null,null,"",{"$f":"IF(C1103<>0,(IF(lfValidaCNPJ(C1103)=TRUE,\"Válido\",\"Inválido\")),\"\")","v":""},{"$f":"IF(E1103<>0,(IF(lfValidaCEP(E1103)=TRUE,\"Válido\",\"Inválido\")),\"\")","v":""}]
[null,null,null,null,null,null,null,null,null,null,"",{"$f":"IF(C1104<>0,(IF(lfValidaCNPJ(C1104)=TRUE,\"Válido\",\"Inválido\")),\"\")","v":""},{"$f":"IF(E1104<>0,(IF(lfValidaCEP(E1104)=TRUE,\"Válido\",\"Inválido\")),\"\")","v":""}]
[null,null,null,null,null,null,null,null,null,null,"",{"$f":"IF(C1105<>0,(IF(lfValidaCNPJ(C1105)=TRUE,\"Válido\",\"Inválido\")),\"\")","v":""},{"$f":"IF(E1105<>0,(IF(lfValidaCEP(E1105)=TRUE,\"Válido\",\"Inválido\")),\"\")","v":""}]
[null,null,null,null,null,null,null,null,null,null,"",{"$f":"IF(C1106<>0,(IF(lfValidaCNPJ(C1106)=TRUE,\"Válido\",\"Inválido\")),\"\")","v":""},{"$f":"IF(E1106<>0,(IF(lfValidaCEP(E1106)=TRUE,\"Válido\",\"Inválido\")),\"\")","v":""}]
[null,null,null,null,null,null,null,null,null,null,"",{"$f":"IF(C1107<>0,(IF(lfValidaCNPJ(C1107)=TRUE,\"Válido\",\"Inválido\")),\"\")","v":""},{"$f":"IF(E1107<>0,(IF(lfValidaCEP(E1107)=TRUE,\"Válido\",\"Inválido\")),\"\")","v":""}]
[null,null,null,null,null,null,null,null,null,null,"",{"$f":"IF(C1108<>0,(IF(lfValidaCNPJ(C1108)=TRUE,\"Válido\",\"Inválido\")),\"\")","v":""},{"$f":"IF(E1108<>0,(IF(lfValidaCEP(E1108)=TRUE,\"Válido\",\"Inválido\")),\"\")","v":""}]
[null,null,null,null,null,null,null,null,null,null,"",{"$f":"IF(C1109<>0,(IF(lfValidaCNPJ(C1109)=TRUE,\"Válido\",\"Inválido\")),\"\")","v":""},{"$f":"IF(E1109<>0,(IF(lfValidaCEP(E1109)=TRUE,\"Válido\",\"Inválido\")),\"\")","v":""}]
[null,null,null,null,null,null,null,null,null,null,"",{"$f":"IF(C1110<>0,(IF(lfValidaCNPJ(C1110)=TRUE,\"Válido\",\"Inválido\")),\"\")","v":""},{"$f":"IF(E1110<>0,(IF(lfValidaCEP(E1110)=TRUE,\"Válido\",\"Inválido\")),\"\")","v":""}]
[null,null,null,null,null,null,null,null,null,null,"",{"$f":"IF(C1111<>0,(IF(lfValidaCNPJ(C1111)=TRUE,\"Válido\",\"Inválido\")),\"\")","v":""},{"$f":"IF(E1111<>0,(IF(lfValidaCEP(E1111)=TRUE,\"Válido\",\"Inválido\")),\"\")","v":""}]
[null,null,null,null,null,null,null,null,null,null,"",{"$f":"IF(C1112<>0,(IF(lfValidaCNPJ(C1112)=TRUE,\"Válido\",\"Inválido\")),\"\")","v":""},{"$f":"IF(E1112<>0,(IF(lfValidaCEP(E1112)=TRUE,\"Válido\",\"Inválido\")),\"\")","v":""}]
[null,null,null,null,null,null,null,null,null,null,"",{"$f":"IF(C1113<>0,(IF(lfValidaCNPJ(C1113)=TRUE,\"Válido\",\"Inválido\")),\"\")","v":""},{"$f":"IF(E1113<>0,(IF(lfValidaCEP(E1113)=TRUE,\"Válido\",\"Inválido\")),\"\")","v":""}]
[null,null,null,null,null,null,null,null,null,null,"",{"$f":"IF(C1114<>0,(IF(lfValidaCNPJ(C1114)=TRUE,\"Válido\",\"Inválido\")),\"\")","v":""},{"$f":"IF(E1114<>0,(IF(lfValidaCEP(E1114)=TRUE,\"Válido\",\"Inválido\")),\"\")","v":""}]
[null,null,null,null,null,null,null,null,null,null,"",{"$f":"IF(C1115<>0,(IF(lfValidaCNPJ(C1115)=TRUE,\"Válido\",\"Inválido\")),\"\")","v":""},{"$f":"IF(E1115<>0,(IF(lfValidaCEP(E1115)=TRUE,\"Válido\",\"Inválido\")),\"\")","v":""}]
[null,null,null,null,null,null,null,null,null,null,"",{"$f":"IF(C1116<>0,(IF(lfValidaCNPJ(C1116)=TRUE,\"Válido\",\"Inválido\")),\"\")","v":""},{"$f":"IF(E1116<>0,(IF(lfValidaCEP(E1116)=TRUE,\"Válido\",\"Inválido\")),\"\")","v":""}]
[null,null,null,null,null,null,null,null,null,null,"",{"$f":"IF(C1117<>0,(IF(lfValidaCNPJ(C1117)=TRUE,\"Válido\",\"Inválido\")),\"\")","v":""},{"$f":"IF(E1117<>0,(IF(lfValidaCEP(E1117)=TRUE,\"Válido\",\"Inválido\")),\"\")","v":""}]
[null,null,null,null,null,null,null,null,null,null,"",{"$f":"IF(C1118<>0,(IF(lfValidaCNPJ(C1118)=TRUE,\"Válido\",\"Inválido\")),\"\")","v":""},{"$f":"IF(E1118<>0,(IF(lfValidaCEP(E1118)=TRUE,\"Válido\",\"Inválido\")),\"\")","v":""}]
[null,null,null,null,null,null,null,null,null,null,"",{"$f":"IF(C1119<>0,(IF(lfValidaCNPJ(C1119)=TRUE,\"Válido\",\"Inválido\")),\"\")","v":""},{"$f":"IF(E1119<>0,(IF(lfValidaCEP(E1119)=TRUE,\"Válido\",\"Inválido\")),\"\")","v":""}]
[null,null,null,null,null,null,null,null,null,null,"",{"$f":"IF(C1120<>0,(IF(lfValidaCNPJ(C1120)=TRUE,\"Válido\",\"Inválido\")),\"\")","v":""},{"$f":"IF(E1120<>0,(IF(lfValidaCEP(E1120)=TRUE,\"Válido\",\"Inválido\")),\"\")","v":""}]
[null,null,null,null,null,null,null,null,null,null,"",{"$f":"IF(C1121<>0,(IF(lfValidaCNPJ(C1121)=TRUE,\"Válido\",\"Inválido\")),\"\")","v":""},{"$f":"IF(E1121<>0,(IF(lfValidaCEP(E1121)=TRUE,\"Válido\",\"Inválido\")),\"\")","v":""}]
[null,null,null,null,null,null,null,null,null,null,"",{"$f":"IF(C1122<>0,(IF(lfValidaCNPJ(C1122)=TRUE,\"Válido\",\"Inválido\")),\"\")","v":""},{"$f":"IF(E1122<>0,(IF(lfValidaCEP(E1122)=TRUE,\"Válido\",\"Inválido\")),\"\")","v":""}]
[null,null,null,null,null,null,null,null,null,null,"",{"$f":"IF(C1123<>0,(IF(lfValidaCNPJ(C1123)=TRUE,\"Válido\",\"Inválido\")),\"\")","v":""},{"$f":"IF(E1123<>0,(IF(lfValidaCEP(E1123)=TRUE,\"Válido\",\"Inválido\")),\"\")","v":""}]
[null,null,null,null,null,null,null,null,null,null,"",{"$f":"IF(C1124<>0,(IF(lfValidaCNPJ(C1124)=TRUE,\"Válido\",\"Inválido\")),\"\")","v":""},{"$f":"IF(E1124<>0,(IF(lfValidaCEP(E1124)=TRUE,\"Válido\",\"Inválido\")),\"\")","v":""}]
[null,null,null,null,null,null,null,null,null,null,"",{"$f":"IF(C1125<>0,(IF(lfValidaCNPJ(C1125)=TRUE,\"Válido\",\"Inválido\")),\"\")","v":""},{"$f":"IF(E1125<>0,(IF(lfValidaCEP(E1125)=TRUE,\"Válido\",\"Inválido\")),\"\")","v":""}]
[null,null,null,null,null,null,null,null,null,null,"",{"$f":"IF(C1126<>0,(IF(lfValidaCNPJ(C1126)=TRUE,\"Válido\",\"Inválido\")),\"\")","v":""},{"$f":"IF(E1126<>0,(IF(lfValidaCEP(E1126)=TRUE,\"Válido\",\"Inválido\")),\"\")","v":""}]
[null,null,null,null,null,null,null,null,null,null,"",{"$f":"IF(C1127<>0,(IF(lfValidaCNPJ(C1127)=TRUE,\"Válido\",\"Inválido\")),\"\")","v":""},{"$f":"IF(E1127<>0,(IF(lfValidaCEP(E1127)=TRUE,\"Válido\",\"Inválido\")),\"\")","v":""}]
[null,null,null,null,null,null,null,null,null,null,"",{"$f":"IF(C1128<>0,(IF(lfValidaCNPJ(C1128)=TRUE,\"Válido\",\"Inválido\")),\"\")","v":""},{"$f":"IF(E1128<>0,(IF(lfValidaCEP(E1128)=TRUE,\"Válido\",\"Inválido\")),\"\")","v":""}]
[null,null,null,null,null,null,null,null,null,null,"",{"$f":"IF(C1129<>0,(IF(lfValidaCNPJ(C1129)=TRUE,\"Válido\",\"Inválido\")),\"\")","v":""},{"$f":"IF(E1129<>0,(IF(lfValidaCEP(E1129)=TRUE,\"Válido\",\"Inválido\")),\"\")","v":""}]
[null,null,null,null,null,null,null,null,null,null,"",{"$f":"IF(C1130<>0,(IF(lfValidaCNPJ(C1130)=TRUE,\"Válido\",\"Inválido\")),\"\")","v":""},{"$f":"IF(E1130<>0,(IF(lfValidaCEP(E1130)=TRUE,\"Válido\",\"Inválido\")),\"\")","v":""}]
[null,null,null,null,null,null,null,null,null,null,"",{"$f":"IF(C1131<>0,(IF(lfValidaCNPJ(C1131)=TRUE,\"Válido\",\"Inválido\")),\"\")","v":""},{"$f":"IF(E1131<>0,(IF(lfValidaCEP(E1131)=TRUE,\"Válido\",\"Inválido\")),\"\")","v":""}]
[null,null,null,null,null,null,null,null,null,null,"",{"$f":"IF(C1132<>0,(IF(lfValidaCNPJ(C1132)=TRUE,\"Válido\",\"Inválido\")),\"\")","v":""},{"$f":"IF(E1132<>0,(IF(lfValidaCEP(E1132)=TRUE,\"Válido\",\"Inválido\")),\"\")","v":""}]
[null,null,null,null,null,null,null,null,null,null,"",{"$f":"IF(C1133<>0,(IF(lfValidaCNPJ(C1133)=TRUE,\"Válido\",\"Inválido\")),\"\")","v":""},{"$f":"IF(E1133<>0,(IF(lfValidaCEP(E1133)=TRUE,\"Válido\",\"Inválido\")),\"\")","v":""}]
[null,null,null,null,null,null,null,null,null,null,"",{"$f":"IF(C1134<>0,(IF(lfValidaCNPJ(C1134)=TRUE,\"Válido\",\"Inválido\")),\"\")","v":""},{"$f":"IF(E1134<>0,(IF(lfValidaCEP(E1134)=TRUE,\"Válido\",\"Inválido\")),\"\")","v":""}]
[null,null,null,null,null,null,null,null,null,null,"",{"$f":"IF(C1135<>0,(IF(lfValidaCNPJ(C1135)=TRUE,\"Válido\",\"Inválido\")),\"\")","v":""},{"$f":"IF(E1135<>0,(IF(lfValidaCEP(E1135)=TRUE,\"Válido\",\"Inválido\")),\"\")","v":""}]
[null,null,null,null,null,null,null,null,null,null,"",{"$f":"IF(C1136<>0,(IF(lfValidaCNPJ(C1136)=TRUE,\"Válido\",\"Inválido\")),\"\")","v":""},{"$f":"IF(E1136<>0,(IF(lfValidaCEP(E1136)=TRUE,\"Válido\",\"Inválido\")),\"\")","v":""}]
[null,null,null,null,null,null,null,null,null,null,"",{"$f":"IF(C1137<>0,(IF(lfValidaCNPJ(C1137)=TRUE,\"Válido\",\"Inválido\")),\"\")","v":""},{"$f":"IF(E1137<>0,(IF(lfValidaCEP(E1137)=TRUE,\"Válido\",\"Inválido\")),\"\")","v":""}]
[null,null,null,null,null,null,null,null,null,null,"",{"$f":"IF(C1138<>0,(IF(lfValidaCNPJ(C1138)=TRUE,\"Válido\",\"Inválido\")),\"\")","v":""},{"$f":"IF(E1138<>0,(IF(lfValidaCEP(E1138)=TRUE,\"Válido\",\"Inválido\")),\"\")","v":""}]
[null,null,null,null,null,null,null,null,null,null,"",{"$f":"IF(C1139<>0,(IF(lfValidaCNPJ(C1139)=TRUE,\"Válido\",\"Inválido\")),\"\")","v":""},{"$f":"IF(E1139<>0,(IF(lfValidaCEP(E1139)=TRUE,\"Válido\",\"Inválido\")),\"\")","v":""}]
[null,null,null,null,null,null,null,null,null,null,"",{"$f":"IF(C1140<>0,(IF(lfValidaCNPJ(C1140)=TRUE,\"Válido\",\"Inválido\")),\"\")","v":""},{"$f":"IF(E1140<>0,(IF(lfValidaCEP(E1140)=TRUE,\"Válido\",\"Inválido\")),\"\")","v":""}]
[null,null,null,null,null,null,null,null,null,null,"",{"$f":"IF(C1141<>0,(IF(lfValidaCNPJ(C1141)=TRUE,\"Válido\",\"Inválido\")),\"\")","v":""},{"$f":"IF(E1141<>0,(IF(lfValidaCEP(E1141)=TRUE,\"Válido\",\"Inválido\")),\"\")","v":""}]
[null,null,null,null,null,null,null,null,null,null,"",{"$f":"IF(C1142<>0,(IF(lfValidaCNPJ(C1142)=TRUE,\"Válido\",\"Inválido\")),\"\")","v":""},{"$f":"IF(E1142<>0,(IF(lfValidaCEP(E1142)=TRUE,\"Válido\",\"Inválido\")),\"\")","v":""}]
[null,null,null,null,null,null,null,null,null,null,"",{"$f":"IF(C1143<>0,(IF(lfValidaCNPJ(C1143)=TRUE,\"Válido\",\"Inválido\")),\"\")","v":""},{"$f":"IF(E1143<>0,(IF(lfValidaCEP(E1143)=TRUE,\"Válido\",\"Inválido\")),\"\")","v":""}]
[null,null,null,null,null,null,null,null,null,null,"",{"$f":"IF(C1144<>0,(IF(lfValidaCNPJ(C1144)=TRUE,\"Válido\",\"Inválido\")),\"\")","v":""},{"$f":"IF(E1144<>0,(IF(lfValidaCEP(E1144)=TRUE,\"Válido\",\"Inválido\")),\"\")","v":""}]
[null,null,null,null,null,null,null,null,null,null,"",{"$f":"IF(C1145<>0,(IF(lfValidaCNPJ(C1145)=TRUE,\"Válido\",\"Inválido\")),\"\")","v":""},{"$f":"IF(E1145<>0,(IF(lfValidaCEP(E1145)=TRUE,\"Válido\",\"Inválido\")),\"\")","v":""}]
[null,null,null,null,null,null,null,null,null,null,"",{"$f":"IF(C1146<>0,(IF(lfValidaCNPJ(C1146)=TRUE,\"Válido\",\"Inválido\")),\"\")","v":""},{"$f":"IF(E1146<>0,(IF(lfValidaCEP(E1146)=TRUE,\"Válido\",\"Inválido\")),\"\")","v":""}]
[null,null,null,null,null,null,null,null,null,null,"",{"$f":"IF(C1147<>0,(IF(lfValidaCNPJ(C1147)=TRUE,\"Válido\",\"Inválido\")),\"\")","v":""},{"$f":"IF(E1147<>0,(IF(lfValidaCEP(E1147)=TRUE,\"Válido\",\"Inválido\")),\"\")","v":""}]
[null,null,null,null,null,null,null,null,null,null,"",{"$f":"IF(C1148<>0,(IF(lfValidaCNPJ(C1148)=TRUE,\"Válido\",\"Inválido\")),\"\")","v":""},{"$f":"IF(E1148<>0,(IF(lfValidaCEP(E1148)=TRUE,\"Válido\",\"Inválido\")),\"\")","v":""}]
[null,null,null,null,null,null,null,null,null,null,"",{"$f":"IF(C1149<>0,(IF(lfValidaCNPJ(C1149)=TRUE,\"Válido\",\"Inválido\")),\"\")","v":""},{"$f":"IF(E1149<>0,(IF(lfValidaCEP(E1149)=TRUE,\"Válido\",\"Inválido\")),\"\")","v":""}]
[null,null,null,null,null,null,null,null,null,null,"",{"$f":"IF(C1150<>0,(IF(lfValidaCNPJ(C1150)=TRUE,\"Válido\",\"Inválido\")),\"\")","v":""},{"$f":"IF(E1150<>0,(IF(lfValidaCEP(E1150)=TRUE,\"Válido\",\"Inválido\")),\"\")","v":""}]
[null,null,null,null,null,null,null,null,null,null,"",{"$f":"IF(C1151<>0,(IF(lfValidaCNPJ(C1151)=TRUE,\"Válido\",\"Inválido\")),\"\")","v":""},{"$f":"IF(E1151<>0,(IF(lfValidaCEP(E1151)=TRUE,\"Válido\",\"Inválido\")),\"\")","v":""}]
[null,null,null,null,null,null,null,null,null,null,"",{"$f":"IF(C1152<>0,(IF(lfValidaCNPJ(C1152)=TRUE,\"Válido\",\"Inválido\")),\"\")","v":""},{"$f":"IF(E1152<>0,(IF(lfValidaCEP(E1152)=TRUE,\"Válido\",\"Inválido\")),\"\")","v":""}]
[null,null,null,null,null,null,null,null,null,null,"",{"$f":"IF(C1153<>0,(IF(lfValidaCNPJ(C1153)=TRUE,\"Válido\",\"Inválido\")),\"\")","v":""},{"$f":"IF(E1153<>0,(IF(lfValidaCEP(E1153)=TRUE,\"Válido\",\"Inválido\")),\"\")","v":""}]
[null,null,null,null,null,null,null,null,null,null,"",{"$f":"IF(C1154<>0,(IF(lfValidaCNPJ(C1154)=TRUE,\"Válido\",\"Inválido\")),\"\")","v":""},{"$f":"IF(E1154<>0,(IF(lfValidaCEP(E1154)=TRUE,\"Válido\",\"Inválido\")),\"\")","v":""}]
[null,null,null,null,null,null,null,null,null,null,"",{"$f":"IF(C1155<>0,(IF(lfValidaCNPJ(C1155)=TRUE,\"Válido\",\"Inválido\")),\"\")","v":""},{"$f":"IF(E1155<>0,(IF(lfValidaCEP(E1155)=TRUE,\"Válido\",\"Inválido\")),\"\")","v":""}]
[null,null,null,null,null,null,null,null,null,null,"",{"$f":"IF(C1156<>0,(IF(lfValidaCNPJ(C1156)=TRUE,\"Válido\",\"Inválido\")),\"\")","v":""},{"$f":"IF(E1156<>0,(IF(lfValidaCEP(E1156)=TRUE,\"Válido\",\"Inválido\")),\"\")","v":""}]
[null,null,null,null,null,null,null,null,null,null,"",{"$f":"IF(C1157<>0,(IF(lfValidaCNPJ(C1157)=TRUE,\"Válido\",\"Inválido\")),\"\")","v":""},{"$f":"IF(E1157<>0,(IF(lfValidaCEP(E1157)=TRUE,\"Válido\",\"Inválido\")),\"\")","v":""}]
[null,null,null,null,null,null,null,null,null,null,"",{"$f":"IF(C1158<>0,(IF(lfValidaCNPJ(C1158)=TRUE,\"Válido\",\"Inválido\")),\"\")","v":""},{"$f":"IF(E1158<>0,(IF(lfValidaCEP(E1158)=TRUE,\"Válido\",\"Inválido\")),\"\")","v":""}]
[null,null,null,null,null,null,null,null,null,null,"",{"$f":"IF(C1159<>0,(IF(lfValidaCNPJ(C1159)=TRUE,\"Válido\",\"Inválido\")),\"\")","v":""},{"$f":"IF(E1159<>0,(IF(lfValidaCEP(E1159)=TRUE,\"Válido\",\"Inválido\")),\"\")","v":""}]
[null,null,null,null,null,null,null,null,null,null,"",{"$f":"IF(C1160<>0,(IF(lfValidaCNPJ(C1160)=TRUE,\"Válido\",\"Inválido\")),\"\")","v":""},{"$f":"IF(E1160<>0,(IF(lfValidaCEP(E1160)=TRUE,\"Válido\",\"Inválido\")),\"\")","v":""}]
[null,null,null,null,null,null,null,null,null,null,"",{"$f":"IF(C1161<>0,(IF(lfValidaCNPJ(C1161)=TRUE,\"Válido\",\"Inválido\")),\"\")","v":""},{"$f":"IF(E1161<>0,(IF(lfValidaCEP(E1161)=TRUE,\"Válido\",\"Inválido\")),\"\")","v":""}]
[null,null,null,null,null,null,null,null,null,null,"",{"$f":"IF(C1162<>0,(IF(lfValidaCNPJ(C1162)=TRUE,\"Válido\",\"Inválido\")),\"\")","v":""},{"$f":"IF(E1162<>0,(IF(lfValidaCEP(E1162)=TRUE,\"Válido\",\"Inválido\")),\"\")","v":""}]
[null,null,null,null,null,null,null,null,null,null,"",{"$f":"IF(C1163<>0,(IF(lfValidaCNPJ(C1163)=TRUE,\"Válido\",\"Inválido\")),\"\")","v":""},{"$f":"IF(E1163<>0,(IF(lfValidaCEP(E1163)=TRUE,\"Válido\",\"Inválido\")),\"\")","v":""}]
[null,null,null,null,null,null,null,null,null,null,{"$f":"IF(COUNTA(B1164:I1164)<>0,IF(AND(B1164<>0,C1164<>0,D1164<>0,E1164<>0,F1164<>0,G1164<>0,H1164<>0,I1164<>0),\"Completo\",\"Incompleto\"),\"\")","v":""},{"$f":"IF(C1164<>0,(IF(lfValidaCNPJ(C1164)=TRUE,\"Válido\",\"Inválido\")),\"\")","v":""},{"$f":"IF(E1164<>0,(IF(lfValidaCEP(E1164)=TRUE,\"Válido\",\"Inválido\")),\"\")","v":""}]
[null,null,null,null,null,null,null,null,null,null,"",{"$f":"IF(C1165<>0,(IF(lfValidaCNPJ(C1165)=TRUE,\"Válido\",\"Inválido\")),\"\")","v":""},{"$f":"IF(E1165<>0,(IF(lfValidaCEP(E1165)=TRUE,\"Válido\",\"Inválido\")),\"\")","v":""}]
[null,null,null,null,null,null,null,null,null,null,"",{"$f":"IF(C1166<>0,(IF(lfValidaCNPJ(C1166)=TRUE,\"Válido\",\"Inválido\")),\"\")","v":""},{"$f":"IF(E1166<>0,(IF(lfValidaCEP(E1166)=TRUE,\"Válido\",\"Inválido\")),\"\")","v":""}]
[null,null,null,null,null,null,null,null,null,null,"",{"$f":"IF(C1167<>0,(IF(lfValidaCNPJ(C1167)=TRUE,\"Válido\",\"Inválido\")),\"\")","v":""},{"$f":"IF(E1167<>0,(IF(lfValidaCEP(E1167)=TRUE,\"Válido\",\"Inválido\")),\"\")","v":""}]
[null,null,null,null,null,null,null,null,null,null,"",{"$f":"IF(C1168<>0,(IF(lfValidaCNPJ(C1168)=TRUE,\"Válido\",\"Inválido\")),\"\")","v":""},{"$f":"IF(E1168<>0,(IF(lfValidaCEP(E1168)=TRUE,\"Válido\",\"Inválido\")),\"\")","v":""}]
[null,null,null,null,null,null,null,null,null,null,"",{"$f":"IF(C1169<>0,(IF(lfValidaCNPJ(C1169)=TRUE,\"Válido\",\"Inválido\")),\"\")","v":""},{"$f":"IF(E1169<>0,(IF(lfValidaCEP(E1169)=TRUE,\"Válido\",\"Inválido\")),\"\")","v":""}]
[null,null,null,null,null,null,null,null,null,null,"",{"$f":"IF(C1170<>0,(IF(lfValidaCNPJ(C1170)=TRUE,\"Válido\",\"Inválido\")),\"\")","v":""},{"$f":"IF(E1170<>0,(IF(lfValidaCEP(E1170)=TRUE,\"Válido\",\"Inválido\")),\"\")","v":""}]
[null,null,null,null,null,null,null,null,null,null,"",{"$f":"IF(C1171<>0,(IF(lfValidaCNPJ(C1171)=TRUE,\"Válido\",\"Inválido\")),\"\")","v":""},{"$f":"IF(E1171<>0,(IF(lfValidaCEP(E1171)=TRUE,\"Válido\",\"Inválido\")),\"\")","v":""}]
[null,null,null,null,null,null,null,null,null,null,"",{"$f":"IF(C1172<>0,(IF(lfValidaCNPJ(C1172)=TRUE,\"Válido\",\"Inválido\")),\"\")","v":""},{"$f":"IF(E1172<>0,(IF(lfValidaCEP(E1172)=TRUE,\"Válido\",\"Inválido\")),\"\")","v":""}]
[null,null,null,null,null,null,null,null,null,null,"",{"$f":"IF(C1173<>0,(IF(lfValidaCNPJ(C1173)=TRUE,\"Válido\",\"Inválido\")),\"\")","v":""},{"$f":"IF(E1173<>0,(IF(lfValidaCEP(E1173)=TRUE,\"Válido\",\"Inválido\")),\"\")","v":""}]
[null,null,null,null,null,null,null,null,null,null,"",{"$f":"IF(C1174<>0,(IF(lfValidaCNPJ(C1174)=TRUE,\"Válido\",\"Inválido\")),\"\")","v":""},{"$f":"IF(E1174<>0,(IF(lfValidaCEP(E1174)=TRUE,\"Válido\",\"Inválido\")),\"\")","v":""}]
[null,null,null,null,null,null,null,null,null,null,"",{"$f":"IF(C1175<>0,(IF(lfValidaCNPJ(C1175)=TRUE,\"Válido\",\"Inválido\")),\"\")","v":""},{"$f":"IF(E1175<>0,(IF(lfValidaCEP(E1175)=TRUE,\"Válido\",\"Inválido\")),\"\")","v":""}]
[null,null,null,null,null,null,null,null,null,null,"",{"$f":"IF(C1176<>0,(IF(lfValidaCNPJ(C1176)=TRUE,\"Válido\",\"Inválido\")),\"\")","v":""},{"$f":"IF(E1176<>0,(IF(lfValidaCEP(E1176)=TRUE,\"Válido\",\"Inválido\")),\"\")","v":""}]
[null,null,null,null,null,null,null,null,null,null,"",{"$f":"IF(C1177<>0,(IF(lfValidaCNPJ(C1177)=TRUE,\"Válido\",\"Inválido\")),\"\")","v":""},{"$f":"IF(E1177<>0,(IF(lfValidaCEP(E1177)=TRUE,\"Válido\",\"Inválido\")),\"\")","v":""}]
[null,null,null,null,null,null,null,null,null,null,"",{"$f":"IF(C1178<>0,(IF(lfValidaCNPJ(C1178)=TRUE,\"Válido\",\"Inválido\")),\"\")","v":""},{"$f":"IF(E1178<>0,(IF(lfValidaCEP(E1178)=TRUE,\"Válido\",\"Inválido\")),\"\")","v":""}]
[null,null,null,null,null,null,null,null,null,null,"",{"$f":"IF(C1179<>0,(IF(lfValidaCNPJ(C1179)=TRUE,\"Válido\",\"Inválido\")),\"\")","v":""},{"$f":"IF(E1179<>0,(IF(lfValidaCEP(E1179)=TRUE,\"Válido\",\"Inválido\")),\"\")","v":""}]
[null,null,null,null,null,null,null,null,null,null,"",{"$f":"IF(C1180<>0,(IF(lfValidaCNPJ(C1180)=TRUE,\"Válido\",\"Inválido\")),\"\")","v":""},{"$f":"IF(E1180<>0,(IF(lfValidaCEP(E1180)=TRUE,\"Válido\",\"Inválido\")),\"\")","v":""}]
[null,null,null,null,null,null,null,null,null,null,"",{"$f":"IF(C1181<>0,(IF(lfValidaCNPJ(C1181)=TRUE,\"Válido\",\"Inválido\")),\"\")","v":""},{"$f":"IF(E1181<>0,(IF(lfValidaCEP(E1181)=TRUE,\"Válido\",\"Inválido\")),\"\")","v":""}]
[null,null,null,null,null,null,null,null,null,null,"",{"$f":"IF(C1182<>0,(IF(lfValidaCNPJ(C1182)=TRUE,\"Válido\",\"Inválido\")),\"\")","v":""},{"$f":"IF(E1182<>0,(IF(lfValidaCEP(E1182)=TRUE,\"Válido\",\"Inválido\")),\"\")","v":""}]
[null,null,null,null,null,null,null,null,null,null,"",{"$f":"IF(C1183<>0,(IF(lfValidaCNPJ(C1183)=TRUE,\"Válido\",\"Inválido\")),\"\")","v":""},{"$f":"IF(E1183<>0,(IF(lfValidaCEP(E1183)=TRUE,\"Válido\",\"Inválido\")),\"\")","v":""}]
[null,null,null,null,null,null,null,null,null,null,"",{"$f":"IF(C1184<>0,(IF(lfValidaCNPJ(C1184)=TRUE,\"Válido\",\"Inválido\")),\"\")","v":""},{"$f":"IF(E1184<>0,(IF(lfValidaCEP(E1184)=TRUE,\"Válido\",\"Inválido\")),\"\")","v":""}]
[null,null,null,null,null,null,null,null,null,null,"",{"$f":"IF(C1185<>0,(IF(lfValidaCNPJ(C1185)=TRUE,\"Válido\",\"Inválido\")),\"\")","v":""},{"$f":"IF(E1185<>0,(IF(lfValidaCEP(E1185)=TRUE,\"Válido\",\"Inválido\")),\"\")","v":""}]
[null,null,null,null,null,null,null,null,null,null,"",{"$f":"IF(C1186<>0,(IF(lfValidaCNPJ(C1186)=TRUE,\"Válido\",\"Inválido\")),\"\")","v":""},{"$f":"IF(E1186<>0,(IF(lfValidaCEP(E1186)=TRUE,\"Válido\",\"Inválido\")),\"\")","v":""}]
[null,null,null,null,null,null,null,null,null,null,"",{"$f":"IF(C1187<>0,(IF(lfValidaCNPJ(C1187)=TRUE,\"Válido\",\"Inválido\")),\"\")","v":""},{"$f":"IF(E1187<>0,(IF(lfValidaCEP(E1187)=TRUE,\"Válido\",\"Inválido\")),\"\")","v":""}]
[null,null,null,null,null,null,null,null,null,null,"",{"$f":"IF(C1188<>0,(IF(lfValidaCNPJ(C1188)=TRUE,\"Válido\",\"Inválido\")),\"\")","v":""},{"$f":"IF(E1188<>0,(IF(lfValidaCEP(E1188)=TRUE,\"Válido\",\"Inválido\")),\"\")","v":""}]
[null,null,null,null,null,null,null,null,null,null,"",{"$f":"IF(C1189<>0,(IF(lfValidaCNPJ(C1189)=TRUE,\"Válido\",\"Inválido\")),\"\")","v":""},{"$f":"IF(E1189<>0,(IF(lfValidaCEP(E1189)=TRUE,\"Válido\",\"Inválido\")),\"\")","v":""}]
[null,null,null,null,null,null,null,null,null,null,"",{"$f":"IF(C1190<>0,(IF(lfValidaCNPJ(C1190)=TRUE,\"Válido\",\"Inválido\")),\"\")","v":""},{"$f":"IF(E1190<>0,(IF(lfValidaCEP(E1190)=TRUE,\"Válido\",\"Inválido\")),\"\")","v":""}]
[null,null,null,null,null,null,null,null,null,null,"",{"$f":"IF(C1191<>0,(IF(lfValidaCNPJ(C1191)=TRUE,\"Válido\",\"Inválido\")),\"\")","v":""},{"$f":"IF(E1191<>0,(IF(lfValidaCEP(E1191)=TRUE,\"Válido\",\"Inválido\")),\"\")","v":""}]
[null,null,null,null,null,null,null,null,null,null,"",{"$f":"IF(C1192<>0,(IF(lfValidaCNPJ(C1192)=TRUE,\"Válido\",\"Inválido\")),\"\")","v":""},{"$f":"IF(E1192<>0,(IF(lfValidaCEP(E1192)=TRUE,\"Válido\",\"Inválido\")),\"\")","v":""}]
[null,null,null,null,null,null,null,null,null,null,"",{"$f":"IF(C1193<>0,(IF(lfValidaCNPJ(C1193)=TRUE,\"Válido\",\"Inválido\")),\"\")","v":""},{"$f":"IF(E1193<>0,(IF(lfValidaCEP(E1193)=TRUE,\"Válido\",\"Inválido\")),\"\")","v":""}]
[null,null,null,null,null,null,null,null,null,null,"",{"$f":"IF(C1194<>0,(IF(lfValidaCNPJ(C1194)=TRUE,\"Válido\",\"Inválido\")),\"\")","v":""},{"$f":"IF(E1194<>0,(IF(lfValidaCEP(E1194)=TRUE,\"Válido\",\"Inválido\")),\"\")","v":""}]
[null,null,null,null,null,null,null,null,null,null,"",{"$f":"IF(C1195<>0,(IF(lfValidaCNPJ(C1195)=TRUE,\"Válido\",\"Inválido\")),\"\")","v":""},{"$f":"IF(E1195<>0,(IF(lfValidaCEP(E1195)=TRUE,\"Válido\",\"Inválido\")),\"\")","v":""}]
[null,null,null,null,null,null,null,null,null,null,"",{"$f":"IF(C1196<>0,(IF(lfValidaCNPJ(C1196)=TRUE,\"Válido\",\"Inválido\")),\"\")","v":""},{"$f":"IF(E1196<>0,(IF(lfValidaCEP(E1196)=TRUE,\"Válido\",\"Inválido\")),\"\")","v":""}]
[null,null,null,null,null,null,null,null,null,null,"",{"$f":"IF(C1197<>0,(IF(lfValidaCNPJ(C1197)=TRUE,\"Válido\",\"Inválido\")),\"\")","v":""},{"$f":"IF(E1197<>0,(IF(lfValidaCEP(E1197)=TRUE,\"Válido\",\"Inválido\")),\"\")","v":""}]
[null,null,null,null,null,null,null,null,null,null,"",{"$f":"IF(C1198<>0,(IF(lfValidaCNPJ(C1198)=TRUE,\"Válido\",\"Inválido\")),\"\")","v":""},{"$f":"IF(E1198<>0,(IF(lfValidaCEP(E1198)=TRUE,\"Válido\",\"Inválido\")),\"\")","v":""}]
[null,null,null,null,null,null,null,null,null,null,"",{"$f":"IF(C1199<>0,(IF(lfValidaCNPJ(C1199)=TRUE,\"Válido\",\"Inválido\")),\"\")","v":""},{"$f":"IF(E1199<>0,(IF(lfValidaCEP(E1199)=TRUE,\"Válido\",\"Inválido\")),\"\")","v":""}]
[null,null,null,null,null,null,null,null,null,null,"",{"$f":"IF(C1200<>0,(IF(lfValidaCNPJ(C1200)=TRUE,\"Válido\",\"Inválido\")),\"\")","v":""},{"$f":"IF(E1200<>0,(IF(lfValidaCEP(E1200)=TRUE,\"Válido\",\"Inválido\")),\"\")","v":""}]
[null,null,null,null,null,null,null,null,null,null,"",{"$f":"IF(C1201<>0,(IF(lfValidaCNPJ(C1201)=TRUE,\"Válido\",\"Inválido\")),\"\")","v":""},{"$f":"IF(E1201<>0,(IF(lfValidaCEP(E1201)=TRUE,\"Válido\",\"Inválido\")),\"\")","v":""}]
[null,null,null,null,null,null,null,null,null,null,"",{"$f":"IF(C1202<>0,(IF(lfValidaCNPJ(C1202)=TRUE,\"Válido\",\"Inválido\")),\"\")","v":""},{"$f":"IF(E1202<>0,(IF(lfValidaCEP(E1202)=TRUE,\"Válido\",\"Inválido\")),\"\")","v":""}]
[null,null,null,null,null,null,null,null,null,null,"",{"$f":"IF(C1203<>0,(IF(lfValidaCNPJ(C1203)=TRUE,\"Válido\",\"Inválido\")),\"\")","v":""},{"$f":"IF(E1203<>0,(IF(lfValidaCEP(E1203)=TRUE,\"Válido\",\"Inválido\")),\"\")","v":""}]
[null,null,null,null,null,null,null,null,null,null,"",{"$f":"IF(C1204<>0,(IF(lfValidaCNPJ(C1204)=TRUE,\"Válido\",\"Inválido\")),\"\")","v":""},{"$f":"IF(E1204<>0,(IF(lfValidaCEP(E1204)=TRUE,\"Válido\",\"Inválido\")),\"\")","v":""}]
[null,null,null,null,null,null,null,null,null,null,"",{"$f":"IF(C1205<>0,(IF(lfValidaCNPJ(C1205)=TRUE,\"Válido\",\"Inválido\")),\"\")","v":""},{"$f":"IF(E1205<>0,(IF(lfValidaCEP(E1205)=TRUE,\"Válido\",\"Inválido\")),\"\")","v":""}]
[null,null,null,null,null,null,null,null,null,null,"",{"$f":"IF(C1206<>0,(IF(lfValidaCNPJ(C1206)=TRUE,\"Válido\",\"Inválido\")),\"\")","v":""},{"$f":"IF(E1206<>0,(IF(lfValidaCEP(E1206)=TRUE,\"Válido\",\"Inválido\")),\"\")","v":""}]
[null,null,null,null,null,null,null,null,null,null,"",{"$f":"IF(C1207<>0,(IF(lfValidaCNPJ(C1207)=TRUE,\"Válido\",\"Inválido\")),\"\")","v":""},{"$f":"IF(E1207<>0,(IF(lfValidaCEP(E1207)=TRUE,\"Válido\",\"Inválido\")),\"\")","v":""}]
[null,null,null,null,null,null,null,null,null,null,"",{"$f":"IF(C1208<>0,(IF(lfValidaCNPJ(C1208)=TRUE,\"Válido\",\"Inválido\")),\"\")","v":""},{"$f":"IF(E1208<>0,(IF(lfValidaCEP(E1208)=TRUE,\"Válido\",\"Inválido\")),\"\")","v":""}]
[null,null,null,null,null,null,null,null,null,null,"",{"$f":"IF(C1209<>0,(IF(lfValidaCNPJ(C1209)=TRUE,\"Válido\",\"Inválido\")),\"\")","v":""},{"$f":"IF(E1209<>0,(IF(lfValidaCEP(E1209)=TRUE,\"Válido\",\"Inválido\")),\"\")","v":""}]
[null,null,null,null,null,null,null,null,null,null,"",{"$f":"IF(C1210<>0,(IF(lfValidaCNPJ(C1210)=TRUE,\"Válido\",\"Inválido\")),\"\")","v":""},{"$f":"IF(E1210<>0,(IF(lfValidaCEP(E1210)=TRUE,\"Válido\",\"Inválido\")),\"\")","v":""}]
[null,null,null,null,null,null,null,null,null,null,"",{"$f":"IF(C1211<>0,(IF(lfValidaCNPJ(C1211)=TRUE,\"Válido\",\"Inválido\")),\"\")","v":""},{"$f":"IF(E1211<>0,(IF(lfValidaCEP(E1211)=TRUE,\"Válido\",\"Inválido\")),\"\")","v":""}]
[null,null,null,null,null,null,null,null,null,null,"",{"$f":"IF(C1212<>0,(IF(lfValidaCNPJ(C1212)=TRUE,\"Válido\",\"Inválido\")),\"\")","v":""},{"$f":"IF(E1212<>0,(IF(lfValidaCEP(E1212)=TRUE,\"Válido\",\"Inválido\")),\"\")","v":""}]
[null,null,null,null,null,null,null,null,null,null,"",{"$f":"IF(C1213<>0,(IF(lfValidaCNPJ(C1213)=TRUE,\"Válido\",\"Inválido\")),\"\")","v":""},{"$f":"IF(E1213<>0,(IF(lfValidaCEP(E1213)=TRUE,\"Válido\",\"Inválido\")),\"\")","v":""}]
[null,null,null,null,null,null,null,null,null,null,"",{"$f":"IF(C1214<>0,(IF(lfValidaCNPJ(C1214)=TRUE,\"Válido\",\"Inválido\")),\"\")","v":""},{"$f":"IF(E1214<>0,(IF(lfValidaCEP(E1214)=TRUE,\"Válido\",\"Inválido\")),\"\")","v":""}]
[null,null,null,null,null,null,null,null,null,null,"",{"$f":"IF(C1215<>0,(IF(lfValidaCNPJ(C1215)=TRUE,\"Válido\",\"Inválido\")),\"\")","v":""},{"$f":"IF(E1215<>0,(IF(lfValidaCEP(E1215)=TRUE,\"Válido\",\"Inválido\")),\"\")","v":""}]
[null,null,null,null,null,null,null,null,null,null,"",{"$f":"IF(C1216<>0,(IF(lfValidaCNPJ(C1216)=TRUE,\"Válido\",\"Inválido\")),\"\")","v":""},{"$f":"IF(E1216<>0,(IF(lfValidaCEP(E1216)=TRUE,\"Válido\",\"Inválido\")),\"\")","v":""}]
[null,null,null,null,null,null,null,null,null,null,"",{"$f":"IF(C1217<>0,(IF(lfValidaCNPJ(C1217)=TRUE,\"Válido\",\"Inválido\")),\"\")","v":""},{"$f":"IF(E1217<>0,(IF(lfValidaCEP(E1217)=TRUE,\"Válido\",\"Inválido\")),\"\")","v":""}]
[null,null,null,null,null,null,null,null,null,null,"",{"$f":"IF(C1218<>0,(IF(lfValidaCNPJ(C1218)=TRUE,\"Válido\",\"Inválido\")),\"\")","v":""},{"$f":"IF(E1218<>0,(IF(lfValidaCEP(E1218)=TRUE,\"Válido\",\"Inválido\")),\"\")","v":""}]
[null,null,null,null,null,null,null,null,null,null,"",{"$f":"IF(C1219<>0,(IF(lfValidaCNPJ(C1219)=TRUE,\"Válido\",\"Inválido\")),\"\")","v":""},{"$f":"IF(E1219<>0,(IF(lfValidaCEP(E1219)=TRUE,\"Válido\",\"Inválido\")),\"\")","v":""}]
[null,null,null,null,null,null,null,null,null,null,"",{"$f":"IF(C1220<>0,(IF(lfValidaCNPJ(C1220)=TRUE,\"Válido\",\"Inválido\")),\"\")","v":""},{"$f":"IF(E1220<>0,(IF(lfValidaCEP(E1220)=TRUE,\"Válido\",\"Inválido\")),\"\")","v":""}]
[null,null,null,null,null,null,null,null,null,null,"",{"$f":"IF(C1221<>0,(IF(lfValidaCNPJ(C1221)=TRUE,\"Válido\",\"Inválido\")),\"\")","v":""},{"$f":"IF(E1221<>0,(IF(lfValidaCEP(E1221)=TRUE,\"Válido\",\"Inválido\")),\"\")","v":""}]
[null,null,null,null,null,null,null,null,null,null,"",{"$f":"IF(C1222<>0,(IF(lfValidaCNPJ(C1222)=TRUE,\"Válido\",\"Inválido\")),\"\")","v":""},{"$f":"IF(E1222<>0,(IF(lfValidaCEP(E1222)=TRUE,\"Válido\",\"Inválido\")),\"\")","v":""}]
[null,null,null,null,null,null,null,null,null,null,"",{"$f":"IF(C1223<>0,(IF(lfValidaCNPJ(C1223)=TRUE,\"Válido\",\"Inválido\")),\"\")","v":""},{"$f":"IF(E1223<>0,(IF(lfValidaCEP(E1223)=TRUE,\"Válido\",\"Inválido\")),\"\")","v":""}]
[null,null,null,null,null,null,null,null,null,null,"",{"$f":"IF(C1224<>0,(IF(lfValidaCNPJ(C1224)=TRUE,\"Válido\",\"Inválido\")),\"\")","v":""},{"$f":"IF(E1224<>0,(IF(lfValidaCEP(E1224)=TRUE,\"Válido\",\"Inválido\")),\"\")","v":""}]
[null,null,null,null,null,null,null,null,null,null,"",{"$f":"IF(C1225<>0,(IF(lfValidaCNPJ(C1225)=TRUE,\"Válido\",\"Inválido\")),\"\")","v":""},{"$f":"IF(E1225<>0,(IF(lfValidaCEP(E1225)=TRUE,\"Válido\",\"Inválido\")),\"\")","v":""}]
[null,null,null,null,null,null,null,null,null,null,"",{"$f":"IF(C1226<>0,(IF(lfValidaCNPJ(C1226)=TRUE,\"Válido\",\"Inválido\")),\"\")","v":""},{"$f":"IF(E1226<>0,(IF(lfValidaCEP(E1226)=TRUE,\"Válido\",\"Inválido\")),\"\")","v":""}]
[null,null,null,null,null,null,null,null,null,null,"",{"$f":"IF(C1227<>0,(IF(lfValidaCNPJ(C1227)=TRUE,\"Válido\",\"Inválido\")),\"\")","v":""},{"$f":"IF(E1227<>0,(IF(lfValidaCEP(E1227)=TRUE,\"Válido\",\"Inválido\")),\"\")","v":""}]
[null,null,null,null,null,null,null,null,null,null,{"$f":"IF(COUNTA(B1228:I1228)<>0,IF(AND(B1228<>0,C1228<>0,D1228<>0,E1228<>0,F1228<>0,G1228<>0,H1228<>0,I1228<>0),\"Completo\",\"Incompleto\"),\"\")","v":""},{"$f":"IF(C1228<>0,(IF(lfValidaCNPJ(C1228)=TRUE,\"Válido\",\"Inválido\")),\"\")","v":""},{"$f":"IF(E1228<>0,(IF(lfValidaCEP(E1228)=TRUE,\"Válido\",\"Inválido\")),\"\")","v":""}]
[null,null,null,null,null,null,null,null,null,null,"",{"$f":"IF(C1229<>0,(IF(lfValidaCNPJ(C1229)=TRUE,\"Válido\",\"Inválido\")),\"\")","v":""},{"$f":"IF(E1229<>0,(IF(lfValidaCEP(E1229)=TRUE,\"Válido\",\"Inválido\")),\"\")","v":""}]
[null,null,null,null,null,null,null,null,null,null,"",{"$f":"IF(C1230<>0,(IF(lfValidaCNPJ(C1230)=TRUE,\"Válido\",\"Inválido\")),\"\")","v":""},{"$f":"IF(E1230<>0,(IF(lfValidaCEP(E1230)=TRUE,\"Válido\",\"Inválido\")),\"\")","v":""}]
[null,null,null,null,null,null,null,null,null,null,"",{"$f":"IF(C1231<>0,(IF(lfValidaCNPJ(C1231)=TRUE,\"Válido\",\"Inválido\")),\"\")","v":""},{"$f":"IF(E1231<>0,(IF(lfValidaCEP(E1231)=TRUE,\"Válido\",\"Inválido\")),\"\")","v":""}]
[null,null,null,null,null,null,null,null,null,null,"",{"$f":"IF(C1232<>0,(IF(lfValidaCNPJ(C1232)=TRUE,\"Válido\",\"Inválido\")),\"\")","v":""},{"$f":"IF(E1232<>0,(IF(lfValidaCEP(E1232)=TRUE,\"Válido\",\"Inválido\")),\"\")","v":""}]
[null,null,null,null,null,null,null,null,null,null,"",{"$f":"IF(C1233<>0,(IF(lfValidaCNPJ(C1233)=TRUE,\"Válido\",\"Inválido\")),\"\")","v":""},{"$f":"IF(E1233<>0,(IF(lfValidaCEP(E1233)=TRUE,\"Válido\",\"Inválido\")),\"\")","v":""}]
[null,null,null,null,null,null,null,null,null,null,"",{"$f":"IF(C1234<>0,(IF(lfValidaCNPJ(C1234)=TRUE,\"Válido\",\"Inválido\")),\"\")","v":""},{"$f":"IF(E1234<>0,(IF(lfValidaCEP(E1234)=TRUE,\"Válido\",\"Inválido\")),\"\")","v":""}]
[null,null,null,null,null,null,null,null,null,null,"",{"$f":"IF(C1235<>0,(IF(lfValidaCNPJ(C1235)=TRUE,\"Válido\",\"Inválido\")),\"\")","v":""},{"$f":"IF(E1235<>0,(IF(lfValidaCEP(E1235)=TRUE,\"Válido\",\"Inválido\")),\"\")","v":""}]
[null,null,null,null,null,null,null,null,null,null,"",{"$f":"IF(C1236<>0,(IF(lfValidaCNPJ(C1236)=TRUE,\"Válido\",\"Inválido\")),\"\")","v":""},{"$f":"IF(E1236<>0,(IF(lfValidaCEP(E1236)=TRUE,\"Válido\",\"Inválido\")),\"\")","v":""}]
[null,null,null,null,null,null,null,null,null,null,"",{"$f":"IF(C1237<>0,(IF(lfValidaCNPJ(C1237)=TRUE,\"Válido\",\"Inválido\")),\"\")","v":""},{"$f":"IF(E1237<>0,(IF(lfValidaCEP(E1237)=TRUE,\"Válido\",\"Inválido\")),\"\")","v":""}]
[null,null,null,null,null,null,null,null,null,null,"",{"$f":"IF(C1238<>0,(IF(lfValidaCNPJ(C1238)=TRUE,\"Válido\",\"Inválido\")),\"\")","v":""},{"$f":"IF(E1238<>0,(IF(lfValidaCEP(E1238)=TRUE,\"Válido\",\"Inválido\")),\"\")","v":""}]
[null,null,null,null,null,null,null,null,null,null,"",{"$f":"IF(C1239<>0,(IF(lfValidaCNPJ(C1239)=TRUE,\"Válido\",\"Inválido\")),\"\")","v":""},{"$f":"IF(E1239<>0,(IF(lfValidaCEP(E1239)=TRUE,\"Válido\",\"Inválido\")),\"\")","v":""}]
[null,null,null,null,null,null,null,null,null,null,"",{"$f":"IF(C1240<>0,(IF(lfValidaCNPJ(C1240)=TRUE,\"Válido\",\"Inválido\")),\"\")","v":""},{"$f":"IF(E1240<>0,(IF(lfValidaCEP(E1240)=TRUE,\"Válido\",\"Inválido\")),\"\")","v":""}]
[null,null,null,null,null,null,null,null,null,null,"",{"$f":"IF(C1241<>0,(IF(lfValidaCNPJ(C1241)=TRUE,\"Válido\",\"Inválido\")),\"\")","v":""},{"$f":"IF(E1241<>0,(IF(lfValidaCEP(E1241)=TRUE,\"Válido\",\"Inválido\")),\"\")","v":""}]
[null,null,null,null,null,null,null,null,null,null,"",{"$f":"IF(C1242<>0,(IF(lfValidaCNPJ(C1242)=TRUE,\"Válido\",\"Inválido\")),\"\")","v":""},{"$f":"IF(E1242<>0,(IF(lfValidaCEP(E1242)=TRUE,\"Válido\",\"Inválido\")),\"\")","v":""}]
[null,null,null,null,null,null,null,null,null,null,"",{"$f":"IF(C1243<>0,(IF(lfValidaCNPJ(C1243)=TRUE,\"Válido\",\"Inválido\")),\"\")","v":""},{"$f":"IF(E1243<>0,(IF(lfValidaCEP(E1243)=TRUE,\"Válido\",\"Inválido\")),\"\")","v":""}]
[null,null,null,null,null,null,null,null,null,null,"",{"$f":"IF(C1244<>0,(IF(lfValidaCNPJ(C1244)=TRUE,\"Válido\",\"Inválido\")),\"\")","v":""},{"$f":"IF(E1244<>0,(IF(lfValidaCEP(E1244)=TRUE,\"Válido\",\"Inválido\")),\"\")","v":""}]
[null,null,null,null,null,null,null,null,null,null,"",{"$f":"IF(C1245<>0,(IF(lfValidaCNPJ(C1245)=TRUE,\"Válido\",\"Inválido\")),\"\")","v":""},{"$f":"IF(E1245<>0,(IF(lfValidaCEP(E1245)=TRUE,\"Válido\",\"Inválido\")),\"\")","v":""}]
[null,null,null,null,null,null,null,null,null,null,"",{"$f":"IF(C1246<>0,(IF(lfValidaCNPJ(C1246)=TRUE,\"Válido\",\"Inválido\")),\"\")","v":""},{"$f":"IF(E1246<>0,(IF(lfValidaCEP(E1246)=TRUE,\"Válido\",\"Inválido\")),\"\")","v":""}]
[null,null,null,null,null,null,null,null,null,null,"",{"$f":"IF(C1247<>0,(IF(lfValidaCNPJ(C1247)=TRUE,\"Válido\",\"Inválido\")),\"\")","v":""},{"$f":"IF(E1247<>0,(IF(lfValidaCEP(E1247)=TRUE,\"Válido\",\"Inválido\")),\"\")","v":""}]
[null,null,null,null,null,null,null,null,null,null,"",{"$f":"IF(C1248<>0,(IF(lfValidaCNPJ(C1248)=TRUE,\"Válido\",\"Inválido\")),\"\")","v":""},{"$f":"IF(E1248<>0,(IF(lfValidaCEP(E1248)=TRUE,\"Válido\",\"Inválido\")),\"\")","v":""}]
[null,null,null,null,null,null,null,null,null,null,"",{"$f":"IF(C1249<>0,(IF(lfValidaCNPJ(C1249)=TRUE,\"Válido\",\"Inválido\")),\"\")","v":""},{"$f":"IF(E1249<>0,(IF(lfValidaCEP(E1249)=TRUE,\"Válido\",\"Inválido\")),\"\")","v":""}]
[null,null,null,null,null,null,null,null,null,null,"",{"$f":"IF(C1250<>0,(IF(lfValidaCNPJ(C1250)=TRUE,\"Válido\",\"Inválido\")),\"\")","v":""},{"$f":"IF(E1250<>0,(IF(lfValidaCEP(E1250)=TRUE,\"Válido\",\"Inválido\")),\"\")","v":""}]
[null,null,null,null,null,null,null,null,null,null,"",{"$f":"IF(C1251<>0,(IF(lfValidaCNPJ(C1251)=TRUE,\"Válido\",\"Inválido\")),\"\")","v":""},{"$f":"IF(E1251<>0,(IF(lfValidaCEP(E1251)=TRUE,\"Válido\",\"Inválido\")),\"\")","v":""}]
[null,null,null,null,null,null,null,null,null,null,"",{"$f":"IF(C1252<>0,(IF(lfValidaCNPJ(C1252)=TRUE,\"Válido\",\"Inválido\")),\"\")","v":""},{"$f":"IF(E1252<>0,(IF(lfValidaCEP(E1252)=TRUE,\"Válido\",\"Inválido\")),\"\")","v":""}]
[null,null,null,null,null,null,null,null,null,null,"",{"$f":"IF(C1253<>0,(IF(lfValidaCNPJ(C1253)=TRUE,\"Válido\",\"Inválido\")),\"\")","v":""},{"$f":"IF(E1253<>0,(IF(lfValidaCEP(E1253)=TRUE,\"Válido\",\"Inválido\")),\"\")","v":""}]
[null,null,null,null,null,null,null,null,null,null,"",{"$f":"IF(C1254<>0,(IF(lfValidaCNPJ(C1254)=TRUE,\"Válido\",\"Inválido\")),\"\")","v":""},{"$f":"IF(E1254<>0,(IF(lfValidaCEP(E1254)=TRUE,\"Válido\",\"Inválido\")),\"\")","v":""}]
[null,null,null,null,null,null,null,null,null,null,"",{"$f":"IF(C1255<>0,(IF(lfValidaCNPJ(C1255)=TRUE,\"Válido\",\"Inválido\")),\"\")","v":""},{"$f":"IF(E1255<>0,(IF(lfValidaCEP(E1255)=TRUE,\"Válido\",\"Inválido\")),\"\")","v":""}]
[null,null,null,null,null,null,null,null,null,null,"",{"$f":"IF(C1256<>0,(IF(lfValidaCNPJ(C1256)=TRUE,\"Válido\",\"Inválido\")),\"\")","v":""},{"$f":"IF(E1256<>0,(IF(lfValidaCEP(E1256)=TRUE,\"Válido\",\"Inválido\")),\"\")","v":""}]
[null,null,null,null,null,null,null,null,null,null,"",{"$f":"IF(C1257<>0,(IF(lfValidaCNPJ(C1257)=TRUE,\"Válido\",\"Inválido\")),\"\")","v":""},{"$f":"IF(E1257<>0,(IF(lfValidaCEP(E1257)=TRUE,\"Válido\",\"Inválido\")),\"\")","v":""}]
[null,null,null,null,null,null,null,null,null,null,"",{"$f":"IF(C1258<>0,(IF(lfValidaCNPJ(C1258)=TRUE,\"Válido\",\"Inválido\")),\"\")","v":""},{"$f":"IF(E1258<>0,(IF(lfValidaCEP(E1258)=TRUE,\"Válido\",\"Inválido\")),\"\")","v":""}]
[null,null,null,null,null,null,null,null,null,null,"",{"$f":"IF(C1259<>0,(IF(lfValidaCNPJ(C1259)=TRUE,\"Válido\",\"Inválido\")),\"\")","v":""},{"$f":"IF(E1259<>0,(IF(lfValidaCEP(E1259)=TRUE,\"Válido\",\"Inválido\")),\"\")","v":""}]
[null,null,null,null,null,null,null,null,null,null,"",{"$f":"IF(C1260<>0,(IF(lfValidaCNPJ(C1260)=TRUE,\"Válido\",\"Inválido\")),\"\")","v":""},{"$f":"IF(E1260<>0,(IF(lfValidaCEP(E1260)=TRUE,\"Válido\",\"Inválido\")),\"\")","v":""}]
[null,null,null,null,null,null,null,null,null,null,"",{"$f":"IF(C1261<>0,(IF(lfValidaCNPJ(C1261)=TRUE,\"Válido\",\"Inválido\")),\"\")","v":""},{"$f":"IF(E1261<>0,(IF(lfValidaCEP(E1261)=TRUE,\"Válido\",\"Inválido\")),\"\")","v":""}]
[null,null,null,null,null,null,null,null,null,null,"",{"$f":"IF(C1262<>0,(IF(lfValidaCNPJ(C1262)=TRUE,\"Válido\",\"Inválido\")),\"\")","v":""},{"$f":"IF(E1262<>0,(IF(lfValidaCEP(E1262)=TRUE,\"Válido\",\"Inválido\")),\"\")","v":""}]
[null,null,null,null,null,null,null,null,null,null,"",{"$f":"IF(C1263<>0,(IF(lfValidaCNPJ(C1263)=TRUE,\"Válido\",\"Inválido\")),\"\")","v":""},{"$f":"IF(E1263<>0,(IF(lfValidaCEP(E1263)=TRUE,\"Válido\",\"Inválido\")),\"\")","v":""}]
[null,null,null,null,null,null,null,null,null,null,"",{"$f":"IF(C1264<>0,(IF(lfValidaCNPJ(C1264)=TRUE,\"Válido\",\"Inválido\")),\"\")","v":""},{"$f":"IF(E1264<>0,(IF(lfValidaCEP(E1264)=TRUE,\"Válido\",\"Inválido\")),\"\")","v":""}]
[null,null,null,null,null,null,null,null,null,null,"",{"$f":"IF(C1265<>0,(IF(lfValidaCNPJ(C1265)=TRUE,\"Válido\",\"Inválido\")),\"\")","v":""},{"$f":"IF(E1265<>0,(IF(lfValidaCEP(E1265)=TRUE,\"Válido\",\"Inválido\")),\"\")","v":""}]
[null,null,null,null,null,null,null,null,null,null,"",{"$f":"IF(C1266<>0,(IF(lfValidaCNPJ(C1266)=TRUE,\"Válido\",\"Inválido\")),\"\")","v":""},{"$f":"IF(E1266<>0,(IF(lfValidaCEP(E1266)=TRUE,\"Válido\",\"Inválido\")),\"\")","v":""}]
[null,null,null,null,null,null,null,null,null,null,"",{"$f":"IF(C1267<>0,(IF(lfValidaCNPJ(C1267)=TRUE,\"Válido\",\"Inválido\")),\"\")","v":""},{"$f":"IF(E1267<>0,(IF(lfValidaCEP(E1267)=TRUE,\"Válido\",\"Inválido\")),\"\")","v":""}]
[null,null,null,null,null,null,null,null,null,null,"",{"$f":"IF(C1268<>0,(IF(lfValidaCNPJ(C1268)=TRUE,\"Válido\",\"Inválido\")),\"\")","v":""},{"$f":"IF(E1268<>0,(IF(lfValidaCEP(E1268)=TRUE,\"Válido\",\"Inválido\")),\"\")","v":""}]
[null,null,null,null,null,null,null,null,null,null,"",{"$f":"IF(C1269<>0,(IF(lfValidaCNPJ(C1269)=TRUE,\"Válido\",\"Inválido\")),\"\")","v":""},{"$f":"IF(E1269<>0,(IF(lfValidaCEP(E1269)=TRUE,\"Válido\",\"Inválido\")),\"\")","v":""}]
[null,null,null,null,null,null,null,null,null,null,"",{"$f":"IF(C1270<>0,(IF(lfValidaCNPJ(C1270)=TRUE,\"Válido\",\"Inválido\")),\"\")","v":""},{"$f":"IF(E1270<>0,(IF(lfValidaCEP(E1270)=TRUE,\"Válido\",\"Inválido\")),\"\")","v":""}]
[null,null,null,null,null,null,null,null,null,null,"",{"$f":"IF(C1271<>0,(IF(lfValidaCNPJ(C1271)=TRUE,\"Válido\",\"Inválido\")),\"\")","v":""},{"$f":"IF(E1271<>0,(IF(lfValidaCEP(E1271)=TRUE,\"Válido\",\"Inválido\")),\"\")","v":""}]
[null,null,null,null,null,null,null,null,null,null,"",{"$f":"IF(C1272<>0,(IF(lfValidaCNPJ(C1272)=TRUE,\"Válido\",\"Inválido\")),\"\")","v":""},{"$f":"IF(E1272<>0,(IF(lfValidaCEP(E1272)=TRUE,\"Válido\",\"Inválido\")),\"\")","v":""}]
[null,null,null,null,null,null,null,null,null,null,"",{"$f":"IF(C1273<>0,(IF(lfValidaCNPJ(C1273)=TRUE,\"Válido\",\"Inválido\")),\"\")","v":""},{"$f":"IF(E1273<>0,(IF(lfValidaCEP(E1273)=TRUE,\"Válido\",\"Inválido\")),\"\")","v":""}]
[null,null,null,null,null,null,null,null,null,null,"",{"$f":"IF(C1274<>0,(IF(lfValidaCNPJ(C1274)=TRUE,\"Válido\",\"Inválido\")),\"\")","v":""},{"$f":"IF(E1274<>0,(IF(lfValidaCEP(E1274)=TRUE,\"Válido\",\"Inválido\")),\"\")","v":""}]
[null,null,null,null,null,null,null,null,null,null,"",{"$f":"IF(C1275<>0,(IF(lfValidaCNPJ(C1275)=TRUE,\"Válido\",\"Inválido\")),\"\")","v":""},{"$f":"IF(E1275<>0,(IF(lfValidaCEP(E1275)=TRUE,\"Válido\",\"Inválido\")),\"\")","v":""}]
[null,null,null,null,null,null,null,null,null,null,"",{"$f":"IF(C1276<>0,(IF(lfValidaCNPJ(C1276)=TRUE,\"Válido\",\"Inválido\")),\"\")","v":""},{"$f":"IF(E1276<>0,(IF(lfValidaCEP(E1276)=TRUE,\"Válido\",\"Inválido\")),\"\")","v":""}]
[null,null,null,null,null,null,null,null,null,null,"",{"$f":"IF(C1277<>0,(IF(lfValidaCNPJ(C1277)=TRUE,\"Válido\",\"Inválido\")),\"\")","v":""},{"$f":"IF(E1277<>0,(IF(lfValidaCEP(E1277)=TRUE,\"Válido\",\"Inválido\")),\"\")","v":""}]
[null,null,null,null,null,null,null,null,null,null,"",{"$f":"IF(C1278<>0,(IF(lfValidaCNPJ(C1278)=TRUE,\"Válido\",\"Inválido\")),\"\")","v":""},{"$f":"IF(E1278<>0,(IF(lfValidaCEP(E1278)=TRUE,\"Válido\",\"Inválido\")),\"\")","v":""}]
[null,null,null,null,null,null,null,null,null,null,"",{"$f":"IF(C1279<>0,(IF(lfValidaCNPJ(C1279)=TRUE,\"Válido\",\"Inválido\")),\"\")","v":""},{"$f":"IF(E1279<>0,(IF(lfValidaCEP(E1279)=TRUE,\"Válido\",\"Inválido\")),\"\")","v":""}]
[null,null,null,null,null,null,null,null,null,null,"",{"$f":"IF(C1280<>0,(IF(lfValidaCNPJ(C1280)=TRUE,\"Válido\",\"Inválido\")),\"\")","v":""},{"$f":"IF(E1280<>0,(IF(lfValidaCEP(E1280)=TRUE,\"Válido\",\"Inválido\")),\"\")","v":""}]
[null,null,null,null,null,null,null,null,null,null,"",{"$f":"IF(C1281<>0,(IF(lfValidaCNPJ(C1281)=TRUE,\"Válido\",\"Inválido\")),\"\")","v":""},{"$f":"IF(E1281<>0,(IF(lfValidaCEP(E1281)=TRUE,\"Válido\",\"Inválido\")),\"\")","v":""}]
[null,null,null,null,null,null,null,null,null,null,"",{"$f":"IF(C1282<>0,(IF(lfValidaCNPJ(C1282)=TRUE,\"Válido\",\"Inválido\")),\"\")","v":""},{"$f":"IF(E1282<>0,(IF(lfValidaCEP(E1282)=TRUE,\"Válido\",\"Inválido\")),\"\")","v":""}]
[null,null,null,null,null,null,null,null,null,null,"",{"$f":"IF(C1283<>0,(IF(lfValidaCNPJ(C1283)=TRUE,\"Válido\",\"Inválido\")),\"\")","v":""},{"$f":"IF(E1283<>0,(IF(lfValidaCEP(E1283)=TRUE,\"Válido\",\"Inválido\")),\"\")","v":""}]
[null,null,null,null,null,null,null,null,null,null,"",{"$f":"IF(C1284<>0,(IF(lfValidaCNPJ(C1284)=TRUE,\"Válido\",\"Inválido\")),\"\")","v":""},{"$f":"IF(E1284<>0,(IF(lfValidaCEP(E1284)=TRUE,\"Válido\",\"Inválido\")),\"\")","v":""}]
[null,null,null,null,null,null,null,null,null,null,"",{"$f":"IF(C1285<>0,(IF(lfValidaCNPJ(C1285)=TRUE,\"Válido\",\"Inválido\")),\"\")","v":""},{"$f":"IF(E1285<>0,(IF(lfValidaCEP(E1285)=TRUE,\"Válido\",\"Inválido\")),\"\")","v":""}]
[null,null,null,null,null,null,null,null,null,null,"",{"$f":"IF(C1286<>0,(IF(lfValidaCNPJ(C1286)=TRUE,\"Válido\",\"Inválido\")),\"\")","v":""},{"$f":"IF(E1286<>0,(IF(lfValidaCEP(E1286)=TRUE,\"Válido\",\"Inválido\")),\"\")","v":""}]
[null,null,null,null,null,null,null,null,null,null,"",{"$f":"IF(C1287<>0,(IF(lfValidaCNPJ(C1287)=TRUE,\"Válido\",\"Inválido\")),\"\")","v":""},{"$f":"IF(E1287<>0,(IF(lfValidaCEP(E1287)=TRUE,\"Válido\",\"Inválido\")),\"\")","v":""}]
[null,null,null,null,null,null,null,null,null,null,"",{"$f":"IF(C1288<>0,(IF(lfValidaCNPJ(C1288)=TRUE,\"Válido\",\"Inválido\")),\"\")","v":""},{"$f":"IF(E1288<>0,(IF(lfValidaCEP(E1288)=TRUE,\"Válido\",\"Inválido\")),\"\")","v":""}]
[null,null,null,null,null,null,null,null,null,null,"",{"$f":"IF(C1289<>0,(IF(lfValidaCNPJ(C1289)=TRUE,\"Válido\",\"Inválido\")),\"\")","v":""},{"$f":"IF(E1289<>0,(IF(lfValidaCEP(E1289)=TRUE,\"Válido\",\"Inválido\")),\"\")","v":""}]
[null,null,null,null,null,null,null,null,null,null,"",{"$f":"IF(C1290<>0,(IF(lfValidaCNPJ(C1290)=TRUE,\"Válido\",\"Inválido\")),\"\")","v":""},{"$f":"IF(E1290<>0,(IF(lfValidaCEP(E1290)=TRUE,\"Válido\",\"Inválido\")),\"\")","v":""}]
[null,null,null,null,null,null,null,null,null,null,"",{"$f":"IF(C1291<>0,(IF(lfValidaCNPJ(C1291)=TRUE,\"Válido\",\"Inválido\")),\"\")","v":""},{"$f":"IF(E1291<>0,(IF(lfValidaCEP(E1291)=TRUE,\"Válido\",\"Inválido\")),\"\")","v":""}]
[null,null,null,null,null,null,null,null,null,null,{"$f":"IF(COUNTA(B1292:I1292)<>0,IF(AND(B1292<>0,C1292<>0,D1292<>0,E1292<>0,F1292<>0,G1292<>0,H1292<>0,I1292<>0),\"Completo\",\"Incompleto\"),\"\")","v":""},{"$f":"IF(C1292<>0,(IF(lfValidaCNPJ(C1292)=TRUE,\"Válido\",\"Inválido\")),\"\")","v":""},{"$f":"IF(E1292<>0,(IF(lfValidaCEP(E1292)=TRUE,\"Válido\",\"Inválido\")),\"\")","v":""}]
[null,null,null,null,null,null,null,null,null,null,"",{"$f":"IF(C1293<>0,(IF(lfValidaCNPJ(C1293)=TRUE,\"Válido\",\"Inválido\")),\"\")","v":""},{"$f":"IF(E1293<>0,(IF(lfValidaCEP(E1293)=TRUE,\"Válido\",\"Inválido\")),\"\")","v":""}]
[null,null,null,null,null,null,null,null,null,null,"",{"$f":"IF(C1294<>0,(IF(lfValidaCNPJ(C1294)=TRUE,\"Válido\",\"Inválido\")),\"\")","v":""},{"$f":"IF(E1294<>0,(IF(lfValidaCEP(E1294)=TRUE,\"Válido\",\"Inválido\")),\"\")","v":""}]
[null,null,null,null,null,null,null,null,null,null,"",{"$f":"IF(C1295<>0,(IF(lfValidaCNPJ(C1295)=TRUE,\"Válido\",\"Inválido\")),\"\")","v":""},{"$f":"IF(E1295<>0,(IF(lfValidaCEP(E1295)=TRUE,\"Válido\",\"Inválido\")),\"\")","v":""}]
[null,null,null,null,null,null,null,null,null,null,"",{"$f":"IF(C1296<>0,(IF(lfValidaCNPJ(C1296)=TRUE,\"Válido\",\"Inválido\")),\"\")","v":""},{"$f":"IF(E1296<>0,(IF(lfValidaCEP(E1296)=TRUE,\"Válido\",\"Inválido\")),\"\")","v":""}]
[null,null,null,null,null,null,null,null,null,null,"",{"$f":"IF(C1297<>0,(IF(lfValidaCNPJ(C1297)=TRUE,\"Válido\",\"Inválido\")),\"\")","v":""},{"$f":"IF(E1297<>0,(IF(lfValidaCEP(E1297)=TRUE,\"Válido\",\"Inválido\")),\"\")","v":""}]
[null,null,null,null,null,null,null,null,null,null,"",{"$f":"IF(C1298<>0,(IF(lfValidaCNPJ(C1298)=TRUE,\"Válido\",\"Inválido\")),\"\")","v":""},{"$f":"IF(E1298<>0,(IF(lfValidaCEP(E1298)=TRUE,\"Válido\",\"Inválido\")),\"\")","v":""}]
[null,null,null,null,null,null,null,null,null,null,"",{"$f":"IF(C1299<>0,(IF(lfValidaCNPJ(C1299)=TRUE,\"Válido\",\"Inválido\")),\"\")","v":""},{"$f":"IF(E1299<>0,(IF(lfValidaCEP(E1299)=TRUE,\"Válido\",\"Inválido\")),\"\")","v":""}]
[null,null,null,null,null,null,null,null,null,null,"",{"$f":"IF(C1300<>0,(IF(lfValidaCNPJ(C1300)=TRUE,\"Válido\",\"Inválido\")),\"\")","v":""},{"$f":"IF(E1300<>0,(IF(lfValidaCEP(E1300)=TRUE,\"Válido\",\"Inválido\")),\"\")","v":""}]
[null,null,null,null,null,null,null,null,null,null,"",{"$f":"IF(C1301<>0,(IF(lfValidaCNPJ(C1301)=TRUE,\"Válido\",\"Inválido\")),\"\")","v":""},{"$f":"IF(E1301<>0,(IF(lfValidaCEP(E1301)=TRUE,\"Válido\",\"Inválido\")),\"\")","v":""}]
[null,null,null,null,null,null,null,null,null,null,"",{"$f":"IF(C1302<>0,(IF(lfValidaCNPJ(C1302)=TRUE,\"Válido\",\"Inválido\")),\"\")","v":""},{"$f":"IF(E1302<>0,(IF(lfValidaCEP(E1302)=TRUE,\"Válido\",\"Inválido\")),\"\")","v":""}]
[null,null,null,null,null,null,null,null,null,null,"",{"$f":"IF(C1303<>0,(IF(lfValidaCNPJ(C1303)=TRUE,\"Válido\",\"Inválido\")),\"\")","v":""},{"$f":"IF(E1303<>0,(IF(lfValidaCEP(E1303)=TRUE,\"Válido\",\"Inválido\")),\"\")","v":""}]
[null,null,null,null,null,null,null,null,null,null,"",{"$f":"IF(C1304<>0,(IF(lfValidaCNPJ(C1304)=TRUE,\"Válido\",\"Inválido\")),\"\")","v":""},{"$f":"IF(E1304<>0,(IF(lfValidaCEP(E1304)=TRUE,\"Válido\",\"Inválido\")),\"\")","v":""}]
[null,null,null,null,null,null,null,null,null,null,"",{"$f":"IF(C1305<>0,(IF(lfValidaCNPJ(C1305)=TRUE,\"Válido\",\"Inválido\")),\"\")","v":""},{"$f":"IF(E1305<>0,(IF(lfValidaCEP(E1305)=TRUE,\"Válido\",\"Inválido\")),\"\")","v":""}]
[null,null,null,null,null,null,null,null,null,null,"",{"$f":"IF(C1306<>0,(IF(lfValidaCNPJ(C1306)=TRUE,\"Válido\",\"Inválido\")),\"\")","v":""},{"$f":"IF(E1306<>0,(IF(lfValidaCEP(E1306)=TRUE,\"Válido\",\"Inválido\")),\"\")","v":""}]
[null,null,null,null,null,null,null,null,null,null,"",{"$f":"IF(C1307<>0,(IF(lfValidaCNPJ(C1307)=TRUE,\"Válido\",\"Inválido\")),\"\")","v":""},{"$f":"IF(E1307<>0,(IF(lfValidaCEP(E1307)=TRUE,\"Válido\",\"Inválido\")),\"\")","v":""}]
[null,null,null,null,null,null,null,null,null,null,"",{"$f":"IF(C1308<>0,(IF(lfValidaCNPJ(C1308)=TRUE,\"Válido\",\"Inválido\")),\"\")","v":""},{"$f":"IF(E1308<>0,(IF(lfValidaCEP(E1308)=TRUE,\"Válido\",\"Inválido\")),\"\")","v":""}]
[null,null,null,null,null,null,null,null,null,null,"",{"$f":"IF(C1309<>0,(IF(lfValidaCNPJ(C1309)=TRUE,\"Válido\",\"Inválido\")),\"\")","v":""},{"$f":"IF(E1309<>0,(IF(lfValidaCEP(E1309)=TRUE,\"Válido\",\"Inválido\")),\"\")","v":""}]
[null,null,null,null,null,null,null,null,null,null,"",{"$f":"IF(C1310<>0,(IF(lfValidaCNPJ(C1310)=TRUE,\"Válido\",\"Inválido\")),\"\")","v":""},{"$f":"IF(E1310<>0,(IF(lfValidaCEP(E1310)=TRUE,\"Válido\",\"Inválido\")),\"\")","v":""}]
[null,null,null,null,null,null,null,null,null,null,"",{"$f":"IF(C1311<>0,(IF(lfValidaCNPJ(C1311)=TRUE,\"Válido\",\"Inválido\")),\"\")","v":""},{"$f":"IF(E1311<>0,(IF(lfValidaCEP(E1311)=TRUE,\"Válido\",\"Inválido\")),\"\")","v":""}]
[null,null,null,null,null,null,null,null,null,null,"",{"$f":"IF(C1312<>0,(IF(lfValidaCNPJ(C1312)=TRUE,\"Válido\",\"Inválido\")),\"\")","v":""},{"$f":"IF(E1312<>0,(IF(lfValidaCEP(E1312)=TRUE,\"Válido\",\"Inválido\")),\"\")","v":""}]
[null,null,null,null,null,null,null,null,null,null,"",{"$f":"IF(C1313<>0,(IF(lfValidaCNPJ(C1313)=TRUE,\"Válido\",\"Inválido\")),\"\")","v":""},{"$f":"IF(E1313<>0,(IF(lfValidaCEP(E1313)=TRUE,\"Válido\",\"Inválido\")),\"\")","v":""}]
[null,null,null,null,null,null,null,null,null,null,"",{"$f":"IF(C1314<>0,(IF(lfValidaCNPJ(C1314)=TRUE,\"Válido\",\"Inválido\")),\"\")","v":""},{"$f":"IF(E1314<>0,(IF(lfValidaCEP(E1314)=TRUE,\"Válido\",\"Inválido\")),\"\")","v":""}]
[null,null,null,null,null,null,null,null,null,null,"",{"$f":"IF(C1315<>0,(IF(lfValidaCNPJ(C1315)=TRUE,\"Válido\",\"Inválido\")),\"\")","v":""},{"$f":"IF(E1315<>0,(IF(lfValidaCEP(E1315)=TRUE,\"Válido\",\"Inválido\")),\"\")","v":""}]
[null,null,null,null,null,null,null,null,null,null,"",{"$f":"IF(C1316<>0,(IF(lfValidaCNPJ(C1316)=TRUE,\"Válido\",\"Inválido\")),\"\")","v":""},{"$f":"IF(E1316<>0,(IF(lfValidaCEP(E1316)=TRUE,\"Válido\",\"Inválido\")),\"\")","v":""}]
[null,null,null,null,null,null,null,null,null,null,"",{"$f":"IF(C1317<>0,(IF(lfValidaCNPJ(C1317)=TRUE,\"Válido\",\"Inválido\")),\"\")","v":""},{"$f":"IF(E1317<>0,(IF(lfValidaCEP(E1317)=TRUE,\"Válido\",\"Inválido\")),\"\")","v":""}]
[null,null,null,null,null,null,null,null,null,null,"",{"$f":"IF(C1318<>0,(IF(lfValidaCNPJ(C1318)=TRUE,\"Válido\",\"Inválido\")),\"\")","v":""},{"$f":"IF(E1318<>0,(IF(lfValidaCEP(E1318)=TRUE,\"Válido\",\"Inválido\")),\"\")","v":""}]
[null,null,null,null,null,null,null,null,null,null,"",{"$f":"IF(C1319<>0,(IF(lfValidaCNPJ(C1319)=TRUE,\"Válido\",\"Inválido\")),\"\")","v":""},{"$f":"IF(E1319<>0,(IF(lfValidaCEP(E1319)=TRUE,\"Válido\",\"Inválido\")),\"\")","v":""}]
[null,null,null,null,null,null,null,null,null,null,"",{"$f":"IF(C1320<>0,(IF(lfValidaCNPJ(C1320)=TRUE,\"Válido\",\"Inválido\")),\"\")","v":""},{"$f":"IF(E1320<>0,(IF(lfValidaCEP(E1320)=TRUE,\"Válido\",\"Inválido\")),\"\")","v":""}]
[null,null,null,null,null,null,null,null,null,null,"",{"$f":"IF(C1321<>0,(IF(lfValidaCNPJ(C1321)=TRUE,\"Válido\",\"Inválido\")),\"\")","v":""},{"$f":"IF(E1321<>0,(IF(lfValidaCEP(E1321)=TRUE,\"Válido\",\"Inválido\")),\"\")","v":""}]
[null,null,null,null,null,null,null,null,null,null,"",{"$f":"IF(C1322<>0,(IF(lfValidaCNPJ(C1322)=TRUE,\"Válido\",\"Inválido\")),\"\")","v":""},{"$f":"IF(E1322<>0,(IF(lfValidaCEP(E1322)=TRUE,\"Válido\",\"Inválido\")),\"\")","v":""}]
[null,null,null,null,null,null,null,null,null,null,"",{"$f":"IF(C1323<>0,(IF(lfValidaCNPJ(C1323)=TRUE,\"Válido\",\"Inválido\")),\"\")","v":""},{"$f":"IF(E1323<>0,(IF(lfValidaCEP(E1323)=TRUE,\"Válido\",\"Inválido\")),\"\")","v":""}]
[null,null,null,null,null,null,null,null,null,null,"",{"$f":"IF(C1324<>0,(IF(lfValidaCNPJ(C1324)=TRUE,\"Válido\",\"Inválido\")),\"\")","v":""},{"$f":"IF(E1324<>0,(IF(lfValidaCEP(E1324)=TRUE,\"Válido\",\"Inválido\")),\"\")","v":""}]
[null,null,null,null,null,null,null,null,null,null,"",{"$f":"IF(C1325<>0,(IF(lfValidaCNPJ(C1325)=TRUE,\"Válido\",\"Inválido\")),\"\")","v":""},{"$f":"IF(E1325<>0,(IF(lfValidaCEP(E1325)=TRUE,\"Válido\",\"Inválido\")),\"\")","v":""}]
[null,null,null,null,null,null,null,null,null,null,"",{"$f":"IF(C1326<>0,(IF(lfValidaCNPJ(C1326)=TRUE,\"Válido\",\"Inválido\")),\"\")","v":""},{"$f":"IF(E1326<>0,(IF(lfValidaCEP(E1326)=TRUE,\"Válido\",\"Inválido\")),\"\")","v":""}]
[null,null,null,null,null,null,null,null,null,null,"",{"$f":"IF(C1327<>0,(IF(lfValidaCNPJ(C1327)=TRUE,\"Válido\",\"Inválido\")),\"\")","v":""},{"$f":"IF(E1327<>0,(IF(lfValidaCEP(E1327)=TRUE,\"Válido\",\"Inválido\")),\"\")","v":""}]
[null,null,null,null,null,null,null,null,null,null,"",{"$f":"IF(C1328<>0,(IF(lfValidaCNPJ(C1328)=TRUE,\"Válido\",\"Inválido\")),\"\")","v":""},{"$f":"IF(E1328<>0,(IF(lfValidaCEP(E1328)=TRUE,\"Válido\",\"Inválido\")),\"\")","v":""}]
[null,null,null,null,null,null,null,null,null,null,"",{"$f":"IF(C1329<>0,(IF(lfValidaCNPJ(C1329)=TRUE,\"Válido\",\"Inválido\")),\"\")","v":""},{"$f":"IF(E1329<>0,(IF(lfValidaCEP(E1329)=TRUE,\"Válido\",\"Inválido\")),\"\")","v":""}]
[null,null,null,null,null,null,null,null,null,null,"",{"$f":"IF(C1330<>0,(IF(lfValidaCNPJ(C1330)=TRUE,\"Válido\",\"Inválido\")),\"\")","v":""},{"$f":"IF(E1330<>0,(IF(lfValidaCEP(E1330)=TRUE,\"Válido\",\"Inválido\")),\"\")","v":""}]
[null,null,null,null,null,null,null,null,null,null,"",{"$f":"IF(C1331<>0,(IF(lfValidaCNPJ(C1331)=TRUE,\"Válido\",\"Inválido\")),\"\")","v":""},{"$f":"IF(E1331<>0,(IF(lfValidaCEP(E1331)=TRUE,\"Válido\",\"Inválido\")),\"\")","v":""}]
[null,null,null,null,null,null,null,null,null,null,"",{"$f":"IF(C1332<>0,(IF(lfValidaCNPJ(C1332)=TRUE,\"Válido\",\"Inválido\")),\"\")","v":""},{"$f":"IF(E1332<>0,(IF(lfValidaCEP(E1332)=TRUE,\"Válido\",\"Inválido\")),\"\")","v":""}]
[null,null,null,null,null,null,null,null,null,null,"",{"$f":"IF(C1333<>0,(IF(lfValidaCNPJ(C1333)=TRUE,\"Válido\",\"Inválido\")),\"\")","v":""},{"$f":"IF(E1333<>0,(IF(lfValidaCEP(E1333)=TRUE,\"Válido\",\"Inválido\")),\"\")","v":""}]
[null,null,null,null,null,null,null,null,null,null,"",{"$f":"IF(C1334<>0,(IF(lfValidaCNPJ(C1334)=TRUE,\"Válido\",\"Inválido\")),\"\")","v":""},{"$f":"IF(E1334<>0,(IF(lfValidaCEP(E1334)=TRUE,\"Válido\",\"Inválido\")),\"\")","v":""}]
[null,null,null,null,null,null,null,null,null,null,"",{"$f":"IF(C1335<>0,(IF(lfValidaCNPJ(C1335)=TRUE,\"Válido\",\"Inválido\")),\"\")","v":""},{"$f":"IF(E1335<>0,(IF(lfValidaCEP(E1335)=TRUE,\"Válido\",\"Inválido\")),\"\")","v":""}]
[null,null,null,null,null,null,null,null,null,null,"",{"$f":"IF(C1336<>0,(IF(lfValidaCNPJ(C1336)=TRUE,\"Válido\",\"Inválido\")),\"\")","v":""},{"$f":"IF(E1336<>0,(IF(lfValidaCEP(E1336)=TRUE,\"Válido\",\"Inválido\")),\"\")","v":""}]
[null,null,null,null,null,null,null,null,null,null,"",{"$f":"IF(C1337<>0,(IF(lfValidaCNPJ(C1337)=TRUE,\"Válido\",\"Inválido\")),\"\")","v":""},{"$f":"IF(E1337<>0,(IF(lfValidaCEP(E1337)=TRUE,\"Válido\",\"Inválido\")),\"\")","v":""}]
[null,null,null,null,null,null,null,null,null,null,"",{"$f":"IF(C1338<>0,(IF(lfValidaCNPJ(C1338)=TRUE,\"Válido\",\"Inválido\")),\"\")","v":""},{"$f":"IF(E1338<>0,(IF(lfValidaCEP(E1338)=TRUE,\"Válido\",\"Inválido\")),\"\")","v":""}]
[null,null,null,null,null,null,null,null,null,null,"",{"$f":"IF(C1339<>0,(IF(lfValidaCNPJ(C1339)=TRUE,\"Válido\",\"Inválido\")),\"\")","v":""},{"$f":"IF(E1339<>0,(IF(lfValidaCEP(E1339)=TRUE,\"Válido\",\"Inválido\")),\"\")","v":""}]
[null,null,null,null,null,null,null,null,null,null,"",{"$f":"IF(C1340<>0,(IF(lfValidaCNPJ(C1340)=TRUE,\"Válido\",\"Inválido\")),\"\")","v":""},{"$f":"IF(E1340<>0,(IF(lfValidaCEP(E1340)=TRUE,\"Válido\",\"Inválido\")),\"\")","v":""}]
[null,null,null,null,null,null,null,null,null,null,"",{"$f":"IF(C1341<>0,(IF(lfValidaCNPJ(C1341)=TRUE,\"Válido\",\"Inválido\")),\"\")","v":""},{"$f":"IF(E1341<>0,(IF(lfValidaCEP(E1341)=TRUE,\"Válido\",\"Inválido\")),\"\")","v":""}]
[null,null,null,null,null,null,null,null,null,null,"",{"$f":"IF(C1342<>0,(IF(lfValidaCNPJ(C1342)=TRUE,\"Válido\",\"Inválido\")),\"\")","v":""},{"$f":"IF(E1342<>0,(IF(lfValidaCEP(E1342)=TRUE,\"Válido\",\"Inválido\")),\"\")","v":""}]
[null,null,null,null,null,null,null,null,null,null,"",{"$f":"IF(C1343<>0,(IF(lfValidaCNPJ(C1343)=TRUE,\"Válido\",\"Inválido\")),\"\")","v":""},{"$f":"IF(E1343<>0,(IF(lfValidaCEP(E1343)=TRUE,\"Válido\",\"Inválido\")),\"\")","v":""}]
[null,null,null,null,null,null,null,null,null,null,"",{"$f":"IF(C1344<>0,(IF(lfValidaCNPJ(C1344)=TRUE,\"Válido\",\"Inválido\")),\"\")","v":""},{"$f":"IF(E1344<>0,(IF(lfValidaCEP(E1344)=TRUE,\"Válido\",\"Inválido\")),\"\")","v":""}]
[null,null,null,null,null,null,null,null,null,null,"",{"$f":"IF(C1345<>0,(IF(lfValidaCNPJ(C1345)=TRUE,\"Válido\",\"Inválido\")),\"\")","v":""},{"$f":"IF(E1345<>0,(IF(lfValidaCEP(E1345)=TRUE,\"Válido\",\"Inválido\")),\"\")","v":""}]
[null,null,null,null,null,null,null,null,null,null,"",{"$f":"IF(C1346<>0,(IF(lfValidaCNPJ(C1346)=TRUE,\"Válido\",\"Inválido\")),\"\")","v":""},{"$f":"IF(E1346<>0,(IF(lfValidaCEP(E1346)=TRUE,\"Válido\",\"Inválido\")),\"\")","v":""}]
[null,null,null,null,null,null,null,null,null,null,"",{"$f":"IF(C1347<>0,(IF(lfValidaCNPJ(C1347)=TRUE,\"Válido\",\"Inválido\")),\"\")","v":""},{"$f":"IF(E1347<>0,(IF(lfValidaCEP(E1347)=TRUE,\"Válido\",\"Inválido\")),\"\")","v":""}]
[null,null,null,null,null,null,null,null,null,null,"",{"$f":"IF(C1348<>0,(IF(lfValidaCNPJ(C1348)=TRUE,\"Válido\",\"Inválido\")),\"\")","v":""},{"$f":"IF(E1348<>0,(IF(lfValidaCEP(E1348)=TRUE,\"Válido\",\"Inválido\")),\"\")","v":""}]
[null,null,null,null,null,null,null,null,null,null,"",{"$f":"IF(C1349<>0,(IF(lfValidaCNPJ(C1349)=TRUE,\"Válido\",\"Inválido\")),\"\")","v":""},{"$f":"IF(E1349<>0,(IF(lfValidaCEP(E1349)=TRUE,\"Válido\",\"Inválido\")),\"\")","v":""}]
[null,null,null,null,null,null,null,null,null,null,"",{"$f":"IF(C1350<>0,(IF(lfValidaCNPJ(C1350)=TRUE,\"Válido\",\"Inválido\")),\"\")","v":""},{"$f":"IF(E1350<>0,(IF(lfValidaCEP(E1350)=TRUE,\"Válido\",\"Inválido\")),\"\")","v":""}]
[null,null,null,null,null,null,null,null,null,null,"",{"$f":"IF(C1351<>0,(IF(lfValidaCNPJ(C1351)=TRUE,\"Válido\",\"Inválido\")),\"\")","v":""},{"$f":"IF(E1351<>0,(IF(lfValidaCEP(E1351)=TRUE,\"Válido\",\"Inválido\")),\"\")","v":""}]
[null,null,null,null,null,null,null,null,null,null,"",{"$f":"IF(C1352<>0,(IF(lfValidaCNPJ(C1352)=TRUE,\"Válido\",\"Inválido\")),\"\")","v":""},{"$f":"IF(E1352<>0,(IF(lfValidaCEP(E1352)=TRUE,\"Válido\",\"Inválido\")),\"\")","v":""}]
[null,null,null,null,null,null,null,null,null,null,"",{"$f":"IF(C1353<>0,(IF(lfValidaCNPJ(C1353)=TRUE,\"Válido\",\"Inválido\")),\"\")","v":""},{"$f":"IF(E1353<>0,(IF(lfValidaCEP(E1353)=TRUE,\"Válido\",\"Inválido\")),\"\")","v":""}]
[null,null,null,null,null,null,null,null,null,null,"",{"$f":"IF(C1354<>0,(IF(lfValidaCNPJ(C1354)=TRUE,\"Válido\",\"Inválido\")),\"\")","v":""},{"$f":"IF(E1354<>0,(IF(lfValidaCEP(E1354)=TRUE,\"Válido\",\"Inválido\")),\"\")","v":""}]
[null,null,null,null,null,null,null,null,null,null,"",{"$f":"IF(C1355<>0,(IF(lfValidaCNPJ(C1355)=TRUE,\"Válido\",\"Inválido\")),\"\")","v":""},{"$f":"IF(E1355<>0,(IF(lfValidaCEP(E1355)=TRUE,\"Válido\",\"Inválido\")),\"\")","v":""}]
[null,null,null,null,null,null,null,null,null,null,{"$f":"IF(COUNTA(B1356:I1356)<>0,IF(AND(B1356<>0,C1356<>0,D1356<>0,E1356<>0,F1356<>0,G1356<>0,H1356<>0,I1356<>0),\"Completo\",\"Incompleto\"),\"\")","v":""},{"$f":"IF(C1356<>0,(IF(lfValidaCNPJ(C1356)=TRUE,\"Válido\",\"Inválido\")),\"\")","v":""},{"$f":"IF(E1356<>0,(IF(lfValidaCEP(E1356)=TRUE,\"Válido\",\"Inválido\")),\"\")","v":""}]
[null,null,null,null,null,null,null,null,null,null,"",{"$f":"IF(C1357<>0,(IF(lfValidaCNPJ(C1357)=TRUE,\"Válido\",\"Inválido\")),\"\")","v":""},{"$f":"IF(E1357<>0,(IF(lfValidaCEP(E1357)=TRUE,\"Válido\",\"Inválido\")),\"\")","v":""}]
[null,null,null,null,null,null,null,null,null,null,"",{"$f":"IF(C1358<>0,(IF(lfValidaCNPJ(C1358)=TRUE,\"Válido\",\"Inválido\")),\"\")","v":""},{"$f":"IF(E1358<>0,(IF(lfValidaCEP(E1358)=TRUE,\"Válido\",\"Inválido\")),\"\")","v":""}]
[null,null,null,null,null,null,null,null,null,null,"",{"$f":"IF(C1359<>0,(IF(lfValidaCNPJ(C1359)=TRUE,\"Válido\",\"Inválido\")),\"\")","v":""},{"$f":"IF(E1359<>0,(IF(lfValidaCEP(E1359)=TRUE,\"Válido\",\"Inválido\")),\"\")","v":""}]
[null,null,null,null,null,null,null,null,null,null,"",{"$f":"IF(C1360<>0,(IF(lfValidaCNPJ(C1360)=TRUE,\"Válido\",\"Inválido\")),\"\")","v":""},{"$f":"IF(E1360<>0,(IF(lfValidaCEP(E1360)=TRUE,\"Válido\",\"Inválido\")),\"\")","v":""}]
[null,null,null,null,null,null,null,null,null,null,"",{"$f":"IF(C1361<>0,(IF(lfValidaCNPJ(C1361)=TRUE,\"Válido\",\"Inválido\")),\"\")","v":""},{"$f":"IF(E1361<>0,(IF(lfValidaCEP(E1361)=TRUE,\"Válido\",\"Inválido\")),\"\")","v":""}]
[null,null,null,null,null,null,null,null,null,null,"",{"$f":"IF(C1362<>0,(IF(lfValidaCNPJ(C1362)=TRUE,\"Válido\",\"Inválido\")),\"\")","v":""},{"$f":"IF(E1362<>0,(IF(lfValidaCEP(E1362)=TRUE,\"Válido\",\"Inválido\")),\"\")","v":""}]
[null,null,null,null,null,null,null,null,null,null,"",{"$f":"IF(C1363<>0,(IF(lfValidaCNPJ(C1363)=TRUE,\"Válido\",\"Inválido\")),\"\")","v":""},{"$f":"IF(E1363<>0,(IF(lfValidaCEP(E1363)=TRUE,\"Válido\",\"Inválido\")),\"\")","v":""}]
[null,null,null,null,null,null,null,null,null,null,"",{"$f":"IF(C1364<>0,(IF(lfValidaCNPJ(C1364)=TRUE,\"Válido\",\"Inválido\")),\"\")","v":""},{"$f":"IF(E1364<>0,(IF(lfValidaCEP(E1364)=TRUE,\"Válido\",\"Inválido\")),\"\")","v":""}]
[null,null,null,null,null,null,null,null,null,null,"",{"$f":"IF(C1365<>0,(IF(lfValidaCNPJ(C1365)=TRUE,\"Válido\",\"Inválido\")),\"\")","v":""},{"$f":"IF(E1365<>0,(IF(lfValidaCEP(E1365)=TRUE,\"Válido\",\"Inválido\")),\"\")","v":""}]
[null,null,null,null,null,null,null,null,null,null,"",{"$f":"IF(C1366<>0,(IF(lfValidaCNPJ(C1366)=TRUE,\"Válido\",\"Inválido\")),\"\")","v":""},{"$f":"IF(E1366<>0,(IF(lfValidaCEP(E1366)=TRUE,\"Válido\",\"Inválido\")),\"\")","v":""}]
[null,null,null,null,null,null,null,null,null,null,"",{"$f":"IF(C1367<>0,(IF(lfValidaCNPJ(C1367)=TRUE,\"Válido\",\"Inválido\")),\"\")","v":""},{"$f":"IF(E1367<>0,(IF(lfValidaCEP(E1367)=TRUE,\"Válido\",\"Inválido\")),\"\")","v":""}]
[null,null,null,null,null,null,null,null,null,null,"",{"$f":"IF(C1368<>0,(IF(lfValidaCNPJ(C1368)=TRUE,\"Válido\",\"Inválido\")),\"\")","v":""},{"$f":"IF(E1368<>0,(IF(lfValidaCEP(E1368)=TRUE,\"Válido\",\"Inválido\")),\"\")","v":""}]
[null,null,null,null,null,null,null,null,null,null,"",{"$f":"IF(C1369<>0,(IF(lfValidaCNPJ(C1369)=TRUE,\"Válido\",\"Inválido\")),\"\")","v":""},{"$f":"IF(E1369<>0,(IF(lfValidaCEP(E1369)=TRUE,\"Válido\",\"Inválido\")),\"\")","v":""}]
[null,null,null,null,null,null,null,null,null,null,"",{"$f":"IF(C1370<>0,(IF(lfValidaCNPJ(C1370)=TRUE,\"Válido\",\"Inválido\")),\"\")","v":""},{"$f":"IF(E1370<>0,(IF(lfValidaCEP(E1370)=TRUE,\"Válido\",\"Inválido\")),\"\")","v":""}]
[null,null,null,null,null,null,null,null,null,null,"",{"$f":"IF(C1371<>0,(IF(lfValidaCNPJ(C1371)=TRUE,\"Válido\",\"Inválido\")),\"\")","v":""},{"$f":"IF(E1371<>0,(IF(lfValidaCEP(E1371)=TRUE,\"Válido\",\"Inválido\")),\"\")","v":""}]
[null,null,null,null,null,null,null,null,null,null,"",{"$f":"IF(C1372<>0,(IF(lfValidaCNPJ(C1372)=TRUE,\"Válido\",\"Inválido\")),\"\")","v":""},{"$f":"IF(E1372<>0,(IF(lfValidaCEP(E1372)=TRUE,\"Válido\",\"Inválido\")),\"\")","v":""}]
[null,null,null,null,null,null,null,null,null,null,"",{"$f":"IF(C1373<>0,(IF(lfValidaCNPJ(C1373)=TRUE,\"Válido\",\"Inválido\")),\"\")","v":""},{"$f":"IF(E1373<>0,(IF(lfValidaCEP(E1373)=TRUE,\"Válido\",\"Inválido\")),\"\")","v":""}]
[null,null,null,null,null,null,null,null,null,null,"",{"$f":"IF(C1374<>0,(IF(lfValidaCNPJ(C1374)=TRUE,\"Válido\",\"Inválido\")),\"\")","v":""},{"$f":"IF(E1374<>0,(IF(lfValidaCEP(E1374)=TRUE,\"Válido\",\"Inválido\")),\"\")","v":""}]
[null,null,null,null,null,null,null,null,null,null,"",{"$f":"IF(C1375<>0,(IF(lfValidaCNPJ(C1375)=TRUE,\"Válido\",\"Inválido\")),\"\")","v":""},{"$f":"IF(E1375<>0,(IF(lfValidaCEP(E1375)=TRUE,\"Válido\",\"Inválido\")),\"\")","v":""}]
[null,null,null,null,null,null,null,null,null,null,"",{"$f":"IF(C1376<>0,(IF(lfValidaCNPJ(C1376)=TRUE,\"Válido\",\"Inválido\")),\"\")","v":""},{"$f":"IF(E1376<>0,(IF(lfValidaCEP(E1376)=TRUE,\"Válido\",\"Inválido\")),\"\")","v":""}]
[null,null,null,null,null,null,null,null,null,null,"",{"$f":"IF(C1377<>0,(IF(lfValidaCNPJ(C1377)=TRUE,\"Válido\",\"Inválido\")),\"\")","v":""},{"$f":"IF(E1377<>0,(IF(lfValidaCEP(E1377)=TRUE,\"Válido\",\"Inválido\")),\"\")","v":""}]
[null,null,null,null,null,null,null,null,null,null,"",{"$f":"IF(C1378<>0,(IF(lfValidaCNPJ(C1378)=TRUE,\"Válido\",\"Inválido\")),\"\")","v":""},{"$f":"IF(E1378<>0,(IF(lfValidaCEP(E1378)=TRUE,\"Válido\",\"Inválido\")),\"\")","v":""}]
[null,null,null,null,null,null,null,null,null,null,"",{"$f":"IF(C1379<>0,(IF(lfValidaCNPJ(C1379)=TRUE,\"Válido\",\"Inválido\")),\"\")","v":""},{"$f":"IF(E1379<>0,(IF(lfValidaCEP(E1379)=TRUE,\"Válido\",\"Inválido\")),\"\")","v":""}]
[null,null,null,null,null,null,null,null,null,null,"",{"$f":"IF(C1380<>0,(IF(lfValidaCNPJ(C1380)=TRUE,\"Válido\",\"Inválido\")),\"\")","v":""},{"$f":"IF(E1380<>0,(IF(lfValidaCEP(E1380)=TRUE,\"Válido\",\"Inválido\")),\"\")","v":""}]
[null,null,null,null,null,null,null,null,null,null,"",{"$f":"IF(C1381<>0,(IF(lfValidaCNPJ(C1381)=TRUE,\"Válido\",\"Inválido\")),\"\")","v":""},{"$f":"IF(E1381<>0,(IF(lfValidaCEP(E1381)=TRUE,\"Válido\",\"Inválido\")),\"\")","v":""}]
[null,null,null,null,null,null,null,null,null,null,"",{"$f":"IF(C1382<>0,(IF(lfValidaCNPJ(C1382)=TRUE,\"Válido\",\"Inválido\")),\"\")","v":""},{"$f":"IF(E1382<>0,(IF(lfValidaCEP(E1382)=TRUE,\"Válido\",\"Inválido\")),\"\")","v":""}]
[null,null,null,null,null,null,null,null,null,null,"",{"$f":"IF(C1383<>0,(IF(lfValidaCNPJ(C1383)=TRUE,\"Válido\",\"Inválido\")),\"\")","v":""},{"$f":"IF(E1383<>0,(IF(lfValidaCEP(E1383)=TRUE,\"Válido\",\"Inválido\")),\"\")","v":""}]
[null,null,null,null,null,null,null,null,null,null,"",{"$f":"IF(C1384<>0,(IF(lfValidaCNPJ(C1384)=TRUE,\"Válido\",\"Inválido\")),\"\")","v":""},{"$f":"IF(E1384<>0,(IF(lfValidaCEP(E1384)=TRUE,\"Válido\",\"Inválido\")),\"\")","v":""}]
[null,null,null,null,null,null,null,null,null,null,"",{"$f":"IF(C1385<>0,(IF(lfValidaCNPJ(C1385)=TRUE,\"Válido\",\"Inválido\")),\"\")","v":""},{"$f":"IF(E1385<>0,(IF(lfValidaCEP(E1385)=TRUE,\"Válido\",\"Inválido\")),\"\")","v":""}]
[null,null,null,null,null,null,null,null,null,null,"",{"$f":"IF(C1386<>0,(IF(lfValidaCNPJ(C1386)=TRUE,\"Válido\",\"Inválido\")),\"\")","v":""},{"$f":"IF(E1386<>0,(IF(lfValidaCEP(E1386)=TRUE,\"Válido\",\"Inválido\")),\"\")","v":""}]
[null,null,null,null,null,null,null,null,null,null,"",{"$f":"IF(C1387<>0,(IF(lfValidaCNPJ(C1387)=TRUE,\"Válido\",\"Inválido\")),\"\")","v":""},{"$f":"IF(E1387<>0,(IF(lfValidaCEP(E1387)=TRUE,\"Válido\",\"Inválido\")),\"\")","v":""}]
[null,null,null,null,null,null,null,null,null,null,"",{"$f":"IF(C1388<>0,(IF(lfValidaCNPJ(C1388)=TRUE,\"Válido\",\"Inválido\")),\"\")","v":""},{"$f":"IF(E1388<>0,(IF(lfValidaCEP(E1388)=TRUE,\"Válido\",\"Inválido\")),\"\")","v":""}]
[null,null,null,null,null,null,null,null,null,null,"",{"$f":"IF(C1389<>0,(IF(lfValidaCNPJ(C1389)=TRUE,\"Válido\",\"Inválido\")),\"\")","v":""},{"$f":"IF(E1389<>0,(IF(lfValidaCEP(E1389)=TRUE,\"Válido\",\"Inválido\")),\"\")","v":""}]
[null,null,null,null,null,null,null,null,null,null,"",{"$f":"IF(C1390<>0,(IF(lfValidaCNPJ(C1390)=TRUE,\"Válido\",\"Inválido\")),\"\")","v":""},{"$f":"IF(E1390<>0,(IF(lfValidaCEP(E1390)=TRUE,\"Válido\",\"Inválido\")),\"\")","v":""}]
[null,null,null,null,null,null,null,null,null,null,"",{"$f":"IF(C1391<>0,(IF(lfValidaCNPJ(C1391)=TRUE,\"Válido\",\"Inválido\")),\"\")","v":""},{"$f":"IF(E1391<>0,(IF(lfValidaCEP(E1391)=TRUE,\"Válido\",\"Inválido\")),\"\")","v":""}]
[null,null,null,null,null,null,null,null,null,null,"",{"$f":"IF(C1392<>0,(IF(lfValidaCNPJ(C1392)=TRUE,\"Válido\",\"Inválido\")),\"\")","v":""},{"$f":"IF(E1392<>0,(IF(lfValidaCEP(E1392)=TRUE,\"Válido\",\"Inválido\")),\"\")","v":""}]
[null,null,null,null,null,null,null,null,null,null,"",{"$f":"IF(C1393<>0,(IF(lfValidaCNPJ(C1393)=TRUE,\"Válido\",\"Inválido\")),\"\")","v":""},{"$f":"IF(E1393<>0,(IF(lfValidaCEP(E1393)=TRUE,\"Válido\",\"Inválido\")),\"\")","v":""}]
[null,null,null,null,null,null,null,null,null,null,"",{"$f":"IF(C1394<>0,(IF(lfValidaCNPJ(C1394)=TRUE,\"Válido\",\"Inválido\")),\"\")","v":""},{"$f":"IF(E1394<>0,(IF(lfValidaCEP(E1394)=TRUE,\"Válido\",\"Inválido\")),\"\")","v":""}]
[null,null,null,null,null,null,null,null,null,null,"",{"$f":"IF(C1395<>0,(IF(lfValidaCNPJ(C1395)=TRUE,\"Válido\",\"Inválido\")),\"\")","v":""},{"$f":"IF(E1395<>0,(IF(lfValidaCEP(E1395)=TRUE,\"Válido\",\"Inválido\")),\"\")","v":""}]
[null,null,null,null,null,null,null,null,null,null,"",{"$f":"IF(C1396<>0,(IF(lfValidaCNPJ(C1396)=TRUE,\"Válido\",\"Inválido\")),\"\")","v":""},{"$f":"IF(E1396<>0,(IF(lfValidaCEP(E1396)=TRUE,\"Válido\",\"Inválido\")),\"\")","v":""}]
[null,null,null,null,null,null,null,null,null,null,"",{"$f":"IF(C1397<>0,(IF(lfValidaCNPJ(C1397)=TRUE,\"Válido\",\"Inválido\")),\"\")","v":""},{"$f":"IF(E1397<>0,(IF(lfValidaCEP(E1397)=TRUE,\"Válido\",\"Inválido\")),\"\")","v":""}]
[null,null,null,null,null,null,null,null,null,null,"",{"$f":"IF(C1398<>0,(IF(lfValidaCNPJ(C1398)=TRUE,\"Válido\",\"Inválido\")),\"\")","v":""},{"$f":"IF(E1398<>0,(IF(lfValidaCEP(E1398)=TRUE,\"Válido\",\"Inválido\")),\"\")","v":""}]
[null,null,null,null,null,null,null,null,null,null,"",{"$f":"IF(C1399<>0,(IF(lfValidaCNPJ(C1399)=TRUE,\"Válido\",\"Inválido\")),\"\")","v":""},{"$f":"IF(E1399<>0,(IF(lfValidaCEP(E1399)=TRUE,\"Válido\",\"Inválido\")),\"\")","v":""}]
[null,null,null,null,null,null,null,null,null,null,"",{"$f":"IF(C1400<>0,(IF(lfValidaCNPJ(C1400)=TRUE,\"Válido\",\"Inválido\")),\"\")","v":""},{"$f":"IF(E1400<>0,(IF(lfValidaCEP(E1400)=TRUE,\"Válido\",\"Inválido\")),\"\")","v":""}]
[null,null,null,null,null,null,null,null,null,null,"",{"$f":"IF(C1401<>0,(IF(lfValidaCNPJ(C1401)=TRUE,\"Válido\",\"Inválido\")),\"\")","v":""},{"$f":"IF(E1401<>0,(IF(lfValidaCEP(E1401)=TRUE,\"Válido\",\"Inválido\")),\"\")","v":""}]
[null,null,null,null,null,null,null,null,null,null,"",{"$f":"IF(C1402<>0,(IF(lfValidaCNPJ(C1402)=TRUE,\"Válido\",\"Inválido\")),\"\")","v":""},{"$f":"IF(E1402<>0,(IF(lfValidaCEP(E1402)=TRUE,\"Válido\",\"Inválido\")),\"\")","v":""}]
[null,null,null,null,null,null,null,null,null,null,"",{"$f":"IF(C1403<>0,(IF(lfValidaCNPJ(C1403)=TRUE,\"Válido\",\"Inválido\")),\"\")","v":""},{"$f":"IF(E1403<>0,(IF(lfValidaCEP(E1403)=TRUE,\"Válido\",\"Inválido\")),\"\")","v":""}]
[null,null,null,null,null,null,null,null,null,null,"",{"$f":"IF(C1404<>0,(IF(lfValidaCNPJ(C1404)=TRUE,\"Válido\",\"Inválido\")),\"\")","v":""},{"$f":"IF(E1404<>0,(IF(lfValidaCEP(E1404)=TRUE,\"Válido\",\"Inválido\")),\"\")","v":""}]
[null,null,null,null,null,null,null,null,null,null,"",{"$f":"IF(C1405<>0,(IF(lfValidaCNPJ(C1405)=TRUE,\"Válido\",\"Inválido\")),\"\")","v":""},{"$f":"IF(E1405<>0,(IF(lfValidaCEP(E1405)=TRUE,\"Válido\",\"Inválido\")),\"\")","v":""}]
[null,null,null,null,null,null,null,null,null,null,"",{"$f":"IF(C1406<>0,(IF(lfValidaCNPJ(C1406)=TRUE,\"Válido\",\"Inválido\")),\"\")","v":""},{"$f":"IF(E1406<>0,(IF(lfValidaCEP(E1406)=TRUE,\"Válido\",\"Inválido\")),\"\")","v":""}]
[null,null,null,null,null,null,null,null,null,null,"",{"$f":"IF(C1407<>0,(IF(lfValidaCNPJ(C1407)=TRUE,\"Válido\",\"Inválido\")),\"\")","v":""},{"$f":"IF(E1407<>0,(IF(lfValidaCEP(E1407)=TRUE,\"Válido\",\"Inválido\")),\"\")","v":""}]
[null,null,null,null,null,null,null,null,null,null,"",{"$f":"IF(C1408<>0,(IF(lfValidaCNPJ(C1408)=TRUE,\"Válido\",\"Inválido\")),\"\")","v":""},{"$f":"IF(E1408<>0,(IF(lfValidaCEP(E1408)=TRUE,\"Válido\",\"Inválido\")),\"\")","v":""}]
[null,null,null,null,null,null,null,null,null,null,"",{"$f":"IF(C1409<>0,(IF(lfValidaCNPJ(C1409)=TRUE,\"Válido\",\"Inválido\")),\"\")","v":""},{"$f":"IF(E1409<>0,(IF(lfValidaCEP(E1409)=TRUE,\"Válido\",\"Inválido\")),\"\")","v":""}]
[null,null,null,null,null,null,null,null,null,null,"",{"$f":"IF(C1410<>0,(IF(lfValidaCNPJ(C1410)=TRUE,\"Válido\",\"Inválido\")),\"\")","v":""},{"$f":"IF(E1410<>0,(IF(lfValidaCEP(E1410)=TRUE,\"Válido\",\"Inválido\")),\"\")","v":""}]
[null,null,null,null,null,null,null,null,null,null,"",{"$f":"IF(C1411<>0,(IF(lfValidaCNPJ(C1411)=TRUE,\"Válido\",\"Inválido\")),\"\")","v":""},{"$f":"IF(E1411<>0,(IF(lfValidaCEP(E1411)=TRUE,\"Válido\",\"Inválido\")),\"\")","v":""}]
[null,null,null,null,null,null,null,null,null,null,"",{"$f":"IF(C1412<>0,(IF(lfValidaCNPJ(C1412)=TRUE,\"Válido\",\"Inválido\")),\"\")","v":""},{"$f":"IF(E1412<>0,(IF(lfValidaCEP(E1412)=TRUE,\"Válido\",\"Inválido\")),\"\")","v":""}]
[null,null,null,null,null,null,null,null,null,null,"",{"$f":"IF(C1413<>0,(IF(lfValidaCNPJ(C1413)=TRUE,\"Válido\",\"Inválido\")),\"\")","v":""},{"$f":"IF(E1413<>0,(IF(lfValidaCEP(E1413)=TRUE,\"Válido\",\"Inválido\")),\"\")","v":""}]
[null,null,null,null,null,null,null,null,null,null,"",{"$f":"IF(C1414<>0,(IF(lfValidaCNPJ(C1414)=TRUE,\"Válido\",\"Inválido\")),\"\")","v":""},{"$f":"IF(E1414<>0,(IF(lfValidaCEP(E1414)=TRUE,\"Válido\",\"Inválido\")),\"\")","v":""}]
[null,null,null,null,null,null,null,null,null,null,"",{"$f":"IF(C1415<>0,(IF(lfValidaCNPJ(C1415)=TRUE,\"Válido\",\"Inválido\")),\"\")","v":""},{"$f":"IF(E1415<>0,(IF(lfValidaCEP(E1415)=TRUE,\"Válido\",\"Inválido\")),\"\")","v":""}]
[null,null,null,null,null,null,null,null,null,null,"",{"$f":"IF(C1416<>0,(IF(lfValidaCNPJ(C1416)=TRUE,\"Válido\",\"Inválido\")),\"\")","v":""},{"$f":"IF(E1416<>0,(IF(lfValidaCEP(E1416)=TRUE,\"Válido\",\"Inválido\")),\"\")","v":""}]
[null,null,null,null,null,null,null,null,null,null,"",{"$f":"IF(C1417<>0,(IF(lfValidaCNPJ(C1417)=TRUE,\"Válido\",\"Inválido\")),\"\")","v":""},{"$f":"IF(E1417<>0,(IF(lfValidaCEP(E1417)=TRUE,\"Válido\",\"Inválido\")),\"\")","v":""}]
[null,null,null,null,null,null,null,null,null,null,"",{"$f":"IF(C1418<>0,(IF(lfValidaCNPJ(C1418)=TRUE,\"Válido\",\"Inválido\")),\"\")","v":""},{"$f":"IF(E1418<>0,(IF(lfValidaCEP(E1418)=TRUE,\"Válido\",\"Inválido\")),\"\")","v":""}]
[null,null,null,null,null,null,null,null,null,null,"",{"$f":"IF(C1419<>0,(IF(lfValidaCNPJ(C1419)=TRUE,\"Válido\",\"Inválido\")),\"\")","v":""},{"$f":"IF(E1419<>0,(IF(lfValidaCEP(E1419)=TRUE,\"Válido\",\"Inválido\")),\"\")","v":""}]
[null,null,null,null,null,null,null,null,null,null,{"$f":"IF(COUNTA(B1420:I1420)<>0,IF(AND(B1420<>0,C1420<>0,D1420<>0,E1420<>0,F1420<>0,G1420<>0,H1420<>0,I1420<>0),\"Completo\",\"Incompleto\"),\"\")","v":""},{"$f":"IF(C1420<>0,(IF(lfValidaCNPJ(C1420)=TRUE,\"Válido\",\"Inválido\")),\"\")","v":""},{"$f":"IF(E1420<>0,(IF(lfValidaCEP(E1420)=TRUE,\"Válido\",\"Inválido\")),\"\")","v":""}]
[null,null,null,null,null,null,null,null,null,null,"",{"$f":"IF(C1421<>0,(IF(lfValidaCNPJ(C1421)=TRUE,\"Válido\",\"Inválido\")),\"\")","v":""},{"$f":"IF(E1421<>0,(IF(lfValidaCEP(E1421)=TRUE,\"Válido\",\"Inválido\")),\"\")","v":""}]
[null,null,null,null,null,null,null,null,null,null,"",{"$f":"IF(C1422<>0,(IF(lfValidaCNPJ(C1422)=TRUE,\"Válido\",\"Inválido\")),\"\")","v":""},{"$f":"IF(E1422<>0,(IF(lfValidaCEP(E1422)=TRUE,\"Válido\",\"Inválido\")),\"\")","v":""}]
[null,null,null,null,null,null,null,null,null,null,"",{"$f":"IF(C1423<>0,(IF(lfValidaCNPJ(C1423)=TRUE,\"Válido\",\"Inválido\")),\"\")","v":""},{"$f":"IF(E1423<>0,(IF(lfValidaCEP(E1423)=TRUE,\"Válido\",\"Inválido\")),\"\")","v":""}]
[null,null,null,null,null,null,null,null,null,null,"",{"$f":"IF(C1424<>0,(IF(lfValidaCNPJ(C1424)=TRUE,\"Válido\",\"Inválido\")),\"\")","v":""},{"$f":"IF(E1424<>0,(IF(lfValidaCEP(E1424)=TRUE,\"Válido\",\"Inválido\")),\"\")","v":""}]
[null,null,null,null,null,null,null,null,null,null,"",{"$f":"IF(C1425<>0,(IF(lfValidaCNPJ(C1425)=TRUE,\"Válido\",\"Inválido\")),\"\")","v":""},{"$f":"IF(E1425<>0,(IF(lfValidaCEP(E1425)=TRUE,\"Válido\",\"Inválido\")),\"\")","v":""}]
[null,null,null,null,null,null,null,null,null,null,"",{"$f":"IF(C1426<>0,(IF(lfValidaCNPJ(C1426)=TRUE,\"Válido\",\"Inválido\")),\"\")","v":""},{"$f":"IF(E1426<>0,(IF(lfValidaCEP(E1426)=TRUE,\"Válido\",\"Inválido\")),\"\")","v":""}]
[null,null,null,null,null,null,null,null,null,null,"",{"$f":"IF(C1427<>0,(IF(lfValidaCNPJ(C1427)=TRUE,\"Válido\",\"Inválido\")),\"\")","v":""},{"$f":"IF(E1427<>0,(IF(lfValidaCEP(E1427)=TRUE,\"Válido\",\"Inválido\")),\"\")","v":""}]
[null,null,null,null,null,null,null,null,null,null,"",{"$f":"IF(C1428<>0,(IF(lfValidaCNPJ(C1428)=TRUE,\"Válido\",\"Inválido\")),\"\")","v":""},{"$f":"IF(E1428<>0,(IF(lfValidaCEP(E1428)=TRUE,\"Válido\",\"Inválido\")),\"\")","v":""}]
[null,null,null,null,null,null,null,null,null,null,"",{"$f":"IF(C1429<>0,(IF(lfValidaCNPJ(C1429)=TRUE,\"Válido\",\"Inválido\")),\"\")","v":""},{"$f":"IF(E1429<>0,(IF(lfValidaCEP(E1429)=TRUE,\"Válido\",\"Inválido\")),\"\")","v":""}]
[null,null,null,null,null,null,null,null,null,null,"",{"$f":"IF(C1430<>0,(IF(lfValidaCNPJ(C1430)=TRUE,\"Válido\",\"Inválido\")),\"\")","v":""},{"$f":"IF(E1430<>0,(IF(lfValidaCEP(E1430)=TRUE,\"Válido\",\"Inválido\")),\"\")","v":""}]
[null,null,null,null,null,null,null,null,null,null,"",{"$f":"IF(C1431<>0,(IF(lfValidaCNPJ(C1431)=TRUE,\"Válido\",\"Inválido\")),\"\")","v":""},{"$f":"IF(E1431<>0,(IF(lfValidaCEP(E1431)=TRUE,\"Válido\",\"Inválido\")),\"\")","v":""}]
[null,null,null,null,null,null,null,null,null,null,"",{"$f":"IF(C1432<>0,(IF(lfValidaCNPJ(C1432)=TRUE,\"Válido\",\"Inválido\")),\"\")","v":""},{"$f":"IF(E1432<>0,(IF(lfValidaCEP(E1432)=TRUE,\"Válido\",\"Inválido\")),\"\")","v":""}]
[null,null,null,null,null,null,null,null,null,null,"",{"$f":"IF(C1433<>0,(IF(lfValidaCNPJ(C1433)=TRUE,\"Válido\",\"Inválido\")),\"\")","v":""},{"$f":"IF(E1433<>0,(IF(lfValidaCEP(E1433)=TRUE,\"Válido\",\"Inválido\")),\"\")","v":""}]
[null,null,null,null,null,null,null,null,null,null,"",{"$f":"IF(C1434<>0,(IF(lfValidaCNPJ(C1434)=TRUE,\"Válido\",\"Inválido\")),\"\")","v":""},{"$f":"IF(E1434<>0,(IF(lfValidaCEP(E1434)=TRUE,\"Válido\",\"Inválido\")),\"\")","v":""}]
[null,null,null,null,null,null,null,null,null,null,"",{"$f":"IF(C1435<>0,(IF(lfValidaCNPJ(C1435)=TRUE,\"Válido\",\"Inválido\")),\"\")","v":""},{"$f":"IF(E1435<>0,(IF(lfValidaCEP(E1435)=TRUE,\"Válido\",\"Inválido\")),\"\")","v":""}]
[null,null,null,null,null,null,null,null,null,null,"",{"$f":"IF(C1436<>0,(IF(lfValidaCNPJ(C1436)=TRUE,\"Válido\",\"Inválido\")),\"\")","v":""},{"$f":"IF(E1436<>0,(IF(lfValidaCEP(E1436)=TRUE,\"Válido\",\"Inválido\")),\"\")","v":""}]
[null,null,null,null,null,null,null,null,null,null,"",{"$f":"IF(C1437<>0,(IF(lfValidaCNPJ(C1437)=TRUE,\"Válido\",\"Inválido\")),\"\")","v":""},{"$f":"IF(E1437<>0,(IF(lfValidaCEP(E1437)=TRUE,\"Válido\",\"Inválido\")),\"\")","v":""}]
[null,null,null,null,null,null,null,null,null,null,"",{"$f":"IF(C1438<>0,(IF(lfValidaCNPJ(C1438)=TRUE,\"Válido\",\"Inválido\")),\"\")","v":""},{"$f":"IF(E1438<>0,(IF(lfValidaCEP(E1438)=TRUE,\"Válido\",\"Inválido\")),\"\")","v":""}]
[null,null,null,null,null,null,null,null,null,null,"",{"$f":"IF(C1439<>0,(IF(lfValidaCNPJ(C1439)=TRUE,\"Válido\",\"Inválido\")),\"\")","v":""},{"$f":"IF(E1439<>0,(IF(lfValidaCEP(E1439)=TRUE,\"Válido\",\"Inválido\")),\"\")","v":""}]
[null,null,null,null,null,null,null,null,null,null,"",{"$f":"IF(C1440<>0,(IF(lfValidaCNPJ(C1440)=TRUE,\"Válido\",\"Inválido\")),\"\")","v":""},{"$f":"IF(E1440<>0,(IF(lfValidaCEP(E1440)=TRUE,\"Válido\",\"Inválido\")),\"\")","v":""}]
[null,null,null,null,null,null,null,null,null,null,"",{"$f":"IF(C1441<>0,(IF(lfValidaCNPJ(C1441)=TRUE,\"Válido\",\"Inválido\")),\"\")","v":""},{"$f":"IF(E1441<>0,(IF(lfValidaCEP(E1441)=TRUE,\"Válido\",\"Inválido\")),\"\")","v":""}]
[null,null,null,null,null,null,null,null,null,null,"",{"$f":"IF(C1442<>0,(IF(lfValidaCNPJ(C1442)=TRUE,\"Válido\",\"Inválido\")),\"\")","v":""},{"$f":"IF(E1442<>0,(IF(lfValidaCEP(E1442)=TRUE,\"Válido\",\"Inválido\")),\"\")","v":""}]
[null,null,null,null,null,null,null,null,null,null,"",{"$f":"IF(C1443<>0,(IF(lfValidaCNPJ(C1443)=TRUE,\"Válido\",\"Inválido\")),\"\")","v":""},{"$f":"IF(E1443<>0,(IF(lfValidaCEP(E1443)=TRUE,\"Válido\",\"Inválido\")),\"\")","v":""}]
[null,null,null,null,null,null,null,null,null,null,"",{"$f":"IF(C1444<>0,(IF(lfValidaCNPJ(C1444)=TRUE,\"Válido\",\"Inválido\")),\"\")","v":""},{"$f":"IF(E1444<>0,(IF(lfValidaCEP(E1444)=TRUE,\"Válido\",\"Inválido\")),\"\")","v":""}]
[null,null,null,null,null,null,null,null,null,null,"",{"$f":"IF(C1445<>0,(IF(lfValidaCNPJ(C1445)=TRUE,\"Válido\",\"Inválido\")),\"\")","v":""},{"$f":"IF(E1445<>0,(IF(lfValidaCEP(E1445)=TRUE,\"Válido\",\"Inválido\")),\"\")","v":""}]
[null,null,null,null,null,null,null,null,null,null,"",{"$f":"IF(C1446<>0,(IF(lfValidaCNPJ(C1446)=TRUE,\"Válido\",\"Inválido\")),\"\")","v":""},{"$f":"IF(E1446<>0,(IF(lfValidaCEP(E1446)=TRUE,\"Válido\",\"Inválido\")),\"\")","v":""}]
[null,null,null,null,null,null,null,null,null,null,"",{"$f":"IF(C1447<>0,(IF(lfValidaCNPJ(C1447)=TRUE,\"Válido\",\"Inválido\")),\"\")","v":""},{"$f":"IF(E1447<>0,(IF(lfValidaCEP(E1447)=TRUE,\"Válido\",\"Inválido\")),\"\")","v":""}]
[null,null,null,null,null,null,null,null,null,null,"",{"$f":"IF(C1448<>0,(IF(lfValidaCNPJ(C1448)=TRUE,\"Válido\",\"Inválido\")),\"\")","v":""},{"$f":"IF(E1448<>0,(IF(lfValidaCEP(E1448)=TRUE,\"Válido\",\"Inválido\")),\"\")","v":""}]
[null,null,null,null,null,null,null,null,null,null,"",{"$f":"IF(C1449<>0,(IF(lfValidaCNPJ(C1449)=TRUE,\"Válido\",\"Inválido\")),\"\")","v":""},{"$f":"IF(E1449<>0,(IF(lfValidaCEP(E1449)=TRUE,\"Válido\",\"Inválido\")),\"\")","v":""}]
[null,null,null,null,null,null,null,null,null,null,"",{"$f":"IF(C1450<>0,(IF(lfValidaCNPJ(C1450)=TRUE,\"Válido\",\"Inválido\")),\"\")","v":""},{"$f":"IF(E1450<>0,(IF(lfValidaCEP(E1450)=TRUE,\"Válido\",\"Inválido\")),\"\")","v":""}]
[null,null,null,null,null,null,null,null,null,null,"",{"$f":"IF(C1451<>0,(IF(lfValidaCNPJ(C1451)=TRUE,\"Válido\",\"Inválido\")),\"\")","v":""},{"$f":"IF(E1451<>0,(IF(lfValidaCEP(E1451)=TRUE,\"Válido\",\"Inválido\")),\"\")","v":""}]
[null,null,null,null,null,null,null,null,null,null,"",{"$f":"IF(C1452<>0,(IF(lfValidaCNPJ(C1452)=TRUE,\"Válido\",\"Inválido\")),\"\")","v":""},{"$f":"IF(E1452<>0,(IF(lfValidaCEP(E1452)=TRUE,\"Válido\",\"Inválido\")),\"\")","v":""}]
[null,null,null,null,null,null,null,null,null,null,"",{"$f":"IF(C1453<>0,(IF(lfValidaCNPJ(C1453)=TRUE,\"Válido\",\"Inválido\")),\"\")","v":""},{"$f":"IF(E1453<>0,(IF(lfValidaCEP(E1453)=TRUE,\"Válido\",\"Inválido\")),\"\")","v":""}]
[null,null,null,null,null,null,null,null,null,null,"",{"$f":"IF(C1454<>0,(IF(lfValidaCNPJ(C1454)=TRUE,\"Válido\",\"Inválido\")),\"\")","v":""},{"$f":"IF(E1454<>0,(IF(lfValidaCEP(E1454)=TRUE,\"Válido\",\"Inválido\")),\"\")","v":""}]
[null,null,null,null,null,null,null,null,null,null,"",{"$f":"IF(C1455<>0,(IF(lfValidaCNPJ(C1455)=TRUE,\"Válido\",\"Inválido\")),\"\")","v":""},{"$f":"IF(E1455<>0,(IF(lfValidaCEP(E1455)=TRUE,\"Válido\",\"Inválido\")),\"\")","v":""}]
[null,null,null,null,null,null,null,null,null,null,"",{"$f":"IF(C1456<>0,(IF(lfValidaCNPJ(C1456)=TRUE,\"Válido\",\"Inválido\")),\"\")","v":""},{"$f":"IF(E1456<>0,(IF(lfValidaCEP(E1456)=TRUE,\"Válido\",\"Inválido\")),\"\")","v":""}]
[null,null,null,null,null,null,null,null,null,null,"",{"$f":"IF(C1457<>0,(IF(lfValidaCNPJ(C1457)=TRUE,\"Válido\",\"Inválido\")),\"\")","v":""},{"$f":"IF(E1457<>0,(IF(lfValidaCEP(E1457)=TRUE,\"Válido\",\"Inválido\")),\"\")","v":""}]
[null,null,null,null,null,null,null,null,null,null,"",{"$f":"IF(C1458<>0,(IF(lfValidaCNPJ(C1458)=TRUE,\"Válido\",\"Inválido\")),\"\")","v":""},{"$f":"IF(E1458<>0,(IF(lfValidaCEP(E1458)=TRUE,\"Válido\",\"Inválido\")),\"\")","v":""}]
[null,null,null,null,null,null,null,null,null,null,"",{"$f":"IF(C1459<>0,(IF(lfValidaCNPJ(C1459)=TRUE,\"Válido\",\"Inválido\")),\"\")","v":""},{"$f":"IF(E1459<>0,(IF(lfValidaCEP(E1459)=TRUE,\"Válido\",\"Inválido\")),\"\")","v":""}]
[null,null,null,null,null,null,null,null,null,null,"",{"$f":"IF(C1460<>0,(IF(lfValidaCNPJ(C1460)=TRUE,\"Válido\",\"Inválido\")),\"\")","v":""},{"$f":"IF(E1460<>0,(IF(lfValidaCEP(E1460)=TRUE,\"Válido\",\"Inválido\")),\"\")","v":""}]
[null,null,null,null,null,null,null,null,null,null,"",{"$f":"IF(C1461<>0,(IF(lfValidaCNPJ(C1461)=TRUE,\"Válido\",\"Inválido\")),\"\")","v":""},{"$f":"IF(E1461<>0,(IF(lfValidaCEP(E1461)=TRUE,\"Válido\",\"Inválido\")),\"\")","v":""}]
[null,null,null,null,null,null,null,null,null,null,"",{"$f":"IF(C1462<>0,(IF(lfValidaCNPJ(C1462)=TRUE,\"Válido\",\"Inválido\")),\"\")","v":""},{"$f":"IF(E1462<>0,(IF(lfValidaCEP(E1462)=TRUE,\"Válido\",\"Inválido\")),\"\")","v":""}]
[null,null,null,null,null,null,null,null,null,null,"",{"$f":"IF(C1463<>0,(IF(lfValidaCNPJ(C1463)=TRUE,\"Válido\",\"Inválido\")),\"\")","v":""},{"$f":"IF(E1463<>0,(IF(lfValidaCEP(E1463)=TRUE,\"Válido\",\"Inválido\")),\"\")","v":""}]
[null,null,null,null,null,null,null,null,null,null,"",{"$f":"IF(C1464<>0,(IF(lfValidaCNPJ(C1464)=TRUE,\"Válido\",\"Inválido\")),\"\")","v":""},{"$f":"IF(E1464<>0,(IF(lfValidaCEP(E1464)=TRUE,\"Válido\",\"Inválido\")),\"\")","v":""}]
[null,null,null,null,null,null,null,null,null,null,"",{"$f":"IF(C1465<>0,(IF(lfValidaCNPJ(C1465)=TRUE,\"Válido\",\"Inválido\")),\"\")","v":""},{"$f":"IF(E1465<>0,(IF(lfValidaCEP(E1465)=TRUE,\"Válido\",\"Inválido\")),\"\")","v":""}]
[null,null,null,null,null,null,null,null,null,null,"",{"$f":"IF(C1466<>0,(IF(lfValidaCNPJ(C1466)=TRUE,\"Válido\",\"Inválido\")),\"\")","v":""},{"$f":"IF(E1466<>0,(IF(lfValidaCEP(E1466)=TRUE,\"Válido\",\"Inválido\")),\"\")","v":""}]
[null,null,null,null,null,null,null,null,null,null,"",{"$f":"IF(C1467<>0,(IF(lfValidaCNPJ(C1467)=TRUE,\"Válido\",\"Inválido\")),\"\")","v":""},{"$f":"IF(E1467<>0,(IF(lfValidaCEP(E1467)=TRUE,\"Válido\",\"Inválido\")),\"\")","v":""}]
[null,null,null,null,null,null,null,null,null,null,"",{"$f":"IF(C1468<>0,(IF(lfValidaCNPJ(C1468)=TRUE,\"Válido\",\"Inválido\")),\"\")","v":""},{"$f":"IF(E1468<>0,(IF(lfValidaCEP(E1468)=TRUE,\"Válido\",\"Inválido\")),\"\")","v":""}]
[null,null,null,null,null,null,null,null,null,null,"",{"$f":"IF(C1469<>0,(IF(lfValidaCNPJ(C1469)=TRUE,\"Válido\",\"Inválido\")),\"\")","v":""},{"$f":"IF(E1469<>0,(IF(lfValidaCEP(E1469)=TRUE,\"Válido\",\"Inválido\")),\"\")","v":""}]
[null,null,null,null,null,null,null,null,null,null,"",{"$f":"IF(C1470<>0,(IF(lfValidaCNPJ(C1470)=TRUE,\"Válido\",\"Inválido\")),\"\")","v":""},{"$f":"IF(E1470<>0,(IF(lfValidaCEP(E1470)=TRUE,\"Válido\",\"Inválido\")),\"\")","v":""}]
[null,null,null,null,null,null,null,null,null,null,"",{"$f":"IF(C1471<>0,(IF(lfValidaCNPJ(C1471)=TRUE,\"Válido\",\"Inválido\")),\"\")","v":""},{"$f":"IF(E1471<>0,(IF(lfValidaCEP(E1471)=TRUE,\"Válido\",\"Inválido\")),\"\")","v":""}]
[null,null,null,null,null,null,null,null,null,null,"",{"$f":"IF(C1472<>0,(IF(lfValidaCNPJ(C1472)=TRUE,\"Válido\",\"Inválido\")),\"\")","v":""},{"$f":"IF(E1472<>0,(IF(lfValidaCEP(E1472)=TRUE,\"Válido\",\"Inválido\")),\"\")","v":""}]
[null,null,null,null,null,null,null,null,null,null,"",{"$f":"IF(C1473<>0,(IF(lfValidaCNPJ(C1473)=TRUE,\"Válido\",\"Inválido\")),\"\")","v":""},{"$f":"IF(E1473<>0,(IF(lfValidaCEP(E1473)=TRUE,\"Válido\",\"Inválido\")),\"\")","v":""}]
[null,null,null,null,null,null,null,null,null,null,"",{"$f":"IF(C1474<>0,(IF(lfValidaCNPJ(C1474)=TRUE,\"Válido\",\"Inválido\")),\"\")","v":""},{"$f":"IF(E1474<>0,(IF(lfValidaCEP(E1474)=TRUE,\"Válido\",\"Inválido\")),\"\")","v":""}]
[null,null,null,null,null,null,null,null,null,null,"",{"$f":"IF(C1475<>0,(IF(lfValidaCNPJ(C1475)=TRUE,\"Válido\",\"Inválido\")),\"\")","v":""},{"$f":"IF(E1475<>0,(IF(lfValidaCEP(E1475)=TRUE,\"Válido\",\"Inválido\")),\"\")","v":""}]
[null,null,null,null,null,null,null,null,null,null,"",{"$f":"IF(C1476<>0,(IF(lfValidaCNPJ(C1476)=TRUE,\"Válido\",\"Inválido\")),\"\")","v":""},{"$f":"IF(E1476<>0,(IF(lfValidaCEP(E1476)=TRUE,\"Válido\",\"Inválido\")),\"\")","v":""}]
[null,null,null,null,null,null,null,null,null,null,"",{"$f":"IF(C1477<>0,(IF(lfValidaCNPJ(C1477)=TRUE,\"Válido\",\"Inválido\")),\"\")","v":""},{"$f":"IF(E1477<>0,(IF(lfValidaCEP(E1477)=TRUE,\"Válido\",\"Inválido\")),\"\")","v":""}]
[null,null,null,null,null,null,null,null,null,null,"",{"$f":"IF(C1478<>0,(IF(lfValidaCNPJ(C1478)=TRUE,\"Válido\",\"Inválido\")),\"\")","v":""},{"$f":"IF(E1478<>0,(IF(lfValidaCEP(E1478)=TRUE,\"Válido\",\"Inválido\")),\"\")","v":""}]
[null,null,null,null,null,null,null,null,null,null,"",{"$f":"IF(C1479<>0,(IF(lfValidaCNPJ(C1479)=TRUE,\"Válido\",\"Inválido\")),\"\")","v":""},{"$f":"IF(E1479<>0,(IF(lfValidaCEP(E1479)=TRUE,\"Válido\",\"Inválido\")),\"\")","v":""}]
[null,null,null,null,null,null,null,null,null,null,"",{"$f":"IF(C1480<>0,(IF(lfValidaCNPJ(C1480)=TRUE,\"Válido\",\"Inválido\")),\"\")","v":""},{"$f":"IF(E1480<>0,(IF(lfValidaCEP(E1480)=TRUE,\"Válido\",\"Inválido\")),\"\")","v":""}]
[null,null,null,null,null,null,null,null,null,null,"",{"$f":"IF(C1481<>0,(IF(lfValidaCNPJ(C1481)=TRUE,\"Válido\",\"Inválido\")),\"\")","v":""},{"$f":"IF(E1481<>0,(IF(lfValidaCEP(E1481)=TRUE,\"Válido\",\"Inválido\")),\"\")","v":""}]
[null,null,null,null,null,null,null,null,null,null,"",{"$f":"IF(C1482<>0,(IF(lfValidaCNPJ(C1482)=TRUE,\"Válido\",\"Inválido\")),\"\")","v":""},{"$f":"IF(E1482<>0,(IF(lfValidaCEP(E1482)=TRUE,\"Válido\",\"Inválido\")),\"\")","v":""}]
[null,null,null,null,null,null,null,null,null,null,"",{"$f":"IF(C1483<>0,(IF(lfValidaCNPJ(C1483)=TRUE,\"Válido\",\"Inválido\")),\"\")","v":""},{"$f":"IF(E1483<>0,(IF(lfValidaCEP(E1483)=TRUE,\"Válido\",\"Inválido\")),\"\")","v":""}]
[null,null,null,null,null,null,null,null,null,null,{"$f":"IF(COUNTA(B1484:I1484)<>0,IF(AND(B1484<>0,C1484<>0,D1484<>0,E1484<>0,F1484<>0,G1484<>0,H1484<>0,I1484<>0),\"Completo\",\"Incompleto\"),\"\")","v":""},{"$f":"IF(C1484<>0,(IF(lfValidaCNPJ(C1484)=TRUE,\"Válido\",\"Inválido\")),\"\")","v":""},{"$f":"IF(E1484<>0,(IF(lfValidaCEP(E1484)=TRUE,\"Válido\",\"Inválido\")),\"\")","v":""}]
[null,null,null,null,null,null,null,null,null,null,"",{"$f":"IF(C1485<>0,(IF(lfValidaCNPJ(C1485)=TRUE,\"Válido\",\"Inválido\")),\"\")","v":""},{"$f":"IF(E1485<>0,(IF(lfValidaCEP(E1485)=TRUE,\"Válido\",\"Inválido\")),\"\")","v":""}]
[null,null,null,null,null,null,null,null,null,null,"",{"$f":"IF(C1486<>0,(IF(lfValidaCNPJ(C1486)=TRUE,\"Válido\",\"Inválido\")),\"\")","v":""},{"$f":"IF(E1486<>0,(IF(lfValidaCEP(E1486)=TRUE,\"Válido\",\"Inválido\")),\"\")","v":""}]
[null,null,null,null,null,null,null,null,null,null,"",{"$f":"IF(C1487<>0,(IF(lfValidaCNPJ(C1487)=TRUE,\"Válido\",\"Inválido\")),\"\")","v":""},{"$f":"IF(E1487<>0,(IF(lfValidaCEP(E1487)=TRUE,\"Válido\",\"Inválido\")),\"\")","v":""}]
[null,null,null,null,null,null,null,null,null,null,"",{"$f":"IF(C1488<>0,(IF(lfValidaCNPJ(C1488)=TRUE,\"Válido\",\"Inválido\")),\"\")","v":""},{"$f":"IF(E1488<>0,(IF(lfValidaCEP(E1488)=TRUE,\"Válido\",\"Inválido\")),\"\")","v":""}]
[null,null,null,null,null,null,null,null,null,null,"",{"$f":"IF(C1489<>0,(IF(lfValidaCNPJ(C1489)=TRUE,\"Válido\",\"Inválido\")),\"\")","v":""},{"$f":"IF(E1489<>0,(IF(lfValidaCEP(E1489)=TRUE,\"Válido\",\"Inválido\")),\"\")","v":""}]
[null,null,null,null,null,null,null,null,null,null,"",{"$f":"IF(C1490<>0,(IF(lfValidaCNPJ(C1490)=TRUE,\"Válido\",\"Inválido\")),\"\")","v":""},{"$f":"IF(E1490<>0,(IF(lfValidaCEP(E1490)=TRUE,\"Válido\",\"Inválido\")),\"\")","v":""}]
[null,null,null,null,null,null,null,null,null,null,"",{"$f":"IF(C1491<>0,(IF(lfValidaCNPJ(C1491)=TRUE,\"Válido\",\"Inválido\")),\"\")","v":""},{"$f":"IF(E1491<>0,(IF(lfValidaCEP(E1491)=TRUE,\"Válido\",\"Inválido\")),\"\")","v":""}]
[null,null,null,null,null,null,null,null,null,null,"",{"$f":"IF(C1492<>0,(IF(lfValidaCNPJ(C1492)=TRUE,\"Válido\",\"Inválido\")),\"\")","v":""},{"$f":"IF(E1492<>0,(IF(lfValidaCEP(E1492)=TRUE,\"Válido\",\"Inválido\")),\"\")","v":""}]
[null,null,null,null,null,null,null,null,null,null,"",{"$f":"IF(C1493<>0,(IF(lfValidaCNPJ(C1493)=TRUE,\"Válido\",\"Inválido\")),\"\")","v":""},{"$f":"IF(E1493<>0,(IF(lfValidaCEP(E1493)=TRUE,\"Válido\",\"Inválido\")),\"\")","v":""}]
[null,null,null,null,null,null,null,null,null,null,"",{"$f":"IF(C1494<>0,(IF(lfValidaCNPJ(C1494)=TRUE,\"Válido\",\"Inválido\")),\"\")","v":""},{"$f":"IF(E1494<>0,(IF(lfValidaCEP(E1494)=TRUE,\"Válido\",\"Inválido\")),\"\")","v":""}]
[null,null,null,null,null,null,null,null,null,null,"",{"$f":"IF(C1495<>0,(IF(lfValidaCNPJ(C1495)=TRUE,\"Válido\",\"Inválido\")),\"\")","v":""},{"$f":"IF(E1495<>0,(IF(lfValidaCEP(E1495)=TRUE,\"Válido\",\"Inválido\")),\"\")","v":""}]
[null,null,null,null,null,null,null,null,null,null,"",{"$f":"IF(C1496<>0,(IF(lfValidaCNPJ(C1496)=TRUE,\"Válido\",\"Inválido\")),\"\")","v":""},{"$f":"IF(E1496<>0,(IF(lfValidaCEP(E1496)=TRUE,\"Válido\",\"Inválido\")),\"\")","v":""}]
[null,null,null,null,null,null,null,null,null,null,"",{"$f":"IF(C1497<>0,(IF(lfValidaCNPJ(C1497)=TRUE,\"Válido\",\"Inválido\")),\"\")","v":""},{"$f":"IF(E1497<>0,(IF(lfValidaCEP(E1497)=TRUE,\"Válido\",\"Inválido\")),\"\")","v":""}]
[null,null,null,null,null,null,null,null,null,null,"",{"$f":"IF(C1498<>0,(IF(lfValidaCNPJ(C1498)=TRUE,\"Válido\",\"Inválido\")),\"\")","v":""},{"$f":"IF(E1498<>0,(IF(lfValidaCEP(E1498)=TRUE,\"Válido\",\"Inválido\")),\"\")","v":""}]
[null,null,null,null,null,null,null,null,null,null,"",{"$f":"IF(C1499<>0,(IF(lfValidaCNPJ(C1499)=TRUE,\"Válido\",\"Inválido\")),\"\")","v":""},{"$f":"IF(E1499<>0,(IF(lfValidaCEP(E1499)=TRUE,\"Válido\",\"Inválido\")),\"\")","v":""}]
[null,null,null,null,null,null,null,null,null,null,"",{"$f":"IF(C1500<>0,(IF(lfValidaCNPJ(C1500)=TRUE,\"Válido\",\"Inválido\")),\"\")","v":""},{"$f":"IF(E1500<>0,(IF(lfValidaCEP(E1500)=TRUE,\"Válido\",\"Inválido\")),\"\")","v":""}]
[null,null,null,null,null,null,null,null,null,null,"",{"$f":"IF(C1501<>0,(IF(lfValidaCNPJ(C1501)=TRUE,\"Válido\",\"Inválido\")),\"\")","v":""},{"$f":"IF(E1501<>0,(IF(lfValidaCEP(E1501)=TRUE,\"Válido\",\"Inválido\")),\"\")","v":""}]
[null,null,null,null,null,null,null,null,null,null,"",{"$f":"IF(C1502<>0,(IF(lfValidaCNPJ(C1502)=TRUE,\"Válido\",\"Inválido\")),\"\")","v":""},{"$f":"IF(E1502<>0,(IF(lfValidaCEP(E1502)=TRUE,\"Válido\",\"Inválido\")),\"\")","v":""}]
[null,null,null,null,null,null,null,null,null,null,"",{"$f":"IF(C1503<>0,(IF(lfValidaCNPJ(C1503)=TRUE,\"Válido\",\"Inválido\")),\"\")","v":""},{"$f":"IF(E1503<>0,(IF(lfValidaCEP(E1503)=TRUE,\"Válido\",\"Inválido\")),\"\")","v":""}]
[null,null,null,null,null,null,null,null,null,null,"",{"$f":"IF(C1504<>0,(IF(lfValidaCNPJ(C1504)=TRUE,\"Válido\",\"Inválido\")),\"\")","v":""},{"$f":"IF(E1504<>0,(IF(lfValidaCEP(E1504)=TRUE,\"Válido\",\"Inválido\")),\"\")","v":""}]
[null,null,null,null,null,null,null,null,null,null,"",{"$f":"IF(C1505<>0,(IF(lfValidaCNPJ(C1505)=TRUE,\"Válido\",\"Inválido\")),\"\")","v":""},{"$f":"IF(E1505<>0,(IF(lfValidaCEP(E1505)=TRUE,\"Válido\",\"Inválido\")),\"\")","v":""}]
[null,null,null,null,null,null,null,null,null,null,"",{"$f":"IF(C1506<>0,(IF(lfValidaCNPJ(C1506)=TRUE,\"Válido\",\"Inválido\")),\"\")","v":""},{"$f":"IF(E1506<>0,(IF(lfValidaCEP(E1506)=TRUE,\"Válido\",\"Inválido\")),\"\")","v":""}]
[null,null,null,null,null,null,null,null,null,null,"",{"$f":"IF(C1507<>0,(IF(lfValidaCNPJ(C1507)=TRUE,\"Válido\",\"Inválido\")),\"\")","v":""},{"$f":"IF(E1507<>0,(IF(lfValidaCEP(E1507)=TRUE,\"Válido\",\"Inválido\")),\"\")","v":""}]
[null,null,null,null,null,null,null,null,null,null,"",{"$f":"IF(C1508<>0,(IF(lfValidaCNPJ(C1508)=TRUE,\"Válido\",\"Inválido\")),\"\")","v":""},{"$f":"IF(E1508<>0,(IF(lfValidaCEP(E1508)=TRUE,\"Válido\",\"Inválido\")),\"\")","v":""}]
[null,null,null,null,null,null,null,null,null,null,"",{"$f":"IF(C1509<>0,(IF(lfValidaCNPJ(C1509)=TRUE,\"Válido\",\"Inválido\")),\"\")","v":""},{"$f":"IF(E1509<>0,(IF(lfValidaCEP(E1509)=TRUE,\"Válido\",\"Inválido\")),\"\")","v":""}]
[null,null,null,null,null,null,null,null,null,null,"",{"$f":"IF(C1510<>0,(IF(lfValidaCNPJ(C1510)=TRUE,\"Válido\",\"Inválido\")),\"\")","v":""},{"$f":"IF(E1510<>0,(IF(lfValidaCEP(E1510)=TRUE,\"Válido\",\"Inválido\")),\"\")","v":""}]
[null,null,null,null,null,null,null,null,null,null,"",{"$f":"IF(C1511<>0,(IF(lfValidaCNPJ(C1511)=TRUE,\"Válido\",\"Inválido\")),\"\")","v":""},{"$f":"IF(E1511<>0,(IF(lfValidaCEP(E1511)=TRUE,\"Válido\",\"Inválido\")),\"\")","v":""}]
[null,null,null,null,null,null,null,null,null,null,"",{"$f":"IF(C1512<>0,(IF(lfValidaCNPJ(C1512)=TRUE,\"Válido\",\"Inválido\")),\"\")","v":""},{"$f":"IF(E1512<>0,(IF(lfValidaCEP(E1512)=TRUE,\"Válido\",\"Inválido\")),\"\")","v":""}]
[null,null,null,null,null,null,null,null,null,null,"",{"$f":"IF(C1513<>0,(IF(lfValidaCNPJ(C1513)=TRUE,\"Válido\",\"Inválido\")),\"\")","v":""},{"$f":"IF(E1513<>0,(IF(lfValidaCEP(E1513)=TRUE,\"Válido\",\"Inválido\")),\"\")","v":""}]
[null,null,null,null,null,null,null,null,null,null,"",{"$f":"IF(C1514<>0,(IF(lfValidaCNPJ(C1514)=TRUE,\"Válido\",\"Inválido\")),\"\")","v":""},{"$f":"IF(E1514<>0,(IF(lfValidaCEP(E1514)=TRUE,\"Válido\",\"Inválido\")),\"\")","v":""}]
[null,null,null,null,null,null,null,null,null,null,"",{"$f":"IF(C1515<>0,(IF(lfValidaCNPJ(C1515)=TRUE,\"Válido\",\"Inválido\")),\"\")","v":""},{"$f":"IF(E1515<>0,(IF(lfValidaCEP(E1515)=TRUE,\"Válido\",\"Inválido\")),\"\")","v":""}]
[null,null,null,null,null,null,null,null,null,null,"",{"$f":"IF(C1516<>0,(IF(lfValidaCNPJ(C1516)=TRUE,\"Válido\",\"Inválido\")),\"\")","v":""},{"$f":"IF(E1516<>0,(IF(lfValidaCEP(E1516)=TRUE,\"Válido\",\"Inválido\")),\"\")","v":""}]
[null,null,null,null,null,null,null,null,null,null,"",{"$f":"IF(C1517<>0,(IF(lfValidaCNPJ(C1517)=TRUE,\"Válido\",\"Inválido\")),\"\")","v":""},{"$f":"IF(E1517<>0,(IF(lfValidaCEP(E1517)=TRUE,\"Válido\",\"Inválido\")),\"\")","v":""}]
[null,null,null,null,null,null,null,null,null,null,"",{"$f":"IF(C1518<>0,(IF(lfValidaCNPJ(C1518)=TRUE,\"Válido\",\"Inválido\")),\"\")","v":""},{"$f":"IF(E1518<>0,(IF(lfValidaCEP(E1518)=TRUE,\"Válido\",\"Inválido\")),\"\")","v":""}]
[null,null,null,null,null,null,null,null,null,null,"",{"$f":"IF(C1519<>0,(IF(lfValidaCNPJ(C1519)=TRUE,\"Válido\",\"Inválido\")),\"\")","v":""},{"$f":"IF(E1519<>0,(IF(lfValidaCEP(E1519)=TRUE,\"Válido\",\"Inválido\")),\"\")","v":""}]
[null,null,null,null,null,null,null,null,null,null,"",{"$f":"IF(C1520<>0,(IF(lfValidaCNPJ(C1520)=TRUE,\"Válido\",\"Inválido\")),\"\")","v":""},{"$f":"IF(E1520<>0,(IF(lfValidaCEP(E1520)=TRUE,\"Válido\",\"Inválido\")),\"\")","v":""}]
[null,null,null,null,null,null,null,null,null,null,"",{"$f":"IF(C1521<>0,(IF(lfValidaCNPJ(C1521)=TRUE,\"Válido\",\"Inválido\")),\"\")","v":""},{"$f":"IF(E1521<>0,(IF(lfValidaCEP(E1521)=TRUE,\"Válido\",\"Inválido\")),\"\")","v":""}]
[null,null,null,null,null,null,null,null,null,null,"",{"$f":"IF(C1522<>0,(IF(lfValidaCNPJ(C1522)=TRUE,\"Válido\",\"Inválido\")),\"\")","v":""},{"$f":"IF(E1522<>0,(IF(lfValidaCEP(E1522)=TRUE,\"Válido\",\"Inválido\")),\"\")","v":""}]
[null,null,null,null,null,null,null,null,null,null,"",{"$f":"IF(C1523<>0,(IF(lfValidaCNPJ(C1523)=TRUE,\"Válido\",\"Inválido\")),\"\")","v":""},{"$f":"IF(E1523<>0,(IF(lfValidaCEP(E1523)=TRUE,\"Válido\",\"Inválido\")),\"\")","v":""}]
[null,null,null,null,null,null,null,null,null,null,"",{"$f":"IF(C1524<>0,(IF(lfValidaCNPJ(C1524)=TRUE,\"Válido\",\"Inválido\")),\"\")","v":""},{"$f":"IF(E1524<>0,(IF(lfValidaCEP(E1524)=TRUE,\"Válido\",\"Inválido\")),\"\")","v":""}]
[null,null,null,null,null,null,null,null,null,null,"",{"$f":"IF(C1525<>0,(IF(lfValidaCNPJ(C1525)=TRUE,\"Válido\",\"Inválido\")),\"\")","v":""},{"$f":"IF(E1525<>0,(IF(lfValidaCEP(E1525)=TRUE,\"Válido\",\"Inválido\")),\"\")","v":""}]
[null,null,null,null,null,null,null,null,null,null,"",{"$f":"IF(C1526<>0,(IF(lfValidaCNPJ(C1526)=TRUE,\"Válido\",\"Inválido\")),\"\")","v":""},{"$f":"IF(E1526<>0,(IF(lfValidaCEP(E1526)=TRUE,\"Válido\",\"Inválido\")),\"\")","v":""}]
[null,null,null,null,null,null,null,null,null,null,"",{"$f":"IF(C1527<>0,(IF(lfValidaCNPJ(C1527)=TRUE,\"Válido\",\"Inválido\")),\"\")","v":""},{"$f":"IF(E1527<>0,(IF(lfValidaCEP(E1527)=TRUE,\"Válido\",\"Inválido\")),\"\")","v":""}]
[null,null,null,null,null,null,null,null,null,null,"",{"$f":"IF(C1528<>0,(IF(lfValidaCNPJ(C1528)=TRUE,\"Válido\",\"Inválido\")),\"\")","v":""},{"$f":"IF(E1528<>0,(IF(lfValidaCEP(E1528)=TRUE,\"Válido\",\"Inválido\")),\"\")","v":""}]
[null,null,null,null,null,null,null,null,null,null,"",{"$f":"IF(C1529<>0,(IF(lfValidaCNPJ(C1529)=TRUE,\"Válido\",\"Inválido\")),\"\")","v":""},{"$f":"IF(E1529<>0,(IF(lfValidaCEP(E1529)=TRUE,\"Válido\",\"Inválido\")),\"\")","v":""}]
[null,null,null,null,null,null,null,null,null,null,"",{"$f":"IF(C1530<>0,(IF(lfValidaCNPJ(C1530)=TRUE,\"Válido\",\"Inválido\")),\"\")","v":""},{"$f":"IF(E1530<>0,(IF(lfValidaCEP(E1530)=TRUE,\"Válido\",\"Inválido\")),\"\")","v":""}]
[null,null,null,null,null,null,null,null,null,null,"",{"$f":"IF(C1531<>0,(IF(lfValidaCNPJ(C1531)=TRUE,\"Válido\",\"Inválido\")),\"\")","v":""},{"$f":"IF(E1531<>0,(IF(lfValidaCEP(E1531)=TRUE,\"Válido\",\"Inválido\")),\"\")","v":""}]
[null,null,null,null,null,null,null,null,null,null,"",{"$f":"IF(C1532<>0,(IF(lfValidaCNPJ(C1532)=TRUE,\"Válido\",\"Inválido\")),\"\")","v":""},{"$f":"IF(E1532<>0,(IF(lfValidaCEP(E1532)=TRUE,\"Válido\",\"Inválido\")),\"\")","v":""}]
[null,null,null,null,null,null,null,null,null,null,"",{"$f":"IF(C1533<>0,(IF(lfValidaCNPJ(C1533)=TRUE,\"Válido\",\"Inválido\")),\"\")","v":""},{"$f":"IF(E1533<>0,(IF(lfValidaCEP(E1533)=TRUE,\"Válido\",\"Inválido\")),\"\")","v":""}]
[null,null,null,null,null,null,null,null,null,null,"",{"$f":"IF(C1534<>0,(IF(lfValidaCNPJ(C1534)=TRUE,\"Válido\",\"Inválido\")),\"\")","v":""},{"$f":"IF(E1534<>0,(IF(lfValidaCEP(E1534)=TRUE,\"Válido\",\"Inválido\")),\"\")","v":""}]
[null,null,null,null,null,null,null,null,null,null,"",{"$f":"IF(C1535<>0,(IF(lfValidaCNPJ(C1535)=TRUE,\"Válido\",\"Inválido\")),\"\")","v":""},{"$f":"IF(E1535<>0,(IF(lfValidaCEP(E1535)=TRUE,\"Válido\",\"Inválido\")),\"\")","v":""}]
[null,null,null,null,null,null,null,null,null,null,"",{"$f":"IF(C1536<>0,(IF(lfValidaCNPJ(C1536)=TRUE,\"Válido\",\"Inválido\")),\"\")","v":""},{"$f":"IF(E1536<>0,(IF(lfValidaCEP(E1536)=TRUE,\"Válido\",\"Inválido\")),\"\")","v":""}]
[null,null,null,null,null,null,null,null,null,null,"",{"$f":"IF(C1537<>0,(IF(lfValidaCNPJ(C1537)=TRUE,\"Válido\",\"Inválido\")),\"\")","v":""},{"$f":"IF(E1537<>0,(IF(lfValidaCEP(E1537)=TRUE,\"Válido\",\"Inválido\")),\"\")","v":""}]
[null,null,null,null,null,null,null,null,null,null,"",{"$f":"IF(C1538<>0,(IF(lfValidaCNPJ(C1538)=TRUE,\"Válido\",\"Inválido\")),\"\")","v":""},{"$f":"IF(E1538<>0,(IF(lfValidaCEP(E1538)=TRUE,\"Válido\",\"Inválido\")),\"\")","v":""}]
[null,null,null,null,null,null,null,null,null,null,"",{"$f":"IF(C1539<>0,(IF(lfValidaCNPJ(C1539)=TRUE,\"Válido\",\"Inválido\")),\"\")","v":""},{"$f":"IF(E1539<>0,(IF(lfValidaCEP(E1539)=TRUE,\"Válido\",\"Inválido\")),\"\")","v":""}]
[null,null,null,null,null,null,null,null,null,null,"",{"$f":"IF(C1540<>0,(IF(lfValidaCNPJ(C1540)=TRUE,\"Válido\",\"Inválido\")),\"\")","v":""},{"$f":"IF(E1540<>0,(IF(lfValidaCEP(E1540)=TRUE,\"Válido\",\"Inválido\")),\"\")","v":""}]
[null,null,null,null,null,null,null,null,null,null,"",{"$f":"IF(C1541<>0,(IF(lfValidaCNPJ(C1541)=TRUE,\"Válido\",\"Inválido\")),\"\")","v":""},{"$f":"IF(E1541<>0,(IF(lfValidaCEP(E1541)=TRUE,\"Válido\",\"Inválido\")),\"\")","v":""}]
[null,null,null,null,null,null,null,null,null,null,"",{"$f":"IF(C1542<>0,(IF(lfValidaCNPJ(C1542)=TRUE,\"Válido\",\"Inválido\")),\"\")","v":""},{"$f":"IF(E1542<>0,(IF(lfValidaCEP(E1542)=TRUE,\"Válido\",\"Inválido\")),\"\")","v":""}]
[null,null,null,null,null,null,null,null,null,null,"",{"$f":"IF(C1543<>0,(IF(lfValidaCNPJ(C1543)=TRUE,\"Válido\",\"Inválido\")),\"\")","v":""},{"$f":"IF(E1543<>0,(IF(lfValidaCEP(E1543)=TRUE,\"Válido\",\"Inválido\")),\"\")","v":""}]
[null,null,null,null,null,null,null,null,null,null,"",{"$f":"IF(C1544<>0,(IF(lfValidaCNPJ(C1544)=TRUE,\"Válido\",\"Inválido\")),\"\")","v":""},{"$f":"IF(E1544<>0,(IF(lfValidaCEP(E1544)=TRUE,\"Válido\",\"Inválido\")),\"\")","v":""}]
[null,null,null,null,null,null,null,null,null,null,"",{"$f":"IF(C1545<>0,(IF(lfValidaCNPJ(C1545)=TRUE,\"Válido\",\"Inválido\")),\"\")","v":""},{"$f":"IF(E1545<>0,(IF(lfValidaCEP(E1545)=TRUE,\"Válido\",\"Inválido\")),\"\")","v":""}]
[null,null,null,null,null,null,null,null,null,null,"",{"$f":"IF(C1546<>0,(IF(lfValidaCNPJ(C1546)=TRUE,\"Válido\",\"Inválido\")),\"\")","v":""},{"$f":"IF(E1546<>0,(IF(lfValidaCEP(E1546)=TRUE,\"Válido\",\"Inválido\")),\"\")","v":""}]
[null,null,null,null,null,null,null,null,null,null,"",{"$f":"IF(C1547<>0,(IF(lfValidaCNPJ(C1547)=TRUE,\"Válido\",\"Inválido\")),\"\")","v":""},{"$f":"IF(E1547<>0,(IF(lfValidaCEP(E1547)=TRUE,\"Válido\",\"Inválido\")),\"\")","v":""}]
[null,null,null,null,null,null,null,null,null,null,{"$f":"IF(COUNTA(B1548:I1548)<>0,IF(AND(B1548<>0,C1548<>0,D1548<>0,E1548<>0,F1548<>0,G1548<>0,H1548<>0,I1548<>0),\"Completo\",\"Incompleto\"),\"\")","v":""},{"$f":"IF(C1548<>0,(IF(lfValidaCNPJ(C1548)=TRUE,\"Válido\",\"Inválido\")),\"\")","v":""},{"$f":"IF(E1548<>0,(IF(lfValidaCEP(E1548)=TRUE,\"Válido\",\"Inválido\")),\"\")","v":""}]
[null,null,null,null,null,null,null,null,null,null,"",{"$f":"IF(C1549<>0,(IF(lfValidaCNPJ(C1549)=TRUE,\"Válido\",\"Inválido\")),\"\")","v":""},{"$f":"IF(E1549<>0,(IF(lfValidaCEP(E1549)=TRUE,\"Válido\",\"Inválido\")),\"\")","v":""}]
[null,null,null,null,null,null,null,null,null,null,"",{"$f":"IF(C1550<>0,(IF(lfValidaCNPJ(C1550)=TRUE,\"Válido\",\"Inválido\")),\"\")","v":""},{"$f":"IF(E1550<>0,(IF(lfValidaCEP(E1550)=TRUE,\"Válido\",\"Inválido\")),\"\")","v":""}]
[null,null,null,null,null,null,null,null,null,null,"",{"$f":"IF(C1551<>0,(IF(lfValidaCNPJ(C1551)=TRUE,\"Válido\",\"Inválido\")),\"\")","v":""},{"$f":"IF(E1551<>0,(IF(lfValidaCEP(E1551)=TRUE,\"Válido\",\"Inválido\")),\"\")","v":""}]
[null,null,null,null,null,null,null,null,null,null,"",{"$f":"IF(C1552<>0,(IF(lfValidaCNPJ(C1552)=TRUE,\"Válido\",\"Inválido\")),\"\")","v":""},{"$f":"IF(E1552<>0,(IF(lfValidaCEP(E1552)=TRUE,\"Válido\",\"Inválido\")),\"\")","v":""}]
[null,null,null,null,null,null,null,null,null,null,"",{"$f":"IF(C1553<>0,(IF(lfValidaCNPJ(C1553)=TRUE,\"Válido\",\"Inválido\")),\"\")","v":""},{"$f":"IF(E1553<>0,(IF(lfValidaCEP(E1553)=TRUE,\"Válido\",\"Inválido\")),\"\")","v":""}]
[null,null,null,null,null,null,null,null,null,null,"",{"$f":"IF(C1554<>0,(IF(lfValidaCNPJ(C1554)=TRUE,\"Válido\",\"Inválido\")),\"\")","v":""},{"$f":"IF(E1554<>0,(IF(lfValidaCEP(E1554)=TRUE,\"Válido\",\"Inválido\")),\"\")","v":""}]
[null,null,null,null,null,null,null,null,null,null,"",{"$f":"IF(C1555<>0,(IF(lfValidaCNPJ(C1555)=TRUE,\"Válido\",\"Inválido\")),\"\")","v":""},{"$f":"IF(E1555<>0,(IF(lfValidaCEP(E1555)=TRUE,\"Válido\",\"Inválido\")),\"\")","v":""}]
[null,null,null,null,null,null,null,null,null,null,"",{"$f":"IF(C1556<>0,(IF(lfValidaCNPJ(C1556)=TRUE,\"Válido\",\"Inválido\")),\"\")","v":""},{"$f":"IF(E1556<>0,(IF(lfValidaCEP(E1556)=TRUE,\"Válido\",\"Inválido\")),\"\")","v":""}]
[null,null,null,null,null,null,null,null,null,null,"",{"$f":"IF(C1557<>0,(IF(lfValidaCNPJ(C1557)=TRUE,\"Válido\",\"Inválido\")),\"\")","v":""},{"$f":"IF(E1557<>0,(IF(lfValidaCEP(E1557)=TRUE,\"Válido\",\"Inválido\")),\"\")","v":""}]
[null,null,null,null,null,null,null,null,null,null,"",{"$f":"IF(C1558<>0,(IF(lfValidaCNPJ(C1558)=TRUE,\"Válido\",\"Inválido\")),\"\")","v":""},{"$f":"IF(E1558<>0,(IF(lfValidaCEP(E1558)=TRUE,\"Válido\",\"Inválido\")),\"\")","v":""}]
[null,null,null,null,null,null,null,null,null,null,"",{"$f":"IF(C1559<>0,(IF(lfValidaCNPJ(C1559)=TRUE,\"Válido\",\"Inválido\")),\"\")","v":""},{"$f":"IF(E1559<>0,(IF(lfValidaCEP(E1559)=TRUE,\"Válido\",\"Inválido\")),\"\")","v":""}]
[null,null,null,null,null,null,null,null,null,null,"",{"$f":"IF(C1560<>0,(IF(lfValidaCNPJ(C1560)=TRUE,\"Válido\",\"Inválido\")),\"\")","v":""},{"$f":"IF(E1560<>0,(IF(lfValidaCEP(E1560)=TRUE,\"Válido\",\"Inválido\")),\"\")","v":""}]
[null,null,null,null,null,null,null,null,null,null,"",{"$f":"IF(C1561<>0,(IF(lfValidaCNPJ(C1561)=TRUE,\"Válido\",\"Inválido\")),\"\")","v":""},{"$f":"IF(E1561<>0,(IF(lfValidaCEP(E1561)=TRUE,\"Válido\",\"Inválido\")),\"\")","v":""}]
[null,null,null,null,null,null,null,null,null,null,"",{"$f":"IF(C1562<>0,(IF(lfValidaCNPJ(C1562)=TRUE,\"Válido\",\"Inválido\")),\"\")","v":""},{"$f":"IF(E1562<>0,(IF(lfValidaCEP(E1562)=TRUE,\"Válido\",\"Inválido\")),\"\")","v":""}]
[null,null,null,null,null,null,null,null,null,null,"",{"$f":"IF(C1563<>0,(IF(lfValidaCNPJ(C1563)=TRUE,\"Válido\",\"Inválido\")),\"\")","v":""},{"$f":"IF(E1563<>0,(IF(lfValidaCEP(E1563)=TRUE,\"Válido\",\"Inválido\")),\"\")","v":""}]
[null,null,null,null,null,null,null,null,null,null,"",{"$f":"IF(C1564<>0,(IF(lfValidaCNPJ(C1564)=TRUE,\"Válido\",\"Inválido\")),\"\")","v":""},{"$f":"IF(E1564<>0,(IF(lfValidaCEP(E1564)=TRUE,\"Válido\",\"Inválido\")),\"\")","v":""}]
[null,null,null,null,null,null,null,null,null,null,"",{"$f":"IF(C1565<>0,(IF(lfValidaCNPJ(C1565)=TRUE,\"Válido\",\"Inválido\")),\"\")","v":""},{"$f":"IF(E1565<>0,(IF(lfValidaCEP(E1565)=TRUE,\"Válido\",\"Inválido\")),\"\")","v":""}]
[null,null,null,null,null,null,null,null,null,null,"",{"$f":"IF(C1566<>0,(IF(lfValidaCNPJ(C1566)=TRUE,\"Válido\",\"Inválido\")),\"\")","v":""},{"$f":"IF(E1566<>0,(IF(lfValidaCEP(E1566)=TRUE,\"Válido\",\"Inválido\")),\"\")","v":""}]
[null,null,null,null,null,null,null,null,null,null,"",{"$f":"IF(C1567<>0,(IF(lfValidaCNPJ(C1567)=TRUE,\"Válido\",\"Inválido\")),\"\")","v":""},{"$f":"IF(E1567<>0,(IF(lfValidaCEP(E1567)=TRUE,\"Válido\",\"Inválido\")),\"\")","v":""}]
[null,null,null,null,null,null,null,null,null,null,"",{"$f":"IF(C1568<>0,(IF(lfValidaCNPJ(C1568)=TRUE,\"Válido\",\"Inválido\")),\"\")","v":""},{"$f":"IF(E1568<>0,(IF(lfValidaCEP(E1568)=TRUE,\"Válido\",\"Inválido\")),\"\")","v":""}]
[null,null,null,null,null,null,null,null,null,null,"",{"$f":"IF(C1569<>0,(IF(lfValidaCNPJ(C1569)=TRUE,\"Válido\",\"Inválido\")),\"\")","v":""},{"$f":"IF(E1569<>0,(IF(lfValidaCEP(E1569)=TRUE,\"Válido\",\"Inválido\")),\"\")","v":""}]
[null,null,null,null,null,null,null,null,null,null,"",{"$f":"IF(C1570<>0,(IF(lfValidaCNPJ(C1570)=TRUE,\"Válido\",\"Inválido\")),\"\")","v":""},{"$f":"IF(E1570<>0,(IF(lfValidaCEP(E1570)=TRUE,\"Válido\",\"Inválido\")),\"\")","v":""}]
[null,null,null,null,null,null,null,null,null,null,"",{"$f":"IF(C1571<>0,(IF(lfValidaCNPJ(C1571)=TRUE,\"Válido\",\"Inválido\")),\"\")","v":""},{"$f":"IF(E1571<>0,(IF(lfValidaCEP(E1571)=TRUE,\"Válido\",\"Inválido\")),\"\")","v":""}]
[null,null,null,null,null,null,null,null,null,null,"",{"$f":"IF(C1572<>0,(IF(lfValidaCNPJ(C1572)=TRUE,\"Válido\",\"Inválido\")),\"\")","v":""},{"$f":"IF(E1572<>0,(IF(lfValidaCEP(E1572)=TRUE,\"Válido\",\"Inválido\")),\"\")","v":""}]
[null,null,null,null,null,null,null,null,null,null,"",{"$f":"IF(C1573<>0,(IF(lfValidaCNPJ(C1573)=TRUE,\"Válido\",\"Inválido\")),\"\")","v":""},{"$f":"IF(E1573<>0,(IF(lfValidaCEP(E1573)=TRUE,\"Válido\",\"Inválido\")),\"\")","v":""}]
[null,null,null,null,null,null,null,null,null,null,"",{"$f":"IF(C1574<>0,(IF(lfValidaCNPJ(C1574)=TRUE,\"Válido\",\"Inválido\")),\"\")","v":""},{"$f":"IF(E1574<>0,(IF(lfValidaCEP(E1574)=TRUE,\"Válido\",\"Inválido\")),\"\")","v":""}]
[null,null,null,null,null,null,null,null,null,null,"",{"$f":"IF(C1575<>0,(IF(lfValidaCNPJ(C1575)=TRUE,\"Válido\",\"Inválido\")),\"\")","v":""},{"$f":"IF(E1575<>0,(IF(lfValidaCEP(E1575)=TRUE,\"Válido\",\"Inválido\")),\"\")","v":""}]
[null,null,null,null,null,null,null,null,null,null,"",{"$f":"IF(C1576<>0,(IF(lfValidaCNPJ(C1576)=TRUE,\"Válido\",\"Inválido\")),\"\")","v":""},{"$f":"IF(E1576<>0,(IF(lfValidaCEP(E1576)=TRUE,\"Válido\",\"Inválido\")),\"\")","v":""}]
[null,null,null,null,null,null,null,null,null,null,"",{"$f":"IF(C1577<>0,(IF(lfValidaCNPJ(C1577)=TRUE,\"Válido\",\"Inválido\")),\"\")","v":""},{"$f":"IF(E1577<>0,(IF(lfValidaCEP(E1577)=TRUE,\"Válido\",\"Inválido\")),\"\")","v":""}]
[null,null,null,null,null,null,null,null,null,null,"",{"$f":"IF(C1578<>0,(IF(lfValidaCNPJ(C1578)=TRUE,\"Válido\",\"Inválido\")),\"\")","v":""},{"$f":"IF(E1578<>0,(IF(lfValidaCEP(E1578)=TRUE,\"Válido\",\"Inválido\")),\"\")","v":""}]
[null,null,null,null,null,null,null,null,null,null,"",{"$f":"IF(C1579<>0,(IF(lfValidaCNPJ(C1579)=TRUE,\"Válido\",\"Inválido\")),\"\")","v":""},{"$f":"IF(E1579<>0,(IF(lfValidaCEP(E1579)=TRUE,\"Válido\",\"Inválido\")),\"\")","v":""}]
[null,null,null,null,null,null,null,null,null,null,"",{"$f":"IF(C1580<>0,(IF(lfValidaCNPJ(C1580)=TRUE,\"Válido\",\"Inválido\")),\"\")","v":""},{"$f":"IF(E1580<>0,(IF(lfValidaCEP(E1580)=TRUE,\"Válido\",\"Inválido\")),\"\")","v":""}]
[null,null,null,null,null,null,null,null,null,null,"",{"$f":"IF(C1581<>0,(IF(lfValidaCNPJ(C1581)=TRUE,\"Válido\",\"Inválido\")),\"\")","v":""},{"$f":"IF(E1581<>0,(IF(lfValidaCEP(E1581)=TRUE,\"Válido\",\"Inválido\")),\"\")","v":""}]
[null,null,null,null,null,null,null,null,null,null,"",{"$f":"IF(C1582<>0,(IF(lfValidaCNPJ(C1582)=TRUE,\"Válido\",\"Inválido\")),\"\")","v":""},{"$f":"IF(E1582<>0,(IF(lfValidaCEP(E1582)=TRUE,\"Válido\",\"Inválido\")),\"\")","v":""}]
[null,null,null,null,null,null,null,null,null,null,"",{"$f":"IF(C1583<>0,(IF(lfValidaCNPJ(C1583)=TRUE,\"Válido\",\"Inválido\")),\"\")","v":""},{"$f":"IF(E1583<>0,(IF(lfValidaCEP(E1583)=TRUE,\"Válido\",\"Inválido\")),\"\")","v":""}]
[null,null,null,null,null,null,null,null,null,null,"",{"$f":"IF(C1584<>0,(IF(lfValidaCNPJ(C1584)=TRUE,\"Válido\",\"Inválido\")),\"\")","v":""},{"$f":"IF(E1584<>0,(IF(lfValidaCEP(E1584)=TRUE,\"Válido\",\"Inválido\")),\"\")","v":""}]
[null,null,null,null,null,null,null,null,null,null,"",{"$f":"IF(C1585<>0,(IF(lfValidaCNPJ(C1585)=TRUE,\"Válido\",\"Inválido\")),\"\")","v":""},{"$f":"IF(E1585<>0,(IF(lfValidaCEP(E1585)=TRUE,\"Válido\",\"Inválido\")),\"\")","v":""}]
[null,null,null,null,null,null,null,null,null,null,"",{"$f":"IF(C1586<>0,(IF(lfValidaCNPJ(C1586)=TRUE,\"Válido\",\"Inválido\")),\"\")","v":""},{"$f":"IF(E1586<>0,(IF(lfValidaCEP(E1586)=TRUE,\"Válido\",\"Inválido\")),\"\")","v":""}]
[null,null,null,null,null,null,null,null,null,null,"",{"$f":"IF(C1587<>0,(IF(lfValidaCNPJ(C1587)=TRUE,\"Válido\",\"Inválido\")),\"\")","v":""},{"$f":"IF(E1587<>0,(IF(lfValidaCEP(E1587)=TRUE,\"Válido\",\"Inválido\")),\"\")","v":""}]
[null,null,null,null,null,null,null,null,null,null,"",{"$f":"IF(C1588<>0,(IF(lfValidaCNPJ(C1588)=TRUE,\"Válido\",\"Inválido\")),\"\")","v":""},{"$f":"IF(E1588<>0,(IF(lfValidaCEP(E1588)=TRUE,\"Válido\",\"Inválido\")),\"\")","v":""}]
[null,null,null,null,null,null,null,null,null,null,"",{"$f":"IF(C1589<>0,(IF(lfValidaCNPJ(C1589)=TRUE,\"Válido\",\"Inválido\")),\"\")","v":""},{"$f":"IF(E1589<>0,(IF(lfValidaCEP(E1589)=TRUE,\"Válido\",\"Inválido\")),\"\")","v":""}]
[null,null,null,null,null,null,null,null,null,null,"",{"$f":"IF(C1590<>0,(IF(lfValidaCNPJ(C1590)=TRUE,\"Válido\",\"Inválido\")),\"\")","v":""},{"$f":"IF(E1590<>0,(IF(lfValidaCEP(E1590)=TRUE,\"Válido\",\"Inválido\")),\"\")","v":""}]
[null,null,null,null,null,null,null,null,null,null,"",{"$f":"IF(C1591<>0,(IF(lfValidaCNPJ(C1591)=TRUE,\"Válido\",\"Inválido\")),\"\")","v":""},{"$f":"IF(E1591<>0,(IF(lfValidaCEP(E1591)=TRUE,\"Válido\",\"Inválido\")),\"\")","v":""}]
[null,null,null,null,null,null,null,null,null,null,"",{"$f":"IF(C1592<>0,(IF(lfValidaCNPJ(C1592)=TRUE,\"Válido\",\"Inválido\")),\"\")","v":""},{"$f":"IF(E1592<>0,(IF(lfValidaCEP(E1592)=TRUE,\"Válido\",\"Inválido\")),\"\")","v":""}]
[null,null,null,null,null,null,null,null,null,null,"",{"$f":"IF(C1593<>0,(IF(lfValidaCNPJ(C1593)=TRUE,\"Válido\",\"Inválido\")),\"\")","v":""},{"$f":"IF(E1593<>0,(IF(lfValidaCEP(E1593)=TRUE,\"Válido\",\"Inválido\")),\"\")","v":""}]
[null,null,null,null,null,null,null,null,null,null,"",{"$f":"IF(C1594<>0,(IF(lfValidaCNPJ(C1594)=TRUE,\"Válido\",\"Inválido\")),\"\")","v":""},{"$f":"IF(E1594<>0,(IF(lfValidaCEP(E1594)=TRUE,\"Válido\",\"Inválido\")),\"\")","v":""}]
[null,null,null,null,null,null,null,null,null,null,"",{"$f":"IF(C1595<>0,(IF(lfValidaCNPJ(C1595)=TRUE,\"Válido\",\"Inválido\")),\"\")","v":""},{"$f":"IF(E1595<>0,(IF(lfValidaCEP(E1595)=TRUE,\"Válido\",\"Inválido\")),\"\")","v":""}]
[null,null,null,null,null,null,null,null,null,null,"",{"$f":"IF(C1596<>0,(IF(lfValidaCNPJ(C1596)=TRUE,\"Válido\",\"Inválido\")),\"\")","v":""},{"$f":"IF(E1596<>0,(IF(lfValidaCEP(E1596)=TRUE,\"Válido\",\"Inválido\")),\"\")","v":""}]
[null,null,null,null,null,null,null,null,null,null,"",{"$f":"IF(C1597<>0,(IF(lfValidaCNPJ(C1597)=TRUE,\"Válido\",\"Inválido\")),\"\")","v":""},{"$f":"IF(E1597<>0,(IF(lfValidaCEP(E1597)=TRUE,\"Válido\",\"Inválido\")),\"\")","v":""}]
[null,null,null,null,null,null,null,null,null,null,"",{"$f":"IF(C1598<>0,(IF(lfValidaCNPJ(C1598)=TRUE,\"Válido\",\"Inválido\")),\"\")","v":""},{"$f":"IF(E1598<>0,(IF(lfValidaCEP(E1598)=TRUE,\"Válido\",\"Inválido\")),\"\")","v":""}]
[null,null,null,null,null,null,null,null,null,null,"",{"$f":"IF(C1599<>0,(IF(lfValidaCNPJ(C1599)=TRUE,\"Válido\",\"Inválido\")),\"\")","v":""},{"$f":"IF(E1599<>0,(IF(lfValidaCEP(E1599)=TRUE,\"Válido\",\"Inválido\")),\"\")","v":""}]
[null,null,null,null,null,null,null,null,null,null,"",{"$f":"IF(C1600<>0,(IF(lfValidaCNPJ(C1600)=TRUE,\"Válido\",\"Inválido\")),\"\")","v":""},{"$f":"IF(E1600<>0,(IF(lfValidaCEP(E1600)=TRUE,\"Válido\",\"Inválido\")),\"\")","v":""}]
[null,null,null,null,null,null,null,null,null,null,"",{"$f":"IF(C1601<>0,(IF(lfValidaCNPJ(C1601)=TRUE,\"Válido\",\"Inválido\")),\"\")","v":""},{"$f":"IF(E1601<>0,(IF(lfValidaCEP(E1601)=TRUE,\"Válido\",\"Inválido\")),\"\")","v":""}]
[null,null,null,null,null,null,null,null,null,null,"",{"$f":"IF(C1602<>0,(IF(lfValidaCNPJ(C1602)=TRUE,\"Válido\",\"Inválido\")),\"\")","v":""},{"$f":"IF(E1602<>0,(IF(lfValidaCEP(E1602)=TRUE,\"Válido\",\"Inválido\")),\"\")","v":""}]
[null,null,null,null,null,null,null,null,null,null,"",{"$f":"IF(C1603<>0,(IF(lfValidaCNPJ(C1603)=TRUE,\"Válido\",\"Inválido\")),\"\")","v":""},{"$f":"IF(E1603<>0,(IF(lfValidaCEP(E1603)=TRUE,\"Válido\",\"Inválido\")),\"\")","v":""}]
[null,null,null,null,null,null,null,null,null,null,"",{"$f":"IF(C1604<>0,(IF(lfValidaCNPJ(C1604)=TRUE,\"Válido\",\"Inválido\")),\"\")","v":""},{"$f":"IF(E1604<>0,(IF(lfValidaCEP(E1604)=TRUE,\"Válido\",\"Inválido\")),\"\")","v":""}]
[null,null,null,null,null,null,null,null,null,null,"",{"$f":"IF(C1605<>0,(IF(lfValidaCNPJ(C1605)=TRUE,\"Válido\",\"Inválido\")),\"\")","v":""},{"$f":"IF(E1605<>0,(IF(lfValidaCEP(E1605)=TRUE,\"Válido\",\"Inválido\")),\"\")","v":""}]
[null,null,null,null,null,null,null,null,null,null,"",{"$f":"IF(C1606<>0,(IF(lfValidaCNPJ(C1606)=TRUE,\"Válido\",\"Inválido\")),\"\")","v":""},{"$f":"IF(E1606<>0,(IF(lfValidaCEP(E1606)=TRUE,\"Válido\",\"Inválido\")),\"\")","v":""}]
[null,null,null,null,null,null,null,null,null,null,"",{"$f":"IF(C1607<>0,(IF(lfValidaCNPJ(C1607)=TRUE,\"Válido\",\"Inválido\")),\"\")","v":""},{"$f":"IF(E1607<>0,(IF(lfValidaCEP(E1607)=TRUE,\"Válido\",\"Inválido\")),\"\")","v":""}]
[null,null,null,null,null,null,null,null,null,null,"",{"$f":"IF(C1608<>0,(IF(lfValidaCNPJ(C1608)=TRUE,\"Válido\",\"Inválido\")),\"\")","v":""},{"$f":"IF(E1608<>0,(IF(lfValidaCEP(E1608)=TRUE,\"Válido\",\"Inválido\")),\"\")","v":""}]
[null,null,null,null,null,null,null,null,null,null,"",{"$f":"IF(C1609<>0,(IF(lfValidaCNPJ(C1609)=TRUE,\"Válido\",\"Inválido\")),\"\")","v":""},{"$f":"IF(E1609<>0,(IF(lfValidaCEP(E1609)=TRUE,\"Válido\",\"Inválido\")),\"\")","v":""}]
[null,null,null,null,null,null,null,null,null,null,"",{"$f":"IF(C1610<>0,(IF(lfValidaCNPJ(C1610)=TRUE,\"Válido\",\"Inválido\")),\"\")","v":""},{"$f":"IF(E1610<>0,(IF(lfValidaCEP(E1610)=TRUE,\"Válido\",\"Inválido\")),\"\")","v":""}]
[null,null,null,null,null,null,null,null,null,null,"",{"$f":"IF(C1611<>0,(IF(lfValidaCNPJ(C1611)=TRUE,\"Válido\",\"Inválido\")),\"\")","v":""},{"$f":"IF(E1611<>0,(IF(lfValidaCEP(E1611)=TRUE,\"Válido\",\"Inválido\")),\"\")","v":""}]
[null,null,null,null,null,null,null,null,null,null,{"$f":"IF(COUNTA(B1612:I1612)<>0,IF(AND(B1612<>0,C1612<>0,D1612<>0,E1612<>0,F1612<>0,G1612<>0,H1612<>0,I1612<>0),\"Completo\",\"Incompleto\"),\"\")","v":""},{"$f":"IF(C1612<>0,(IF(lfValidaCNPJ(C1612)=TRUE,\"Válido\",\"Inválido\")),\"\")","v":""},{"$f":"IF(E1612<>0,(IF(lfValidaCEP(E1612)=TRUE,\"Válido\",\"Inválido\")),\"\")","v":""}]
[null,null,null,null,null,null,null,null,null,null,"",{"$f":"IF(C1613<>0,(IF(lfValidaCNPJ(C1613)=TRUE,\"Válido\",\"Inválido\")),\"\")","v":""},{"$f":"IF(E1613<>0,(IF(lfValidaCEP(E1613)=TRUE,\"Válido\",\"Inválido\")),\"\")","v":""}]
[null,null,null,null,null,null,null,null,null,null,"",{"$f":"IF(C1614<>0,(IF(lfValidaCNPJ(C1614)=TRUE,\"Válido\",\"Inválido\")),\"\")","v":""},{"$f":"IF(E1614<>0,(IF(lfValidaCEP(E1614)=TRUE,\"Válido\",\"Inválido\")),\"\")","v":""}]
[null,null,null,null,null,null,null,null,null,null,"",{"$f":"IF(C1615<>0,(IF(lfValidaCNPJ(C1615)=TRUE,\"Válido\",\"Inválido\")),\"\")","v":""},{"$f":"IF(E1615<>0,(IF(lfValidaCEP(E1615)=TRUE,\"Válido\",\"Inválido\")),\"\")","v":""}]
[null,null,null,null,null,null,null,null,null,null,"",{"$f":"IF(C1616<>0,(IF(lfValidaCNPJ(C1616)=TRUE,\"Válido\",\"Inválido\")),\"\")","v":""},{"$f":"IF(E1616<>0,(IF(lfValidaCEP(E1616)=TRUE,\"Válido\",\"Inválido\")),\"\")","v":""}]
[null,null,null,null,null,null,null,null,null,null,"",{"$f":"IF(C1617<>0,(IF(lfValidaCNPJ(C1617)=TRUE,\"Válido\",\"Inválido\")),\"\")","v":""},{"$f":"IF(E1617<>0,(IF(lfValidaCEP(E1617)=TRUE,\"Válido\",\"Inválido\")),\"\")","v":""}]
[null,null,null,null,null,null,null,null,null,null,"",{"$f":"IF(C1618<>0,(IF(lfValidaCNPJ(C1618)=TRUE,\"Válido\",\"Inválido\")),\"\")","v":""},{"$f":"IF(E1618<>0,(IF(lfValidaCEP(E1618)=TRUE,\"Válido\",\"Inválido\")),\"\")","v":""}]
[null,null,null,null,null,null,null,null,null,null,"",{"$f":"IF(C1619<>0,(IF(lfValidaCNPJ(C1619)=TRUE,\"Válido\",\"Inválido\")),\"\")","v":""},{"$f":"IF(E1619<>0,(IF(lfValidaCEP(E1619)=TRUE,\"Válido\",\"Inválido\")),\"\")","v":""}]
[null,null,null,null,null,null,null,null,null,null,"",{"$f":"IF(C1620<>0,(IF(lfValidaCNPJ(C1620)=TRUE,\"Válido\",\"Inválido\")),\"\")","v":""},{"$f":"IF(E1620<>0,(IF(lfValidaCEP(E1620)=TRUE,\"Válido\",\"Inválido\")),\"\")","v":""}]
[null,null,null,null,null,null,null,null,null,null,"",{"$f":"IF(C1621<>0,(IF(lfValidaCNPJ(C1621)=TRUE,\"Válido\",\"Inválido\")),\"\")","v":""},{"$f":"IF(E1621<>0,(IF(lfValidaCEP(E1621)=TRUE,\"Válido\",\"Inválido\")),\"\")","v":""}]
[null,null,null,null,null,null,null,null,null,null,"",{"$f":"IF(C1622<>0,(IF(lfValidaCNPJ(C1622)=TRUE,\"Válido\",\"Inválido\")),\"\")","v":""},{"$f":"IF(E1622<>0,(IF(lfValidaCEP(E1622)=TRUE,\"Válido\",\"Inválido\")),\"\")","v":""}]
[null,null,null,null,null,null,null,null,null,null,"",{"$f":"IF(C1623<>0,(IF(lfValidaCNPJ(C1623)=TRUE,\"Válido\",\"Inválido\")),\"\")","v":""},{"$f":"IF(E1623<>0,(IF(lfValidaCEP(E1623)=TRUE,\"Válido\",\"Inválido\")),\"\")","v":""}]
[null,null,null,null,null,null,null,null,null,null,"",{"$f":"IF(C1624<>0,(IF(lfValidaCNPJ(C1624)=TRUE,\"Válido\",\"Inválido\")),\"\")","v":""},{"$f":"IF(E1624<>0,(IF(lfValidaCEP(E1624)=TRUE,\"Válido\",\"Inválido\")),\"\")","v":""}]
[null,null,null,null,null,null,null,null,null,null,"",{"$f":"IF(C1625<>0,(IF(lfValidaCNPJ(C1625)=TRUE,\"Válido\",\"Inválido\")),\"\")","v":""},{"$f":"IF(E1625<>0,(IF(lfValidaCEP(E1625)=TRUE,\"Válido\",\"Inválido\")),\"\")","v":""}]
[null,null,null,null,null,null,null,null,null,null,"",{"$f":"IF(C1626<>0,(IF(lfValidaCNPJ(C1626)=TRUE,\"Válido\",\"Inválido\")),\"\")","v":""},{"$f":"IF(E1626<>0,(IF(lfValidaCEP(E1626)=TRUE,\"Válido\",\"Inválido\")),\"\")","v":""}]
[null,null,null,null,null,null,null,null,null,null,"",{"$f":"IF(C1627<>0,(IF(lfValidaCNPJ(C1627)=TRUE,\"Válido\",\"Inválido\")),\"\")","v":""},{"$f":"IF(E1627<>0,(IF(lfValidaCEP(E1627)=TRUE,\"Válido\",\"Inválido\")),\"\")","v":""}]
[null,null,null,null,null,null,null,null,null,null,"",{"$f":"IF(C1628<>0,(IF(lfValidaCNPJ(C1628)=TRUE,\"Válido\",\"Inválido\")),\"\")","v":""},{"$f":"IF(E1628<>0,(IF(lfValidaCEP(E1628)=TRUE,\"Válido\",\"Inválido\")),\"\")","v":""}]
[null,null,null,null,null,null,null,null,null,null,"",{"$f":"IF(C1629<>0,(IF(lfValidaCNPJ(C1629)=TRUE,\"Válido\",\"Inválido\")),\"\")","v":""},{"$f":"IF(E1629<>0,(IF(lfValidaCEP(E1629)=TRUE,\"Válido\",\"Inválido\")),\"\")","v":""}]
[null,null,null,null,null,null,null,null,null,null,"",{"$f":"IF(C1630<>0,(IF(lfValidaCNPJ(C1630)=TRUE,\"Válido\",\"Inválido\")),\"\")","v":""},{"$f":"IF(E1630<>0,(IF(lfValidaCEP(E1630)=TRUE,\"Válido\",\"Inválido\")),\"\")","v":""}]
[null,null,null,null,null,null,null,null,null,null,"",{"$f":"IF(C1631<>0,(IF(lfValidaCNPJ(C1631)=TRUE,\"Válido\",\"Inválido\")),\"\")","v":""},{"$f":"IF(E1631<>0,(IF(lfValidaCEP(E1631)=TRUE,\"Válido\",\"Inválido\")),\"\")","v":""}]
[null,null,null,null,null,null,null,null,null,null,"",{"$f":"IF(C1632<>0,(IF(lfValidaCNPJ(C1632)=TRUE,\"Válido\",\"Inválido\")),\"\")","v":""},{"$f":"IF(E1632<>0,(IF(lfValidaCEP(E1632)=TRUE,\"Válido\",\"Inválido\")),\"\")","v":""}]
[null,null,null,null,null,null,null,null,null,null,"",{"$f":"IF(C1633<>0,(IF(lfValidaCNPJ(C1633)=TRUE,\"Válido\",\"Inválido\")),\"\")","v":""},{"$f":"IF(E1633<>0,(IF(lfValidaCEP(E1633)=TRUE,\"Válido\",\"Inválido\")),\"\")","v":""}]
[null,null,null,null,null,null,null,null,null,null,"",{"$f":"IF(C1634<>0,(IF(lfValidaCNPJ(C1634)=TRUE,\"Válido\",\"Inválido\")),\"\")","v":""},{"$f":"IF(E1634<>0,(IF(lfValidaCEP(E1634)=TRUE,\"Válido\",\"Inválido\")),\"\")","v":""}]
[null,null,null,null,null,null,null,null,null,null,"",{"$f":"IF(C1635<>0,(IF(lfValidaCNPJ(C1635)=TRUE,\"Válido\",\"Inválido\")),\"\")","v":""},{"$f":"IF(E1635<>0,(IF(lfValidaCEP(E1635)=TRUE,\"Válido\",\"Inválido\")),\"\")","v":""}]
[null,null,null,null,null,null,null,null,null,null,"",{"$f":"IF(C1636<>0,(IF(lfValidaCNPJ(C1636)=TRUE,\"Válido\",\"Inválido\")),\"\")","v":""},{"$f":"IF(E1636<>0,(IF(lfValidaCEP(E1636)=TRUE,\"Válido\",\"Inválido\")),\"\")","v":""}]
[null,null,null,null,null,null,null,null,null,null,"",{"$f":"IF(C1637<>0,(IF(lfValidaCNPJ(C1637)=TRUE,\"Válido\",\"Inválido\")),\"\")","v":""},{"$f":"IF(E1637<>0,(IF(lfValidaCEP(E1637)=TRUE,\"Válido\",\"Inválido\")),\"\")","v":""}]
[null,null,null,null,null,null,null,null,null,null,"",{"$f":"IF(C1638<>0,(IF(lfValidaCNPJ(C1638)=TRUE,\"Válido\",\"Inválido\")),\"\")","v":""},{"$f":"IF(E1638<>0,(IF(lfValidaCEP(E1638)=TRUE,\"Válido\",\"Inválido\")),\"\")","v":""}]
[null,null,null,null,null,null,null,null,null,null,"",{"$f":"IF(C1639<>0,(IF(lfValidaCNPJ(C1639)=TRUE,\"Válido\",\"Inválido\")),\"\")","v":""},{"$f":"IF(E1639<>0,(IF(lfValidaCEP(E1639)=TRUE,\"Válido\",\"Inválido\")),\"\")","v":""}]
[null,null,null,null,null,null,null,null,null,null,"",{"$f":"IF(C1640<>0,(IF(lfValidaCNPJ(C1640)=TRUE,\"Válido\",\"Inválido\")),\"\")","v":""},{"$f":"IF(E1640<>0,(IF(lfValidaCEP(E1640)=TRUE,\"Válido\",\"Inválido\")),\"\")","v":""}]
[null,null,null,null,null,null,null,null,null,null,"",{"$f":"IF(C1641<>0,(IF(lfValidaCNPJ(C1641)=TRUE,\"Válido\",\"Inválido\")),\"\")","v":""},{"$f":"IF(E1641<>0,(IF(lfValidaCEP(E1641)=TRUE,\"Válido\",\"Inválido\")),\"\")","v":""}]
[null,null,null,null,null,null,null,null,null,null,"",{"$f":"IF(C1642<>0,(IF(lfValidaCNPJ(C1642)=TRUE,\"Válido\",\"Inválido\")),\"\")","v":""},{"$f":"IF(E1642<>0,(IF(lfValidaCEP(E1642)=TRUE,\"Válido\",\"Inválido\")),\"\")","v":""}]
[null,null,null,null,null,null,null,null,null,null,"",{"$f":"IF(C1643<>0,(IF(lfValidaCNPJ(C1643)=TRUE,\"Válido\",\"Inválido\")),\"\")","v":""},{"$f":"IF(E1643<>0,(IF(lfValidaCEP(E1643)=TRUE,\"Válido\",\"Inválido\")),\"\")","v":""}]
[null,null,null,null,null,null,null,null,null,null,"",{"$f":"IF(C1644<>0,(IF(lfValidaCNPJ(C1644)=TRUE,\"Válido\",\"Inválido\")),\"\")","v":""},{"$f":"IF(E1644<>0,(IF(lfValidaCEP(E1644)=TRUE,\"Válido\",\"Inválido\")),\"\")","v":""}]
[null,null,null,null,null,null,null,null,null,null,"",{"$f":"IF(C1645<>0,(IF(lfValidaCNPJ(C1645)=TRUE,\"Válido\",\"Inválido\")),\"\")","v":""},{"$f":"IF(E1645<>0,(IF(lfValidaCEP(E1645)=TRUE,\"Válido\",\"Inválido\")),\"\")","v":""}]
[null,null,null,null,null,null,null,null,null,null,"",{"$f":"IF(C1646<>0,(IF(lfValidaCNPJ(C1646)=TRUE,\"Válido\",\"Inválido\")),\"\")","v":""},{"$f":"IF(E1646<>0,(IF(lfValidaCEP(E1646)=TRUE,\"Válido\",\"Inválido\")),\"\")","v":""}]
[null,null,null,null,null,null,null,null,null,null,"",{"$f":"IF(C1647<>0,(IF(lfValidaCNPJ(C1647)=TRUE,\"Válido\",\"Inválido\")),\"\")","v":""},{"$f":"IF(E1647<>0,(IF(lfValidaCEP(E1647)=TRUE,\"Válido\",\"Inválido\")),\"\")","v":""}]
[null,null,null,null,null,null,null,null,null,null,"",{"$f":"IF(C1648<>0,(IF(lfValidaCNPJ(C1648)=TRUE,\"Válido\",\"Inválido\")),\"\")","v":""},{"$f":"IF(E1648<>0,(IF(lfValidaCEP(E1648)=TRUE,\"Válido\",\"Inválido\")),\"\")","v":""}]
[null,null,null,null,null,null,null,null,null,null,"",{"$f":"IF(C1649<>0,(IF(lfValidaCNPJ(C1649)=TRUE,\"Válido\",\"Inválido\")),\"\")","v":""},{"$f":"IF(E1649<>0,(IF(lfValidaCEP(E1649)=TRUE,\"Válido\",\"Inválido\")),\"\")","v":""}]
[null,null,null,null,null,null,null,null,null,null,"",{"$f":"IF(C1650<>0,(IF(lfValidaCNPJ(C1650)=TRUE,\"Válido\",\"Inválido\")),\"\")","v":""},{"$f":"IF(E1650<>0,(IF(lfValidaCEP(E1650)=TRUE,\"Válido\",\"Inválido\")),\"\")","v":""}]
[null,null,null,null,null,null,null,null,null,null,"",{"$f":"IF(C1651<>0,(IF(lfValidaCNPJ(C1651)=TRUE,\"Válido\",\"Inválido\")),\"\")","v":""},{"$f":"IF(E1651<>0,(IF(lfValidaCEP(E1651)=TRUE,\"Válido\",\"Inválido\")),\"\")","v":""}]
[null,null,null,null,null,null,null,null,null,null,"",{"$f":"IF(C1652<>0,(IF(lfValidaCNPJ(C1652)=TRUE,\"Válido\",\"Inválido\")),\"\")","v":""},{"$f":"IF(E1652<>0,(IF(lfValidaCEP(E1652)=TRUE,\"Válido\",\"Inválido\")),\"\")","v":""}]
[null,null,null,null,null,null,null,null,null,null,"",{"$f":"IF(C1653<>0,(IF(lfValidaCNPJ(C1653)=TRUE,\"Válido\",\"Inválido\")),\"\")","v":""},{"$f":"IF(E1653<>0,(IF(lfValidaCEP(E1653)=TRUE,\"Válido\",\"Inválido\")),\"\")","v":""}]
[null,null,null,null,null,null,null,null,null,null,"",{"$f":"IF(C1654<>0,(IF(lfValidaCNPJ(C1654)=TRUE,\"Válido\",\"Inválido\")),\"\")","v":""},{"$f":"IF(E1654<>0,(IF(lfValidaCEP(E1654)=TRUE,\"Válido\",\"Inválido\")),\"\")","v":""}]
[null,null,null,null,null,null,null,null,null,null,"",{"$f":"IF(C1655<>0,(IF(lfValidaCNPJ(C1655)=TRUE,\"Válido\",\"Inválido\")),\"\")","v":""},{"$f":"IF(E1655<>0,(IF(lfValidaCEP(E1655)=TRUE,\"Válido\",\"Inválido\")),\"\")","v":""}]
[null,null,null,null,null,null,null,null,null,null,"",{"$f":"IF(C1656<>0,(IF(lfValidaCNPJ(C1656)=TRUE,\"Válido\",\"Inválido\")),\"\")","v":""},{"$f":"IF(E1656<>0,(IF(lfValidaCEP(E1656)=TRUE,\"Válido\",\"Inválido\")),\"\")","v":""}]
[null,null,null,null,null,null,null,null,null,null,"",{"$f":"IF(C1657<>0,(IF(lfValidaCNPJ(C1657)=TRUE,\"Válido\",\"Inválido\")),\"\")","v":""},{"$f":"IF(E1657<>0,(IF(lfValidaCEP(E1657)=TRUE,\"Válido\",\"Inválido\")),\"\")","v":""}]
[null,null,null,null,null,null,null,null,null,null,"",{"$f":"IF(C1658<>0,(IF(lfValidaCNPJ(C1658)=TRUE,\"Válido\",\"Inválido\")),\"\")","v":""},{"$f":"IF(E1658<>0,(IF(lfValidaCEP(E1658)=TRUE,\"Válido\",\"Inválido\")),\"\")","v":""}]
[null,null,null,null,null,null,null,null,null,null,"",{"$f":"IF(C1659<>0,(IF(lfValidaCNPJ(C1659)=TRUE,\"Válido\",\"Inválido\")),\"\")","v":""},{"$f":"IF(E1659<>0,(IF(lfValidaCEP(E1659)=TRUE,\"Válido\",\"Inválido\")),\"\")","v":""}]
[null,null,null,null,null,null,null,null,null,null,"",{"$f":"IF(C1660<>0,(IF(lfValidaCNPJ(C1660)=TRUE,\"Válido\",\"Inválido\")),\"\")","v":""},{"$f":"IF(E1660<>0,(IF(lfValidaCEP(E1660)=TRUE,\"Válido\",\"Inválido\")),\"\")","v":""}]
[null,null,null,null,null,null,null,null,null,null,"",{"$f":"IF(C1661<>0,(IF(lfValidaCNPJ(C1661)=TRUE,\"Válido\",\"Inválido\")),\"\")","v":""},{"$f":"IF(E1661<>0,(IF(lfValidaCEP(E1661)=TRUE,\"Válido\",\"Inválido\")),\"\")","v":""}]
[null,null,null,null,null,null,null,null,null,null,"",{"$f":"IF(C1662<>0,(IF(lfValidaCNPJ(C1662)=TRUE,\"Válido\",\"Inválido\")),\"\")","v":""},{"$f":"IF(E1662<>0,(IF(lfValidaCEP(E1662)=TRUE,\"Válido\",\"Inválido\")),\"\")","v":""}]
[null,null,null,null,null,null,null,null,null,null,"",{"$f":"IF(C1663<>0,(IF(lfValidaCNPJ(C1663)=TRUE,\"Válido\",\"Inválido\")),\"\")","v":""},{"$f":"IF(E1663<>0,(IF(lfValidaCEP(E1663)=TRUE,\"Válido\",\"Inválido\")),\"\")","v":""}]
[null,null,null,null,null,null,null,null,null,null,"",{"$f":"IF(C1664<>0,(IF(lfValidaCNPJ(C1664)=TRUE,\"Válido\",\"Inválido\")),\"\")","v":""},{"$f":"IF(E1664<>0,(IF(lfValidaCEP(E1664)=TRUE,\"Válido\",\"Inválido\")),\"\")","v":""}]
[null,null,null,null,null,null,null,null,null,null,"",{"$f":"IF(C1665<>0,(IF(lfValidaCNPJ(C1665)=TRUE,\"Válido\",\"Inválido\")),\"\")","v":""},{"$f":"IF(E1665<>0,(IF(lfValidaCEP(E1665)=TRUE,\"Válido\",\"Inválido\")),\"\")","v":""}]
[null,null,null,null,null,null,null,null,null,null,"",{"$f":"IF(C1666<>0,(IF(lfValidaCNPJ(C1666)=TRUE,\"Válido\",\"Inválido\")),\"\")","v":""},{"$f":"IF(E1666<>0,(IF(lfValidaCEP(E1666)=TRUE,\"Válido\",\"Inválido\")),\"\")","v":""}]
[null,null,null,null,null,null,null,null,null,null,"",{"$f":"IF(C1667<>0,(IF(lfValidaCNPJ(C1667)=TRUE,\"Válido\",\"Inválido\")),\"\")","v":""},{"$f":"IF(E1667<>0,(IF(lfValidaCEP(E1667)=TRUE,\"Válido\",\"Inválido\")),\"\")","v":""}]
[null,null,null,null,null,null,null,null,null,null,"",{"$f":"IF(C1668<>0,(IF(lfValidaCNPJ(C1668)=TRUE,\"Válido\",\"Inválido\")),\"\")","v":""},{"$f":"IF(E1668<>0,(IF(lfValidaCEP(E1668)=TRUE,\"Válido\",\"Inválido\")),\"\")","v":""}]
[null,null,null,null,null,null,null,null,null,null,"",{"$f":"IF(C1669<>0,(IF(lfValidaCNPJ(C1669)=TRUE,\"Válido\",\"Inválido\")),\"\")","v":""},{"$f":"IF(E1669<>0,(IF(lfValidaCEP(E1669)=TRUE,\"Válido\",\"Inválido\")),\"\")","v":""}]
[null,null,null,null,null,null,null,null,null,null,"",{"$f":"IF(C1670<>0,(IF(lfValidaCNPJ(C1670)=TRUE,\"Válido\",\"Inválido\")),\"\")","v":""},{"$f":"IF(E1670<>0,(IF(lfValidaCEP(E1670)=TRUE,\"Válido\",\"Inválido\")),\"\")","v":""}]
[null,null,null,null,null,null,null,null,null,null,"",{"$f":"IF(C1671<>0,(IF(lfValidaCNPJ(C1671)=TRUE,\"Válido\",\"Inválido\")),\"\")","v":""},{"$f":"IF(E1671<>0,(IF(lfValidaCEP(E1671)=TRUE,\"Válido\",\"Inválido\")),\"\")","v":""}]
[null,null,null,null,null,null,null,null,null,null,"",{"$f":"IF(C1672<>0,(IF(lfValidaCNPJ(C1672)=TRUE,\"Válido\",\"Inválido\")),\"\")","v":""},{"$f":"IF(E1672<>0,(IF(lfValidaCEP(E1672)=TRUE,\"Válido\",\"Inválido\")),\"\")","v":""}]
[null,null,null,null,null,null,null,null,null,null,"",{"$f":"IF(C1673<>0,(IF(lfValidaCNPJ(C1673)=TRUE,\"Válido\",\"Inválido\")),\"\")","v":""},{"$f":"IF(E1673<>0,(IF(lfValidaCEP(E1673)=TRUE,\"Válido\",\"Inválido\")),\"\")","v":""}]
[null,null,null,null,null,null,null,null,null,null,"",{"$f":"IF(C1674<>0,(IF(lfValidaCNPJ(C1674)=TRUE,\"Válido\",\"Inválido\")),\"\")","v":""},{"$f":"IF(E1674<>0,(IF(lfValidaCEP(E1674)=TRUE,\"Válido\",\"Inválido\")),\"\")","v":""}]
[null,null,null,null,null,null,null,null,null,null,"",{"$f":"IF(C1675<>0,(IF(lfValidaCNPJ(C1675)=TRUE,\"Válido\",\"Inválido\")),\"\")","v":""},{"$f":"IF(E1675<>0,(IF(lfValidaCEP(E1675)=TRUE,\"Válido\",\"Inválido\")),\"\")","v":""}]
[null,null,null,null,null,null,null,null,null,null,{"$f":"IF(COUNTA(B1676:I1676)<>0,IF(AND(B1676<>0,C1676<>0,D1676<>0,E1676<>0,F1676<>0,G1676<>0,H1676<>0,I1676<>0),\"Completo\",\"Incompleto\"),\"\")","v":""},{"$f":"IF(C1676<>0,(IF(lfValidaCNPJ(C1676)=TRUE,\"Válido\",\"Inválido\")),\"\")","v":""},{"$f":"IF(E1676<>0,(IF(lfValidaCEP(E1676)=TRUE,\"Válido\",\"Inválido\")),\"\")","v":""}]
[null,null,null,null,null,null,null,null,null,null,"",{"$f":"IF(C1677<>0,(IF(lfValidaCNPJ(C1677)=TRUE,\"Válido\",\"Inválido\")),\"\")","v":""},{"$f":"IF(E1677<>0,(IF(lfValidaCEP(E1677)=TRUE,\"Válido\",\"Inválido\")),\"\")","v":""}]
[null,null,null,null,null,null,null,null,null,null,"",{"$f":"IF(C1678<>0,(IF(lfValidaCNPJ(C1678)=TRUE,\"Válido\",\"Inválido\")),\"\")","v":""},{"$f":"IF(E1678<>0,(IF(lfValidaCEP(E1678)=TRUE,\"Válido\",\"Inválido\")),\"\")","v":""}]
[null,null,null,null,null,null,null,null,null,null,"",{"$f":"IF(C1679<>0,(IF(lfValidaCNPJ(C1679)=TRUE,\"Válido\",\"Inválido\")),\"\")","v":""},{"$f":"IF(E1679<>0,(IF(lfValidaCEP(E1679)=TRUE,\"Válido\",\"Inválido\")),\"\")","v":""}]
[null,null,null,null,null,null,null,null,null,null,"",{"$f":"IF(C1680<>0,(IF(lfValidaCNPJ(C1680)=TRUE,\"Válido\",\"Inválido\")),\"\")","v":""},{"$f":"IF(E1680<>0,(IF(lfValidaCEP(E1680)=TRUE,\"Válido\",\"Inválido\")),\"\")","v":""}]
[null,null,null,null,null,null,null,null,null,null,"",{"$f":"IF(C1681<>0,(IF(lfValidaCNPJ(C1681)=TRUE,\"Válido\",\"Inválido\")),\"\")","v":""},{"$f":"IF(E1681<>0,(IF(lfValidaCEP(E1681)=TRUE,\"Válido\",\"Inválido\")),\"\")","v":""}]
[null,null,null,null,null,null,null,null,null,null,"",{"$f":"IF(C1682<>0,(IF(lfValidaCNPJ(C1682)=TRUE,\"Válido\",\"Inválido\")),\"\")","v":""},{"$f":"IF(E1682<>0,(IF(lfValidaCEP(E1682)=TRUE,\"Válido\",\"Inválido\")),\"\")","v":""}]
[null,null,null,null,null,null,null,null,null,null,"",{"$f":"IF(C1683<>0,(IF(lfValidaCNPJ(C1683)=TRUE,\"Válido\",\"Inválido\")),\"\")","v":""},{"$f":"IF(E1683<>0,(IF(lfValidaCEP(E1683)=TRUE,\"Válido\",\"Inválido\")),\"\")","v":""}]
[null,null,null,null,null,null,null,null,null,null,"",{"$f":"IF(C1684<>0,(IF(lfValidaCNPJ(C1684)=TRUE,\"Válido\",\"Inválido\")),\"\")","v":""},{"$f":"IF(E1684<>0,(IF(lfValidaCEP(E1684)=TRUE,\"Válido\",\"Inválido\")),\"\")","v":""}]
[null,null,null,null,null,null,null,null,null,null,"",{"$f":"IF(C1685<>0,(IF(lfValidaCNPJ(C1685)=TRUE,\"Válido\",\"Inválido\")),\"\")","v":""},{"$f":"IF(E1685<>0,(IF(lfValidaCEP(E1685)=TRUE,\"Válido\",\"Inválido\")),\"\")","v":""}]
[null,null,null,null,null,null,null,null,null,null,"",{"$f":"IF(C1686<>0,(IF(lfValidaCNPJ(C1686)=TRUE,\"Válido\",\"Inválido\")),\"\")","v":""},{"$f":"IF(E1686<>0,(IF(lfValidaCEP(E1686)=TRUE,\"Válido\",\"Inválido\")),\"\")","v":""}]
[null,null,null,null,null,null,null,null,null,null,"",{"$f":"IF(C1687<>0,(IF(lfValidaCNPJ(C1687)=TRUE,\"Válido\",\"Inválido\")),\"\")","v":""},{"$f":"IF(E1687<>0,(IF(lfValidaCEP(E1687)=TRUE,\"Válido\",\"Inválido\")),\"\")","v":""}]
[null,null,null,null,null,null,null,null,null,null,"",{"$f":"IF(C1688<>0,(IF(lfValidaCNPJ(C1688)=TRUE,\"Válido\",\"Inválido\")),\"\")","v":""},{"$f":"IF(E1688<>0,(IF(lfValidaCEP(E1688)=TRUE,\"Válido\",\"Inválido\")),\"\")","v":""}]
[null,null,null,null,null,null,null,null,null,null,"",{"$f":"IF(C1689<>0,(IF(lfValidaCNPJ(C1689)=TRUE,\"Válido\",\"Inválido\")),\"\")","v":""},{"$f":"IF(E1689<>0,(IF(lfValidaCEP(E1689)=TRUE,\"Válido\",\"Inválido\")),\"\")","v":""}]
[null,null,null,null,null,null,null,null,null,null,"",{"$f":"IF(C1690<>0,(IF(lfValidaCNPJ(C1690)=TRUE,\"Válido\",\"Inválido\")),\"\")","v":""},{"$f":"IF(E1690<>0,(IF(lfValidaCEP(E1690)=TRUE,\"Válido\",\"Inválido\")),\"\")","v":""}]
[null,null,null,null,null,null,null,null,null,null,"",{"$f":"IF(C1691<>0,(IF(lfValidaCNPJ(C1691)=TRUE,\"Válido\",\"Inválido\")),\"\")","v":""},{"$f":"IF(E1691<>0,(IF(lfValidaCEP(E1691)=TRUE,\"Válido\",\"Inválido\")),\"\")","v":""}]
[null,null,null,null,null,null,null,null,null,null,"",{"$f":"IF(C1692<>0,(IF(lfValidaCNPJ(C1692)=TRUE,\"Válido\",\"Inválido\")),\"\")","v":""},{"$f":"IF(E1692<>0,(IF(lfValidaCEP(E1692)=TRUE,\"Válido\",\"Inválido\")),\"\")","v":""}]
[null,null,null,null,null,null,null,null,null,null,"",{"$f":"IF(C1693<>0,(IF(lfValidaCNPJ(C1693)=TRUE,\"Válido\",\"Inválido\")),\"\")","v":""},{"$f":"IF(E1693<>0,(IF(lfValidaCEP(E1693)=TRUE,\"Válido\",\"Inválido\")),\"\")","v":""}]
[null,null,null,null,null,null,null,null,null,null,"",{"$f":"IF(C1694<>0,(IF(lfValidaCNPJ(C1694)=TRUE,\"Válido\",\"Inválido\")),\"\")","v":""},{"$f":"IF(E1694<>0,(IF(lfValidaCEP(E1694)=TRUE,\"Válido\",\"Inválido\")),\"\")","v":""}]
[null,null,null,null,null,null,null,null,null,null,"",{"$f":"IF(C1695<>0,(IF(lfValidaCNPJ(C1695)=TRUE,\"Válido\",\"Inválido\")),\"\")","v":""},{"$f":"IF(E1695<>0,(IF(lfValidaCEP(E1695)=TRUE,\"Válido\",\"Inválido\")),\"\")","v":""}]
[null,null,null,null,null,null,null,null,null,null,"",{"$f":"IF(C1696<>0,(IF(lfValidaCNPJ(C1696)=TRUE,\"Válido\",\"Inválido\")),\"\")","v":""},{"$f":"IF(E1696<>0,(IF(lfValidaCEP(E1696)=TRUE,\"Válido\",\"Inválido\")),\"\")","v":""}]
[null,null,null,null,null,null,null,null,null,null,"",{"$f":"IF(C1697<>0,(IF(lfValidaCNPJ(C1697)=TRUE,\"Válido\",\"Inválido\")),\"\")","v":""},{"$f":"IF(E1697<>0,(IF(lfValidaCEP(E1697)=TRUE,\"Válido\",\"Inválido\")),\"\")","v":""}]
[null,null,null,null,null,null,null,null,null,null,"",{"$f":"IF(C1698<>0,(IF(lfValidaCNPJ(C1698)=TRUE,\"Válido\",\"Inválido\")),\"\")","v":""},{"$f":"IF(E1698<>0,(IF(lfValidaCEP(E1698)=TRUE,\"Válido\",\"Inválido\")),\"\")","v":""}]
[null,null,null,null,null,null,null,null,null,null,"",{"$f":"IF(C1699<>0,(IF(lfValidaCNPJ(C1699)=TRUE,\"Válido\",\"Inválido\")),\"\")","v":""},{"$f":"IF(E1699<>0,(IF(lfValidaCEP(E1699)=TRUE,\"Válido\",\"Inválido\")),\"\")","v":""}]
[null,null,null,null,null,null,null,null,null,null,"",{"$f":"IF(C1700<>0,(IF(lfValidaCNPJ(C1700)=TRUE,\"Válido\",\"Inválido\")),\"\")","v":""},{"$f":"IF(E1700<>0,(IF(lfValidaCEP(E1700)=TRUE,\"Válido\",\"Inválido\")),\"\")","v":""}]
[null,null,null,null,null,null,null,null,null,null,"",{"$f":"IF(C1701<>0,(IF(lfValidaCNPJ(C1701)=TRUE,\"Válido\",\"Inválido\")),\"\")","v":""},{"$f":"IF(E1701<>0,(IF(lfValidaCEP(E1701)=TRUE,\"Válido\",\"Inválido\")),\"\")","v":""}]
[null,null,null,null,null,null,null,null,null,null,"",{"$f":"IF(C1702<>0,(IF(lfValidaCNPJ(C1702)=TRUE,\"Válido\",\"Inválido\")),\"\")","v":""},{"$f":"IF(E1702<>0,(IF(lfValidaCEP(E1702)=TRUE,\"Válido\",\"Inválido\")),\"\")","v":""}]
[null,null,null,null,null,null,null,null,null,null,"",{"$f":"IF(C1703<>0,(IF(lfValidaCNPJ(C1703)=TRUE,\"Válido\",\"Inválido\")),\"\")","v":""},{"$f":"IF(E1703<>0,(IF(lfValidaCEP(E1703)=TRUE,\"Válido\",\"Inválido\")),\"\")","v":""}]
[null,null,null,null,null,null,null,null,null,null,"",{"$f":"IF(C1704<>0,(IF(lfValidaCNPJ(C1704)=TRUE,\"Válido\",\"Inválido\")),\"\")","v":""},{"$f":"IF(E1704<>0,(IF(lfValidaCEP(E1704)=TRUE,\"Válido\",\"Inválido\")),\"\")","v":""}]
[null,null,null,null,null,null,null,null,null,null,"",{"$f":"IF(C1705<>0,(IF(lfValidaCNPJ(C1705)=TRUE,\"Válido\",\"Inválido\")),\"\")","v":""},{"$f":"IF(E1705<>0,(IF(lfValidaCEP(E1705)=TRUE,\"Válido\",\"Inválido\")),\"\")","v":""}]
[null,null,null,null,null,null,null,null,null,null,"",{"$f":"IF(C1706<>0,(IF(lfValidaCNPJ(C1706)=TRUE,\"Válido\",\"Inválido\")),\"\")","v":""},{"$f":"IF(E1706<>0,(IF(lfValidaCEP(E1706)=TRUE,\"Válido\",\"Inválido\")),\"\")","v":""}]
[null,null,null,null,null,null,null,null,null,null,"",{"$f":"IF(C1707<>0,(IF(lfValidaCNPJ(C1707)=TRUE,\"Válido\",\"Inválido\")),\"\")","v":""},{"$f":"IF(E1707<>0,(IF(lfValidaCEP(E1707)=TRUE,\"Válido\",\"Inválido\")),\"\")","v":""}]
[null,null,null,null,null,null,null,null,null,null,"",{"$f":"IF(C1708<>0,(IF(lfValidaCNPJ(C1708)=TRUE,\"Válido\",\"Inválido\")),\"\")","v":""},{"$f":"IF(E1708<>0,(IF(lfValidaCEP(E1708)=TRUE,\"Válido\",\"Inválido\")),\"\")","v":""}]
[null,null,null,null,null,null,null,null,null,null,"",{"$f":"IF(C1709<>0,(IF(lfValidaCNPJ(C1709)=TRUE,\"Válido\",\"Inválido\")),\"\")","v":""},{"$f":"IF(E1709<>0,(IF(lfValidaCEP(E1709)=TRUE,\"Válido\",\"Inválido\")),\"\")","v":""}]
[null,null,null,null,null,null,null,null,null,null,"",{"$f":"IF(C1710<>0,(IF(lfValidaCNPJ(C1710)=TRUE,\"Válido\",\"Inválido\")),\"\")","v":""},{"$f":"IF(E1710<>0,(IF(lfValidaCEP(E1710)=TRUE,\"Válido\",\"Inválido\")),\"\")","v":""}]
[null,null,null,null,null,null,null,null,null,null,"",{"$f":"IF(C1711<>0,(IF(lfValidaCNPJ(C1711)=TRUE,\"Válido\",\"Inválido\")),\"\")","v":""},{"$f":"IF(E1711<>0,(IF(lfValidaCEP(E1711)=TRUE,\"Válido\",\"Inválido\")),\"\")","v":""}]
[null,null,null,null,null,null,null,null,null,null,"",{"$f":"IF(C1712<>0,(IF(lfValidaCNPJ(C1712)=TRUE,\"Válido\",\"Inválido\")),\"\")","v":""},{"$f":"IF(E1712<>0,(IF(lfValidaCEP(E1712)=TRUE,\"Válido\",\"Inválido\")),\"\")","v":""}]
[null,null,null,null,null,null,null,null,null,null,"",{"$f":"IF(C1713<>0,(IF(lfValidaCNPJ(C1713)=TRUE,\"Válido\",\"Inválido\")),\"\")","v":""},{"$f":"IF(E1713<>0,(IF(lfValidaCEP(E1713)=TRUE,\"Válido\",\"Inválido\")),\"\")","v":""}]
[null,null,null,null,null,null,null,null,null,null,"",{"$f":"IF(C1714<>0,(IF(lfValidaCNPJ(C1714)=TRUE,\"Válido\",\"Inválido\")),\"\")","v":""},{"$f":"IF(E1714<>0,(IF(lfValidaCEP(E1714)=TRUE,\"Válido\",\"Inválido\")),\"\")","v":""}]
[null,null,null,null,null,null,null,null,null,null,"",{"$f":"IF(C1715<>0,(IF(lfValidaCNPJ(C1715)=TRUE,\"Válido\",\"Inválido\")),\"\")","v":""},{"$f":"IF(E1715<>0,(IF(lfValidaCEP(E1715)=TRUE,\"Válido\",\"Inválido\")),\"\")","v":""}]
[null,null,null,null,null,null,null,null,null,null,"",{"$f":"IF(C1716<>0,(IF(lfValidaCNPJ(C1716)=TRUE,\"Válido\",\"Inválido\")),\"\")","v":""},{"$f":"IF(E1716<>0,(IF(lfValidaCEP(E1716)=TRUE,\"Válido\",\"Inválido\")),\"\")","v":""}]
[null,null,null,null,null,null,null,null,null,null,"",{"$f":"IF(C1717<>0,(IF(lfValidaCNPJ(C1717)=TRUE,\"Válido\",\"Inválido\")),\"\")","v":""},{"$f":"IF(E1717<>0,(IF(lfValidaCEP(E1717)=TRUE,\"Válido\",\"Inválido\")),\"\")","v":""}]
[null,null,null,null,null,null,null,null,null,null,"",{"$f":"IF(C1718<>0,(IF(lfValidaCNPJ(C1718)=TRUE,\"Válido\",\"Inválido\")),\"\")","v":""},{"$f":"IF(E1718<>0,(IF(lfValidaCEP(E1718)=TRUE,\"Válido\",\"Inválido\")),\"\")","v":""}]
[null,null,null,null,null,null,null,null,null,null,"",{"$f":"IF(C1719<>0,(IF(lfValidaCNPJ(C1719)=TRUE,\"Válido\",\"Inválido\")),\"\")","v":""},{"$f":"IF(E1719<>0,(IF(lfValidaCEP(E1719)=TRUE,\"Válido\",\"Inválido\")),\"\")","v":""}]
[null,null,null,null,null,null,null,null,null,null,"",{"$f":"IF(C1720<>0,(IF(lfValidaCNPJ(C1720)=TRUE,\"Válido\",\"Inválido\")),\"\")","v":""},{"$f":"IF(E1720<>0,(IF(lfValidaCEP(E1720)=TRUE,\"Válido\",\"Inválido\")),\"\")","v":""}]
[null,null,null,null,null,null,null,null,null,null,"",{"$f":"IF(C1721<>0,(IF(lfValidaCNPJ(C1721)=TRUE,\"Válido\",\"Inválido\")),\"\")","v":""},{"$f":"IF(E1721<>0,(IF(lfValidaCEP(E1721)=TRUE,\"Válido\",\"Inválido\")),\"\")","v":""}]
[null,null,null,null,null,null,null,null,null,null,"",{"$f":"IF(C1722<>0,(IF(lfValidaCNPJ(C1722)=TRUE,\"Válido\",\"Inválido\")),\"\")","v":""},{"$f":"IF(E1722<>0,(IF(lfValidaCEP(E1722)=TRUE,\"Válido\",\"Inválido\")),\"\")","v":""}]
[null,null,null,null,null,null,null,null,null,null,"",{"$f":"IF(C1723<>0,(IF(lfValidaCNPJ(C1723)=TRUE,\"Válido\",\"Inválido\")),\"\")","v":""},{"$f":"IF(E1723<>0,(IF(lfValidaCEP(E1723)=TRUE,\"Válido\",\"Inválido\")),\"\")","v":""}]
[null,null,null,null,null,null,null,null,null,null,"",{"$f":"IF(C1724<>0,(IF(lfValidaCNPJ(C1724)=TRUE,\"Válido\",\"Inválido\")),\"\")","v":""},{"$f":"IF(E1724<>0,(IF(lfValidaCEP(E1724)=TRUE,\"Válido\",\"Inválido\")),\"\")","v":""}]
[null,null,null,null,null,null,null,null,null,null,"",{"$f":"IF(C1725<>0,(IF(lfValidaCNPJ(C1725)=TRUE,\"Válido\",\"Inválido\")),\"\")","v":""},{"$f":"IF(E1725<>0,(IF(lfValidaCEP(E1725)=TRUE,\"Válido\",\"Inválido\")),\"\")","v":""}]
[null,null,null,null,null,null,null,null,null,null,"",{"$f":"IF(C1726<>0,(IF(lfValidaCNPJ(C1726)=TRUE,\"Válido\",\"Inválido\")),\"\")","v":""},{"$f":"IF(E1726<>0,(IF(lfValidaCEP(E1726)=TRUE,\"Válido\",\"Inválido\")),\"\")","v":""}]
[null,null,null,null,null,null,null,null,null,null,"",{"$f":"IF(C1727<>0,(IF(lfValidaCNPJ(C1727)=TRUE,\"Válido\",\"Inválido\")),\"\")","v":""},{"$f":"IF(E1727<>0,(IF(lfValidaCEP(E1727)=TRUE,\"Válido\",\"Inválido\")),\"\")","v":""}]
[null,null,null,null,null,null,null,null,null,null,"",{"$f":"IF(C1728<>0,(IF(lfValidaCNPJ(C1728)=TRUE,\"Válido\",\"Inválido\")),\"\")","v":""},{"$f":"IF(E1728<>0,(IF(lfValidaCEP(E1728)=TRUE,\"Válido\",\"Inválido\")),\"\")","v":""}]
[null,null,null,null,null,null,null,null,null,null,"",{"$f":"IF(C1729<>0,(IF(lfValidaCNPJ(C1729)=TRUE,\"Válido\",\"Inválido\")),\"\")","v":""},{"$f":"IF(E1729<>0,(IF(lfValidaCEP(E1729)=TRUE,\"Válido\",\"Inválido\")),\"\")","v":""}]
[null,null,null,null,null,null,null,null,null,null,"",{"$f":"IF(C1730<>0,(IF(lfValidaCNPJ(C1730)=TRUE,\"Válido\",\"Inválido\")),\"\")","v":""},{"$f":"IF(E1730<>0,(IF(lfValidaCEP(E1730)=TRUE,\"Válido\",\"Inválido\")),\"\")","v":""}]
[null,null,null,null,null,null,null,null,null,null,"",{"$f":"IF(C1731<>0,(IF(lfValidaCNPJ(C1731)=TRUE,\"Válido\",\"Inválido\")),\"\")","v":""},{"$f":"IF(E1731<>0,(IF(lfValidaCEP(E1731)=TRUE,\"Válido\",\"Inválido\")),\"\")","v":""}]
[null,null,null,null,null,null,null,null,null,null,"",{"$f":"IF(C1732<>0,(IF(lfValidaCNPJ(C1732)=TRUE,\"Válido\",\"Inválido\")),\"\")","v":""},{"$f":"IF(E1732<>0,(IF(lfValidaCEP(E1732)=TRUE,\"Válido\",\"Inválido\")),\"\")","v":""}]
[null,null,null,null,null,null,null,null,null,null,"",{"$f":"IF(C1733<>0,(IF(lfValidaCNPJ(C1733)=TRUE,\"Válido\",\"Inválido\")),\"\")","v":""},{"$f":"IF(E1733<>0,(IF(lfValidaCEP(E1733)=TRUE,\"Válido\",\"Inválido\")),\"\")","v":""}]
[null,null,null,null,null,null,null,null,null,null,"",{"$f":"IF(C1734<>0,(IF(lfValidaCNPJ(C1734)=TRUE,\"Válido\",\"Inválido\")),\"\")","v":""},{"$f":"IF(E1734<>0,(IF(lfValidaCEP(E1734)=TRUE,\"Válido\",\"Inválido\")),\"\")","v":""}]
[null,null,null,null,null,null,null,null,null,null,"",{"$f":"IF(C1735<>0,(IF(lfValidaCNPJ(C1735)=TRUE,\"Válido\",\"Inválido\")),\"\")","v":""},{"$f":"IF(E1735<>0,(IF(lfValidaCEP(E1735)=TRUE,\"Válido\",\"Inválido\")),\"\")","v":""}]
[null,null,null,null,null,null,null,null,null,null,"",{"$f":"IF(C1736<>0,(IF(lfValidaCNPJ(C1736)=TRUE,\"Válido\",\"Inválido\")),\"\")","v":""},{"$f":"IF(E1736<>0,(IF(lfValidaCEP(E1736)=TRUE,\"Válido\",\"Inválido\")),\"\")","v":""}]
[null,null,null,null,null,null,null,null,null,null,"",{"$f":"IF(C1737<>0,(IF(lfValidaCNPJ(C1737)=TRUE,\"Válido\",\"Inválido\")),\"\")","v":""},{"$f":"IF(E1737<>0,(IF(lfValidaCEP(E1737)=TRUE,\"Válido\",\"Inválido\")),\"\")","v":""}]
[null,null,null,null,null,null,null,null,null,null,"",{"$f":"IF(C1738<>0,(IF(lfValidaCNPJ(C1738)=TRUE,\"Válido\",\"Inválido\")),\"\")","v":""},{"$f":"IF(E1738<>0,(IF(lfValidaCEP(E1738)=TRUE,\"Válido\",\"Inválido\")),\"\")","v":""}]
[null,null,null,null,null,null,null,null,null,null,"",{"$f":"IF(C1739<>0,(IF(lfValidaCNPJ(C1739)=TRUE,\"Válido\",\"Inválido\")),\"\")","v":""},{"$f":"IF(E1739<>0,(IF(lfValidaCEP(E1739)=TRUE,\"Válido\",\"Inválido\")),\"\")","v":""}]
[null,null,null,null,null,null,null,null,null,null,{"$f":"IF(COUNTA(B1740:I1740)<>0,IF(AND(B1740<>0,C1740<>0,D1740<>0,E1740<>0,F1740<>0,G1740<>0,H1740<>0,I1740<>0),\"Completo\",\"Incompleto\"),\"\")","v":""},{"$f":"IF(C1740<>0,(IF(lfValidaCNPJ(C1740)=TRUE,\"Válido\",\"Inválido\")),\"\")","v":""},{"$f":"IF(E1740<>0,(IF(lfValidaCEP(E1740)=TRUE,\"Válido\",\"Inválido\")),\"\")","v":""}]
[null,null,null,null,null,null,null,null,null,null,"",{"$f":"IF(C1741<>0,(IF(lfValidaCNPJ(C1741)=TRUE,\"Válido\",\"Inválido\")),\"\")","v":""},{"$f":"IF(E1741<>0,(IF(lfValidaCEP(E1741)=TRUE,\"Válido\",\"Inválido\")),\"\")","v":""}]
[null,null,null,null,null,null,null,null,null,null,"",{"$f":"IF(C1742<>0,(IF(lfValidaCNPJ(C1742)=TRUE,\"Válido\",\"Inválido\")),\"\")","v":""},{"$f":"IF(E1742<>0,(IF(lfValidaCEP(E1742)=TRUE,\"Válido\",\"Inválido\")),\"\")","v":""}]
[null,null,null,null,null,null,null,null,null,null,"",{"$f":"IF(C1743<>0,(IF(lfValidaCNPJ(C1743)=TRUE,\"Válido\",\"Inválido\")),\"\")","v":""},{"$f":"IF(E1743<>0,(IF(lfValidaCEP(E1743)=TRUE,\"Válido\",\"Inválido\")),\"\")","v":""}]
[null,null,null,null,null,null,null,null,null,null,"",{"$f":"IF(C1744<>0,(IF(lfValidaCNPJ(C1744)=TRUE,\"Válido\",\"Inválido\")),\"\")","v":""},{"$f":"IF(E1744<>0,(IF(lfValidaCEP(E1744)=TRUE,\"Válido\",\"Inválido\")),\"\")","v":""}]
[null,null,null,null,null,null,null,null,null,null,"",{"$f":"IF(C1745<>0,(IF(lfValidaCNPJ(C1745)=TRUE,\"Válido\",\"Inválido\")),\"\")","v":""},{"$f":"IF(E1745<>0,(IF(lfValidaCEP(E1745)=TRUE,\"Válido\",\"Inválido\")),\"\")","v":""}]
[null,null,null,null,null,null,null,null,null,null,"",{"$f":"IF(C1746<>0,(IF(lfValidaCNPJ(C1746)=TRUE,\"Válido\",\"Inválido\")),\"\")","v":""},{"$f":"IF(E1746<>0,(IF(lfValidaCEP(E1746)=TRUE,\"Válido\",\"Inválido\")),\"\")","v":""}]
[null,null,null,null,null,null,null,null,null,null,"",{"$f":"IF(C1747<>0,(IF(lfValidaCNPJ(C1747)=TRUE,\"Válido\",\"Inválido\")),\"\")","v":""},{"$f":"IF(E1747<>0,(IF(lfValidaCEP(E1747)=TRUE,\"Válido\",\"Inválido\")),\"\")","v":""}]
[null,null,null,null,null,null,null,null,null,null,"",{"$f":"IF(C1748<>0,(IF(lfValidaCNPJ(C1748)=TRUE,\"Válido\",\"Inválido\")),\"\")","v":""},{"$f":"IF(E1748<>0,(IF(lfValidaCEP(E1748)=TRUE,\"Válido\",\"Inválido\")),\"\")","v":""}]
[null,null,null,null,null,null,null,null,null,null,"",{"$f":"IF(C1749<>0,(IF(lfValidaCNPJ(C1749)=TRUE,\"Válido\",\"Inválido\")),\"\")","v":""},{"$f":"IF(E1749<>0,(IF(lfValidaCEP(E1749)=TRUE,\"Válido\",\"Inválido\")),\"\")","v":""}]
[null,null,null,null,null,null,null,null,null,null,"",{"$f":"IF(C1750<>0,(IF(lfValidaCNPJ(C1750)=TRUE,\"Válido\",\"Inválido\")),\"\")","v":""},{"$f":"IF(E1750<>0,(IF(lfValidaCEP(E1750)=TRUE,\"Válido\",\"Inválido\")),\"\")","v":""}]
[null,null,null,null,null,null,null,null,null,null,"",{"$f":"IF(C1751<>0,(IF(lfValidaCNPJ(C1751)=TRUE,\"Válido\",\"Inválido\")),\"\")","v":""},{"$f":"IF(E1751<>0,(IF(lfValidaCEP(E1751)=TRUE,\"Válido\",\"Inválido\")),\"\")","v":""}]
[null,null,null,null,null,null,null,null,null,null,"",{"$f":"IF(C1752<>0,(IF(lfValidaCNPJ(C1752)=TRUE,\"Válido\",\"Inválido\")),\"\")","v":""},{"$f":"IF(E1752<>0,(IF(lfValidaCEP(E1752)=TRUE,\"Válido\",\"Inválido\")),\"\")","v":""}]
[null,null,null,null,null,null,null,null,null,null,"",{"$f":"IF(C1753<>0,(IF(lfValidaCNPJ(C1753)=TRUE,\"Válido\",\"Inválido\")),\"\")","v":""},{"$f":"IF(E1753<>0,(IF(lfValidaCEP(E1753)=TRUE,\"Válido\",\"Inválido\")),\"\")","v":""}]
[null,null,null,null,null,null,null,null,null,null,"",{"$f":"IF(C1754<>0,(IF(lfValidaCNPJ(C1754)=TRUE,\"Válido\",\"Inválido\")),\"\")","v":""},{"$f":"IF(E1754<>0,(IF(lfValidaCEP(E1754)=TRUE,\"Válido\",\"Inválido\")),\"\")","v":""}]
[null,null,null,null,null,null,null,null,null,null,"",{"$f":"IF(C1755<>0,(IF(lfValidaCNPJ(C1755)=TRUE,\"Válido\",\"Inválido\")),\"\")","v":""},{"$f":"IF(E1755<>0,(IF(lfValidaCEP(E1755)=TRUE,\"Válido\",\"Inválido\")),\"\")","v":""}]
[null,null,null,null,null,null,null,null,null,null,"",{"$f":"IF(C1756<>0,(IF(lfValidaCNPJ(C1756)=TRUE,\"Válido\",\"Inválido\")),\"\")","v":""},{"$f":"IF(E1756<>0,(IF(lfValidaCEP(E1756)=TRUE,\"Válido\",\"Inválido\")),\"\")","v":""}]
[null,null,null,null,null,null,null,null,null,null,"",{"$f":"IF(C1757<>0,(IF(lfValidaCNPJ(C1757)=TRUE,\"Válido\",\"Inválido\")),\"\")","v":""},{"$f":"IF(E1757<>0,(IF(lfValidaCEP(E1757)=TRUE,\"Válido\",\"Inválido\")),\"\")","v":""}]
[null,null,null,null,null,null,null,null,null,null,"",{"$f":"IF(C1758<>0,(IF(lfValidaCNPJ(C1758)=TRUE,\"Válido\",\"Inválido\")),\"\")","v":""},{"$f":"IF(E1758<>0,(IF(lfValidaCEP(E1758)=TRUE,\"Válido\",\"Inválido\")),\"\")","v":""}]
[null,null,null,null,null,null,null,null,null,null,"",{"$f":"IF(C1759<>0,(IF(lfValidaCNPJ(C1759)=TRUE,\"Válido\",\"Inválido\")),\"\")","v":""},{"$f":"IF(E1759<>0,(IF(lfValidaCEP(E1759)=TRUE,\"Válido\",\"Inválido\")),\"\")","v":""}]
[null,null,null,null,null,null,null,null,null,null,"",{"$f":"IF(C1760<>0,(IF(lfValidaCNPJ(C1760)=TRUE,\"Válido\",\"Inválido\")),\"\")","v":""},{"$f":"IF(E1760<>0,(IF(lfValidaCEP(E1760)=TRUE,\"Válido\",\"Inválido\")),\"\")","v":""}]
[null,null,null,null,null,null,null,null,null,null,"",{"$f":"IF(C1761<>0,(IF(lfValidaCNPJ(C1761)=TRUE,\"Válido\",\"Inválido\")),\"\")","v":""},{"$f":"IF(E1761<>0,(IF(lfValidaCEP(E1761)=TRUE,\"Válido\",\"Inválido\")),\"\")","v":""}]
[null,null,null,null,null,null,null,null,null,null,"",{"$f":"IF(C1762<>0,(IF(lfValidaCNPJ(C1762)=TRUE,\"Válido\",\"Inválido\")),\"\")","v":""},{"$f":"IF(E1762<>0,(IF(lfValidaCEP(E1762)=TRUE,\"Válido\",\"Inválido\")),\"\")","v":""}]
[null,null,null,null,null,null,null,null,null,null,"",{"$f":"IF(C1763<>0,(IF(lfValidaCNPJ(C1763)=TRUE,\"Válido\",\"Inválido\")),\"\")","v":""},{"$f":"IF(E1763<>0,(IF(lfValidaCEP(E1763)=TRUE,\"Válido\",\"Inválido\")),\"\")","v":""}]
[null,null,null,null,null,null,null,null,null,null,"",{"$f":"IF(C1764<>0,(IF(lfValidaCNPJ(C1764)=TRUE,\"Válido\",\"Inválido\")),\"\")","v":""},{"$f":"IF(E1764<>0,(IF(lfValidaCEP(E1764)=TRUE,\"Válido\",\"Inválido\")),\"\")","v":""}]
[null,null,null,null,null,null,null,null,null,null,"",{"$f":"IF(C1765<>0,(IF(lfValidaCNPJ(C1765)=TRUE,\"Válido\",\"Inválido\")),\"\")","v":""},{"$f":"IF(E1765<>0,(IF(lfValidaCEP(E1765)=TRUE,\"Válido\",\"Inválido\")),\"\")","v":""}]
[null,null,null,null,null,null,null,null,null,null,"",{"$f":"IF(C1766<>0,(IF(lfValidaCNPJ(C1766)=TRUE,\"Válido\",\"Inválido\")),\"\")","v":""},{"$f":"IF(E1766<>0,(IF(lfValidaCEP(E1766)=TRUE,\"Válido\",\"Inválido\")),\"\")","v":""}]
[null,null,null,null,null,null,null,null,null,null,"",{"$f":"IF(C1767<>0,(IF(lfValidaCNPJ(C1767)=TRUE,\"Válido\",\"Inválido\")),\"\")","v":""},{"$f":"IF(E1767<>0,(IF(lfValidaCEP(E1767)=TRUE,\"Válido\",\"Inválido\")),\"\")","v":""}]
[null,null,null,null,null,null,null,null,null,null,"",{"$f":"IF(C1768<>0,(IF(lfValidaCNPJ(C1768)=TRUE,\"Válido\",\"Inválido\")),\"\")","v":""},{"$f":"IF(E1768<>0,(IF(lfValidaCEP(E1768)=TRUE,\"Válido\",\"Inválido\")),\"\")","v":""}]
[null,null,null,null,null,null,null,null,null,null,"",{"$f":"IF(C1769<>0,(IF(lfValidaCNPJ(C1769)=TRUE,\"Válido\",\"Inválido\")),\"\")","v":""},{"$f":"IF(E1769<>0,(IF(lfValidaCEP(E1769)=TRUE,\"Válido\",\"Inválido\")),\"\")","v":""}]
[null,null,null,null,null,null,null,null,null,null,"",{"$f":"IF(C1770<>0,(IF(lfValidaCNPJ(C1770)=TRUE,\"Válido\",\"Inválido\")),\"\")","v":""},{"$f":"IF(E1770<>0,(IF(lfValidaCEP(E1770)=TRUE,\"Válido\",\"Inválido\")),\"\")","v":""}]
[null,null,null,null,null,null,null,null,null,null,"",{"$f":"IF(C1771<>0,(IF(lfValidaCNPJ(C1771)=TRUE,\"Válido\",\"Inválido\")),\"\")","v":""},{"$f":"IF(E1771<>0,(IF(lfValidaCEP(E1771)=TRUE,\"Válido\",\"Inválido\")),\"\")","v":""}]
[null,null,null,null,null,null,null,null,null,null,"",{"$f":"IF(C1772<>0,(IF(lfValidaCNPJ(C1772)=TRUE,\"Válido\",\"Inválido\")),\"\")","v":""},{"$f":"IF(E1772<>0,(IF(lfValidaCEP(E1772)=TRUE,\"Válido\",\"Inválido\")),\"\")","v":""}]
[null,null,null,null,null,null,null,null,null,null,"",{"$f":"IF(C1773<>0,(IF(lfValidaCNPJ(C1773)=TRUE,\"Válido\",\"Inválido\")),\"\")","v":""},{"$f":"IF(E1773<>0,(IF(lfValidaCEP(E1773)=TRUE,\"Válido\",\"Inválido\")),\"\")","v":""}]
[null,null,null,null,null,null,null,null,null,null,"",{"$f":"IF(C1774<>0,(IF(lfValidaCNPJ(C1774)=TRUE,\"Válido\",\"Inválido\")),\"\")","v":""},{"$f":"IF(E1774<>0,(IF(lfValidaCEP(E1774)=TRUE,\"Válido\",\"Inválido\")),\"\")","v":""}]
[null,null,null,null,null,null,null,null,null,null,"",{"$f":"IF(C1775<>0,(IF(lfValidaCNPJ(C1775)=TRUE,\"Válido\",\"Inválido\")),\"\")","v":""},{"$f":"IF(E1775<>0,(IF(lfValidaCEP(E1775)=TRUE,\"Válido\",\"Inválido\")),\"\")","v":""}]
[null,null,null,null,null,null,null,null,null,null,"",{"$f":"IF(C1776<>0,(IF(lfValidaCNPJ(C1776)=TRUE,\"Válido\",\"Inválido\")),\"\")","v":""},{"$f":"IF(E1776<>0,(IF(lfValidaCEP(E1776)=TRUE,\"Válido\",\"Inválido\")),\"\")","v":""}]
[null,null,null,null,null,null,null,null,null,null,"",{"$f":"IF(C1777<>0,(IF(lfValidaCNPJ(C1777)=TRUE,\"Válido\",\"Inválido\")),\"\")","v":""},{"$f":"IF(E1777<>0,(IF(lfValidaCEP(E1777)=TRUE,\"Válido\",\"Inválido\")),\"\")","v":""}]
[null,null,null,null,null,null,null,null,null,null,"",{"$f":"IF(C1778<>0,(IF(lfValidaCNPJ(C1778)=TRUE,\"Válido\",\"Inválido\")),\"\")","v":""},{"$f":"IF(E1778<>0,(IF(lfValidaCEP(E1778)=TRUE,\"Válido\",\"Inválido\")),\"\")","v":""}]
[null,null,null,null,null,null,null,null,null,null,"",{"$f":"IF(C1779<>0,(IF(lfValidaCNPJ(C1779)=TRUE,\"Válido\",\"Inválido\")),\"\")","v":""},{"$f":"IF(E1779<>0,(IF(lfValidaCEP(E1779)=TRUE,\"Válido\",\"Inválido\")),\"\")","v":""}]
[null,null,null,null,null,null,null,null,null,null,"",{"$f":"IF(C1780<>0,(IF(lfValidaCNPJ(C1780)=TRUE,\"Válido\",\"Inválido\")),\"\")","v":""},{"$f":"IF(E1780<>0,(IF(lfValidaCEP(E1780)=TRUE,\"Válido\",\"Inválido\")),\"\")","v":""}]
[null,null,null,null,null,null,null,null,null,null,"",{"$f":"IF(C1781<>0,(IF(lfValidaCNPJ(C1781)=TRUE,\"Válido\",\"Inválido\")),\"\")","v":""},{"$f":"IF(E1781<>0,(IF(lfValidaCEP(E1781)=TRUE,\"Válido\",\"Inválido\")),\"\")","v":""}]
[null,null,null,null,null,null,null,null,null,null,"",{"$f":"IF(C1782<>0,(IF(lfValidaCNPJ(C1782)=TRUE,\"Válido\",\"Inválido\")),\"\")","v":""},{"$f":"IF(E1782<>0,(IF(lfValidaCEP(E1782)=TRUE,\"Válido\",\"Inválido\")),\"\")","v":""}]
[null,null,null,null,null,null,null,null,null,null,"",{"$f":"IF(C1783<>0,(IF(lfValidaCNPJ(C1783)=TRUE,\"Válido\",\"Inválido\")),\"\")","v":""},{"$f":"IF(E1783<>0,(IF(lfValidaCEP(E1783)=TRUE,\"Válido\",\"Inválido\")),\"\")","v":""}]
[null,null,null,null,null,null,null,null,null,null,"",{"$f":"IF(C1784<>0,(IF(lfValidaCNPJ(C1784)=TRUE,\"Válido\",\"Inválido\")),\"\")","v":""},{"$f":"IF(E1784<>0,(IF(lfValidaCEP(E1784)=TRUE,\"Válido\",\"Inválido\")),\"\")","v":""}]
[null,null,null,null,null,null,null,null,null,null,"",{"$f":"IF(C1785<>0,(IF(lfValidaCNPJ(C1785)=TRUE,\"Válido\",\"Inválido\")),\"\")","v":""},{"$f":"IF(E1785<>0,(IF(lfValidaCEP(E1785)=TRUE,\"Válido\",\"Inválido\")),\"\")","v":""}]
[null,null,null,null,null,null,null,null,null,null,"",{"$f":"IF(C1786<>0,(IF(lfValidaCNPJ(C1786)=TRUE,\"Válido\",\"Inválido\")),\"\")","v":""},{"$f":"IF(E1786<>0,(IF(lfValidaCEP(E1786)=TRUE,\"Válido\",\"Inválido\")),\"\")","v":""}]
[null,null,null,null,null,null,null,null,null,null,"",{"$f":"IF(C1787<>0,(IF(lfValidaCNPJ(C1787)=TRUE,\"Válido\",\"Inválido\")),\"\")","v":""},{"$f":"IF(E1787<>0,(IF(lfValidaCEP(E1787)=TRUE,\"Válido\",\"Inválido\")),\"\")","v":""}]
[null,null,null,null,null,null,null,null,null,null,"",{"$f":"IF(C1788<>0,(IF(lfValidaCNPJ(C1788)=TRUE,\"Válido\",\"Inválido\")),\"\")","v":""},{"$f":"IF(E1788<>0,(IF(lfValidaCEP(E1788)=TRUE,\"Válido\",\"Inválido\")),\"\")","v":""}]
[null,null,null,null,null,null,null,null,null,null,"",{"$f":"IF(C1789<>0,(IF(lfValidaCNPJ(C1789)=TRUE,\"Válido\",\"Inválido\")),\"\")","v":""},{"$f":"IF(E1789<>0,(IF(lfValidaCEP(E1789)=TRUE,\"Válido\",\"Inválido\")),\"\")","v":""}]
[null,null,null,null,null,null,null,null,null,null,"",{"$f":"IF(C1790<>0,(IF(lfValidaCNPJ(C1790)=TRUE,\"Válido\",\"Inválido\")),\"\")","v":""},{"$f":"IF(E1790<>0,(IF(lfValidaCEP(E1790)=TRUE,\"Válido\",\"Inválido\")),\"\")","v":""}]
[null,null,null,null,null,null,null,null,null,null,"",{"$f":"IF(C1791<>0,(IF(lfValidaCNPJ(C1791)=TRUE,\"Válido\",\"Inválido\")),\"\")","v":""},{"$f":"IF(E1791<>0,(IF(lfValidaCEP(E1791)=TRUE,\"Válido\",\"Inválido\")),\"\")","v":""}]
[null,null,null,null,null,null,null,null,null,null,"",{"$f":"IF(C1792<>0,(IF(lfValidaCNPJ(C1792)=TRUE,\"Válido\",\"Inválido\")),\"\")","v":""},{"$f":"IF(E1792<>0,(IF(lfValidaCEP(E1792)=TRUE,\"Válido\",\"Inválido\")),\"\")","v":""}]
[null,null,null,null,null,null,null,null,null,null,"",{"$f":"IF(C1793<>0,(IF(lfValidaCNPJ(C1793)=TRUE,\"Válido\",\"Inválido\")),\"\")","v":""},{"$f":"IF(E1793<>0,(IF(lfValidaCEP(E1793)=TRUE,\"Válido\",\"Inválido\")),\"\")","v":""}]
[null,null,null,null,null,null,null,null,null,null,"",{"$f":"IF(C1794<>0,(IF(lfValidaCNPJ(C1794)=TRUE,\"Válido\",\"Inválido\")),\"\")","v":""},{"$f":"IF(E1794<>0,(IF(lfValidaCEP(E1794)=TRUE,\"Válido\",\"Inválido\")),\"\")","v":""}]
[null,null,null,null,null,null,null,null,null,null,"",{"$f":"IF(C1795<>0,(IF(lfValidaCNPJ(C1795)=TRUE,\"Válido\",\"Inválido\")),\"\")","v":""},{"$f":"IF(E1795<>0,(IF(lfValidaCEP(E1795)=TRUE,\"Válido\",\"Inválido\")),\"\")","v":""}]
[null,null,null,null,null,null,null,null,null,null,"",{"$f":"IF(C1796<>0,(IF(lfValidaCNPJ(C1796)=TRUE,\"Válido\",\"Inválido\")),\"\")","v":""},{"$f":"IF(E1796<>0,(IF(lfValidaCEP(E1796)=TRUE,\"Válido\",\"Inválido\")),\"\")","v":""}]
[null,null,null,null,null,null,null,null,null,null,"",{"$f":"IF(C1797<>0,(IF(lfValidaCNPJ(C1797)=TRUE,\"Válido\",\"Inválido\")),\"\")","v":""},{"$f":"IF(E1797<>0,(IF(lfValidaCEP(E1797)=TRUE,\"Válido\",\"Inválido\")),\"\")","v":""}]
[null,null,null,null,null,null,null,null,null,null,"",{"$f":"IF(C1798<>0,(IF(lfValidaCNPJ(C1798)=TRUE,\"Válido\",\"Inválido\")),\"\")","v":""},{"$f":"IF(E1798<>0,(IF(lfValidaCEP(E1798)=TRUE,\"Válido\",\"Inválido\")),\"\")","v":""}]
[null,null,null,null,null,null,null,null,null,null,"",{"$f":"IF(C1799<>0,(IF(lfValidaCNPJ(C1799)=TRUE,\"Válido\",\"Inválido\")),\"\")","v":""},{"$f":"IF(E1799<>0,(IF(lfValidaCEP(E1799)=TRUE,\"Válido\",\"Inválido\")),\"\")","v":""}]
[null,null,null,null,null,null,null,null,null,null,"",{"$f":"IF(C1800<>0,(IF(lfValidaCNPJ(C1800)=TRUE,\"Válido\",\"Inválido\")),\"\")","v":""},{"$f":"IF(E1800<>0,(IF(lfValidaCEP(E1800)=TRUE,\"Válido\",\"Inválido\")),\"\")","v":""}]
[null,null,null,null,null,null,null,null,null,null,"",{"$f":"IF(C1801<>0,(IF(lfValidaCNPJ(C1801)=TRUE,\"Válido\",\"Inválido\")),\"\")","v":""},{"$f":"IF(E1801<>0,(IF(lfValidaCEP(E1801)=TRUE,\"Válido\",\"Inválido\")),\"\")","v":""}]
[null,null,null,null,null,null,null,null,null,null,"",{"$f":"IF(C1802<>0,(IF(lfValidaCNPJ(C1802)=TRUE,\"Válido\",\"Inválido\")),\"\")","v":""},{"$f":"IF(E1802<>0,(IF(lfValidaCEP(E1802)=TRUE,\"Válido\",\"Inválido\")),\"\")","v":""}]
[null,null,null,null,null,null,null,null,null,null,"",{"$f":"IF(C1803<>0,(IF(lfValidaCNPJ(C1803)=TRUE,\"Válido\",\"Inválido\")),\"\")","v":""},{"$f":"IF(E1803<>0,(IF(lfValidaCEP(E1803)=TRUE,\"Válido\",\"Inválido\")),\"\")","v":""}]
[null,null,null,null,null,null,null,null,null,null,{"$f":"IF(COUNTA(B1804:I1804)<>0,IF(AND(B1804<>0,C1804<>0,D1804<>0,E1804<>0,F1804<>0,G1804<>0,H1804<>0,I1804<>0),\"Completo\",\"Incompleto\"),\"\")","v":""},{"$f":"IF(C1804<>0,(IF(lfValidaCNPJ(C1804)=TRUE,\"Válido\",\"Inválido\")),\"\")","v":""},{"$f":"IF(E1804<>0,(IF(lfValidaCEP(E1804)=TRUE,\"Válido\",\"Inválido\")),\"\")","v":""}]
[null,null,null,null,null,null,null,null,null,null,"",{"$f":"IF(C1805<>0,(IF(lfValidaCNPJ(C1805)=TRUE,\"Válido\",\"Inválido\")),\"\")","v":""},{"$f":"IF(E1805<>0,(IF(lfValidaCEP(E1805)=TRUE,\"Válido\",\"Inválido\")),\"\")","v":""}]
[null,null,null,null,null,null,null,null,null,null,"",{"$f":"IF(C1806<>0,(IF(lfValidaCNPJ(C1806)=TRUE,\"Válido\",\"Inválido\")),\"\")","v":""},{"$f":"IF(E1806<>0,(IF(lfValidaCEP(E1806)=TRUE,\"Válido\",\"Inválido\")),\"\")","v":""}]
[null,null,null,null,null,null,null,null,null,null,"",{"$f":"IF(C1807<>0,(IF(lfValidaCNPJ(C1807)=TRUE,\"Válido\",\"Inválido\")),\"\")","v":""},{"$f":"IF(E1807<>0,(IF(lfValidaCEP(E1807)=TRUE,\"Válido\",\"Inválido\")),\"\")","v":""}]
[null,null,null,null,null,null,null,null,null,null,"",{"$f":"IF(C1808<>0,(IF(lfValidaCNPJ(C1808)=TRUE,\"Válido\",\"Inválido\")),\"\")","v":""},{"$f":"IF(E1808<>0,(IF(lfValidaCEP(E1808)=TRUE,\"Válido\",\"Inválido\")),\"\")","v":""}]
[null,null,null,null,null,null,null,null,null,null,"",{"$f":"IF(C1809<>0,(IF(lfValidaCNPJ(C1809)=TRUE,\"Válido\",\"Inválido\")),\"\")","v":""},{"$f":"IF(E1809<>0,(IF(lfValidaCEP(E1809)=TRUE,\"Válido\",\"Inválido\")),\"\")","v":""}]
[null,null,null,null,null,null,null,null,null,null,"",{"$f":"IF(C1810<>0,(IF(lfValidaCNPJ(C1810)=TRUE,\"Válido\",\"Inválido\")),\"\")","v":""},{"$f":"IF(E1810<>0,(IF(lfValidaCEP(E1810)=TRUE,\"Válido\",\"Inválido\")),\"\")","v":""}]
[null,null,null,null,null,null,null,null,null,null,"",{"$f":"IF(C1811<>0,(IF(lfValidaCNPJ(C1811)=TRUE,\"Válido\",\"Inválido\")),\"\")","v":""},{"$f":"IF(E1811<>0,(IF(lfValidaCEP(E1811)=TRUE,\"Válido\",\"Inválido\")),\"\")","v":""}]
[null,null,null,null,null,null,null,null,null,null,"",{"$f":"IF(C1812<>0,(IF(lfValidaCNPJ(C1812)=TRUE,\"Válido\",\"Inválido\")),\"\")","v":""},{"$f":"IF(E1812<>0,(IF(lfValidaCEP(E1812)=TRUE,\"Válido\",\"Inválido\")),\"\")","v":""}]
[null,null,null,null,null,null,null,null,null,null,"",{"$f":"IF(C1813<>0,(IF(lfValidaCNPJ(C1813)=TRUE,\"Válido\",\"Inválido\")),\"\")","v":""},{"$f":"IF(E1813<>0,(IF(lfValidaCEP(E1813)=TRUE,\"Válido\",\"Inválido\")),\"\")","v":""}]
[null,null,null,null,null,null,null,null,null,null,"",{"$f":"IF(C1814<>0,(IF(lfValidaCNPJ(C1814)=TRUE,\"Válido\",\"Inválido\")),\"\")","v":""},{"$f":"IF(E1814<>0,(IF(lfValidaCEP(E1814)=TRUE,\"Válido\",\"Inválido\")),\"\")","v":""}]
[null,null,null,null,null,null,null,null,null,null,"",{"$f":"IF(C1815<>0,(IF(lfValidaCNPJ(C1815)=TRUE,\"Válido\",\"Inválido\")),\"\")","v":""},{"$f":"IF(E1815<>0,(IF(lfValidaCEP(E1815)=TRUE,\"Válido\",\"Inválido\")),\"\")","v":""}]
[null,null,null,null,null,null,null,null,null,null,"",{"$f":"IF(C1816<>0,(IF(lfValidaCNPJ(C1816)=TRUE,\"Válido\",\"Inválido\")),\"\")","v":""},{"$f":"IF(E1816<>0,(IF(lfValidaCEP(E1816)=TRUE,\"Válido\",\"Inválido\")),\"\")","v":""}]
[null,null,null,null,null,null,null,null,null,null,"",{"$f":"IF(C1817<>0,(IF(lfValidaCNPJ(C1817)=TRUE,\"Válido\",\"Inválido\")),\"\")","v":""},{"$f":"IF(E1817<>0,(IF(lfValidaCEP(E1817)=TRUE,\"Válido\",\"Inválido\")),\"\")","v":""}]
[null,null,null,null,null,null,null,null,null,null,"",{"$f":"IF(C1818<>0,(IF(lfValidaCNPJ(C1818)=TRUE,\"Válido\",\"Inválido\")),\"\")","v":""},{"$f":"IF(E1818<>0,(IF(lfValidaCEP(E1818)=TRUE,\"Válido\",\"Inválido\")),\"\")","v":""}]
[null,null,null,null,null,null,null,null,null,null,"",{"$f":"IF(C1819<>0,(IF(lfValidaCNPJ(C1819)=TRUE,\"Válido\",\"Inválido\")),\"\")","v":""},{"$f":"IF(E1819<>0,(IF(lfValidaCEP(E1819)=TRUE,\"Válido\",\"Inválido\")),\"\")","v":""}]
[null,null,null,null,null,null,null,null,null,null,"",{"$f":"IF(C1820<>0,(IF(lfValidaCNPJ(C1820)=TRUE,\"Válido\",\"Inválido\")),\"\")","v":""},{"$f":"IF(E1820<>0,(IF(lfValidaCEP(E1820)=TRUE,\"Válido\",\"Inválido\")),\"\")","v":""}]
[null,null,null,null,null,null,null,null,null,null,"",{"$f":"IF(C1821<>0,(IF(lfValidaCNPJ(C1821)=TRUE,\"Válido\",\"Inválido\")),\"\")","v":""},{"$f":"IF(E1821<>0,(IF(lfValidaCEP(E1821)=TRUE,\"Válido\",\"Inválido\")),\"\")","v":""}]
[null,null,null,null,null,null,null,null,null,null,"",{"$f":"IF(C1822<>0,(IF(lfValidaCNPJ(C1822)=TRUE,\"Válido\",\"Inválido\")),\"\")","v":""},{"$f":"IF(E1822<>0,(IF(lfValidaCEP(E1822)=TRUE,\"Válido\",\"Inválido\")),\"\")","v":""}]
[null,null,null,null,null,null,null,null,null,null,"",{"$f":"IF(C1823<>0,(IF(lfValidaCNPJ(C1823)=TRUE,\"Válido\",\"Inválido\")),\"\")","v":""},{"$f":"IF(E1823<>0,(IF(lfValidaCEP(E1823)=TRUE,\"Válido\",\"Inválido\")),\"\")","v":""}]
[null,null,null,null,null,null,null,null,null,null,"",{"$f":"IF(C1824<>0,(IF(lfValidaCNPJ(C1824)=TRUE,\"Válido\",\"Inválido\")),\"\")","v":""},{"$f":"IF(E1824<>0,(IF(lfValidaCEP(E1824)=TRUE,\"Válido\",\"Inválido\")),\"\")","v":""}]
[null,null,null,null,null,null,null,null,null,null,"",{"$f":"IF(C1825<>0,(IF(lfValidaCNPJ(C1825)=TRUE,\"Válido\",\"Inválido\")),\"\")","v":""},{"$f":"IF(E1825<>0,(IF(lfValidaCEP(E1825)=TRUE,\"Válido\",\"Inválido\")),\"\")","v":""}]
[null,null,null,null,null,null,null,null,null,null,"",{"$f":"IF(C1826<>0,(IF(lfValidaCNPJ(C1826)=TRUE,\"Válido\",\"Inválido\")),\"\")","v":""},{"$f":"IF(E1826<>0,(IF(lfValidaCEP(E1826)=TRUE,\"Válido\",\"Inválido\")),\"\")","v":""}]
[null,null,null,null,null,null,null,null,null,null,"",{"$f":"IF(C1827<>0,(IF(lfValidaCNPJ(C1827)=TRUE,\"Válido\",\"Inválido\")),\"\")","v":""},{"$f":"IF(E1827<>0,(IF(lfValidaCEP(E1827)=TRUE,\"Válido\",\"Inválido\")),\"\")","v":""}]
[null,null,null,null,null,null,null,null,null,null,"",{"$f":"IF(C1828<>0,(IF(lfValidaCNPJ(C1828)=TRUE,\"Válido\",\"Inválido\")),\"\")","v":""},{"$f":"IF(E1828<>0,(IF(lfValidaCEP(E1828)=TRUE,\"Válido\",\"Inválido\")),\"\")","v":""}]
[null,null,null,null,null,null,null,null,null,null,"",{"$f":"IF(C1829<>0,(IF(lfValidaCNPJ(C1829)=TRUE,\"Válido\",\"Inválido\")),\"\")","v":""},{"$f":"IF(E1829<>0,(IF(lfValidaCEP(E1829)=TRUE,\"Válido\",\"Inválido\")),\"\")","v":""}]
[null,null,null,null,null,null,null,null,null,null,"",{"$f":"IF(C1830<>0,(IF(lfValidaCNPJ(C1830)=TRUE,\"Válido\",\"Inválido\")),\"\")","v":""},{"$f":"IF(E1830<>0,(IF(lfValidaCEP(E1830)=TRUE,\"Válido\",\"Inválido\")),\"\")","v":""}]
[null,null,null,null,null,null,null,null,null,null,"",{"$f":"IF(C1831<>0,(IF(lfValidaCNPJ(C1831)=TRUE,\"Válido\",\"Inválido\")),\"\")","v":""},{"$f":"IF(E1831<>0,(IF(lfValidaCEP(E1831)=TRUE,\"Válido\",\"Inválido\")),\"\")","v":""}]
[null,null,null,null,null,null,null,null,null,null,"",{"$f":"IF(C1832<>0,(IF(lfValidaCNPJ(C1832)=TRUE,\"Válido\",\"Inválido\")),\"\")","v":""},{"$f":"IF(E1832<>0,(IF(lfValidaCEP(E1832)=TRUE,\"Válido\",\"Inválido\")),\"\")","v":""}]
[null,null,null,null,null,null,null,null,null,null,"",{"$f":"IF(C1833<>0,(IF(lfValidaCNPJ(C1833)=TRUE,\"Válido\",\"Inválido\")),\"\")","v":""},{"$f":"IF(E1833<>0,(IF(lfValidaCEP(E1833)=TRUE,\"Válido\",\"Inválido\")),\"\")","v":""}]
[null,null,null,null,null,null,null,null,null,null,"",{"$f":"IF(C1834<>0,(IF(lfValidaCNPJ(C1834)=TRUE,\"Válido\",\"Inválido\")),\"\")","v":""},{"$f":"IF(E1834<>0,(IF(lfValidaCEP(E1834)=TRUE,\"Válido\",\"Inválido\")),\"\")","v":""}]
[null,null,null,null,null,null,null,null,null,null,"",{"$f":"IF(C1835<>0,(IF(lfValidaCNPJ(C1835)=TRUE,\"Válido\",\"Inválido\")),\"\")","v":""},{"$f":"IF(E1835<>0,(IF(lfValidaCEP(E1835)=TRUE,\"Válido\",\"Inválido\")),\"\")","v":""}]
[null,null,null,null,null,null,null,null,null,null,"",{"$f":"IF(C1836<>0,(IF(lfValidaCNPJ(C1836)=TRUE,\"Válido\",\"Inválido\")),\"\")","v":""},{"$f":"IF(E1836<>0,(IF(lfValidaCEP(E1836)=TRUE,\"Válido\",\"Inválido\")),\"\")","v":""}]
[null,null,null,null,null,null,null,null,null,null,"",{"$f":"IF(C1837<>0,(IF(lfValidaCNPJ(C1837)=TRUE,\"Válido\",\"Inválido\")),\"\")","v":""},{"$f":"IF(E1837<>0,(IF(lfValidaCEP(E1837)=TRUE,\"Válido\",\"Inválido\")),\"\")","v":""}]
[null,null,null,null,null,null,null,null,null,null,"",{"$f":"IF(C1838<>0,(IF(lfValidaCNPJ(C1838)=TRUE,\"Válido\",\"Inválido\")),\"\")","v":""},{"$f":"IF(E1838<>0,(IF(lfValidaCEP(E1838)=TRUE,\"Válido\",\"Inválido\")),\"\")","v":""}]
[null,null,null,null,null,null,null,null,null,null,"",{"$f":"IF(C1839<>0,(IF(lfValidaCNPJ(C1839)=TRUE,\"Válido\",\"Inválido\")),\"\")","v":""},{"$f":"IF(E1839<>0,(IF(lfValidaCEP(E1839)=TRUE,\"Válido\",\"Inválido\")),\"\")","v":""}]
[null,null,null,null,null,null,null,null,null,null,"",{"$f":"IF(C1840<>0,(IF(lfValidaCNPJ(C1840)=TRUE,\"Válido\",\"Inválido\")),\"\")","v":""},{"$f":"IF(E1840<>0,(IF(lfValidaCEP(E1840)=TRUE,\"Válido\",\"Inválido\")),\"\")","v":""}]
[null,null,null,null,null,null,null,null,null,null,"",{"$f":"IF(C1841<>0,(IF(lfValidaCNPJ(C1841)=TRUE,\"Válido\",\"Inválido\")),\"\")","v":""},{"$f":"IF(E1841<>0,(IF(lfValidaCEP(E1841)=TRUE,\"Válido\",\"Inválido\")),\"\")","v":""}]
[null,null,null,null,null,null,null,null,null,null,"",{"$f":"IF(C1842<>0,(IF(lfValidaCNPJ(C1842)=TRUE,\"Válido\",\"Inválido\")),\"\")","v":""},{"$f":"IF(E1842<>0,(IF(lfValidaCEP(E1842)=TRUE,\"Válido\",\"Inválido\")),\"\")","v":""}]
[null,null,null,null,null,null,null,null,null,null,"",{"$f":"IF(C1843<>0,(IF(lfValidaCNPJ(C1843)=TRUE,\"Válido\",\"Inválido\")),\"\")","v":""},{"$f":"IF(E1843<>0,(IF(lfValidaCEP(E1843)=TRUE,\"Válido\",\"Inválido\")),\"\")","v":""}]
[null,null,null,null,null,null,null,null,null,null,"",{"$f":"IF(C1844<>0,(IF(lfValidaCNPJ(C1844)=TRUE,\"Válido\",\"Inválido\")),\"\")","v":""},{"$f":"IF(E1844<>0,(IF(lfValidaCEP(E1844)=TRUE,\"Válido\",\"Inválido\")),\"\")","v":""}]
[null,null,null,null,null,null,null,null,null,null,"",{"$f":"IF(C1845<>0,(IF(lfValidaCNPJ(C1845)=TRUE,\"Válido\",\"Inválido\")),\"\")","v":""},{"$f":"IF(E1845<>0,(IF(lfValidaCEP(E1845)=TRUE,\"Válido\",\"Inválido\")),\"\")","v":""}]
[null,null,null,null,null,null,null,null,null,null,"",{"$f":"IF(C1846<>0,(IF(lfValidaCNPJ(C1846)=TRUE,\"Válido\",\"Inválido\")),\"\")","v":""},{"$f":"IF(E1846<>0,(IF(lfValidaCEP(E1846)=TRUE,\"Válido\",\"Inválido\")),\"\")","v":""}]
[null,null,null,null,null,null,null,null,null,null,"",{"$f":"IF(C1847<>0,(IF(lfValidaCNPJ(C1847)=TRUE,\"Válido\",\"Inválido\")),\"\")","v":""},{"$f":"IF(E1847<>0,(IF(lfValidaCEP(E1847)=TRUE,\"Válido\",\"Inválido\")),\"\")","v":""}]
[null,null,null,null,null,null,null,null,null,null,"",{"$f":"IF(C1848<>0,(IF(lfValidaCNPJ(C1848)=TRUE,\"Válido\",\"Inválido\")),\"\")","v":""},{"$f":"IF(E1848<>0,(IF(lfValidaCEP(E1848)=TRUE,\"Válido\",\"Inválido\")),\"\")","v":""}]
[null,null,null,null,null,null,null,null,null,null,"",{"$f":"IF(C1849<>0,(IF(lfValidaCNPJ(C1849)=TRUE,\"Válido\",\"Inválido\")),\"\")","v":""},{"$f":"IF(E1849<>0,(IF(lfValidaCEP(E1849)=TRUE,\"Válido\",\"Inválido\")),\"\")","v":""}]
[null,null,null,null,null,null,null,null,null,null,"",{"$f":"IF(C1850<>0,(IF(lfValidaCNPJ(C1850)=TRUE,\"Válido\",\"Inválido\")),\"\")","v":""},{"$f":"IF(E1850<>0,(IF(lfValidaCEP(E1850)=TRUE,\"Válido\",\"Inválido\")),\"\")","v":""}]
[null,null,null,null,null,null,null,null,null,null,"",{"$f":"IF(C1851<>0,(IF(lfValidaCNPJ(C1851)=TRUE,\"Válido\",\"Inválido\")),\"\")","v":""},{"$f":"IF(E1851<>0,(IF(lfValidaCEP(E1851)=TRUE,\"Válido\",\"Inválido\")),\"\")","v":""}]
[null,null,null,null,null,null,null,null,null,null,"",{"$f":"IF(C1852<>0,(IF(lfValidaCNPJ(C1852)=TRUE,\"Válido\",\"Inválido\")),\"\")","v":""},{"$f":"IF(E1852<>0,(IF(lfValidaCEP(E1852)=TRUE,\"Válido\",\"Inválido\")),\"\")","v":""}]
[null,null,null,null,null,null,null,null,null,null,"",{"$f":"IF(C1853<>0,(IF(lfValidaCNPJ(C1853)=TRUE,\"Válido\",\"Inválido\")),\"\")","v":""},{"$f":"IF(E1853<>0,(IF(lfValidaCEP(E1853)=TRUE,\"Válido\",\"Inválido\")),\"\")","v":""}]
[null,null,null,null,null,null,null,null,null,null,"",{"$f":"IF(C1854<>0,(IF(lfValidaCNPJ(C1854)=TRUE,\"Válido\",\"Inválido\")),\"\")","v":""},{"$f":"IF(E1854<>0,(IF(lfValidaCEP(E1854)=TRUE,\"Válido\",\"Inválido\")),\"\")","v":""}]
[null,null,null,null,null,null,null,null,null,null,"",{"$f":"IF(C1855<>0,(IF(lfValidaCNPJ(C1855)=TRUE,\"Válido\",\"Inválido\")),\"\")","v":""},{"$f":"IF(E1855<>0,(IF(lfValidaCEP(E1855)=TRUE,\"Válido\",\"Inválido\")),\"\")","v":""}]
[null,null,null,null,null,null,null,null,null,null,"",{"$f":"IF(C1856<>0,(IF(lfValidaCNPJ(C1856)=TRUE,\"Válido\",\"Inválido\")),\"\")","v":""},{"$f":"IF(E1856<>0,(IF(lfValidaCEP(E1856)=TRUE,\"Válido\",\"Inválido\")),\"\")","v":""}]
[null,null,null,null,null,null,null,null,null,null,"",{"$f":"IF(C1857<>0,(IF(lfValidaCNPJ(C1857)=TRUE,\"Válido\",\"Inválido\")),\"\")","v":""},{"$f":"IF(E1857<>0,(IF(lfValidaCEP(E1857)=TRUE,\"Válido\",\"Inválido\")),\"\")","v":""}]
[null,null,null,null,null,null,null,null,null,null,"",{"$f":"IF(C1858<>0,(IF(lfValidaCNPJ(C1858)=TRUE,\"Válido\",\"Inválido\")),\"\")","v":""},{"$f":"IF(E1858<>0,(IF(lfValidaCEP(E1858)=TRUE,\"Válido\",\"Inválido\")),\"\")","v":""}]
[null,null,null,null,null,null,null,null,null,null,"",{"$f":"IF(C1859<>0,(IF(lfValidaCNPJ(C1859)=TRUE,\"Válido\",\"Inválido\")),\"\")","v":""},{"$f":"IF(E1859<>0,(IF(lfValidaCEP(E1859)=TRUE,\"Válido\",\"Inválido\")),\"\")","v":""}]
[null,null,null,null,null,null,null,null,null,null,"",{"$f":"IF(C1860<>0,(IF(lfValidaCNPJ(C1860)=TRUE,\"Válido\",\"Inválido\")),\"\")","v":""},{"$f":"IF(E1860<>0,(IF(lfValidaCEP(E1860)=TRUE,\"Válido\",\"Inválido\")),\"\")","v":""}]
[null,null,null,null,null,null,null,null,null,null,"",{"$f":"IF(C1861<>0,(IF(lfValidaCNPJ(C1861)=TRUE,\"Válido\",\"Inválido\")),\"\")","v":""},{"$f":"IF(E1861<>0,(IF(lfValidaCEP(E1861)=TRUE,\"Válido\",\"Inválido\")),\"\")","v":""}]
[null,null,null,null,null,null,null,null,null,null,"",{"$f":"IF(C1862<>0,(IF(lfValidaCNPJ(C1862)=TRUE,\"Válido\",\"Inválido\")),\"\")","v":""},{"$f":"IF(E1862<>0,(IF(lfValidaCEP(E1862)=TRUE,\"Válido\",\"Inválido\")),\"\")","v":""}]
[null,null,null,null,null,null,null,null,null,null,"",{"$f":"IF(C1863<>0,(IF(lfValidaCNPJ(C1863)=TRUE,\"Válido\",\"Inválido\")),\"\")","v":""},{"$f":"IF(E1863<>0,(IF(lfValidaCEP(E1863)=TRUE,\"Válido\",\"Inválido\")),\"\")","v":""}]
[null,null,null,null,null,null,null,null,null,null,"",{"$f":"IF(C1864<>0,(IF(lfValidaCNPJ(C1864)=TRUE,\"Válido\",\"Inválido\")),\"\")","v":""},{"$f":"IF(E1864<>0,(IF(lfValidaCEP(E1864)=TRUE,\"Válido\",\"Inválido\")),\"\")","v":""}]
[null,null,null,null,null,null,null,null,null,null,"",{"$f":"IF(C1865<>0,(IF(lfValidaCNPJ(C1865)=TRUE,\"Válido\",\"Inválido\")),\"\")","v":""},{"$f":"IF(E1865<>0,(IF(lfValidaCEP(E1865)=TRUE,\"Válido\",\"Inválido\")),\"\")","v":""}]
[null,null,null,null,null,null,null,null,null,null,"",{"$f":"IF(C1866<>0,(IF(lfValidaCNPJ(C1866)=TRUE,\"Válido\",\"Inválido\")),\"\")","v":""},{"$f":"IF(E1866<>0,(IF(lfValidaCEP(E1866)=TRUE,\"Válido\",\"Inválido\")),\"\")","v":""}]
[null,null,null,null,null,null,null,null,null,null,"",{"$f":"IF(C1867<>0,(IF(lfValidaCNPJ(C1867)=TRUE,\"Válido\",\"Inválido\")),\"\")","v":""},{"$f":"IF(E1867<>0,(IF(lfValidaCEP(E1867)=TRUE,\"Válido\",\"Inválido\")),\"\")","v":""}]
[null,null,null,null,null,null,null,null,null,null,{"$f":"IF(COUNTA(B1868:I1868)<>0,IF(AND(B1868<>0,C1868<>0,D1868<>0,E1868<>0,F1868<>0,G1868<>0,H1868<>0,I1868<>0),\"Completo\",\"Incompleto\"),\"\")","v":""},{"$f":"IF(C1868<>0,(IF(lfValidaCNPJ(C1868)=TRUE,\"Válido\",\"Inválido\")),\"\")","v":""},{"$f":"IF(E1868<>0,(IF(lfValidaCEP(E1868)=TRUE,\"Válido\",\"Inválido\")),\"\")","v":""}]
[null,null,null,null,null,null,null,null,null,null,"",{"$f":"IF(C1869<>0,(IF(lfValidaCNPJ(C1869)=TRUE,\"Válido\",\"Inválido\")),\"\")","v":""},{"$f":"IF(E1869<>0,(IF(lfValidaCEP(E1869)=TRUE,\"Válido\",\"Inválido\")),\"\")","v":""}]
[null,null,null,null,null,null,null,null,null,null,"",{"$f":"IF(C1870<>0,(IF(lfValidaCNPJ(C1870)=TRUE,\"Válido\",\"Inválido\")),\"\")","v":""},{"$f":"IF(E1870<>0,(IF(lfValidaCEP(E1870)=TRUE,\"Válido\",\"Inválido\")),\"\")","v":""}]
[null,null,null,null,null,null,null,null,null,null,"",{"$f":"IF(C1871<>0,(IF(lfValidaCNPJ(C1871)=TRUE,\"Válido\",\"Inválido\")),\"\")","v":""},{"$f":"IF(E1871<>0,(IF(lfValidaCEP(E1871)=TRUE,\"Válido\",\"Inválido\")),\"\")","v":""}]
[null,null,null,null,null,null,null,null,null,null,"",{"$f":"IF(C1872<>0,(IF(lfValidaCNPJ(C1872)=TRUE,\"Válido\",\"Inválido\")),\"\")","v":""},{"$f":"IF(E1872<>0,(IF(lfValidaCEP(E1872)=TRUE,\"Válido\",\"Inválido\")),\"\")","v":""}]
[null,null,null,null,null,null,null,null,null,null,"",{"$f":"IF(C1873<>0,(IF(lfValidaCNPJ(C1873)=TRUE,\"Válido\",\"Inválido\")),\"\")","v":""},{"$f":"IF(E1873<>0,(IF(lfValidaCEP(E1873)=TRUE,\"Válido\",\"Inválido\")),\"\")","v":""}]
[null,null,null,null,null,null,null,null,null,null,"",{"$f":"IF(C1874<>0,(IF(lfValidaCNPJ(C1874)=TRUE,\"Válido\",\"Inválido\")),\"\")","v":""},{"$f":"IF(E1874<>0,(IF(lfValidaCEP(E1874)=TRUE,\"Válido\",\"Inválido\")),\"\")","v":""}]
[null,null,null,null,null,null,null,null,null,null,"",{"$f":"IF(C1875<>0,(IF(lfValidaCNPJ(C1875)=TRUE,\"Válido\",\"Inválido\")),\"\")","v":""},{"$f":"IF(E1875<>0,(IF(lfValidaCEP(E1875)=TRUE,\"Válido\",\"Inválido\")),\"\")","v":""}]
[null,null,null,null,null,null,null,null,null,null,"",{"$f":"IF(C1876<>0,(IF(lfValidaCNPJ(C1876)=TRUE,\"Válido\",\"Inválido\")),\"\")","v":""},{"$f":"IF(E1876<>0,(IF(lfValidaCEP(E1876)=TRUE,\"Válido\",\"Inválido\")),\"\")","v":""}]
[null,null,null,null,null,null,null,null,null,null,"",{"$f":"IF(C1877<>0,(IF(lfValidaCNPJ(C1877)=TRUE,\"Válido\",\"Inválido\")),\"\")","v":""},{"$f":"IF(E1877<>0,(IF(lfValidaCEP(E1877)=TRUE,\"Válido\",\"Inválido\")),\"\")","v":""}]
[null,null,null,null,null,null,null,null,null,null,"",{"$f":"IF(C1878<>0,(IF(lfValidaCNPJ(C1878)=TRUE,\"Válido\",\"Inválido\")),\"\")","v":""},{"$f":"IF(E1878<>0,(IF(lfValidaCEP(E1878)=TRUE,\"Válido\",\"Inválido\")),\"\")","v":""}]
[null,null,null,null,null,null,null,null,null,null,"",{"$f":"IF(C1879<>0,(IF(lfValidaCNPJ(C1879)=TRUE,\"Válido\",\"Inválido\")),\"\")","v":""},{"$f":"IF(E1879<>0,(IF(lfValidaCEP(E1879)=TRUE,\"Válido\",\"Inválido\")),\"\")","v":""}]
[null,null,null,null,null,null,null,null,null,null,"",{"$f":"IF(C1880<>0,(IF(lfValidaCNPJ(C1880)=TRUE,\"Válido\",\"Inválido\")),\"\")","v":""},{"$f":"IF(E1880<>0,(IF(lfValidaCEP(E1880)=TRUE,\"Válido\",\"Inválido\")),\"\")","v":""}]
[null,null,null,null,null,null,null,null,null,null,"",{"$f":"IF(C1881<>0,(IF(lfValidaCNPJ(C1881)=TRUE,\"Válido\",\"Inválido\")),\"\")","v":""},{"$f":"IF(E1881<>0,(IF(lfValidaCEP(E1881)=TRUE,\"Válido\",\"Inválido\")),\"\")","v":""}]
[null,null,null,null,null,null,null,null,null,null,"",{"$f":"IF(C1882<>0,(IF(lfValidaCNPJ(C1882)=TRUE,\"Válido\",\"Inválido\")),\"\")","v":""},{"$f":"IF(E1882<>0,(IF(lfValidaCEP(E1882)=TRUE,\"Válido\",\"Inválido\")),\"\")","v":""}]
[null,null,null,null,null,null,null,null,null,null,"",{"$f":"IF(C1883<>0,(IF(lfValidaCNPJ(C1883)=TRUE,\"Válido\",\"Inválido\")),\"\")","v":""},{"$f":"IF(E1883<>0,(IF(lfValidaCEP(E1883)=TRUE,\"Válido\",\"Inválido\")),\"\")","v":""}]
[null,null,null,null,null,null,null,null,null,null,"",{"$f":"IF(C1884<>0,(IF(lfValidaCNPJ(C1884)=TRUE,\"Válido\",\"Inválido\")),\"\")","v":""},{"$f":"IF(E1884<>0,(IF(lfValidaCEP(E1884)=TRUE,\"Válido\",\"Inválido\")),\"\")","v":""}]
[null,null,null,null,null,null,null,null,null,null,"",{"$f":"IF(C1885<>0,(IF(lfValidaCNPJ(C1885)=TRUE,\"Válido\",\"Inválido\")),\"\")","v":""},{"$f":"IF(E1885<>0,(IF(lfValidaCEP(E1885)=TRUE,\"Válido\",\"Inválido\")),\"\")","v":""}]
[null,null,null,null,null,null,null,null,null,null,"",{"$f":"IF(C1886<>0,(IF(lfValidaCNPJ(C1886)=TRUE,\"Válido\",\"Inválido\")),\"\")","v":""},{"$f":"IF(E1886<>0,(IF(lfValidaCEP(E1886)=TRUE,\"Válido\",\"Inválido\")),\"\")","v":""}]
[null,null,null,null,null,null,null,null,null,null,"",{"$f":"IF(C1887<>0,(IF(lfValidaCNPJ(C1887)=TRUE,\"Válido\",\"Inválido\")),\"\")","v":""},{"$f":"IF(E1887<>0,(IF(lfValidaCEP(E1887)=TRUE,\"Válido\",\"Inválido\")),\"\")","v":""}]
[null,null,null,null,null,null,null,null,null,null,"",{"$f":"IF(C1888<>0,(IF(lfValidaCNPJ(C1888)=TRUE,\"Válido\",\"Inválido\")),\"\")","v":""},{"$f":"IF(E1888<>0,(IF(lfValidaCEP(E1888)=TRUE,\"Válido\",\"Inválido\")),\"\")","v":""}]
[null,null,null,null,null,null,null,null,null,null,"",{"$f":"IF(C1889<>0,(IF(lfValidaCNPJ(C1889)=TRUE,\"Válido\",\"Inválido\")),\"\")","v":""},{"$f":"IF(E1889<>0,(IF(lfValidaCEP(E1889)=TRUE,\"Válido\",\"Inválido\")),\"\")","v":""}]
[null,null,null,null,null,null,null,null,null,null,"",{"$f":"IF(C1890<>0,(IF(lfValidaCNPJ(C1890)=TRUE,\"Válido\",\"Inválido\")),\"\")","v":""},{"$f":"IF(E1890<>0,(IF(lfValidaCEP(E1890)=TRUE,\"Válido\",\"Inválido\")),\"\")","v":""}]
[null,null,null,null,null,null,null,null,null,null,"",{"$f":"IF(C1891<>0,(IF(lfValidaCNPJ(C1891)=TRUE,\"Válido\",\"Inválido\")),\"\")","v":""},{"$f":"IF(E1891<>0,(IF(lfValidaCEP(E1891)=TRUE,\"Válido\",\"Inválido\")),\"\")","v":""}]
[null,null,null,null,null,null,null,null,null,null,"",{"$f":"IF(C1892<>0,(IF(lfValidaCNPJ(C1892)=TRUE,\"Válido\",\"Inválido\")),\"\")","v":""},{"$f":"IF(E1892<>0,(IF(lfValidaCEP(E1892)=TRUE,\"Válido\",\"Inválido\")),\"\")","v":""}]
[null,null,null,null,null,null,null,null,null,null,"",{"$f":"IF(C1893<>0,(IF(lfValidaCNPJ(C1893)=TRUE,\"Válido\",\"Inválido\")),\"\")","v":""},{"$f":"IF(E1893<>0,(IF(lfValidaCEP(E1893)=TRUE,\"Válido\",\"Inválido\")),\"\")","v":""}]
[null,null,null,null,null,null,null,null,null,null,"",{"$f":"IF(C1894<>0,(IF(lfValidaCNPJ(C1894)=TRUE,\"Válido\",\"Inválido\")),\"\")","v":""},{"$f":"IF(E1894<>0,(IF(lfValidaCEP(E1894)=TRUE,\"Válido\",\"Inválido\")),\"\")","v":""}]
[null,null,null,null,null,null,null,null,null,null,"",{"$f":"IF(C1895<>0,(IF(lfValidaCNPJ(C1895)=TRUE,\"Válido\",\"Inválido\")),\"\")","v":""},{"$f":"IF(E1895<>0,(IF(lfValidaCEP(E1895)=TRUE,\"Válido\",\"Inválido\")),\"\")","v":""}]
[null,null,null,null,null,null,null,null,null,null,"",{"$f":"IF(C1896<>0,(IF(lfValidaCNPJ(C1896)=TRUE,\"Válido\",\"Inválido\")),\"\")","v":""},{"$f":"IF(E1896<>0,(IF(lfValidaCEP(E1896)=TRUE,\"Válido\",\"Inválido\")),\"\")","v":""}]
[null,null,null,null,null,null,null,null,null,null,"",{"$f":"IF(C1897<>0,(IF(lfValidaCNPJ(C1897)=TRUE,\"Válido\",\"Inválido\")),\"\")","v":""},{"$f":"IF(E1897<>0,(IF(lfValidaCEP(E1897)=TRUE,\"Válido\",\"Inválido\")),\"\")","v":""}]
[null,null,null,null,null,null,null,null,null,null,"",{"$f":"IF(C1898<>0,(IF(lfValidaCNPJ(C1898)=TRUE,\"Válido\",\"Inválido\")),\"\")","v":""},{"$f":"IF(E1898<>0,(IF(lfValidaCEP(E1898)=TRUE,\"Válido\",\"Inválido\")),\"\")","v":""}]
[null,null,null,null,null,null,null,null,null,null,"",{"$f":"IF(C1899<>0,(IF(lfValidaCNPJ(C1899)=TRUE,\"Válido\",\"Inválido\")),\"\")","v":""},{"$f":"IF(E1899<>0,(IF(lfValidaCEP(E1899)=TRUE,\"Válido\",\"Inválido\")),\"\")","v":""}]
[null,null,null,null,null,null,null,null,null,null,"",{"$f":"IF(C1900<>0,(IF(lfValidaCNPJ(C1900)=TRUE,\"Válido\",\"Inválido\")),\"\")","v":""},{"$f":"IF(E1900<>0,(IF(lfValidaCEP(E1900)=TRUE,\"Válido\",\"Inválido\")),\"\")","v":""}]
[null,null,null,null,null,null,null,null,null,null,"",{"$f":"IF(C1901<>0,(IF(lfValidaCNPJ(C1901)=TRUE,\"Válido\",\"Inválido\")),\"\")","v":""},{"$f":"IF(E1901<>0,(IF(lfValidaCEP(E1901)=TRUE,\"Válido\",\"Inválido\")),\"\")","v":""}]
[null,null,null,null,null,null,null,null,null,null,"",{"$f":"IF(C1902<>0,(IF(lfValidaCNPJ(C1902)=TRUE,\"Válido\",\"Inválido\")),\"\")","v":""},{"$f":"IF(E1902<>0,(IF(lfValidaCEP(E1902)=TRUE,\"Válido\",\"Inválido\")),\"\")","v":""}]
[null,null,null,null,null,null,null,null,null,null,"",{"$f":"IF(C1903<>0,(IF(lfValidaCNPJ(C1903)=TRUE,\"Válido\",\"Inválido\")),\"\")","v":""},{"$f":"IF(E1903<>0,(IF(lfValidaCEP(E1903)=TRUE,\"Válido\",\"Inválido\")),\"\")","v":""}]
[null,null,null,null,null,null,null,null,null,null,"",{"$f":"IF(C1904<>0,(IF(lfValidaCNPJ(C1904)=TRUE,\"Válido\",\"Inválido\")),\"\")","v":""},{"$f":"IF(E1904<>0,(IF(lfValidaCEP(E1904)=TRUE,\"Válido\",\"Inválido\")),\"\")","v":""}]
[null,null,null,null,null,null,null,null,null,null,"",{"$f":"IF(C1905<>0,(IF(lfValidaCNPJ(C1905)=TRUE,\"Válido\",\"Inválido\")),\"\")","v":""},{"$f":"IF(E1905<>0,(IF(lfValidaCEP(E1905)=TRUE,\"Válido\",\"Inválido\")),\"\")","v":""}]
[null,null,null,null,null,null,null,null,null,null,"",{"$f":"IF(C1906<>0,(IF(lfValidaCNPJ(C1906)=TRUE,\"Válido\",\"Inválido\")),\"\")","v":""},{"$f":"IF(E1906<>0,(IF(lfValidaCEP(E1906)=TRUE,\"Válido\",\"Inválido\")),\"\")","v":""}]
[null,null,null,null,null,null,null,null,null,null,"",{"$f":"IF(C1907<>0,(IF(lfValidaCNPJ(C1907)=TRUE,\"Válido\",\"Inválido\")),\"\")","v":""},{"$f":"IF(E1907<>0,(IF(lfValidaCEP(E1907)=TRUE,\"Válido\",\"Inválido\")),\"\")","v":""}]
[null,null,null,null,null,null,null,null,null,null,"",{"$f":"IF(C1908<>0,(IF(lfValidaCNPJ(C1908)=TRUE,\"Válido\",\"Inválido\")),\"\")","v":""},{"$f":"IF(E1908<>0,(IF(lfValidaCEP(E1908)=TRUE,\"Válido\",\"Inválido\")),\"\")","v":""}]
[null,null,null,null,null,null,null,null,null,null,"",{"$f":"IF(C1909<>0,(IF(lfValidaCNPJ(C1909)=TRUE,\"Válido\",\"Inválido\")),\"\")","v":""},{"$f":"IF(E1909<>0,(IF(lfValidaCEP(E1909)=TRUE,\"Válido\",\"Inválido\")),\"\")","v":""}]
[null,null,null,null,null,null,null,null,null,null,"",{"$f":"IF(C1910<>0,(IF(lfValidaCNPJ(C1910)=TRUE,\"Válido\",\"Inválido\")),\"\")","v":""},{"$f":"IF(E1910<>0,(IF(lfValidaCEP(E1910)=TRUE,\"Válido\",\"Inválido\")),\"\")","v":""}]
[null,null,null,null,null,null,null,null,null,null,"",{"$f":"IF(C1911<>0,(IF(lfValidaCNPJ(C1911)=TRUE,\"Válido\",\"Inválido\")),\"\")","v":""},{"$f":"IF(E1911<>0,(IF(lfValidaCEP(E1911)=TRUE,\"Válido\",\"Inválido\")),\"\")","v":""}]
[null,null,null,null,null,null,null,null,null,null,"",{"$f":"IF(C1912<>0,(IF(lfValidaCNPJ(C1912)=TRUE,\"Válido\",\"Inválido\")),\"\")","v":""},{"$f":"IF(E1912<>0,(IF(lfValidaCEP(E1912)=TRUE,\"Válido\",\"Inválido\")),\"\")","v":""}]
[null,null,null,null,null,null,null,null,null,null,"",{"$f":"IF(C1913<>0,(IF(lfValidaCNPJ(C1913)=TRUE,\"Válido\",\"Inválido\")),\"\")","v":""},{"$f":"IF(E1913<>0,(IF(lfValidaCEP(E1913)=TRUE,\"Válido\",\"Inválido\")),\"\")","v":""}]
[null,null,null,null,null,null,null,null,null,null,"",{"$f":"IF(C1914<>0,(IF(lfValidaCNPJ(C1914)=TRUE,\"Válido\",\"Inválido\")),\"\")","v":""},{"$f":"IF(E1914<>0,(IF(lfValidaCEP(E1914)=TRUE,\"Válido\",\"Inválido\")),\"\")","v":""}]
[null,null,null,null,null,null,null,null,null,null,"",{"$f":"IF(C1915<>0,(IF(lfValidaCNPJ(C1915)=TRUE,\"Válido\",\"Inválido\")),\"\")","v":""},{"$f":"IF(E1915<>0,(IF(lfValidaCEP(E1915)=TRUE,\"Válido\",\"Inválido\")),\"\")","v":""}]
[null,null,null,null,null,null,null,null,null,null,"",{"$f":"IF(C1916<>0,(IF(lfValidaCNPJ(C1916)=TRUE,\"Válido\",\"Inválido\")),\"\")","v":""},{"$f":"IF(E1916<>0,(IF(lfValidaCEP(E1916)=TRUE,\"Válido\",\"Inválido\")),\"\")","v":""}]
[null,null,null,null,null,null,null,null,null,null,"",{"$f":"IF(C1917<>0,(IF(lfValidaCNPJ(C1917)=TRUE,\"Válido\",\"Inválido\")),\"\")","v":""},{"$f":"IF(E1917<>0,(IF(lfValidaCEP(E1917)=TRUE,\"Válido\",\"Inválido\")),\"\")","v":""}]
[null,null,null,null,null,null,null,null,null,null,"",{"$f":"IF(C1918<>0,(IF(lfValidaCNPJ(C1918)=TRUE,\"Válido\",\"Inválido\")),\"\")","v":""},{"$f":"IF(E1918<>0,(IF(lfValidaCEP(E1918)=TRUE,\"Válido\",\"Inválido\")),\"\")","v":""}]
[null,null,null,null,null,null,null,null,null,null,"",{"$f":"IF(C1919<>0,(IF(lfValidaCNPJ(C1919)=TRUE,\"Válido\",\"Inválido\")),\"\")","v":""},{"$f":"IF(E1919<>0,(IF(lfValidaCEP(E1919)=TRUE,\"Válido\",\"Inválido\")),\"\")","v":""}]
[null,null,null,null,null,null,null,null,null,null,"",{"$f":"IF(C1920<>0,(IF(lfValidaCNPJ(C1920)=TRUE,\"Válido\",\"Inválido\")),\"\")","v":""},{"$f":"IF(E1920<>0,(IF(lfValidaCEP(E1920)=TRUE,\"Válido\",\"Inválido\")),\"\")","v":""}]
[null,null,null,null,null,null,null,null,null,null,"",{"$f":"IF(C1921<>0,(IF(lfValidaCNPJ(C1921)=TRUE,\"Válido\",\"Inválido\")),\"\")","v":""},{"$f":"IF(E1921<>0,(IF(lfValidaCEP(E1921)=TRUE,\"Válido\",\"Inválido\")),\"\")","v":""}]
[null,null,null,null,null,null,null,null,null,null,"",{"$f":"IF(C1922<>0,(IF(lfValidaCNPJ(C1922)=TRUE,\"Válido\",\"Inválido\")),\"\")","v":""},{"$f":"IF(E1922<>0,(IF(lfValidaCEP(E1922)=TRUE,\"Válido\",\"Inválido\")),\"\")","v":""}]
[null,null,null,null,null,null,null,null,null,null,"",{"$f":"IF(C1923<>0,(IF(lfValidaCNPJ(C1923)=TRUE,\"Válido\",\"Inválido\")),\"\")","v":""},{"$f":"IF(E1923<>0,(IF(lfValidaCEP(E1923)=TRUE,\"Válido\",\"Inválido\")),\"\")","v":""}]
[null,null,null,null,null,null,null,null,null,null,"",{"$f":"IF(C1924<>0,(IF(lfValidaCNPJ(C1924)=TRUE,\"Válido\",\"Inválido\")),\"\")","v":""},{"$f":"IF(E1924<>0,(IF(lfValidaCEP(E1924)=TRUE,\"Válido\",\"Inválido\")),\"\")","v":""}]
[null,null,null,null,null,null,null,null,null,null,"",{"$f":"IF(C1925<>0,(IF(lfValidaCNPJ(C1925)=TRUE,\"Válido\",\"Inválido\")),\"\")","v":""},{"$f":"IF(E1925<>0,(IF(lfValidaCEP(E1925)=TRUE,\"Válido\",\"Inválido\")),\"\")","v":""}]
[null,null,null,null,null,null,null,null,null,null,"",{"$f":"IF(C1926<>0,(IF(lfValidaCNPJ(C1926)=TRUE,\"Válido\",\"Inválido\")),\"\")","v":""},{"$f":"IF(E1926<>0,(IF(lfValidaCEP(E1926)=TRUE,\"Válido\",\"Inválido\")),\"\")","v":""}]
[null,null,null,null,null,null,null,null,null,null,"",{"$f":"IF(C1927<>0,(IF(lfValidaCNPJ(C1927)=TRUE,\"Válido\",\"Inválido\")),\"\")","v":""},{"$f":"IF(E1927<>0,(IF(lfValidaCEP(E1927)=TRUE,\"Válido\",\"Inválido\")),\"\")","v":""}]
[null,null,null,null,null,null,null,null,null,null,"",{"$f":"IF(C1928<>0,(IF(lfValidaCNPJ(C1928)=TRUE,\"Válido\",\"Inválido\")),\"\")","v":""},{"$f":"IF(E1928<>0,(IF(lfValidaCEP(E1928)=TRUE,\"Válido\",\"Inválido\")),\"\")","v":""}]
[null,null,null,null,null,null,null,null,null,null,"",{"$f":"IF(C1929<>0,(IF(lfValidaCNPJ(C1929)=TRUE,\"Válido\",\"Inválido\")),\"\")","v":""},{"$f":"IF(E1929<>0,(IF(lfValidaCEP(E1929)=TRUE,\"Válido\",\"Inválido\")),\"\")","v":""}]
[null,null,null,null,null,null,null,null,null,null,"",{"$f":"IF(C1930<>0,(IF(lfValidaCNPJ(C1930)=TRUE,\"Válido\",\"Inválido\")),\"\")","v":""},{"$f":"IF(E1930<>0,(IF(lfValidaCEP(E1930)=TRUE,\"Válido\",\"Inválido\")),\"\")","v":""}]
[null,null,null,null,null,null,null,null,null,null,"",{"$f":"IF(C1931<>0,(IF(lfValidaCNPJ(C1931)=TRUE,\"Válido\",\"Inválido\")),\"\")","v":""},{"$f":"IF(E1931<>0,(IF(lfValidaCEP(E1931)=TRUE,\"Válido\",\"Inválido\")),\"\")","v":""}]
[null,null,null,null,null,null,null,null,null,null,{"$f":"IF(COUNTA(B1932:I1932)<>0,IF(AND(B1932<>0,C1932<>0,D1932<>0,E1932<>0,F1932<>0,G1932<>0,H1932<>0,I1932<>0),\"Completo\",\"Incompleto\"),\"\")","v":""},{"$f":"IF(C1932<>0,(IF(lfValidaCNPJ(C1932)=TRUE,\"Válido\",\"Inválido\")),\"\")","v":""},{"$f":"IF(E1932<>0,(IF(lfValidaCEP(E1932)=TRUE,\"Válido\",\"Inválido\")),\"\")","v":""}]
[null,null,null,null,null,null,null,null,null,null,"",{"$f":"IF(C1933<>0,(IF(lfValidaCNPJ(C1933)=TRUE,\"Válido\",\"Inválido\")),\"\")","v":""},{"$f":"IF(E1933<>0,(IF(lfValidaCEP(E1933)=TRUE,\"Válido\",\"Inválido\")),\"\")","v":""}]
[null,null,null,null,null,null,null,null,null,null,"",{"$f":"IF(C1934<>0,(IF(lfValidaCNPJ(C1934)=TRUE,\"Válido\",\"Inválido\")),\"\")","v":""},{"$f":"IF(E1934<>0,(IF(lfValidaCEP(E1934)=TRUE,\"Válido\",\"Inválido\")),\"\")","v":""}]
[null,null,null,null,null,null,null,null,null,null,"",{"$f":"IF(C1935<>0,(IF(lfValidaCNPJ(C1935)=TRUE,\"Válido\",\"Inválido\")),\"\")","v":""},{"$f":"IF(E1935<>0,(IF(lfValidaCEP(E1935)=TRUE,\"Válido\",\"Inválido\")),\"\")","v":""}]
[null,null,null,null,null,null,null,null,null,null,"",{"$f":"IF(C1936<>0,(IF(lfValidaCNPJ(C1936)=TRUE,\"Válido\",\"Inválido\")),\"\")","v":""},{"$f":"IF(E1936<>0,(IF(lfValidaCEP(E1936)=TRUE,\"Válido\",\"Inválido\")),\"\")","v":""}]
[null,null,null,null,null,null,null,null,null,null,"",{"$f":"IF(C1937<>0,(IF(lfValidaCNPJ(C1937)=TRUE,\"Válido\",\"Inválido\")),\"\")","v":""},{"$f":"IF(E1937<>0,(IF(lfValidaCEP(E1937)=TRUE,\"Válido\",\"Inválido\")),\"\")","v":""}]
[null,null,null,null,null,null,null,null,null,null,"",{"$f":"IF(C1938<>0,(IF(lfValidaCNPJ(C1938)=TRUE,\"Válido\",\"Inválido\")),\"\")","v":""},{"$f":"IF(E1938<>0,(IF(lfValidaCEP(E1938)=TRUE,\"Válido\",\"Inválido\")),\"\")","v":""}]
[null,null,null,null,null,null,null,null,null,null,"",{"$f":"IF(C1939<>0,(IF(lfValidaCNPJ(C1939)=TRUE,\"Válido\",\"Inválido\")),\"\")","v":""},{"$f":"IF(E1939<>0,(IF(lfValidaCEP(E1939)=TRUE,\"Válido\",\"Inválido\")),\"\")","v":""}]
[null,null,null,null,null,null,null,null,null,null,"",{"$f":"IF(C1940<>0,(IF(lfValidaCNPJ(C1940)=TRUE,\"Válido\",\"Inválido\")),\"\")","v":""},{"$f":"IF(E1940<>0,(IF(lfValidaCEP(E1940)=TRUE,\"Válido\",\"Inválido\")),\"\")","v":""}]
[null,null,null,null,null,null,null,null,null,null,"",{"$f":"IF(C1941<>0,(IF(lfValidaCNPJ(C1941)=TRUE,\"Válido\",\"Inválido\")),\"\")","v":""},{"$f":"IF(E1941<>0,(IF(lfValidaCEP(E1941)=TRUE,\"Válido\",\"Inválido\")),\"\")","v":""}]
[null,null,null,null,null,null,null,null,null,null,"",{"$f":"IF(C1942<>0,(IF(lfValidaCNPJ(C1942)=TRUE,\"Válido\",\"Inválido\")),\"\")","v":""},{"$f":"IF(E1942<>0,(IF(lfValidaCEP(E1942)=TRUE,\"Válido\",\"Inválido\")),\"\")","v":""}]
[null,null,null,null,null,null,null,null,null,null,"",{"$f":"IF(C1943<>0,(IF(lfValidaCNPJ(C1943)=TRUE,\"Válido\",\"Inválido\")),\"\")","v":""},{"$f":"IF(E1943<>0,(IF(lfValidaCEP(E1943)=TRUE,\"Válido\",\"Inválido\")),\"\")","v":""}]
[null,null,null,null,null,null,null,null,null,null,"",{"$f":"IF(C1944<>0,(IF(lfValidaCNPJ(C1944)=TRUE,\"Válido\",\"Inválido\")),\"\")","v":""},{"$f":"IF(E1944<>0,(IF(lfValidaCEP(E1944)=TRUE,\"Válido\",\"Inválido\")),\"\")","v":""}]
[null,null,null,null,null,null,null,null,null,null,"",{"$f":"IF(C1945<>0,(IF(lfValidaCNPJ(C1945)=TRUE,\"Válido\",\"Inválido\")),\"\")","v":""},{"$f":"IF(E1945<>0,(IF(lfValidaCEP(E1945)=TRUE,\"Válido\",\"Inválido\")),\"\")","v":""}]
[null,null,null,null,null,null,null,null,null,null,"",{"$f":"IF(C1946<>0,(IF(lfValidaCNPJ(C1946)=TRUE,\"Válido\",\"Inválido\")),\"\")","v":""},{"$f":"IF(E1946<>0,(IF(lfValidaCEP(E1946)=TRUE,\"Válido\",\"Inválido\")),\"\")","v":""}]
[null,null,null,null,null,null,null,null,null,null,"",{"$f":"IF(C1947<>0,(IF(lfValidaCNPJ(C1947)=TRUE,\"Válido\",\"Inválido\")),\"\")","v":""},{"$f":"IF(E1947<>0,(IF(lfValidaCEP(E1947)=TRUE,\"Válido\",\"Inválido\")),\"\")","v":""}]
[null,null,null,null,null,null,null,null,null,null,"",{"$f":"IF(C1948<>0,(IF(lfValidaCNPJ(C1948)=TRUE,\"Válido\",\"Inválido\")),\"\")","v":""},{"$f":"IF(E1948<>0,(IF(lfValidaCEP(E1948)=TRUE,\"Válido\",\"Inválido\")),\"\")","v":""}]
[null,null,null,null,null,null,null,null,null,null,"",{"$f":"IF(C1949<>0,(IF(lfValidaCNPJ(C1949)=TRUE,\"Válido\",\"Inválido\")),\"\")","v":""},{"$f":"IF(E1949<>0,(IF(lfValidaCEP(E1949)=TRUE,\"Válido\",\"Inválido\")),\"\")","v":""}]
[null,null,null,null,null,null,null,null,null,null,"",{"$f":"IF(C1950<>0,(IF(lfValidaCNPJ(C1950)=TRUE,\"Válido\",\"Inválido\")),\"\")","v":""},{"$f":"IF(E1950<>0,(IF(lfValidaCEP(E1950)=TRUE,\"Válido\",\"Inválido\")),\"\")","v":""}]
[null,null,null,null,null,null,null,null,null,null,"",{"$f":"IF(C1951<>0,(IF(lfValidaCNPJ(C1951)=TRUE,\"Válido\",\"Inválido\")),\"\")","v":""},{"$f":"IF(E1951<>0,(IF(lfValidaCEP(E1951)=TRUE,\"Válido\",\"Inválido\")),\"\")","v":""}]
[null,null,null,null,null,null,null,null,null,null,"",{"$f":"IF(C1952<>0,(IF(lfValidaCNPJ(C1952)=TRUE,\"Válido\",\"Inválido\")),\"\")","v":""},{"$f":"IF(E1952<>0,(IF(lfValidaCEP(E1952)=TRUE,\"Válido\",\"Inválido\")),\"\")","v":""}]
[null,null,null,null,null,null,null,null,null,null,"",{"$f":"IF(C1953<>0,(IF(lfValidaCNPJ(C1953)=TRUE,\"Válido\",\"Inválido\")),\"\")","v":""},{"$f":"IF(E1953<>0,(IF(lfValidaCEP(E1953)=TRUE,\"Válido\",\"Inválido\")),\"\")","v":""}]
[null,null,null,null,null,null,null,null,null,null,"",{"$f":"IF(C1954<>0,(IF(lfValidaCNPJ(C1954)=TRUE,\"Válido\",\"Inválido\")),\"\")","v":""},{"$f":"IF(E1954<>0,(IF(lfValidaCEP(E1954)=TRUE,\"Válido\",\"Inválido\")),\"\")","v":""}]
[null,null,null,null,null,null,null,null,null,null,"",{"$f":"IF(C1955<>0,(IF(lfValidaCNPJ(C1955)=TRUE,\"Válido\",\"Inválido\")),\"\")","v":""},{"$f":"IF(E1955<>0,(IF(lfValidaCEP(E1955)=TRUE,\"Válido\",\"Inválido\")),\"\")","v":""}]
[null,null,null,null,null,null,null,null,null,null,"",{"$f":"IF(C1956<>0,(IF(lfValidaCNPJ(C1956)=TRUE,\"Válido\",\"Inválido\")),\"\")","v":""},{"$f":"IF(E1956<>0,(IF(lfValidaCEP(E1956)=TRUE,\"Válido\",\"Inválido\")),\"\")","v":""}]
[null,null,null,null,null,null,null,null,null,null,"",{"$f":"IF(C1957<>0,(IF(lfValidaCNPJ(C1957)=TRUE,\"Válido\",\"Inválido\")),\"\")","v":""},{"$f":"IF(E1957<>0,(IF(lfValidaCEP(E1957)=TRUE,\"Válido\",\"Inválido\")),\"\")","v":""}]
[null,null,null,null,null,null,null,null,null,null,"",{"$f":"IF(C1958<>0,(IF(lfValidaCNPJ(C1958)=TRUE,\"Válido\",\"Inválido\")),\"\")","v":""},{"$f":"IF(E1958<>0,(IF(lfValidaCEP(E1958)=TRUE,\"Válido\",\"Inválido\")),\"\")","v":""}]
[null,null,null,null,null,null,null,null,null,null,"",{"$f":"IF(C1959<>0,(IF(lfValidaCNPJ(C1959)=TRUE,\"Válido\",\"Inválido\")),\"\")","v":""},{"$f":"IF(E1959<>0,(IF(lfValidaCEP(E1959)=TRUE,\"Válido\",\"Inválido\")),\"\")","v":""}]
[null,null,null,null,null,null,null,null,null,null,"",{"$f":"IF(C1960<>0,(IF(lfValidaCNPJ(C1960)=TRUE,\"Válido\",\"Inválido\")),\"\")","v":""},{"$f":"IF(E1960<>0,(IF(lfValidaCEP(E1960)=TRUE,\"Válido\",\"Inválido\")),\"\")","v":""}]
[null,null,null,null,null,null,null,null,null,null,"",{"$f":"IF(C1961<>0,(IF(lfValidaCNPJ(C1961)=TRUE,\"Válido\",\"Inválido\")),\"\")","v":""},{"$f":"IF(E1961<>0,(IF(lfValidaCEP(E1961)=TRUE,\"Válido\",\"Inválido\")),\"\")","v":""}]
[null,null,null,null,null,null,null,null,null,null,"",{"$f":"IF(C1962<>0,(IF(lfValidaCNPJ(C1962)=TRUE,\"Válido\",\"Inválido\")),\"\")","v":""},{"$f":"IF(E1962<>0,(IF(lfValidaCEP(E1962)=TRUE,\"Válido\",\"Inválido\")),\"\")","v":""}]
[null,null,null,null,null,null,null,null,null,null,"",{"$f":"IF(C1963<>0,(IF(lfValidaCNPJ(C1963)=TRUE,\"Válido\",\"Inválido\")),\"\")","v":""},{"$f":"IF(E1963<>0,(IF(lfValidaCEP(E1963)=TRUE,\"Válido\",\"Inválido\")),\"\")","v":""}]
[null,null,null,null,null,null,null,null,null,null,"",{"$f":"IF(C1964<>0,(IF(lfValidaCNPJ(C1964)=TRUE,\"Válido\",\"Inválido\")),\"\")","v":""},{"$f":"IF(E1964<>0,(IF(lfValidaCEP(E1964)=TRUE,\"Válido\",\"Inválido\")),\"\")","v":""}]
[null,null,null,null,null,null,null,null,null,null,"",{"$f":"IF(C1965<>0,(IF(lfValidaCNPJ(C1965)=TRUE,\"Válido\",\"Inválido\")),\"\")","v":""},{"$f":"IF(E1965<>0,(IF(lfValidaCEP(E1965)=TRUE,\"Válido\",\"Inválido\")),\"\")","v":""}]
[null,null,null,null,null,null,null,null,null,null,"",{"$f":"IF(C1966<>0,(IF(lfValidaCNPJ(C1966)=TRUE,\"Válido\",\"Inválido\")),\"\")","v":""},{"$f":"IF(E1966<>0,(IF(lfValidaCEP(E1966)=TRUE,\"Válido\",\"Inválido\")),\"\")","v":""}]
[null,null,null,null,null,null,null,null,null,null,"",{"$f":"IF(C1967<>0,(IF(lfValidaCNPJ(C1967)=TRUE,\"Válido\",\"Inválido\")),\"\")","v":""},{"$f":"IF(E1967<>0,(IF(lfValidaCEP(E1967)=TRUE,\"Válido\",\"Inválido\")),\"\")","v":""}]
[null,null,null,null,null,null,null,null,null,null,"",{"$f":"IF(C1968<>0,(IF(lfValidaCNPJ(C1968)=TRUE,\"Válido\",\"Inválido\")),\"\")","v":""},{"$f":"IF(E1968<>0,(IF(lfValidaCEP(E1968)=TRUE,\"Válido\",\"Inválido\")),\"\")","v":""}]
[null,null,null,null,null,null,null,null,null,null,"",{"$f":"IF(C1969<>0,(IF(lfValidaCNPJ(C1969)=TRUE,\"Válido\",\"Inválido\")),\"\")","v":""},{"$f":"IF(E1969<>0,(IF(lfValidaCEP(E1969)=TRUE,\"Válido\",\"Inválido\")),\"\")","v":""}]
[null,null,null,null,null,null,null,null,null,null,"",{"$f":"IF(C1970<>0,(IF(lfValidaCNPJ(C1970)=TRUE,\"Válido\",\"Inválido\")),\"\")","v":""},{"$f":"IF(E1970<>0,(IF(lfValidaCEP(E1970)=TRUE,\"Válido\",\"Inválido\")),\"\")","v":""}]
[null,null,null,null,null,null,null,null,null,null,"",{"$f":"IF(C1971<>0,(IF(lfValidaCNPJ(C1971)=TRUE,\"Válido\",\"Inválido\")),\"\")","v":""},{"$f":"IF(E1971<>0,(IF(lfValidaCEP(E1971)=TRUE,\"Válido\",\"Inválido\")),\"\")","v":""}]
[null,null,null,null,null,null,null,null,null,null,"",{"$f":"IF(C1972<>0,(IF(lfValidaCNPJ(C1972)=TRUE,\"Válido\",\"Inválido\")),\"\")","v":""},{"$f":"IF(E1972<>0,(IF(lfValidaCEP(E1972)=TRUE,\"Válido\",\"Inválido\")),\"\")","v":""}]
[null,null,null,null,null,null,null,null,null,null,"",{"$f":"IF(C1973<>0,(IF(lfValidaCNPJ(C1973)=TRUE,\"Válido\",\"Inválido\")),\"\")","v":""},{"$f":"IF(E1973<>0,(IF(lfValidaCEP(E1973)=TRUE,\"Válido\",\"Inválido\")),\"\")","v":""}]
[null,null,null,null,null,null,null,null,null,null,"",{"$f":"IF(C1974<>0,(IF(lfValidaCNPJ(C1974)=TRUE,\"Válido\",\"Inválido\")),\"\")","v":""},{"$f":"IF(E1974<>0,(IF(lfValidaCEP(E1974)=TRUE,\"Válido\",\"Inválido\")),\"\")","v":""}]
[null,null,null,null,null,null,null,null,null,null,"",{"$f":"IF(C1975<>0,(IF(lfValidaCNPJ(C1975)=TRUE,\"Válido\",\"Inválido\")),\"\")","v":""},{"$f":"IF(E1975<>0,(IF(lfValidaCEP(E1975)=TRUE,\"Válido\",\"Inválido\")),\"\")","v":""}]
[null,null,null,null,null,null,null,null,null,null,"",{"$f":"IF(C1976<>0,(IF(lfValidaCNPJ(C1976)=TRUE,\"Válido\",\"Inválido\")),\"\")","v":""},{"$f":"IF(E1976<>0,(IF(lfValidaCEP(E1976)=TRUE,\"Válido\",\"Inválido\")),\"\")","v":""}]
[null,null,null,null,null,null,null,null,null,null,"",{"$f":"IF(C1977<>0,(IF(lfValidaCNPJ(C1977)=TRUE,\"Válido\",\"Inválido\")),\"\")","v":""},{"$f":"IF(E1977<>0,(IF(lfValidaCEP(E1977)=TRUE,\"Válido\",\"Inválido\")),\"\")","v":""}]
[null,null,null,null,null,null,null,null,null,null,"",{"$f":"IF(C1978<>0,(IF(lfValidaCNPJ(C1978)=TRUE,\"Válido\",\"Inválido\")),\"\")","v":""},{"$f":"IF(E1978<>0,(IF(lfValidaCEP(E1978)=TRUE,\"Válido\",\"Inválido\")),\"\")","v":""}]
[null,null,null,null,null,null,null,null,null,null,"",{"$f":"IF(C1979<>0,(IF(lfValidaCNPJ(C1979)=TRUE,\"Válido\",\"Inválido\")),\"\")","v":""},{"$f":"IF(E1979<>0,(IF(lfValidaCEP(E1979)=TRUE,\"Válido\",\"Inválido\")),\"\")","v":""}]
[null,null,null,null,null,null,null,null,null,null,"",{"$f":"IF(C1980<>0,(IF(lfValidaCNPJ(C1980)=TRUE,\"Válido\",\"Inválido\")),\"\")","v":""},{"$f":"IF(E1980<>0,(IF(lfValidaCEP(E1980)=TRUE,\"Válido\",\"Inválido\")),\"\")","v":""}]
[null,null,null,null,null,null,null,null,null,null,"",{"$f":"IF(C1981<>0,(IF(lfValidaCNPJ(C1981)=TRUE,\"Válido\",\"Inválido\")),\"\")","v":""},{"$f":"IF(E1981<>0,(IF(lfValidaCEP(E1981)=TRUE,\"Válido\",\"Inválido\")),\"\")","v":""}]
[null,null,null,null,null,null,null,null,null,null,"",{"$f":"IF(C1982<>0,(IF(lfValidaCNPJ(C1982)=TRUE,\"Válido\",\"Inválido\")),\"\")","v":""},{"$f":"IF(E1982<>0,(IF(lfValidaCEP(E1982)=TRUE,\"Válido\",\"Inválido\")),\"\")","v":""}]
[null,null,null,null,null,null,null,null,null,null,"",{"$f":"IF(C1983<>0,(IF(lfValidaCNPJ(C1983)=TRUE,\"Válido\",\"Inválido\")),\"\")","v":""},{"$f":"IF(E1983<>0,(IF(lfValidaCEP(E1983)=TRUE,\"Válido\",\"Inválido\")),\"\")","v":""}]
[null,null,null,null,null,null,null,null,null,null,"",{"$f":"IF(C1984<>0,(IF(lfValidaCNPJ(C1984)=TRUE,\"Válido\",\"Inválido\")),\"\")","v":""},{"$f":"IF(E1984<>0,(IF(lfValidaCEP(E1984)=TRUE,\"Válido\",\"Inválido\")),\"\")","v":""}]
[null,null,null,null,null,null,null,null,null,null,"",{"$f":"IF(C1985<>0,(IF(lfValidaCNPJ(C1985)=TRUE,\"Válido\",\"Inválido\")),\"\")","v":""},{"$f":"IF(E1985<>0,(IF(lfValidaCEP(E1985)=TRUE,\"Válido\",\"Inválido\")),\"\")","v":""}]
[null,null,null,null,null,null,null,null,null,null,"",{"$f":"IF(C1986<>0,(IF(lfValidaCNPJ(C1986)=TRUE,\"Válido\",\"Inválido\")),\"\")","v":""},{"$f":"IF(E1986<>0,(IF(lfValidaCEP(E1986)=TRUE,\"Válido\",\"Inválido\")),\"\")","v":""}]
[null,null,null,null,null,null,null,null,null,null,"",{"$f":"IF(C1987<>0,(IF(lfValidaCNPJ(C1987)=TRUE,\"Válido\",\"Inválido\")),\"\")","v":""},{"$f":"IF(E1987<>0,(IF(lfValidaCEP(E1987)=TRUE,\"Válido\",\"Inválido\")),\"\")","v":""}]
[null,null,null,null,null,null,null,null,null,null,"",{"$f":"IF(C1988<>0,(IF(lfValidaCNPJ(C1988)=TRUE,\"Válido\",\"Inválido\")),\"\")","v":""},{"$f":"IF(E1988<>0,(IF(lfValidaCEP(E1988)=TRUE,\"Válido\",\"Inválido\")),\"\")","v":""}]
[null,null,null,null,null,null,null,null,null,null,"",{"$f":"IF(C1989<>0,(IF(lfValidaCNPJ(C1989)=TRUE,\"Válido\",\"Inválido\")),\"\")","v":""},{"$f":"IF(E1989<>0,(IF(lfValidaCEP(E1989)=TRUE,\"Válido\",\"Inválido\")),\"\")","v":""}]
[null,null,null,null,null,null,null,null,null,null,"",{"$f":"IF(C1990<>0,(IF(lfValidaCNPJ(C1990)=TRUE,\"Válido\",\"Inválido\")),\"\")","v":""},{"$f":"IF(E1990<>0,(IF(lfValidaCEP(E1990)=TRUE,\"Válido\",\"Inválido\")),\"\")","v":""}]
[null,null,null,null,null,null,null,null,null,null,"",{"$f":"IF(C1991<>0,(IF(lfValidaCNPJ(C1991)=TRUE,\"Válido\",\"Inválido\")),\"\")","v":""},{"$f":"IF(E1991<>0,(IF(lfValidaCEP(E1991)=TRUE,\"Válido\",\"Inválido\")),\"\")","v":""}]
[null,null,null,null,null,null,null,null,null,null,"",{"$f":"IF(C1992<>0,(IF(lfValidaCNPJ(C1992)=TRUE,\"Válido\",\"Inválido\")),\"\")","v":""},{"$f":"IF(E1992<>0,(IF(lfValidaCEP(E1992)=TRUE,\"Válido\",\"Inválido\")),\"\")","v":""}]
[null,null,null,null,null,null,null,null,null,null,"",{"$f":"IF(C1993<>0,(IF(lfValidaCNPJ(C1993)=TRUE,\"Válido\",\"Inválido\")),\"\")","v":""},{"$f":"IF(E1993<>0,(IF(lfValidaCEP(E1993)=TRUE,\"Válido\",\"Inválido\")),\"\")","v":""}]
[null,null,null,null,null,null,null,null,null,null,"",{"$f":"IF(C1994<>0,(IF(lfValidaCNPJ(C1994)=TRUE,\"Válido\",\"Inválido\")),\"\")","v":""},{"$f":"IF(E1994<>0,(IF(lfValidaCEP(E1994)=TRUE,\"Válido\",\"Inválido\")),\"\")","v":""}]
[null,null,null,null,null,null,null,null,null,null,"",{"$f":"IF(C1995<>0,(IF(lfValidaCNPJ(C1995)=TRUE,\"Válido\",\"Inválido\")),\"\")","v":""},{"$f":"IF(E1995<>0,(IF(lfValidaCEP(E1995)=TRUE,\"Válido\",\"Inválido\")),\"\")","v":""}]
[null,null,null,null,null,null,null,null,null,null,{"$f":"IF(COUNTA(B1996:I1996)<>0,IF(AND(B1996<>0,C1996<>0,D1996<>0,E1996<>0,F1996<>0,G1996<>0,H1996<>0,I1996<>0),\"Completo\",\"Incompleto\"),\"\")","v":""},{"$f":"IF(C1996<>0,(IF(lfValidaCNPJ(C1996)=TRUE,\"Válido\",\"Inválido\")),\"\")","v":""},{"$f":"IF(E1996<>0,(IF(lfValidaCEP(E1996)=TRUE,\"Válido\",\"Inválido\")),\"\")","v":""}]
[null,null,null,null,null,null,null,null,null,null,"",{"$f":"IF(C1997<>0,(IF(lfValidaCNPJ(C1997)=TRUE,\"Válido\",\"Inválido\")),\"\")","v":""},{"$f":"IF(E1997<>0,(IF(lfValidaCEP(E1997)=TRUE,\"Válido\",\"Inválido\")),\"\")","v":""}]
[null,null,null,null,null,null,null,null,null,null,"",{"$f":"IF(C1998<>0,(IF(lfValidaCNPJ(C1998)=TRUE,\"Válido\",\"Inválido\")),\"\")","v":""},{"$f":"IF(E1998<>0,(IF(lfValidaCEP(E1998)=TRUE,\"Válido\",\"Inválido\")),\"\")","v":""}]
[null,null,null,null,null,null,null,null,null,null,"",{"$f":"IF(C1999<>0,(IF(lfValidaCNPJ(C1999)=TRUE,\"Válido\",\"Inválido\")),\"\")","v":""},{"$f":"IF(E1999<>0,(IF(lfValidaCEP(E1999)=TRUE,\"Válido\",\"Inválido\")),\"\")","v":""}]
[null,null,null,null,null,null,null,null,null,null,"",{"$f":"IF(C2000<>0,(IF(lfValidaCNPJ(C2000)=TRUE,\"Válido\",\"Inválido\")),\"\")","v":""},{"$f":"IF(E2000<>0,(IF(lfValidaCEP(E2000)=TRUE,\"Válido\",\"Inválido\")),\"\")","v":""}]

{"sheet":"E) Coleta Itinerante","index":6,"n_rows":500,"n_cols":7,"rows_kept":500,"cut":false,"hidden":false,"merged":[[2,1,3,4],[4,1,4,4],[8,1,8,3],[6,1,6,2],[7,1,7,2]]}
[]
[]
[null,"RELATÓRIO COMPROBATÓRIO\nDO PLANO DE LOGÍSTICA REVERSA (RCPLR)"]
[]
[null,{"$f":"RELATÓRIO!$D$7","v":"< SELECIONAR TIPO >"}]
[]
[null,"Entidade ou Empresa Responsável pelo Sistema:",null,{"$f":"RELATÓRIO!B12","v":0}]
[null,"CNPJ:",null,{"$f":"RELATÓRIO!E12","v":0}]
[null,"2.1) Relação de Municípios atendidos pela Coleta Itinerante"]
[null,"Ano base","Município","Número de coletas realizadas (Coletas/ano)","Quantidade de resíduos coletados (ton./ano)",null,"VERIFICAÇÃO"]
[null,null,null,null,null,null,{"$f":"IF(COUNTA(B11:E11)<>0,IF(AND(B11<>0,C11<>0,D11<>0,E11<>0),\"Completo\",\"Incompleto\"),\"\")","v":""}]
[null,null,null,null,null,null,{"$f":"IF(COUNTA(B12:E12)<>0,IF(AND(B12<>0,C12<>0,D12<>0,E12<>0),\"Completo\",\"Incompleto\"),\"\")","v":""}]
[null,null,null,null,null,null,""]
[null,null,null,null,null,null,""]
[null,null,null,null,null,null,""]
[null,null,null,null,null,null,""]
[null,null,null,null,null,null,""]
[null,null,null,null,null,null,""]
[null,null,null,null,null,null,""]
[null,null,null,null,null,null,""]
[null,null,null,null,null,null,""]
[null,null,null,null,null,null,""]
[null,null,null,null,null,null,""]
[null,null,null,null,null,null,""]
[null,null,null,null,null,null,""]
[null,null,null,null,null,null,""]
[null,null,null,null,null,null,""]
[null,null,null,null,null,null,""]
[null,null,null,null,null,null,""]
[null,null,null,null,null,null,""]
[null,null,null,null,null,null,""]
[null,null,null,null,null,null,""]
[null,null,null,null,null,null,""]
[null,null,null,null,null,null,""]
[null,null,null,null,null,null,""]
[null,null,null,null,null,null,""]
[null,null,null,null,null,null,""]
[null,null,null,null,null,null,""]
[null,null,null,null,null,null,""]
[null,null,null,null,null,null,""]
[null,null,null,null,null,null,""]
[null,null,null,null,null,null,""]
[null,null,null,null,null,null,""]
[null,null,null,null,null,null,""]
[null,null,null,null,null,null,""]
[null,null,null,null,null,null,""]
[null,null,null,null,null,null,""]
[null,null,null,null,null,null,""]
[null,null,null,null,null,null,""]
[null,null,null,null,null,null,""]
[null,null,null,null,null,null,""]
[null,null,null,null,null,null,""]
[null,null,null,null,null,null,""]
[null,null,null,null,null,null,""]
[null,null,null,null,null,null,""]
[null,null,null,null,null,null,""]
[null,null,null,null,null,null,""]
[null,null,null,null,null,null,""]
[null,null,null,null,null,null,""]
[null,null,null,null,null,null,""]
[null,null,null,null,null,null,""]
[null,null,null,null,null,null,""]
[null,null,null,null,null,null,""]
[null,null,null,null,null,null,""]
[null,null,null,null,null,null,""]
[null,null,null,null,null,null,""]
[null,null,null,null,null,null,""]
[null,null,null,null,null,null,""]
[null,null,null,null,null,null,""]
[null,null,null,null,null,null,""]
[null,null,null,null,null,null,""]
[null,null,null,null,null,null,""]
[null,null,null,null,null,null,""]
[null,null,null,null,null,null,""]
[null,null,null,null,null,null,""]
[null,null,null,null,null,null,{"$f":"IF(COUNTA(B76:E76)<>0,IF(AND(B76<>0,C76<>0,D76<>0,E76<>0),\"Completo\",\"Incompleto\"),\"\")","v":""}]
[null,null,null,null,null,null,""]
[null,null,null,null,null,null,""]
[null,null,null,null,null,null,""]
[null,null,null,null,null,null,""]
[null,null,null,null,null,null,""]
[null,null,null,null,null,null,""]
[null,null,null,null,null,null,""]
[null,null,null,null,null,null,""]
[null,null,null,null,null,null,""]
[null,null,null,null,null,null,""]
[null,null,null,null,null,null,""]
[null,null,null,null,null,null,""]
[null,null,null,null,null,null,""]
[null,null,null,null,null,null,""]
[null,null,null,null,null,null,""]
[null,null,null,null,null,null,""]
[null,null,null,null,null,null,""]
[null,null,null,null,null,null,""]
[null,null,null,null,null,null,""]
[null,null,null,null,null,null,""]
[null,null,null,null,null,null,""]
[null,null,null,null,null,null,""]
[null,null,null,null,null,null,""]
[null,null,null,null,null,null,""]
[null,null,null,null,null,null,""]
[null,null,null,null,null,null,""]
[null,null,null,null,null,null,""]
[null,null,null,null,null,null,""]
[null,null,null,null,null,null,""]
[null,null,null,null,null,null,""]
[null,null,null,null,null,null,""]
[null,null,null,null,null,null,""]
[null,null,null,null,null,null,""]
[null,null,null,null,null,null,""]
[null,null,null,null,null,null,""]
[null,null,null,null,null,null,""]
[null,null,null,null,null,null,""]
[null,null,null,null,null,null,""]
[null,null,null,null,null,null,""]
[null,null,null,null,null,null,""]
[null,null,null,null,null,null,""]
[null,null,null,null,null,null,""]
[null,null,null,null,null,null,""]
[null,null,null,null,null,null,""]
[null,null,null,null,null,null,""]
[null,null,null,null,null,null,""]
[null,null,null,null,null,null,""]
[null,null,null,null,null,null,""]
[null,null,null,null,null,null,""]
[null,null,null,null,null,null,""]
[null,null,null,null,null,null,""]
[null,null,null,null,null,null,""]
[null,null,null,null,null,null,""]
[null,null,null,null,null,null,""]
[null,null,null,null,null,null,""]
[null,null,null,null,null,null,""]
[null,null,null,null,null,null,""]
[null,null,null,null,null,null,""]
[null,null,null,null,null,null,""]
[null,null,null,null,null,null,""]
[null,null,null,null,null,null,""]
[null,null,null,null,null,null,""]
[null,null,null,null,null,null,""]
[null,null,null,null,null,null,{"$f":"IF(COUNTA(B140:E140)<>0,IF(AND(B140<>0,C140<>0,D140<>0,E140<>0),\"Completo\",\"Incompleto\"),\"\")","v":""}]
[null,null,null,null,null,null,""]
[null,null,null,null,null,null,""]
[null,null,null,null,null,null,""]
[null,null,null,null,null,null,""]
[null,null,null,null,null,null,""]
[null,null,null,null,null,null,""]
[null,null,null,null,null,null,""]
[null,null,null,null,null,null,""]
[null,null,null,null,null,null,""]
[null,null,null,null,null,null,""]
[null,null,null,null,null,null,""]
[null,null,null,null,null,null,""]
[null,null,null,null,null,null,""]
[null,null,null,null,null,null,""]
[null,null,null,null,null,null,""]
[null,null,null,null,null,null,""]
[null,null,null,null,null,null,""]
[null,null,null,null,null,null,""]
[null,null,null,null,null,null,""]
[null,null,null,null,null,null,""]
[null,null,null,null,null,null,""]
[null,null,null,null,null,null,""]
[null,null,null,null,null,null,""]
[null,null,null,null,null,null,""]
[null,null,null,null,null,null,""]
[null,null,null,null,null,null,""]
[null,null,null,null,null,null,""]
[null,null,null,null,null,null,""]
[null,null,null,null,null,null,""]
[null,null,null,null,null,null,""]
[null,null,null,null,null,null,""]
[null,null,null,null,null,null,""]
[null,null,null,null,null,null,""]
[null,null,null,null,null,null,""]
[null,null,null,null,null,null,""]
[null,null,null,null,null,null,""]
[null,null,null,null,null,null,""]
[null,null,null,null,null,null,""]
[null,null,null,null,null,null,""]
[null,null,null,null,null,null,""]
[null,null,null,null,null,null,""]
[null,null,null,null,null,null,""]
[null,null,null,null,null,null,""]
[null,null,null,null,null,null,""]
[null,null,null,null,null,null,""]
[null,null,null,null,null,null,""]
[null,null,null,null,null,null,""]
[null,null,null,null,null,null,""]
[null,null,null,null,null,null,""]
[null,null,null,null,null,null,""]
[null,null,null,null,null,null,""]
[null,null,null,null,null,null,""]
[null,null,null,null,null,null,""]
[null,null,null,null,null,null,""]
[null,null,null,null,null,null,""]
[null,null,null,null,null,null,""]
[null,null,null,null,null,null,""]
[null,null,null,null,null,null,""]
[null,null,null,null,null,null,""]
[null,null,null,null,null,null,""]
[null,null,null,null,null,null,""]
[null,null,null,null,null,null,""]
[null,null,null,null,null,null,""]
[null,null,null,null,null,null,{"$f":"IF(COUNTA(B204:E204)<>0,IF(AND(B204<>0,C204<>0,D204<>0,E204<>0),\"Completo\",\"Incompleto\"),\"\")","v":""}]
[null,null,null,null,null,null,""]
[null,null,null,null,null,null,""]
[null,null,null,null,null,null,""]
[null,null,null,null,null,null,""]
[null,null,null,null,null,null,""]
[null,null,null,null,null,null,""]
[null,null,null,null,null,null,""]
[null,null,null,null,null,null,""]
[null,null,null,null,null,null,""]
[null,null,null,null,null,null,""]
[null,null,null,null,null,null,""]
[null,null,null,null,null,null,""]
[null,null,null,null,null,null,""]
[null,null,null,null,null,null,""]
[null,null,null,null,null,null,""]
[null,null,null,null,null,null,""]
[null,null,null,null,null,null,""]
[null,null,null,null,null,null,""]
[null,null,null,null,null,null,""]
[null,null,null,null,null,null,""]
[null,null,null,null,null,null,""]
[null,null,null,null,null,null,""]
[null,null,null,null,null,null,""]
[null,null,null,null,null,null,""]
[null,null,null,null,null,null,""]
[null,null,null,null,null,null,""]
[null,null,null,null,null,null,""]
[null,null,null,null,null,null,""]
[null,null,null,null,null,null,""]
[null,null,null,null,null,null,""]
[null,null,null,null,null,null,""]
[null,null,null,null,null,null,""]
[null,null,null,null,null,null,""]
[null,null,null,null,null,null,""]
[null,null,null,null,null,null,""]
[null,null,null,null,null,null,""]
[null,null,null,null,null,null,""]
[null,null,null,null,null,null,""]
[null,null,null,null,null,null,""]
[null,null,null,null,null,null,""]
[null,null,null,null,null,null,""]
[null,null,null,null,null,null,""]
[null,null,null,null,null,null,""]
[null,null,null,null,null,null,""]
[null,null,null,null,null,null,""]
[null,null,null,null,null,null,""]
[null,null,null,null,null,null,""]
[null,null,null,null,null,null,""]
[null,null,null,null,null,null,""]
[null,null,null,null,null,null,""]
[null,null,null,null,null,null,""]
[null,null,null,null,null,null,""]
[null,null,null,null,null,null,""]
[null,null,null,null,null,null,""]
[null,null,null,null,null,null,""]
[null,null,null,null,null,null,""]
[null,null,null,null,null,null,""]
[null,null,null,null,null,null,""]
[null,null,null,null,null,null,""]
[null,null,null,null,null,null,""]
[null,null,null,null,null,null,""]
[null,null,null,null,null,null,""]
[null,null,null,null,null,null,""]
[null,null,null,null,null,null,{"$f":"IF(COUNTA(B268:E268)<>0,IF(AND(B268<>0,C268<>0,D268<>0,E268<>0),\"Completo\",\"Incompleto\"),\"\")","v":""}]
[null,null,null,null,null,null,""]
[null,null,null,null,null,null,""]
[null,null,null,null,null,null,""]
[null,null,null,null,null,null,""]
[null,null,null,null,null,null,""]
[null,null,null,null,null,null,""]
[null,null,null,null,null,null,""]
[null,null,null,null,null,null,""]
[null,null,null,null,null,null,""]
[null,null,null,null,null,null,""]
[null,null,null,null,null,null,""]
[null,null,null,null,null,null,""]
[null,null,null,null,null,null,""]
[null,null,null,null,null,null,""]
[null,null,null,null,null,null,""]
[null,null,null,null,null,null,""]
[null,null,null,null,null,null,""]
[null,null,null,null,null,null,""]
[null,null,null,null,null,null,""]
[null,null,null,null,null,null,""]
[null,null,null,null,null,null,""]
[null,null,null,null,null,null,""]
[null,null,null,null,null,null,""]
[null,null,null,null,null,null,""]
[null,null,null,null,null,null,""]
[null,null,null,null,null,null,""]
[null,null,null,null,null,null,""]
[null,null,null,null,null,null,""]
[null,null,null,null,null,null,""]
[null,null,null,null,null,null,""]
[null,null,null,null,null,null,""]
[null,null,null,null,null,null,""]
[null,null,null,null,null,null,""]
[null,null,null,null,null,null,""]
[null,null,null,null,null,null,""]
[null,null,null,null,null,null,""]
[null,null,null,null,null,null,""]
[null,null,null,null,null,null,""]
[null,null,null,null,null,null,""]
[null,null,null,null,null,null,""]
[null,null,null,null,null,null,""]
[null,null,null,null,null,null,""]
[null,null,null,null,null,null,""]
[null,null,null,null,null,null,""]
[null,null,null,null,null,null,""]
[null,null,null,null,null,null,""]
[null,null,null,null,null,null,""]
[null,null,null,null,null,null,""]
[null,null,null,null,null,null,""]
[null,null,null,null,null,null,""]
[null,null,null,null,null,null,""]
[null,null,null,null,null,null,""]
[null,null,null,null,null,null,""]
[null,null,null,null,null,null,""]
[null,null,null,null,null,null,""]
[null,null,null,null,null,null,""]
[null,null,null,null,null,null,""]
[null,null,null,null,null,null,""]
[null,null,null,null,null,null,""]
[null,null,null,null,null,null,""]
[null,null,null,null,null,null,""]
[null,null,null,null,null,null,""]
[null,null,null,null,null,null,""]
[null,null,null,null,null,null,{"$f":"IF(COUNTA(B332:E332)<>0,IF(AND(B332<>0,C332<>0,D332<>0,E332<>0),\"Completo\",\"Incompleto\"),\"\")","v":""}]
[null,null,null,null,null,null,""]
[null,null,null,null,null,null,""]
[null,null,null,null,null,null,""]
[null,null,null,null,null,null,""]
[null,null,null,null,null,null,""]
[null,null,null,null,null,null,""]
[null,null,null,null,null,null,""]
[null,null,null,null,null,null,""]
[null,null,null,null,null,null,""]
[null,null,null,null,null,null,""]
[null,null,null,null,null,null,""]
[null,null,null,null,null,null,""]
[null,null,null,null,null,null,""]
[null,null,null,null,null,null,""]
[null,null,null,null,null,null,""]
[null,null,null,null,null,null,""]
[null,null,null,null,null,null,""]
[null,null,null,null,null,null,""]
[null,null,null,null,null,null,""]
[null,null,null,null,null,null,""]
[null,null,null,null,null,null,""]
[null,null,null,null,null,null,""]
[null,null,null,null,null,null,""]
[null,null,null,null,null,null,""]
[null,null,null,null,null,null,""]
[null,null,null,null,null,null,""]
[null,null,null,null,null,null,""]
[null,null,null,null,null,null,""]
[null,null,null,null,null,null,""]
[null,null,null,null,null,null,""]
[null,null,null,null,null,null,""]
[null,null,null,null,null,null,""]
[null,null,null,null,null,null,""]
[null,null,null,null,null,null,""]
[null,null,null,null,null,null,""]
[null,null,null,null,null,null,""]
[null,null,null,null,null,null,""]
[null,null,null,null,null,null,""]
[null,null,null,null,null,null,""]
[null,null,null,null,null,null,""]
[null,null,null,null,null,null,""]
[null,null,null,null,null,null,""]
[null,null,null,null,null,null,""]
[null,null,null,null,null,null,""]
[null,null,null,null,null,null,""]
[null,null,null,null,null,null,""]
[null,null,null,null,null,null,""]
[null,null,null,null,null,null,""]
[null,null,null,null,null,null,""]
[null,null,null,null,null,null,""]
[null,null,null,null,null,null,""]
[null,null,null,null,null,null,""]
[null,null,null,null,null,null,""]
[null,null,null,null,null,null,""]
[null,null,null,null,null,null,""]
[null,null,null,null,null,null,""]
[null,null,null,null,null,null,""]
[null,null,null,null,null,null,""]
[null,null,null,null,null,null,""]
[null,null,null,null,null,null,""]
[null,null,null,null,null,null,""]
[null,null,null,null,null,null,""]
[null,null,null,null,null,null,""]
[null,null,null,null,null,null,{"$f":"IF(COUNTA(B396:E396)<>0,IF(AND(B396<>0,C396<>0,D396<>0,E396<>0),\"Completo\",\"Incompleto\"),\"\")","v":""}]
[null,null,null,null,null,null,""]
[null,null,null,null,null,null,""]
[null,null,null,null,null,null,""]
[null,null,null,null,null,null,""]
[null,null,null,null,null,null,""]
[null,null,null,null,null,null,""]
[null,null,null,null,null,null,""]
[null,null,null,null,null,null,""]
[null,null,null,null,null,null,""]
[null,null,null,null,null,null,""]
[null,null,null,null,null,null,""]
[null,null,null,null,null,null,""]
[null,null,null,null,null,null,""]
[null,null,null,null,null,null,""]
[null,null,null,null,null,null,""]
[null,null,null,null,null,null,""]
[null,null,null,null,null,null,""]
[null,null,null,null,null,null,""]
[null,null,null,null,null,null,""]
[null,null,null,null,null,null,""]
[null,null,null,null,null,null,""]
[null,null,null,null,null,null,""]
[null,null,null,null,null,null,""]
[null,null,null,null,null,null,""]
[null,null,null,null,null,null,""]
[null,null,null,null,null,null,""]
[null,null,null,null,null,null,""]
[null,null,null,null,null,null,""]
[null,null,null,null,null,null,""]
[null,null,null,null,null,null,""]
[null,null,null,null,null,null,""]
[null,null,null,null,null,null,""]
[null,null,null,null,null,null,""]
[null,null,null,null,null,null,""]
[null,null,null,null,null,null,""]
[null,null,null,null,null,null,""]
[null,null,null,null,null,null,""]
[null,null,null,null,null,null,""]
[null,null,null,null,null,null,""]
[null,null,null,null,null,null,""]
[null,null,null,null,null,null,""]
[null,null,null,null,null,null,""]
[null,null,null,null,null,null,""]
[null,null,null,null,null,null,""]
[null,null,null,null,null,null,""]
[null,null,null,null,null,null,""]
[null,null,null,null,null,null,""]
[null,null,null,null,null,null,""]
[null,null,null,null,null,null,""]
[null,null,null,null,null,null,""]
[null,null,null,null,null,null,""]
[null,null,null,null,null,null,""]
[null,null,null,null,null,null,""]
[null,null,null,null,null,null,""]
[null,null,null,null,null,null,""]
[null,null,null,null,null,null,""]
[null,null,null,null,null,null,""]
[null,null,null,null,null,null,""]
[null,null,null,null,null,null,""]
[null,null,null,null,null,null,""]
[null,null,null,null,null,null,""]
[null,null,null,null,null,null,""]
[null,null,null,null,null,null,""]
[null,null,null,null,null,null,{"$f":"IF(COUNTA(B460:E460)<>0,IF(AND(B460<>0,C460<>0,D460<>0,E460<>0),\"Completo\",\"Incompleto\"),\"\")","v":""}]
[null,null,null,null,null,null,""]
[null,null,null,null,null,null,""]
[null,null,null,null,null,null,""]
[null,null,null,null,null,null,""]
[null,null,null,null,null,null,""]
[null,null,null,null,null,null,""]
[null,null,null,null,null,null,""]
[null,null,null,null,null,null,""]
[null,null,null,null,null,null,""]
[null,null,null,null,null,null,""]
[null,null,null,null,null,null,""]
[null,null,null,null,null,null,""]
[null,null,null,null,null,null,""]
[null,null,null,null,null,null,""]
[null,null,null,null,null,null,""]
[null,null,null,null,null,null,""]
[null,null,null,null,null,null,""]
[null,null,null,null,null,null,""]
[null,null,null,null,null,null,""]
[null,null,null,null,null,null,""]
[null,null,null,null,null,null,""]
[null,null,null,null,null,null,""]
[null,null,null,null,null,null,""]
[null,null,null,null,null,null,""]
[null,null,null,null,null,null,""]
[null,null,null,null,null,null,""]
[null,null,null,null,null,null,""]
[null,null,null,null,null,null,""]
[null,null,null,null,null,null,""]
[null,null,null,null,null,null,""]
[null,null,null,null,null,null,""]
[null,null,null,null,null,null,""]
[null,null,null,null,null,null,""]
[null,null,null,null,null,null,""]
[null,null,null,null,null,null,""]
[null,null,null,null,null,null,""]
[null,null,null,null,null,null,""]
[null,null,null,null,null,null,""]
[null,null,null,null,null,null,""]
[null,null,null,null,null,null,""]

{"sheet":"F) Centrais de Triagem","index":7,"n_rows":50,"n_cols":15,"rows_kept":50,"cut":false,"hidden":false,"merged":[[8,1,8,7],[9,12,9,14],[1,3,1,5],[2,1,3,9],[4,1,4,9]]}
[]
[]
[null,"RELATÓRIO COMPROBATÓRIO\nDO PLANO DE LOGÍSTICA REVERSA (RCPLR)"]
[]
[null,{"$f":"RELATÓRIO!$D$7","v":"< SELECIONAR TIPO >"}]
[]
[null,null,"Entidade ou Empresa Responsável pelo Sistema:",null,{"$f":"RELATÓRIO!B12","v":0}]
[null,null,"CNPJ:",null,{"$f":"RELATÓRIO!E12","v":0}]
[null,"2.1) Relação de organização de catadoras(es) participantes do Sistema de Logística Reversa"]
[null,"Ano Base","Razão Social / Nome do ponto","CNPJ\n(Ex. XX.XXX.XXX/0001-XX)","Tipo do Operador","Município","CEP\n(Ex. XX.XXX-XXX)","Endereço \n(Ex. Logradouro, número, complemento e bairro)","Quantidade de cooperados nas Entidades de catadores de materiais","Capacidade de triagem \n(ton./ano)","Quantidade de resíduos recebidos pela entidade \n(ton./ano)",null,"VERIFICAÇÃO"]
[null,null,null,null,null,null,null,null,null,null,null,null,{"$f":"IF(COUNTA(C11:K11)<>0,IF(COUNTBLANK(C11:K11)=0,\"Completo\",\"Incompleto\"),\"\")","v":""},{"$f":"IF(D11<>0,(IF(lfValidaCNPJ(D11)=TRUE,\"Válido\",\"Inválido\")),\"\")","v":""},{"$f":"IF(G11<>0,(IF(lfValidaCEP(G11)=TRUE,\"Válido\",\"Inválido\")),\"\")","v":""}]
[null,null,null,null,null,null,null,null,null,null,null,null,{"$f":"IF(COUNTA(B12:K12)<>0,IF(COUNTBLANK(B12:K12)=0,\"Completo\",\"Incompleto\"),\"\")","v":""},{"$f":"IF(D12<>0,(IF(lfValidaCNPJ(D12)=TRUE,\"Válido\",\"Inválido\")),\"\")","v":""},{"$f":"IF(G12<>0,(IF(lfValidaCEP(G12)=TRUE,\"Válido\",\"Inválido\")),\"\")","v":""}]
[null,null,null,null,null,null,null,null,null,null,null,null,"",{"$f":"IF(D13<>0,(IF(lfValidaCNPJ(D13)=TRUE,\"Válido\",\"Inválido\")),\"\")","v":""},{"$f":"IF(G13<>0,(IF(lfValidaCEP(G13)=TRUE,\"Válido\",\"Inválido\")),\"\")","v":""}]
[null,null,null,null,null,null,null,null,null,null,null,null,"",{"$f":"IF(D14<>0,(IF(lfValidaCNPJ(D14)=TRUE,\"Válido\",\"Inválido\")),\"\")","v":""},{"$f":"IF(G14<>0,(IF(lfValidaCEP(G14)=TRUE,\"Válido\",\"Inválido\")),\"\")","v":""}]
[null,null,null,null,null,null,null,null,null,null,null,null,"",{"$f":"IF(D15<>0,(IF(lfValidaCNPJ(D15)=TRUE,\"Válido\",\"Inválido\")),\"\")","v":""},{"$f":"IF(G15<>0,(IF(lfValidaCEP(G15)=TRUE,\"Válido\",\"Inválido\")),\"\")","v":""}]
[null,null,null,null,null,null,null,null,null,null,null,null,"",{"$f":"IF(D16<>0,(IF(lfValidaCNPJ(D16)=TRUE,\"Válido\",\"Inválido\")),\"\")","v":""},{"$f":"IF(G16<>0,(IF(lfValidaCEP(G16)=TRUE,\"Válido\",\"Inválido\")),\"\")","v":""}]
[null,null,null,null,null,null,null,null,null,null,null,null,"",{"$f":"IF(D17<>0,(IF(lfValidaCNPJ(D17)=TRUE,\"Válido\",\"Inválido\")),\"\")","v":""},{"$f":"IF(G17<>0,(IF(lfValidaCEP(G17)=TRUE,\"Válido\",\"Inválido\")),\"\")","v":""}]
[null,null,null,null,null,null,null,null,null,null,null,null,"",{"$f":"IF(D18<>0,(IF(lfValidaCNPJ(D18)=TRUE,\"Válido\",\"Inválido\")),\"\")","v":""},{"$f":"IF(G18<>0,(IF(lfValidaCEP(G18)=TRUE,\"Válido\",\"Inválido\")),\"\")","v":""}]
[null,null,null,null,null,null,null,null,null,null,null,null,"",{"$f":"IF(D19<>0,(IF(lfValidaCNPJ(D19)=TRUE,\"Válido\",\"Inválido\")),\"\")","v":""},{"$f":"IF(G19<>0,(IF(lfValidaCEP(G19)=TRUE,\"Válido\",\"Inválido\")),\"\")","v":""}]
[null,null,null,null,null,null,null,null,null,null,null,null,"",{"$f":"IF(D20<>0,(IF(lfValidaCNPJ(D20)=TRUE,\"Válido\",\"Inválido\")),\"\")","v":""},{"$f":"IF(G20<>0,(IF(lfValidaCEP(G20)=TRUE,\"Válido\",\"Inválido\")),\"\")","v":""}]
[null,null,null,null,null,null,null,null,null,null,null,null,"",{"$f":"IF(D21<>0,(IF(lfValidaCNPJ(D21)=TRUE,\"Válido\",\"Inválido\")),\"\")","v":""},{"$f":"IF(G21<>0,(IF(lfValidaCEP(G21)=TRUE,\"Válido\",\"Inválido\")),\"\")","v":""}]
[null,null,null,null,null,null,null,null,null,null,null,null,"",{"$f":"IF(D22<>0,(IF(lfValidaCNPJ(D22)=TRUE,\"Válido\",\"Inválido\")),\"\")","v":""},{"$f":"IF(G22<>0,(IF(lfValidaCEP(G22)=TRUE,\"Válido\",\"Inválido\")),\"\")","v":""}]
[null,null,null,null,null,null,null,null,null,null,null,null,"",{"$f":"IF(D23<>0,(IF(lfValidaCNPJ(D23)=TRUE,\"Válido\",\"Inválido\")),\"\")","v":""},{"$f":"IF(G23<>0,(IF(lfValidaCEP(G23)=TRUE,\"Válido\",\"Inválido\")),\"\")","v":""}]
[null,null,null,null,null,null,null,null,null,null,null,null,"",{"$f":"IF(D24<>0,(IF(lfValidaCNPJ(D24)=TRUE,\"Válido\",\"Inválido\")),\"\")","v":""},{"$f":"IF(G24<>0,(IF(lfValidaCEP(G24)=TRUE,\"Válido\",\"Inválido\")),\"\")","v":""}]
[null,null,null,null,null,null,null,null,null,null,null,null,"",{"$f":"IF(D25<>0,(IF(lfValidaCNPJ(D25)=TRUE,\"Válido\",\"Inválido\")),\"\")","v":""},{"$f":"IF(G25<>0,(IF(lfValidaCEP(G25)=TRUE,\"Válido\",\"Inválido\")),\"\")","v":""}]
[null,null,null,null,null,null,null,null,null,null,null,null,"",{"$f":"IF(D26<>0,(IF(lfValidaCNPJ(D26)=TRUE,\"Válido\",\"Inválido\")),\"\")","v":""},{"$f":"IF(G26<>0,(IF(lfValidaCEP(G26)=TRUE,\"Válido\",\"Inválido\")),\"\")","v":""}]
[null,null,null,null,null,null,null,null,null,null,null,null,"",{"$f":"IF(D27<>0,(IF(lfValidaCNPJ(D27)=TRUE,\"Válido\",\"Inválido\")),\"\")","v":""},{"$f":"IF(G27<>0,(IF(lfValidaCEP(G27)=TRUE,\"Válido\",\"Inválido\")),\"\")","v":""}]
[null,null,null,null,null,null,null,null,null,null,null,null,"",{"$f":"IF(D28<>0,(IF(lfValidaCNPJ(D28)=TRUE,\"Válido\",\"Inválido\")),\"\")","v":""},{"$f":"IF(G28<>0,(IF(lfValidaCEP(G28)=TRUE,\"Válido\",\"Inválido\")),\"\")","v":""}]
[null,null,null,null,null,null,null,null,null,null,null,null,"",{"$f":"IF(D29<>0,(IF(lfValidaCNPJ(D29)=TRUE,\"Válido\",\"Inválido\")),\"\")","v":""},{"$f":"IF(G29<>0,(IF(lfValidaCEP(G29)=TRUE,\"Válido\",\"Inválido\")),\"\")","v":""}]
[null,null,null,null,null,null,null,null,null,null,null,null,"",{"$f":"IF(D30<>0,(IF(lfValidaCNPJ(D30)=TRUE,\"Válido\",\"Inválido\")),\"\")","v":""},{"$f":"IF(G30<>0,(IF(lfValidaCEP(G30)=TRUE,\"Válido\",\"Inválido\")),\"\")","v":""}]
[null,null,null,null,null,null,null,null,null,null,null,null,"",{"$f":"IF(D31<>0,(IF(lfValidaCNPJ(D31)=TRUE,\"Válido\",\"Inválido\")),\"\")","v":""},{"$f":"IF(G31<>0,(IF(lfValidaCEP(G31)=TRUE,\"Válido\",\"Inválido\")),\"\")","v":""}]
[null,null,null,null,null,null,null,null,null,null,null,null,"",{"$f":"IF(D32<>0,(IF(lfValidaCNPJ(D32)=TRUE,\"Válido\",\"Inválido\")),\"\")","v":""},{"$f":"IF(G32<>0,(IF(lfValidaCEP(G32)=TRUE,\"Válido\",\"Inválido\")),\"\")","v":""}]
[null,null,null,null,null,null,null,null,null,null,null,null,"",{"$f":"IF(D33<>0,(IF(lfValidaCNPJ(D33)=TRUE,\"Válido\",\"Inválido\")),\"\")","v":""},{"$f":"IF(G33<>0,(IF(lfValidaCEP(G33)=TRUE,\"Válido\",\"Inválido\")),\"\")","v":""}]
[null,null,null,null,null,null,null,null,null,null,null,null,"",{"$f":"IF(D34<>0,(IF(lfValidaCNPJ(D34)=TRUE,\"Válido\",\"Inválido\")),\"\")","v":""},{"$f":"IF(G34<>0,(IF(lfValidaCEP(G34)=TRUE,\"Válido\",\"Inválido\")),\"\")","v":""}]
[null,null,null,null,null,null,null,null,null,null,null,null,"",{"$f":"IF(D35<>0,(IF(lfValidaCNPJ(D35)=TRUE,\"Válido\",\"Inválido\")),\"\")","v":""},{"$f":"IF(G35<>0,(IF(lfValidaCEP(G35)=TRUE,\"Válido\",\"Inválido\")),\"\")","v":""}]
[null,null,null,null,null,null,null,null,null,null,null,null,"",{"$f":"IF(D36<>0,(IF(lfValidaCNPJ(D36)=TRUE,\"Válido\",\"Inválido\")),\"\")","v":""},{"$f":"IF(G36<>0,(IF(lfValidaCEP(G36)=TRUE,\"Válido\",\"Inválido\")),\"\")","v":""}]
[null,null,null,null,null,null,null,null,null,null,null,null,"",{"$f":"IF(D37<>0,(IF(lfValidaCNPJ(D37)=TRUE,\"Válido\",\"Inválido\")),\"\")","v":""},{"$f":"IF(G37<>0,(IF(lfValidaCEP(G37)=TRUE,\"Válido\",\"Inválido\")),\"\")","v":""}]
[null,null,null,null,null,null,null,null,null,null,null,null,"",{"$f":"IF(D38<>0,(IF(lfValidaCNPJ(D38)=TRUE,\"Válido\",\"Inválido\")),\"\")","v":""},{"$f":"IF(G38<>0,(IF(lfValidaCEP(G38)=TRUE,\"Válido\",\"Inválido\")),\"\")","v":""}]
[null,null,null,null,null,null,null,null,null,null,null,null,"",{"$f":"IF(D39<>0,(IF(lfValidaCNPJ(D39)=TRUE,\"Válido\",\"Inválido\")),\"\")","v":""},{"$f":"IF(G39<>0,(IF(lfValidaCEP(G39)=TRUE,\"Válido\",\"Inválido\")),\"\")","v":""}]
[null,null,null,null,null,null,null,null,null,null,null,null,"",{"$f":"IF(D40<>0,(IF(lfValidaCNPJ(D40)=TRUE,\"Válido\",\"Inválido\")),\"\")","v":""},{"$f":"IF(G40<>0,(IF(lfValidaCEP(G40)=TRUE,\"Válido\",\"Inválido\")),\"\")","v":""}]
[null,null,null,null,null,null,null,null,null,null,null,null,"",{"$f":"IF(D41<>0,(IF(lfValidaCNPJ(D41)=TRUE,\"Válido\",\"Inválido\")),\"\")","v":""},{"$f":"IF(G41<>0,(IF(lfValidaCEP(G41)=TRUE,\"Válido\",\"Inválido\")),\"\")","v":""}]
[null,null,null,null,null,null,null,null,null,null,null,null,"",{"$f":"IF(D42<>0,(IF(lfValidaCNPJ(D42)=TRUE,\"Válido\",\"Inválido\")),\"\")","v":""},{"$f":"IF(G42<>0,(IF(lfValidaCEP(G42)=TRUE,\"Válido\",\"Inválido\")),\"\")","v":""}]
[null,null,null,null,null,null,null,null,null,null,null,null,"",{"$f":"IF(D43<>0,(IF(lfValidaCNPJ(D43)=TRUE,\"Válido\",\"Inválido\")),\"\")","v":""},{"$f":"IF(G43<>0,(IF(lfValidaCEP(G43)=TRUE,\"Válido\",\"Inválido\")),\"\")","v":""}]
[null,null,null,null,null,null,null,null,null,null,null,null,"",{"$f":"IF(D44<>0,(IF(lfValidaCNPJ(D44)=TRUE,\"Válido\",\"Inválido\")),\"\")","v":""},{"$f":"IF(G44<>0,(IF(lfValidaCEP(G44)=TRUE,\"Válido\",\"Inválido\")),\"\")","v":""}]
[null,null,null,null,null,null,null,null,null,null,null,null,"",{"$f":"IF(D45<>0,(IF(lfValidaCNPJ(D45)=TRUE,\"Válido\",\"Inválido\")),\"\")","v":""},{"$f":"IF(G45<>0,(IF(lfValidaCEP(G45)=TRUE,\"Válido\",\"Inválido\")),\"\")","v":""}]
[null,null,null,null,null,null,null,null,null,null,null,null,"",{"$f":"IF(D46<>0,(IF(lfValidaCNPJ(D46)=TRUE,\"Válido\",\"Inválido\")),\"\")","v":""},{"$f":"IF(G46<>0,(IF(lfValidaCEP(G46)=TRUE,\"Válido\",\"Inválido\")),\"\")","v":""}]
[null,null,null,null,null,null,null,null,null,null,null,null,"",{"$f":"IF(D47<>0,(IF(lfValidaCNPJ(D47)=TRUE,\"Válido\",\"Inválido\")),\"\")","v":""},{"$f":"IF(G47<>0,(IF(lfValidaCEP(G47)=TRUE,\"Válido\",\"Inválido\")),\"\")","v":""}]
[null,null,null,null,null,null,null,null,null,null,null,null,"",{"$f":"IF(D48<>0,(IF(lfValidaCNPJ(D48)=TRUE,\"Válido\",\"Inválido\")),\"\")","v":""},{"$f":"IF(G48<>0,(IF(lfValidaCEP(G48)=TRUE,\"Válido\",\"Inválido\")),\"\")","v":""}]
[null,null,null,null,null,null,null,null,null,null,null,null,"",{"$f":"IF(D49<>0,(IF(lfValidaCNPJ(D49)=TRUE,\"Válido\",\"Inválido\")),\"\")","v":""},{"$f":"IF(G49<>0,(IF(lfValidaCEP(G49)=TRUE,\"Válido\",\"Inválido\")),\"\")","v":""}]
[null,null,null,null,null,null,null,null,null,null,null,null,"",{"$f":"IF(D50<>0,(IF(lfValidaCNPJ(D50)=TRUE,\"Válido\",\"Inválido\")),\"\")","v":""},{"$f":"IF(G50<>0,(IF(lfValidaCEP(G50)=TRUE,\"Válido\",\"Inválido\")),\"\")","v":""}]

{"sheet":"G) Certificados de Reciclagem","index":8,"n_rows":51,"n_cols":32,"rows_kept":51,"cut":false,"hidden":false,"merged":[[9,29,9,31],[9,26,10,26],[9,27,10,27],[9,7,10,7],[9,8,10,8],[9,9,10,9],[9,10,10,10],[9,11,9,25],[9,6,10,6],[1,3,1,5],[9,2,10,2],[9,3,10,3],[9,4,10,4],[9,5,10,5],[4,2,4,7],[2,2,2,7],[3,2,3,7]]}
[]
[]
[null,null,"RELATÓRIO COMPROBATÓRIO\nDO PLANO DE LOGÍSTICA REVERSA (RCPLR)"]
[]
[null,null,{"$f":"RELATÓRIO!$D$7","v":"< SELECIONAR TIPO >"}]
[]
[null,null,"Entidade ou Empresa Responsável pelo Sistema:",null,{"$f":"RELATÓRIO!B12","v":0}]
[null,null,"CNPJ:",null,{"$f":"RELATÓRIO!E12","v":0}]
[null,null,"2.1) Certificados de Reciclagem -  Relação das Operadoras aderentes"]
[null,"Ano Base","Razão Social / Nome do ponto","CNPJ\n(Ex. XX.XXX.XXX/0001-XX)","Tipo do Operador","Município","CEP\n(Ex. XX.XXX-XXX)","Endereço \n(Ex. Logradouro, número, complemento e bairro)","Origem dos resíduos","Capacidade de triagem \n(ton./ano)","Quantidade de resíduos recebidos pela entidade \n(ton./ano)","Quantidade de materiais lastreada em Notas Fiscais, para fins de emissão de Certificados (Compensação) de Reciclagem (ton./ano)",null,null,null,null,null,null,null,null,null,null,null,null,null,null,"Quantidade de rejeito destinado adequadamente (t/ano)","Ressarcimento pelos serviços prestados \n(em R$)",null,"VERIFICAÇÃO"]
[null,null,null,null,null,null,null,null,null,null,null,"Papel / Papelão","Plástico","Aço e ferro","Alumínio","Vidro","Polietieleno tereftalato (PET)","Polietileno de alta densidade (HDPE)","Polietileno de baixa densidade (LDPE)","Polipropileno (PP)","Poliestireno (PS)","Policloreto de Vinila (PVC)","Plástico multimaterial","Aerossóis","Embalagem cartonada longa vda, mista ou multicamada","Outros materiais",null,null,null,"Preenchimento","CNPJ","CEP"]
[null,null,null,null,null,null,null,null,null,null,null,null,null,null,null,null,null,null,null,null,null,null,null,null,null,null,null,null,null,{"$f":"IF(COUNTA(B12:Z12)<>0,IF(COUNTBLANK(B12:Z12)=0,\"Completo\",\"Incompleto\"),\"\")","v":""},{"$f":"IF(D12<>0,(IF(lfValidaCNPJ(D12)=TRUE,\"Válido\",\"Inválido\")),\"\")","v":""},{"$f":"IF(G12<>0,(IF(lfValidaCEP(G12)=TRUE,\"Válido\",\"Inválido\")),\"\")","v":""}]
[null,null,null,null,null,null,null,null,null,null,null,null,null,null,null,null,null,null,null,null,null,null,null,null,null,null,null,null,null,{"$f":"IF(COUNTA(B13:Z13)<>0,IF(COUNTBLANK(B13:Z13)=0,\"Completo\",\"Incompleto\"),\"\")","v":""},{"$f":"IF(D13<>0,(IF(lfValidaCNPJ(D13)=TRUE,\"Válido\",\"Inválido\")),\"\")","v":""},{"$f":"IF(G13<>0,(IF(lfValidaCEP(G13)=TRUE,\"Válido\",\"Inválido\")),\"\")","v":""}]
[null,null,null,null,null,null,null,null,null,null,null,null,null,null,null,null,null,null,null,null,null,null,null,null,null,null,null,null,null,"",{"$f":"IF(D14<>0,(IF(lfValidaCNPJ(D14)=TRUE,\"Válido\",\"Inválido\")),\"\")","v":""},{"$f":"IF(G14<>0,(IF(lfValidaCEP(G14)=TRUE,\"Válido\",\"Inválido\")),\"\")","v":""}]
[null,null,null,null,null,null,null,null,null,null,null,null,null,null,null,null,null,null,null,null,null,null,null,null,null,null,null,null,null,"",{"$f":"IF(D15<>0,(IF(lfValidaCNPJ(D15)=TRUE,\"Válido\",\"Inválido\")),\"\")","v":""},{"$f":"IF(G15<>0,(IF(lfValidaCEP(G15)=TRUE,\"Válido\",\"Inválido\")),\"\")","v":""}]
[null,null,null,null,null,null,null,null,null,null,null,null,null,null,null,null,null,null,null,null,null,null,null,null,null,null,null,null,null,"",{"$f":"IF(D16<>0,(IF(lfValidaCNPJ(D16)=TRUE,\"Válido\",\"Inválido\")),\"\")","v":""},{"$f":"IF(G16<>0,(IF(lfValidaCEP(G16)=TRUE,\"Válido\",\"Inválido\")),\"\")","v":""}]
[null,null,null,null,null,null,null,null,null,null,null,null,null,null,null,null,null,null,null,null,null,null,null,null,null,null,null,null,null,"",{"$f":"IF(D17<>0,(IF(lfValidaCNPJ(D17)=TRUE,\"Válido\",\"Inválido\")),\"\")","v":""},{"$f":"IF(G17<>0,(IF(lfValidaCEP(G17)=TRUE,\"Válido\",\"Inválido\")),\"\")","v":""}]
[null,null,null,null,null,null,null,null,null,null,null,null,null,null,null,null,null,null,null,null,null,null,null,null,null,null,null,null,null,"",{"$f":"IF(D18<>0,(IF(lfValidaCNPJ(D18)=TRUE,\"Válido\",\"Inválido\")),\"\")","v":""},{"$f":"IF(G18<>0,(IF(lfValidaCEP(G18)=TRUE,\"Válido\",\"Inválido\")),\"\")","v":""}]
[null,null,null,null,null,null,null,null,null,null,null,null,null,null,null,null,null,null,null,null,null,null,null,null,null,null,null,null,null,"",{"$f":"IF(D19<>0,(IF(lfValidaCNPJ(D19)=TRUE,\"Válido\",\"Inválido\")),\"\")","v":""},{"$f":"IF(G19<>0,(IF(lfValidaCEP(G19)=TRUE,\"Válido\",\"Inválido\")),\"\")","v":""}]
[null,null,null,null,null,null,null,null,null,null,null,null,null,null,null,null,null,null,null,null,null,null,null,null,null,null,null,null,null,"",{"$f":"IF(D20<>0,(IF(lfValidaCNPJ(D20)=TRUE,\"Válido\",\"Inválido\")),\"\")","v":""},{"$f":"IF(G20<>0,(IF(lfValidaCEP(G20)=TRUE,\"Válido\",\"Inválido\")),\"\")","v":""}]
[null,null,null,null,null,null,null,null,null,null,null,null,null,null,null,null,null,null,null,null,null,null,null,null,null,null,null,null,null,"",{"$f":"IF(D21<>0,(IF(lfValidaCNPJ(D21)=TRUE,\"Válido\",\"Inválido\")),\"\")","v":""},{"$f":"IF(G21<>0,(IF(lfValidaCEP(G21)=TRUE,\"Válido\",\"Inválido\")),\"\")","v":""}]
[null,null,null,null,null,null,null,null,null,null,null,null,null,null,null,null,null,null,null,null,null,null,null,null,null,null,null,null,null,"",{"$f":"IF(D22<>0,(IF(lfValidaCNPJ(D22)=TRUE,\"Válido\",\"Inválido\")),\"\")","v":""},{"$f":"IF(G22<>0,(IF(lfValidaCEP(G22)=TRUE,\"Válido\",\"Inválido\")),\"\")","v":""}]
[null,null,null,null,null,null,null,null,null,null,null,null,null,null,null,null,null,null,null,null,null,null,null,null,null,null,null,null,null,"",{"$f":"IF(D23<>0,(IF(lfValidaCNPJ(D23)=TRUE,\"Válido\",\"Inválido\")),\"\")","v":""},{"$f":"IF(G23<>0,(IF(lfValidaCEP(G23)=TRUE,\"Válido\",\"Inválido\")),\"\")","v":""}]
[null,null,null,null,null,null,null,null,null,null,null,null,null,null,null,null,null,null,null,null,null,null,null,null,null,null,null,null,null,"",{"$f":"IF(D24<>0,(IF(lfValidaCNPJ(D24)=TRUE,\"Válido\",\"Inválido\")),\"\")","v":""},{"$f":"IF(G24<>0,(IF(lfValidaCEP(G24)=TRUE,\"Válido\",\"Inválido\")),\"\")","v":""}]
[null,null,null,null,null,null,null,null,null,null,null,null,null,null,null,null,null,null,null,null,null,null,null,null,null,null,null,null,null,"",{"$f":"IF(D25<>0,(IF(lfValidaCNPJ(D25)=TRUE,\"Válido\",\"Inválido\")),\"\")","v":""},{"$f":"IF(G25<>0,(IF(lfValidaCEP(G25)=TRUE,\"Válido\",\"Inválido\")),\"\")","v":""}]
[null,null,null,null,null,null,null,null,null,null,null,null,null,null,null,null,null,null,null,null,null,null,null,null,null,null,null,null,null,"",{"$f":"IF(D26<>0,(IF(lfValidaCNPJ(D26)=TRUE,\"Válido\",\"Inválido\")),\"\")","v":""},{"$f":"IF(G26<>0,(IF(lfValidaCEP(G26)=TRUE,\"Válido\",\"Inválido\")),\"\")","v":""}]
[null,null,null,null,null,null,null,null,null,null,null,null,null,null,null,null,null,null,null,null,null,null,null,null,null,null,null,null,null,"",{"$f":"IF(D27<>0,(IF(lfValidaCNPJ(D27)=TRUE,\"Válido\",\"Inválido\")),\"\")","v":""},{"$f":"IF(G27<>0,(IF(lfValidaCEP(G27)=TRUE,\"Válido\",\"Inválido\")),\"\")","v":""}]
[null,null,null,null,null,null,null,null,null,null,null,null,null,null,null,null,null,null,null,null,null,null,null,null,null,null,null,null,null,"",{"$f":"IF(D28<>0,(IF(lfValidaCNPJ(D28)=TRUE,\"Válido\",\"Inválido\")),\"\")","v":""},{"$f":"IF(G28<>0,(IF(lfValidaCEP(G28)=TRUE,\"Válido\",\"Inválido\")),\"\")","v":""}]
[null,null,null,null,null,null,null,null,null,null,null,null,null,null,null,null,null,null,null,null,null,null,null,null,null,null,null,null,null,"",{"$f":"IF(D29<>0,(IF(lfValidaCNPJ(D29)=TRUE,\"Válido\",\"Inválido\")),\"\")","v":""},{"$f":"IF(G29<>0,(IF(lfValidaCEP(G29)=TRUE,\"Válido\",\"Inválido\")),\"\")","v":""}]
[null,null,null,null,null,null,null,null,null,null,null,null,null,null,null,null,null,null,null,null,null,null,null,null,null,null,null,null,null,"",{"$f":"IF(D30<>0,(IF(lfValidaCNPJ(D30)=TRUE,\"Válido\",\"Inválido\")),\"\")","v":""},{"$f":"IF(G30<>0,(IF(lfValidaCEP(G30)=TRUE,\"Válido\",\"Inválido\")),\"\")","v":""}]
[null,null,null,null,null,null,null,null,null,null,null,null,null,null,null,null,null,null,null,null,null,null,null,null,null,null,null,null,null,"",{"$f":"IF(D31<>0,(IF(lfValidaCNPJ(D31)=TRUE,\"Válido\",\"Inválido\")),\"\")","v":""},{"$f":"IF(G31<>0,(IF(lfValidaCEP(G31)=TRUE,\"Válido\",\"Inválido\")),\"\")","v":""}]
[null,null,null,null,null,null,null,null,null,null,null,null,null,null,null,null,null,null,null,null,null,null,null,null,null,null,null,null,null,"",{"$f":"IF(D32<>0,(IF(lfValidaCNPJ(D32)=TRUE,\"Válido\",\"Inválido\")),\"\")","v":""},{"$f":"IF(G32<>0,(IF(lfValidaCEP(G32)=TRUE,\"Válido\",\"Inválido\")),\"\")","v":""}]
[null,null,null,null,null,null,null,null,null,null,null,null,null,null,null,null,null,null,null,null,null,null,null,null,null,null,null,null,null,"",{"$f":"IF(D33<>0,(IF(lfValidaCNPJ(D33)=TRUE,\"Válido\",\"Inválido\")),\"\")","v":""},{"$f":"IF(G33<>0,(IF(lfValidaCEP(G33)=TRUE,\"Válido\",\"Inválido\")),\"\")","v":""}]
[null,null,null,null,null,null,null,null,null,null,null,null,null,null,null,null,null,null,null,null,null,null,null,null,null,null,null,null,null,"",{"$f":"IF(D34<>0,(IF(lfValidaCNPJ(D34)=TRUE,\"Válido\",\"Inválido\")),\"\")","v":""},{"$f":"IF(G34<>0,(IF(lfValidaCEP(G34)=TRUE,\"Válido\",\"Inválido\")),\"\")","v":""}]
[null,null,null,null,null,null,null,null,null,null,null,null,null,null,null,null,null,null,null,null,null,null,null,null,null,null,null,null,null,"",{"$f":"IF(D35<>0,(IF(lfValidaCNPJ(D35)=TRUE,\"Válido\",\"Inválido\")),\"\")","v":""},{"$f":"IF(G35<>0,(IF(lfValidaCEP(G35)=TRUE,\"Válido\",\"Inválido\")),\"\")","v":""}]
[null,null,null,null,null,null,null,null,null,null,null,null,null,null,null,null,null,null,null,null,null,null,null,null,null,null,null,null,null,"",{"$f":"IF(D36<>0,(IF(lfValidaCNPJ(D36)=TRUE,\"Válido\",\"Inválido\")),\"\")","v":""},{"$f":"IF(G36<>0,(IF(lfValidaCEP(G36)=TRUE,\"Válido\",\"Inválido\")),\"\")","v":""}]
[null,null,null,null,null,null,null,null,null,null,null,null,null,null,null,null,null,null,null,null,null,null,null,null,null,null,null,null,null,"",{"$f":"IF(D37<>0,(IF(lfValidaCNPJ(D37)=TRUE,\"Válido\",\"Inválido\")),\"\")","v":""},{"$f":"IF(G37<>0,(IF(lfValidaCEP(G37)=TRUE,\"Válido\",\"Inválido\")),\"\")","v":""}]
[null,null,null,null,null,null,null,null,null,null,null,null,null,null,null,null,null,null,null,null,null,null,null,null,null,null,null,null,null,"",{"$f":"IF(D38<>0,(IF(lfValidaCNPJ(D38)=TRUE,\"Válido\",\"Inválido\")),\"\")","v":""},{"$f":"IF(G38<>0,(IF(lfValidaCEP(G38)=TRUE,\"Válido\",\"Inválido\")),\"\")","v":""}]
[null,null,null,null,null,null,null,null,null,null,null,null,null,null,null,null,null,null,null,null,null,null,null,null,null,null,null,null,null,"",{"$f":"IF(D39<>0,(IF(lfValidaCNPJ(D39)=TRUE,\"Válido\",\"Inválido\")),\"\")","v":""},{"$f":"IF(G39<>0,(IF(lfValidaCEP(G39)=TRUE,\"Válido\",\"Inválido\")),\"\")","v":""}]
[null,null,null,null,null,null,null,null,null,null,null,null,null,null,null,null,null,null,null,null,null,null,null,null,null,null,null,null,null,"",{"$f":"IF(D40<>0,(IF(lfValidaCNPJ(D40)=TRUE,\"Válido\",\"Inválido\")),\"\")","v":""},{"$f":"IF(G40<>0,(IF(lfValidaCEP(G40)=TRUE,\"Válido\",\"Inválido\")),\"\")","v":""}]
[null,null,null,null,null,null,null,null,null,null,null,null,null,null,null,null,null,null,null,null,null,null,null,null,null,null,null,null,null,"",{"$f":"IF(D41<>0,(IF(lfValidaCNPJ(D41)=TRUE,\"Válido\",\"Inválido\")),\"\")","v":""},{"$f":"IF(G41<>0,(IF(lfValidaCEP(G41)=TRUE,\"Válido\",\"Inválido\")),\"\")","v":""}]
[null,null,null,null,null,null,null,null,null,null,null,null,null,null,null,null,null,null,null,null,null,null,null,null,null,null,null,null,null,"",{"$f":"IF(D42<>0,(IF(lfValidaCNPJ(D42)=TRUE,\"Válido\",\"Inválido\")),\"\")","v":""},{"$f":"IF(G42<>0,(IF(lfValidaCEP(G42)=TRUE,\"Válido\",\"Inválido\")),\"\")","v":""}]
[null,null,null,null,null,null,null,null,null,null,null,null,null,null,null,null,null,null,null,null,null,null,null,null,null,null,null,null,null,"",{"$f":"IF(D43<>0,(IF(lfValidaCNPJ(D43)=TRUE,\"Válido\",\"Inválido\")),\"\")","v":""},{"$f":"IF(G43<>0,(IF(lfValidaCEP(G43)=TRUE,\"Válido\",\"Inválido\")),\"\")","v":""}]
[null,null,null,null,null,null,null,null,null,null,null,null,null,null,null,null,null,null,null,null,null,null,null,null,null,null,null,null,null,"",{"$f":"IF(D44<>0,(IF(lfValidaCNPJ(D44)=TRUE,\"Válido\",\"Inválido\")),\"\")","v":""},{"$f":"IF(G44<>0,(IF(lfValidaCEP(G44)=TRUE,\"Válido\",\"Inválido\")),\"\")","v":""}]
[null,null,null,null,null,null,null,null,null,null,null,null,null,null,null,null,null,null,null,null,null,null,null,null,null,null,null,null,null,"",{"$f":"IF(D45<>0,(IF(lfValidaCNPJ(D45)=TRUE,\"Válido\",\"Inválido\")),\"\")","v":""},{"$f":"IF(G45<>0,(IF(lfValidaCEP(G45)=TRUE,\"Válido\",\"Inválido\")),\"\")","v":""}]
[null,null,null,null,null,null,null,null,null,null,null,null,null,null,null,null,null,null,null,null,null,null,null,null,null,null,null,null,null,"",{"$f":"IF(D46<>0,(IF(lfValidaCNPJ(D46)=TRUE,\"Válido\",\"Inválido\")),\"\")","v":""},{"$f":"IF(G46<>0,(IF(lfValidaCEP(G46)=TRUE,\"Válido\",\"Inválido\")),\"\")","v":""}]
[null,null,null,null,null,null,null,null,null,null,null,null,null,null,null,null,null,null,null,null,null,null,null,null,null,null,null,null,null,"",{"$f":"IF(D47<>0,(IF(lfValidaCNPJ(D47)=TRUE,\"Válido\",\"Inválido\")),\"\")","v":""},{"$f":"IF(G47<>0,(IF(lfValidaCEP(G47)=TRUE,\"Válido\",\"Inválido\")),\"\")","v":""}]
[null,null,null,null,null,null,null,null,null,null,null,null,null,null,null,null,null,null,null,null,null,null,null,null,null,null,null,null,null,"",{"$f":"IF(D48<>0,(IF(lfValidaCNPJ(D48)=TRUE,\"Válido\",\"Inválido\")),\"\")","v":""},{"$f":"IF(G48<>0,(IF(lfValidaCEP(G48)=TRUE,\"Válido\",\"Inválido\")),\"\")","v":""}]
[null,null,null,null,null,null,null,null,null,null,null,null,null,null,null,null,null,null,null,null,null,null,null,null,null,null,null,null,null,"",{"$f":"IF(D49<>0,(IF(lfValidaCNPJ(D49)=TRUE,\"Válido\",\"Inválido\")),\"\")","v":""},{"$f":"IF(G49<>0,(IF(lfValidaCEP(G49)=TRUE,\"Válido\",\"Inválido\")),\"\")","v":""}]
[null,null,null,null,null,null,null,null,null,null,null,null,null,null,null,null,null,null,null,null,null,null,null,null,null,null,null,null,null,"",{"$f":"IF(D50<>0,(IF(lfValidaCNPJ(D50)=TRUE,\"Válido\",\"Inválido\")),\"\")","v":""},{"$f":"IF(G50<>0,(IF(lfValidaCEP(G50)=TRUE,\"Válido\",\"Inválido\")),\"\")","v":""}]
[null,null,null,null,null,null,null,null,null,null,null,null,null,null,null,null,null,null,null,null,null,null,null,null,null,null,null,null,null,"",{"$f":"IF(D51<>0,(IF(lfValidaCNPJ(D51)=TRUE,\"Válido\",\"Inválido\")),\"\")","v":""},{"$f":"IF(G51<>0,(IF(lfValidaCEP(G51)=TRUE,\"Válido\",\"Inválido\")),\"\")","v":""}]

{"sheet":"H) Operadores Logísticos ","index":9,"n_rows":1000,"n_cols":12,"rows_kept":1000,"cut":false,"hidden":false,"merged":[[8,9,8,11],[4,1,4,7],[2,1,3,7],[8,1,8,2],[6,1,6,2],[7,1,7,2],[6,3,6,7],[7,3,7,7]]}
[]
[]
[null,"RELATÓRIO COMPROBATÓRIO\nDO PLANO DE LOGÍSTICA REVERSA (RCPLR)"]
[]
[null,{"$f":"RELATÓRIO!$D$7","v":"< SELECIONAR TIPO >"}]
[]
[null,"Entidade ou Empresa Responsável pelo Sistema:",null,{"$f":"RELATÓRIO!B12","v":0}]
[null,"CNPJ:",null,{"$f":"RELATÓRIO!E12","v":0}]
[null,"2.2) Relação de Operadores Logísticos",null,null,null,null,null,null,null,"VERIFICAÇÃO"]
[null,"Razão Social","CNPJ\n(Ex. XX.XXX.XXX/0001-XX)","Endereço \n(Ex. Logradouro, número, complemento e bairro)","CEP\n(Ex. XX.XXX-XXX)","Município","Nº Licença Ambiental","Data de Validade",null,"Preenchimento","CNPJ","CEP"]
[null,null,null,null,null,null,null,null,null,{"$f":"IF(COUNTA(B11:G11)<>0,IF(AND(B11<>0,C11<>0,D11<>0,E11<>0,F11<>0,G11<>0),\"Completo\",\"Incompleto\"),\"\")","v":""},{"$f":"IF(C11<>0,(IF(lfValidaCNPJ(C11)=TRUE,\"Válido\",\"Inválido\")),\"\")","v":""},{"$f":"IF(E11<>0,(IF(lfValidaCEP(E11)=TRUE,\"Válido\",\"Inválido\")),\"\")","v":""}]
[null,null,null,null,null,null,null,null,null,{"$f":"IF(COUNTA(B12:G12)<>0,IF(AND(B12<>0,C12<>0,D12<>0,E12<>0,F12<>0,G12<>0),\"Completo\",\"Incompleto\"),\"\")","v":""},{"$f":"IF(C12<>0,(IF(lfValidaCNPJ(C12)=TRUE,\"Válido\",\"Inválido\")),\"\")","v":""},{"$f":"IF(E12<>0,(IF(lfValidaCEP(E12)=TRUE,\"Válido\",\"Inválido\")),\"\")","v":""}]
[null,null,null,null,null,null,null,null,null,"",{"$f":"IF(C13<>0,(IF(lfValidaCNPJ(C13)=TRUE,\"Válido\",\"Inválido\")),\"\")","v":""},{"$f":"IF(E13<>0,(IF(lfValidaCEP(E13)=TRUE,\"Válido\",\"Inválido\")),\"\")","v":""}]
[null,null,null,null,null,null,null,null,null,"",{"$f":"IF(C14<>0,(IF(lfValidaCNPJ(C14)=TRUE,\"Válido\",\"Inválido\")),\"\")","v":""},{"$f":"IF(E14<>0,(IF(lfValidaCEP(E14)=TRUE,\"Válido\",\"Inválido\")),\"\")","v":""}]
[null,null,null,null,null,null,null,null,null,"",{"$f":"IF(C15<>0,(IF(lfValidaCNPJ(C15)=TRUE,\"Válido\",\"Inválido\")),\"\")","v":""},{"$f":"IF(E15<>0,(IF(lfValidaCEP(E15)=TRUE,\"Válido\",\"Inválido\")),\"\")","v":""}]
[null,null,null,null,null,null,null,null,null,"",{"$f":"IF(C16<>0,(IF(lfValidaCNPJ(C16)=TRUE,\"Válido\",\"Inválido\")),\"\")","v":""},{"$f":"IF(E16<>0,(IF(lfValidaCEP(E16)=TRUE,\"Válido\",\"Inválido\")),\"\")","v":""}]
[null,null,null,null,null,null,null,null,null,"",{"$f":"IF(C17<>0,(IF(lfValidaCNPJ(C17)=TRUE,\"Válido\",\"Inválido\")),\"\")","v":""},{"$f":"IF(E17<>0,(IF(lfValidaCEP(E17)=TRUE,\"Válido\",\"Inválido\")),\"\")","v":""}]
[null,null,null,null,null,null,null,null,null,"",{"$f":"IF(C18<>0,(IF(lfValidaCNPJ(C18)=TRUE,\"Válido\",\"Inválido\")),\"\")","v":""},{"$f":"IF(E18<>0,(IF(lfValidaCEP(E18)=TRUE,\"Válido\",\"Inválido\")),\"\")","v":""}]
[null,null,null,null,null,null,null,null,null,"",{"$f":"IF(C19<>0,(IF(lfValidaCNPJ(C19)=TRUE,\"Válido\",\"Inválido\")),\"\")","v":""},{"$f":"IF(E19<>0,(IF(lfValidaCEP(E19)=TRUE,\"Válido\",\"Inválido\")),\"\")","v":""}]
[null,null,null,null,null,null,null,null,null,"",{"$f":"IF(C20<>0,(IF(lfValidaCNPJ(C20)=TRUE,\"Válido\",\"Inválido\")),\"\")","v":""},{"$f":"IF(E20<>0,(IF(lfValidaCEP(E20)=TRUE,\"Válido\",\"Inválido\")),\"\")","v":""}]
[null,null,null,null,null,null,null,null,null,"",{"$f":"IF(C21<>0,(IF(lfValidaCNPJ(C21)=TRUE,\"Válido\",\"Inválido\")),\"\")","v":""},{"$f":"IF(E21<>0,(IF(lfValidaCEP(E21)=TRUE,\"Válido\",\"Inválido\")),\"\")","v":""}]
[null,null,null,null,null,null,null,null,null,"",{"$f":"IF(C22<>0,(IF(lfValidaCNPJ(C22)=TRUE,\"Válido\",\"Inválido\")),\"\")","v":""},{"$f":"IF(E22<>0,(IF(lfValidaCEP(E22)=TRUE,\"Válido\",\"Inválido\")),\"\")","v":""}]
[null,null,null,null,null,null,null,null,null,"",{"$f":"IF(C23<>0,(IF(lfValidaCNPJ(C23)=TRUE,\"Válido\",\"Inválido\")),\"\")","v":""},{"$f":"IF(E23<>0,(IF(lfValidaCEP(E23)=TRUE,\"Válido\",\"Inválido\")),\"\")","v":""}]
[null,null,null,null,null,null,null,null,null,"",{"$f":"IF(C24<>0,(IF(lfValidaCNPJ(C24)=TRUE,\"Válido\",\"Inválido\")),\"\")","v":""},{"$f":"IF(E24<>0,(IF(lfValidaCEP(E24)=TRUE,\"Válido\",\"Inválido\")),\"\")","v":""}]
[null,null,null,null,null,null,null,null,null,"",{"$f":"IF(C25<>0,(IF(lfValidaCNPJ(C25)=TRUE,\"Válido\",\"Inválido\")),\"\")","v":""},{"$f":"IF(E25<>0,(IF(lfValidaCEP(E25)=TRUE,\"Válido\",\"Inválido\")),\"\")","v":""}]
[null,null,null,null,null,null,null,null,null,"",{"$f":"IF(C26<>0,(IF(lfValidaCNPJ(C26)=TRUE,\"Válido\",\"Inválido\")),\"\")","v":""},{"$f":"IF(E26<>0,(IF(lfValidaCEP(E26)=TRUE,\"Válido\",\"Inválido\")),\"\")","v":""}]
[null,null,null,null,null,null,null,null,null,"",{"$f":"IF(C27<>0,(IF(lfValidaCNPJ(C27)=TRUE,\"Válido\",\"Inválido\")),\"\")","v":""},{"$f":"IF(E27<>0,(IF(lfValidaCEP(E27)=TRUE,\"Válido\",\"Inválido\")),\"\")","v":""}]
[null,null,null,null,null,null,null,null,null,"",{"$f":"IF(C28<>0,(IF(lfValidaCNPJ(C28)=TRUE,\"Válido\",\"Inválido\")),\"\")","v":""},{"$f":"IF(E28<>0,(IF(lfValidaCEP(E28)=TRUE,\"Válido\",\"Inválido\")),\"\")","v":""}]
[null,null,null,null,null,null,null,null,null,"",{"$f":"IF(C29<>0,(IF(lfValidaCNPJ(C29)=TRUE,\"Válido\",\"Inválido\")),\"\")","v":""},{"$f":"IF(E29<>0,(IF(lfValidaCEP(E29)=TRUE,\"Válido\",\"Inválido\")),\"\")","v":""}]
[null,null,null,null,null,null,null,null,null,"",{"$f":"IF(C30<>0,(IF(lfValidaCNPJ(C30)=TRUE,\"Válido\",\"Inválido\")),\"\")","v":""},{"$f":"IF(E30<>0,(IF(lfValidaCEP(E30)=TRUE,\"Válido\",\"Inválido\")),\"\")","v":""}]
[null,null,null,null,null,null,null,null,null,"",{"$f":"IF(C31<>0,(IF(lfValidaCNPJ(C31)=TRUE,\"Válido\",\"Inválido\")),\"\")","v":""},{"$f":"IF(E31<>0,(IF(lfValidaCEP(E31)=TRUE,\"Válido\",\"Inválido\")),\"\")","v":""}]
[null,null,null,null,null,null,null,null,null,"",{"$f":"IF(C32<>0,(IF(lfValidaCNPJ(C32)=TRUE,\"Válido\",\"Inválido\")),\"\")","v":""},{"$f":"IF(E32<>0,(IF(lfValidaCEP(E32)=TRUE,\"Válido\",\"Inválido\")),\"\")","v":""}]
[null,null,null,null,null,null,null,null,null,"",{"$f":"IF(C33<>0,(IF(lfValidaCNPJ(C33)=TRUE,\"Válido\",\"Inválido\")),\"\")","v":""},{"$f":"IF(E33<>0,(IF(lfValidaCEP(E33)=TRUE,\"Válido\",\"Inválido\")),\"\")","v":""}]
[null,null,null,null,null,null,null,null,null,"",{"$f":"IF(C34<>0,(IF(lfValidaCNPJ(C34)=TRUE,\"Válido\",\"Inválido\")),\"\")","v":""},{"$f":"IF(E34<>0,(IF(lfValidaCEP(E34)=TRUE,\"Válido\",\"Inválido\")),\"\")","v":""}]
[null,null,null,null,null,null,null,null,null,"",{"$f":"IF(C35<>0,(IF(lfValidaCNPJ(C35)=TRUE,\"Válido\",\"Inválido\")),\"\")","v":""},{"$f":"IF(E35<>0,(IF(lfValidaCEP(E35)=TRUE,\"Válido\",\"Inválido\")),\"\")","v":""}]
[null,null,null,null,null,null,null,null,null,"",{"$f":"IF(C36<>0,(IF(lfValidaCNPJ(C36)=TRUE,\"Válido\",\"Inválido\")),\"\")","v":""},{"$f":"IF(E36<>0,(IF(lfValidaCEP(E36)=TRUE,\"Válido\",\"Inválido\")),\"\")","v":""}]
[null,null,null,null,null,null,null,null,null,"",{"$f":"IF(C37<>0,(IF(lfValidaCNPJ(C37)=TRUE,\"Válido\",\"Inválido\")),\"\")","v":""},{"$f":"IF(E37<>0,(IF(lfValidaCEP(E37)=TRUE,\"Válido\",\"Inválido\")),\"\")","v":""}]
[null,null,null,null,null,null,null,null,null,"",{"$f":"IF(C38<>0,(IF(lfValidaCNPJ(C38)=TRUE,\"Válido\",\"Inválido\")),\"\")","v":""},{"$f":"IF(E38<>0,(IF(lfValidaCEP(E38)=TRUE,\"Válido\",\"Inválido\")),\"\")","v":""}]
[null,null,null,null,null,null,null,null,null,"",{"$f":"IF(C39<>0,(IF(lfValidaCNPJ(C39)=TRUE,\"Válido\",\"Inválido\")),\"\")","v":""},{"$f":"IF(E39<>0,(IF(lfValidaCEP(E39)=TRUE,\"Válido\",\"Inválido\")),\"\")","v":""}]
[null,null,null,null,null,null,null,null,null,"",{"$f":"IF(C40<>0,(IF(lfValidaCNPJ(C40)=TRUE,\"Válido\",\"Inválido\")),\"\")","v":""},{"$f":"IF(E40<>0,(IF(lfValidaCEP(E40)=TRUE,\"Válido\",\"Inválido\")),\"\")","v":""}]
[null,null,null,null,null,null,null,null,null,"",{"$f":"IF(C41<>0,(IF(lfValidaCNPJ(C41)=TRUE,\"Válido\",\"Inválido\")),\"\")","v":""},{"$f":"IF(E41<>0,(IF(lfValidaCEP(E41)=TRUE,\"Válido\",\"Inválido\")),\"\")","v":""}]
[null,null,null,null,null,null,null,null,null,"",{"$f":"IF(C42<>0,(IF(lfValidaCNPJ(C42)=TRUE,\"Válido\",\"Inválido\")),\"\")","v":""},{"$f":"IF(E42<>0,(IF(lfValidaCEP(E42)=TRUE,\"Válido\",\"Inválido\")),\"\")","v":""}]
[null,null,null,null,null,null,null,null,null,"",{"$f":"IF(C43<>0,(IF(lfValidaCNPJ(C43)=TRUE,\"Válido\",\"Inválido\")),\"\")","v":""},{"$f":"IF(E43<>0,(IF(lfValidaCEP(E43)=TRUE,\"Válido\",\"Inválido\")),\"\")","v":""}]
[null,null,null,null,null,null,null,null,null,"",{"$f":"IF(C44<>0,(IF(lfValidaCNPJ(C44)=TRUE,\"Válido\",\"Inválido\")),\"\")","v":""},{"$f":"IF(E44<>0,(IF(lfValidaCEP(E44)=TRUE,\"Válido\",\"Inválido\")),\"\")","v":""}]
[null,null,null,null,null,null,null,null,null,"",{"$f":"IF(C45<>0,(IF(lfValidaCNPJ(C45)=TRUE,\"Válido\",\"Inválido\")),\"\")","v":""},{"$f":"IF(E45<>0,(IF(lfValidaCEP(E45)=TRUE,\"Válido\",\"Inválido\")),\"\")","v":""}]
[null,null,null,null,null,null,null,null,null,"",{"$f":"IF(C46<>0,(IF(lfValidaCNPJ(C46)=TRUE,\"Válido\",\"Inválido\")),\"\")","v":""},{"$f":"IF(E46<>0,(IF(lfValidaCEP(E46)=TRUE,\"Válido\",\"Inválido\")),\"\")","v":""}]
[null,null,null,null,null,null,null,null,null,"",{"$f":"IF(C47<>0,(IF(lfValidaCNPJ(C47)=TRUE,\"Válido\",\"Inválido\")),\"\")","v":""},{"$f":"IF(E47<>0,(IF(lfValidaCEP(E47)=TRUE,\"Válido\",\"Inválido\")),\"\")","v":""}]
[null,null,null,null,null,null,null,null,null,"",{"$f":"IF(C48<>0,(IF(lfValidaCNPJ(C48)=TRUE,\"Válido\",\"Inválido\")),\"\")","v":""},{"$f":"IF(E48<>0,(IF(lfValidaCEP(E48)=TRUE,\"Válido\",\"Inválido\")),\"\")","v":""}]
[null,null,null,null,null,null,null,null,null,"",{"$f":"IF(C49<>0,(IF(lfValidaCNPJ(C49)=TRUE,\"Válido\",\"Inválido\")),\"\")","v":""},{"$f":"IF(E49<>0,(IF(lfValidaCEP(E49)=TRUE,\"Válido\",\"Inválido\")),\"\")","v":""}]
[null,null,null,null,null,null,null,null,null,"",{"$f":"IF(C50<>0,(IF(lfValidaCNPJ(C50)=TRUE,\"Válido\",\"Inválido\")),\"\")","v":""},{"$f":"IF(E50<>0,(IF(lfValidaCEP(E50)=TRUE,\"Válido\",\"Inválido\")),\"\")","v":""}]
[null,null,null,null,null,null,null,null,null,"",{"$f":"IF(C51<>0,(IF(lfValidaCNPJ(C51)=TRUE,\"Válido\",\"Inválido\")),\"\")","v":""},{"$f":"IF(E51<>0,(IF(lfValidaCEP(E51)=TRUE,\"Válido\",\"Inválido\")),\"\")","v":""}]
[null,null,null,null,null,null,null,null,null,"",{"$f":"IF(C52<>0,(IF(lfValidaCNPJ(C52)=TRUE,\"Válido\",\"Inválido\")),\"\")","v":""},{"$f":"IF(E52<>0,(IF(lfValidaCEP(E52)=TRUE,\"Válido\",\"Inválido\")),\"\")","v":""}]
[null,null,null,null,null,null,null,null,null,"",{"$f":"IF(C53<>0,(IF(lfValidaCNPJ(C53)=TRUE,\"Válido\",\"Inválido\")),\"\")","v":""},{"$f":"IF(E53<>0,(IF(lfValidaCEP(E53)=TRUE,\"Válido\",\"Inválido\")),\"\")","v":""}]
[null,null,null,null,null,null,null,null,null,"",{"$f":"IF(C54<>0,(IF(lfValidaCNPJ(C54)=TRUE,\"Válido\",\"Inválido\")),\"\")","v":""},{"$f":"IF(E54<>0,(IF(lfValidaCEP(E54)=TRUE,\"Válido\",\"Inválido\")),\"\")","v":""}]
[null,null,null,null,null,null,null,null,null,"",{"$f":"IF(C55<>0,(IF(lfValidaCNPJ(C55)=TRUE,\"Válido\",\"Inválido\")),\"\")","v":""},{"$f":"IF(E55<>0,(IF(lfValidaCEP(E55)=TRUE,\"Válido\",\"Inválido\")),\"\")","v":""}]
[null,null,null,null,null,null,null,null,null,"",{"$f":"IF(C56<>0,(IF(lfValidaCNPJ(C56)=TRUE,\"Válido\",\"Inválido\")),\"\")","v":""},{"$f":"IF(E56<>0,(IF(lfValidaCEP(E56)=TRUE,\"Válido\",\"Inválido\")),\"\")","v":""}]
[null,null,null,null,null,null,null,null,null,"",{"$f":"IF(C57<>0,(IF(lfValidaCNPJ(C57)=TRUE,\"Válido\",\"Inválido\")),\"\")","v":""},{"$f":"IF(E57<>0,(IF(lfValidaCEP(E57)=TRUE,\"Válido\",\"Inválido\")),\"\")","v":""}]
[null,null,null,null,null,null,null,null,null,"",{"$f":"IF(C58<>0,(IF(lfValidaCNPJ(C58)=TRUE,\"Válido\",\"Inválido\")),\"\")","v":""},{"$f":"IF(E58<>0,(IF(lfValidaCEP(E58)=TRUE,\"Válido\",\"Inválido\")),\"\")","v":""}]
[null,null,null,null,null,null,null,null,null,"",{"$f":"IF(C59<>0,(IF(lfValidaCNPJ(C59)=TRUE,\"Válido\",\"Inválido\")),\"\")","v":""},{"$f":"IF(E59<>0,(IF(lfValidaCEP(E59)=TRUE,\"Válido\",\"Inválido\")),\"\")","v":""}]
[null,null,null,null,null,null,null,null,null,"",{"$f":"IF(C60<>0,(IF(lfValidaCNPJ(C60)=TRUE,\"Válido\",\"Inválido\")),\"\")","v":""},{"$f":"IF(E60<>0,(IF(lfValidaCEP(E60)=TRUE,\"Válido\",\"Inválido\")),\"\")","v":""}]
[null,null,null,null,null,null,null,null,null,"",{"$f":"IF(C61<>0,(IF(lfValidaCNPJ(C61)=TRUE,\"Válido\",\"Inválido\")),\"\")","v":""},{"$f":"IF(E61<>0,(IF(lfValidaCEP(E61)=TRUE,\"Válido\",\"Inválido\")),\"\")","v":""}]
[null,null,null,null,null,null,null,null,null,"",{"$f":"IF(C62<>0,(IF(lfValidaCNPJ(C62)=TRUE,\"Válido\",\"Inválido\")),\"\")","v":""},{"$f":"IF(E62<>0,(IF(lfValidaCEP(E62)=TRUE,\"Válido\",\"Inválido\")),\"\")","v":""}]
[null,null,null,null,null,null,null,null,null,"",{"$f":"IF(C63<>0,(IF(lfValidaCNPJ(C63)=TRUE,\"Válido\",\"Inválido\")),\"\")","v":""},{"$f":"IF(E63<>0,(IF(lfValidaCEP(E63)=TRUE,\"Válido\",\"Inválido\")),\"\")","v":""}]
[null,null,null,null,null,null,null,null,null,"",{"$f":"IF(C64<>0,(IF(lfValidaCNPJ(C64)=TRUE,\"Válido\",\"Inválido\")),\"\")","v":""},{"$f":"IF(E64<>0,(IF(lfValidaCEP(E64)=TRUE,\"Válido\",\"Inválido\")),\"\")","v":""}]
[null,null,null,null,null,null,null,null,null,"",{"$f":"IF(C65<>0,(IF(lfValidaCNPJ(C65)=TRUE,\"Válido\",\"Inválido\")),\"\")","v":""},{"$f":"IF(E65<>0,(IF(lfValidaCEP(E65)=TRUE,\"Válido\",\"Inválido\")),\"\")","v":""}]
[null,null,null,null,null,null,null,null,null,"",{"$f":"IF(C66<>0,(IF(lfValidaCNPJ(C66)=TRUE,\"Válido\",\"Inválido\")),\"\")","v":""},{"$f":"IF(E66<>0,(IF(lfValidaCEP(E66)=TRUE,\"Válido\",\"Inválido\")),\"\")","v":""}]
[null,null,null,null,null,null,null,null,null,"",{"$f":"IF(C67<>0,(IF(lfValidaCNPJ(C67)=TRUE,\"Válido\",\"Inválido\")),\"\")","v":""},{"$f":"IF(E67<>0,(IF(lfValidaCEP(E67)=TRUE,\"Válido\",\"Inválido\")),\"\")","v":""}]
[null,null,null,null,null,null,null,null,null,"",{"$f":"IF(C68<>0,(IF(lfValidaCNPJ(C68)=TRUE,\"Válido\",\"Inválido\")),\"\")","v":""},{"$f":"IF(E68<>0,(IF(lfValidaCEP(E68)=TRUE,\"Válido\",\"Inválido\")),\"\")","v":""}]
[null,null,null,null,null,null,null,null,null,"",{"$f":"IF(C69<>0,(IF(lfValidaCNPJ(C69)=TRUE,\"Válido\",\"Inválido\")),\"\")","v":""},{"$f":"IF(E69<>0,(IF(lfValidaCEP(E69)=TRUE,\"Válido\",\"Inválido\")),\"\")","v":""}]
[null,null,null,null,null,null,null,null,null,"",{"$f":"IF(C70<>0,(IF(lfValidaCNPJ(C70)=TRUE,\"Válido\",\"Inválido\")),\"\")","v":""},{"$f":"IF(E70<>0,(IF(lfValidaCEP(E70)=TRUE,\"Válido\",\"Inválido\")),\"\")","v":""}]
[null,null,null,null,null,null,null,null,null,"",{"$f":"IF(C71<>0,(IF(lfValidaCNPJ(C71)=TRUE,\"Válido\",\"Inválido\")),\"\")","v":""},{"$f":"IF(E71<>0,(IF(lfValidaCEP(E71)=TRUE,\"Válido\",\"Inválido\")),\"\")","v":""}]
[null,null,null,null,null,null,null,null,null,"",{"$f":"IF(C72<>0,(IF(lfValidaCNPJ(C72)=TRUE,\"Válido\",\"Inválido\")),\"\")","v":""},{"$f":"IF(E72<>0,(IF(lfValidaCEP(E72)=TRUE,\"Válido\",\"Inválido\")),\"\")","v":""}]
[null,null,null,null,null,null,null,null,null,"",{"$f":"IF(C73<>0,(IF(lfValidaCNPJ(C73)=TRUE,\"Válido\",\"Inválido\")),\"\")","v":""},{"$f":"IF(E73<>0,(IF(lfValidaCEP(E73)=TRUE,\"Válido\",\"Inválido\")),\"\")","v":""}]
[null,null,null,null,null,null,null,null,null,"",{"$f":"IF(C74<>0,(IF(lfValidaCNPJ(C74)=TRUE,\"Válido\",\"Inválido\")),\"\")","v":""},{"$f":"IF(E74<>0,(IF(lfValidaCEP(E74)=TRUE,\"Válido\",\"Inválido\")),\"\")","v":""}]
[null,null,null,null,null,null,null,null,null,"",{"$f":"IF(C75<>0,(IF(lfValidaCNPJ(C75)=TRUE,\"Válido\",\"Inválido\")),\"\")","v":""},{"$f":"IF(E75<>0,(IF(lfValidaCEP(E75)=TRUE,\"Válido\",\"Inválido\")),\"\")","v":""}]
[null,null,null,null,null,null,null,null,null,{"$f":"IF(COUNTA(B76:G76)<>0,IF(AND(B76<>0,C76<>0,D76<>0,E76<>0,F76<>0,G76<>0),\"Completo\",\"Incompleto\"),\"\")","v":""},{"$f":"IF(C76<>0,(IF(lfValidaCNPJ(C76)=TRUE,\"Válido\",\"Inválido\")),\"\")","v":""},{"$f":"IF(E76<>0,(IF(lfValidaCEP(E76)=TRUE,\"Válido\",\"Inválido\")),\"\")","v":""}]
[null,null,null,null,null,null,null,null,null,"",{"$f":"IF(C77<>0,(IF(lfValidaCNPJ(C77)=TRUE,\"Válido\",\"Inválido\")),\"\")","v":""},{"$f":"IF(E77<>0,(IF(lfValidaCEP(E77)=TRUE,\"Válido\",\"Inválido\")),\"\")","v":""}]
[null,null,null,null,null,null,null,null,null,"",{"$f":"IF(C78<>0,(IF(lfValidaCNPJ(C78)=TRUE,\"Válido\",\"Inválido\")),\"\")","v":""},{"$f":"IF(E78<>0,(IF(lfValidaCEP(E78)=TRUE,\"Válido\",\"Inválido\")),\"\")","v":""}]
[null,null,null,null,null,null,null,null,null,"",{"$f":"IF(C79<>0,(IF(lfValidaCNPJ(C79)=TRUE,\"Válido\",\"Inválido\")),\"\")","v":""},{"$f":"IF(E79<>0,(IF(lfValidaCEP(E79)=TRUE,\"Válido\",\"Inválido\")),\"\")","v":""}]
[null,null,null,null,null,null,null,null,null,"",{"$f":"IF(C80<>0,(IF(lfValidaCNPJ(C80)=TRUE,\"Válido\",\"Inválido\")),\"\")","v":""},{"$f":"IF(E80<>0,(IF(lfValidaCEP(E80)=TRUE,\"Válido\",\"Inválido\")),\"\")","v":""}]
[null,null,null,null,null,null,null,null,null,"",{"$f":"IF(C81<>0,(IF(lfValidaCNPJ(C81)=TRUE,\"Válido\",\"Inválido\")),\"\")","v":""},{"$f":"IF(E81<>0,(IF(lfValidaCEP(E81)=TRUE,\"Válido\",\"Inválido\")),\"\")","v":""}]
[null,null,null,null,null,null,null,null,null,"",{"$f":"IF(C82<>0,(IF(lfValidaCNPJ(C82)=TRUE,\"Válido\",\"Inválido\")),\"\")","v":""},{"$f":"IF(E82<>0,(IF(lfValidaCEP(E82)=TRUE,\"Válido\",\"Inválido\")),\"\")","v":""}]
[null,null,null,null,null,null,null,null,null,"",{"$f":"IF(C83<>0,(IF(lfValidaCNPJ(C83)=TRUE,\"Válido\",\"Inválido\")),\"\")","v":""},{"$f":"IF(E83<>0,(IF(lfValidaCEP(E83)=TRUE,\"Válido\",\"Inválido\")),\"\")","v":""}]
[null,null,null,null,null,null,null,null,null,"",{"$f":"IF(C84<>0,(IF(lfValidaCNPJ(C84)=TRUE,\"Válido\",\"Inválido\")),\"\")","v":""},{"$f":"IF(E84<>0,(IF(lfValidaCEP(E84)=TRUE,\"Válido\",\"Inválido\")),\"\")","v":""}]
[null,null,null,null,null,null,null,null,null,"",{"$f":"IF(C85<>0,(IF(lfValidaCNPJ(C85)=TRUE,\"Válido\",\"Inválido\")),\"\")","v":""},{"$f":"IF(E85<>0,(IF(lfValidaCEP(E85)=TRUE,\"Válido\",\"Inválido\")),\"\")","v":""}]
[null,null,null,null,null,null,null,null,null,"",{"$f":"IF(C86<>0,(IF(lfValidaCNPJ(C86)=TRUE,\"Válido\",\"Inválido\")),\"\")","v":""},{"$f":"IF(E86<>0,(IF(lfValidaCEP(E86)=TRUE,\"Válido\",\"Inválido\")),\"\")","v":""}]
[null,null,null,null,null,null,null,null,null,"",{"$f":"IF(C87<>0,(IF(lfValidaCNPJ(C87)=TRUE,\"Válido\",\"Inválido\")),\"\")","v":""},{"$f":"IF(E87<>0,(IF(lfValidaCEP(E87)=TRUE,\"Válido\",\"Inválido\")),\"\")","v":""}]
[null,null,null,null,null,null,null,null,null,"",{"$f":"IF(C88<>0,(IF(lfValidaCNPJ(C88)=TRUE,\"Válido\",\"Inválido\")),\"\")","v":""},{"$f":"IF(E88<>0,(IF(lfValidaCEP(E88)=TRUE,\"Válido\",\"Inválido\")),\"\")","v":""}]
[null,null,null,null,null,null,null,null,null,"",{"$f":"IF(C89<>0,(IF(lfValidaCNPJ(C89)=TRUE,\"Válido\",\"Inválido\")),\"\")","v":""},{"$f":"IF(E89<>0,(IF(lfValidaCEP(E89)=TRUE,\"Válido\",\"Inválido\")),\"\")","v":""}]
[null,null,null,null,null,null,null,null,null,"",{"$f":"IF(C90<>0,(IF(lfValidaCNPJ(C90)=TRUE,\"Válido\",\"Inválido\")),\"\")","v":""},{"$f":"IF(E90<>0,(IF(lfValidaCEP(E90)=TRUE,\"Válido\",\"Inválido\")),\"\")","v":""}]
[null,null,null,null,null,null,null,null,null,"",{"$f":"IF(C91<>0,(IF(lfValidaCNPJ(C91)=TRUE,\"Válido\",\"Inválido\")),\"\")","v":""},{"$f":"IF(E91<>0,(IF(lfValidaCEP(E91)=TRUE,\"Válido\",\"Inválido\")),\"\")","v":""}]
[null,null,null,null,null,null,null,null,null,"",{"$f":"IF(C92<>0,(IF(lfValidaCNPJ(C92)=TRUE,\"Válido\",\"Inválido\")),\"\")","v":""},{"$f":"IF(E92<>0,(IF(lfValidaCEP(E92)=TRUE,\"Válido\",\"Inválido\")),\"\")","v":""}]
[null,null,null,null,null,null,null,null,null,"",{"$f":"IF(C93<>0,(IF(lfValidaCNPJ(C93)=TRUE,\"Válido\",\"Inválido\")),\"\")","v":""},{"$f":"IF(E93<>0,(IF(lfValidaCEP(E93)=TRUE,\"Válido\",\"Inválido\")),\"\")","v":""}]
[null,null,null,null,null,null,null,null,null,"",{"$f":"IF(C94<>0,(IF(lfValidaCNPJ(C94)=TRUE,\"Válido\",\"Inválido\")),\"\")","v":""},{"$f":"IF(E94<>0,(IF(lfValidaCEP(E94)=TRUE,\"Válido\",\"Inválido\")),\"\")","v":""}]
[null,null,null,null,null,null,null,null,null,"",{"$f":"IF(C95<>0,(IF(lfValidaCNPJ(C95)=TRUE,\"Válido\",\"Inválido\")),\"\")","v":""},{"$f":"IF(E95<>0,(IF(lfValidaCEP(E95)=TRUE,\"Válido\",\"Inválido\")),\"\")","v":""}]
[null,null,null,null,null,null,null,null,null,"",{"$f":"IF(C96<>0,(IF(lfValidaCNPJ(C96)=TRUE,\"Válido\",\"Inválido\")),\"\")","v":""},{"$f":"IF(E96<>0,(IF(lfValidaCEP(E96)=TRUE,\"Válido\",\"Inválido\")),\"\")","v":""}]
[null,null,null,null,null,null,null,null,null,"",{"$f":"IF(C97<>0,(IF(lfValidaCNPJ(C97)=TRUE,\"Válido\",\"Inválido\")),\"\")","v":""},{"$f":"IF(E97<>0,(IF(lfValidaCEP(E97)=TRUE,\"Válido\",\"Inválido\")),\"\")","v":""}]
[null,null,null,null,null,null,null,null,null,"",{"$f":"IF(C98<>0,(IF(lfValidaCNPJ(C98)=TRUE,\"Válido\",\"Inválido\")),\"\")","v":""},{"$f":"IF(E98<>0,(IF(lfValidaCEP(E98)=TRUE,\"Válido\",\"Inválido\")),\"\")","v":""}]
[null,null,null,null,null,null,null,null,null,"",{"$f":"IF(C99<>0,(IF(lfValidaCNPJ(C99)=TRUE,\"Válido\",\"Inválido\")),\"\")","v":""},{"$f":"IF(E99<>0,(IF(lfValidaCEP(E99)=TRUE,\"Válido\",\"Inválido\")),\"\")","v":""}]
[null,null,null,null,null,null,null,null,null,"",{"$f":"IF(C100<>0,(IF(lfValidaCNPJ(C100)=TRUE,\"Válido\",\"Inválido\")),\"\")","v":""},{"$f":"IF(E100<>0,(IF(lfValidaCEP(E100)=TRUE,\"Válido\",\"Inválido\")),\"\")","v":""}]
[null,null,null,null,null,null,null,null,null,"",{"$f":"IF(C101<>0,(IF(lfValidaCNPJ(C101)=TRUE,\"Válido\",\"Inválido\")),\"\")","v":""},{"$f":"IF(E101<>0,(IF(lfValidaCEP(E101)=TRUE,\"Válido\",\"Inválido\")),\"\")","v":""}]
[null,null,null,null,null,null,null,null,null,"",{"$f":"IF(C102<>0,(IF(lfValidaCNPJ(C102)=TRUE,\"Válido\",\"Inválido\")),\"\")","v":""},{"$f":"IF(E102<>0,(IF(lfValidaCEP(E102)=TRUE,\"Válido\",\"Inválido\")),\"\")","v":""}]
[null,null,null,null,null,null,null,null,null,"",{"$f":"IF(C103<>0,(IF(lfValidaCNPJ(C103)=TRUE,\"Válido\",\"Inválido\")),\"\")","v":""},{"$f":"IF(E103<>0,(IF(lfValidaCEP(E103)=TRUE,\"Válido\",\"Inválido\")),\"\")","v":""}]
[null,null,null,null,null,null,null,null,null,"",{"$f":"IF(C104<>0,(IF(lfValidaCNPJ(C104)=TRUE,\"Válido\",\"Inválido\")),\"\")","v":""},{"$f":"IF(E104<>0,(IF(lfValidaCEP(E104)=TRUE,\"Válido\",\"Inválido\")),\"\")","v":""}]
[null,null,null,null,null,null,null,null,null,"",{"$f":"IF(C105<>0,(IF(lfValidaCNPJ(C105)=TRUE,\"Válido\",\"Inválido\")),\"\")","v":""},{"$f":"IF(E105<>0,(IF(lfValidaCEP(E105)=TRUE,\"Válido\",\"Inválido\")),\"\")","v":""}]
[null,null,null,null,null,null,null,null,null,"",{"$f":"IF(C106<>0,(IF(lfValidaCNPJ(C106)=TRUE,\"Válido\",\"Inválido\")),\"\")","v":""},{"$f":"IF(E106<>0,(IF(lfValidaCEP(E106)=TRUE,\"Válido\",\"Inválido\")),\"\")","v":""}]
[null,null,null,null,null,null,null,null,null,"",{"$f":"IF(C107<>0,(IF(lfValidaCNPJ(C107)=TRUE,\"Válido\",\"Inválido\")),\"\")","v":""},{"$f":"IF(E107<>0,(IF(lfValidaCEP(E107)=TRUE,\"Válido\",\"Inválido\")),\"\")","v":""}]
[null,null,null,null,null,null,null,null,null,"",{"$f":"IF(C108<>0,(IF(lfValidaCNPJ(C108)=TRUE,\"Válido\",\"Inválido\")),\"\")","v":""},{"$f":"IF(E108<>0,(IF(lfValidaCEP(E108)=TRUE,\"Válido\",\"Inválido\")),\"\")","v":""}]
[null,null,null,null,null,null,null,null,null,"",{"$f":"IF(C109<>0,(IF(lfValidaCNPJ(C109)=TRUE,\"Válido\",\"Inválido\")),\"\")","v":""},{"$f":"IF(E109<>0,(IF(lfValidaCEP(E109)=TRUE,\"Válido\",\"Inválido\")),\"\")","v":""}]
[null,null,null,null,null,null,null,null,null,"",{"$f":"IF(C110<>0,(IF(lfValidaCNPJ(C110)=TRUE,\"Válido\",\"Inválido\")),\"\")","v":""},{"$f":"IF(E110<>0,(IF(lfValidaCEP(E110)=TRUE,\"Válido\",\"Inválido\")),\"\")","v":""}]
[null,null,null,null,null,null,null,null,null,"",{"$f":"IF(C111<>0,(IF(lfValidaCNPJ(C111)=TRUE,\"Válido\",\"Inválido\")),\"\")","v":""},{"$f":"IF(E111<>0,(IF(lfValidaCEP(E111)=TRUE,\"Válido\",\"Inválido\")),\"\")","v":""}]
[null,null,null,null,null,null,null,null,null,"",{"$f":"IF(C112<>0,(IF(lfValidaCNPJ(C112)=TRUE,\"Válido\",\"Inválido\")),\"\")","v":""},{"$f":"IF(E112<>0,(IF(lfValidaCEP(E112)=TRUE,\"Válido\",\"Inválido\")),\"\")","v":""}]
[null,null,null,null,null,null,null,null,null,"",{"$f":"IF(C113<>0,(IF(lfValidaCNPJ(C113)=TRUE,\"Válido\",\"Inválido\")),\"\")","v":""},{"$f":"IF(E113<>0,(IF(lfValidaCEP(E113)=TRUE,\"Válido\",\"Inválido\")),\"\")","v":""}]
[null,null,null,null,null,null,null,null,null,"",{"$f":"IF(C114<>0,(IF(lfValidaCNPJ(C114)=TRUE,\"Válido\",\"Inválido\")),\"\")","v":""},{"$f":"IF(E114<>0,(IF(lfValidaCEP(E114)=TRUE,\"Válido\",\"Inválido\")),\"\")","v":""}]
[null,null,null,null,null,null,null,null,null,"",{"$f":"IF(C115<>0,(IF(lfValidaCNPJ(C115)=TRUE,\"Válido\",\"Inválido\")),\"\")","v":""},{"$f":"IF(E115<>0,(IF(lfValidaCEP(E115)=TRUE,\"Válido\",\"Inválido\")),\"\")","v":""}]
[null,null,null,null,null,null,null,null,null,"",{"$f":"IF(C116<>0,(IF(lfValidaCNPJ(C116)=TRUE,\"Válido\",\"Inválido\")),\"\")","v":""},{"$f":"IF(E116<>0,(IF(lfValidaCEP(E116)=TRUE,\"Válido\",\"Inválido\")),\"\")","v":""}]
[null,null,null,null,null,null,null,null,null,"",{"$f":"IF(C117<>0,(IF(lfValidaCNPJ(C117)=TRUE,\"Válido\",\"Inválido\")),\"\")","v":""},{"$f":"IF(E117<>0,(IF(lfValidaCEP(E117)=TRUE,\"Válido\",\"Inválido\")),\"\")","v":""}]
[null,null,null,null,null,null,null,null,null,"",{"$f":"IF(C118<>0,(IF(lfValidaCNPJ(C118)=TRUE,\"Válido\",\"Inválido\")),\"\")","v":""},{"$f":"IF(E118<>0,(IF(lfValidaCEP(E118)=TRUE,\"Válido\",\"Inválido\")),\"\")","v":""}]
[null,null,null,null,null,null,null,null,null,"",{"$f":"IF(C119<>0,(IF(lfValidaCNPJ(C119)=TRUE,\"Válido\",\"Inválido\")),\"\")","v":""},{"$f":"IF(E119<>0,(IF(lfValidaCEP(E119)=TRUE,\"Válido\",\"Inválido\")),\"\")","v":""}]
[null,null,null,null,null,null,null,null,null,"",{"$f":"IF(C120<>0,(IF(lfValidaCNPJ(C120)=TRUE,\"Válido\",\"Inválido\")),\"\")","v":""},{"$f":"IF(E120<>0,(IF(lfValidaCEP(E120)=TRUE,\"Válido\",\"Inválido\")),\"\")","v":""}]
[null,null,null,null,null,null,null,null,null,"",{"$f":"IF(C121<>0,(IF(lfValidaCNPJ(C121)=TRUE,\"Válido\",\"Inválido\")),\"\")","v":""},{"$f":"IF(E121<>0,(IF(lfValidaCEP(E121)=TRUE,\"Válido\",\"Inválido\")),\"\")","v":""}]
[null,null,null,null,null,null,null,null,null,"",{"$f":"IF(C122<>0,(IF(lfValidaCNPJ(C122)=TRUE,\"Válido\",\"Inválido\")),\"\")","v":""},{"$f":"IF(E122<>0,(IF(lfValidaCEP(E122)=TRUE,\"Válido\",\"Inválido\")),\"\")","v":""}]
[null,null,null,null,null,null,null,null,null,"",{"$f":"IF(C123<>0,(IF(lfValidaCNPJ(C123)=TRUE,\"Válido\",\"Inválido\")),\"\")","v":""},{"$f":"IF(E123<>0,(IF(lfValidaCEP(E123)=TRUE,\"Válido\",\"Inválido\")),\"\")","v":""}]
[null,null,null,null,null,null,null,null,null,"",{"$f":"IF(C124<>0,(IF(lfValidaCNPJ(C124)=TRUE,\"Válido\",\"Inválido\")),\"\")","v":""},{"$f":"IF(E124<>0,(IF(lfValidaCEP(E124)=TRUE,\"Válido\",\"Inválido\")),\"\")","v":""}]
[null,null,null,null,null,null,null,null,null,"",{"$f":"IF(C125<>0,(IF(lfValidaCNPJ(C125)=TRUE,\"Válido\",\"Inválido\")),\"\")","v":""},{"$f":"IF(E125<>0,(IF(lfValidaCEP(E125)=TRUE,\"Válido\",\"Inválido\")),\"\")","v":""}]
[null,null,null,null,null,null,null,null,null,"",{"$f":"IF(C126<>0,(IF(lfValidaCNPJ(C126)=TRUE,\"Válido\",\"Inválido\")),\"\")","v":""},{"$f":"IF(E126<>0,(IF(lfValidaCEP(E126)=TRUE,\"Válido\",\"Inválido\")),\"\")","v":""}]
[null,null,null,null,null,null,null,null,null,"",{"$f":"IF(C127<>0,(IF(lfValidaCNPJ(C127)=TRUE,\"Válido\",\"Inválido\")),\"\")","v":""},{"$f":"IF(E127<>0,(IF(lfValidaCEP(E127)=TRUE,\"Válido\",\"Inválido\")),\"\")","v":""}]
[null,null,null,null,null,null,null,null,null,"",{"$f":"IF(C128<>0,(IF(lfValidaCNPJ(C128)=TRUE,\"Válido\",\"Inválido\")),\"\")","v":""},{"$f":"IF(E128<>0,(IF(lfValidaCEP(E128)=TRUE,\"Válido\",\"Inválido\")),\"\")","v":""}]
[null,null,null,null,null,null,null,null,null,"",{"$f":"IF(C129<>0,(IF(lfValidaCNPJ(C129)=TRUE,\"Válido\",\"Inválido\")),\"\")","v":""},{"$f":"IF(E129<>0,(IF(lfValidaCEP(E129)=TRUE,\"Válido\",\"Inválido\")),\"\")","v":""}]
[null,null,null,null,null,null,null,null,null,"",{"$f":"IF(C130<>0,(IF(lfValidaCNPJ(C130)=TRUE,\"Válido\",\"Inválido\")),\"\")","v":""},{"$f":"IF(E130<>0,(IF(lfValidaCEP(E130)=TRUE,\"Válido\",\"Inválido\")),\"\")","v":""}]
[null,null,null,null,null,null,null,null,null,"",{"$f":"IF(C131<>0,(IF(lfValidaCNPJ(C131)=TRUE,\"Válido\",\"Inválido\")),\"\")","v":""},{"$f":"IF(E131<>0,(IF(lfValidaCEP(E131)=TRUE,\"Válido\",\"Inválido\")),\"\")","v":""}]
[null,null,null,null,null,null,null,null,null,"",{"$f":"IF(C132<>0,(IF(lfValidaCNPJ(C132)=TRUE,\"Válido\",\"Inválido\")),\"\")","v":""},{"$f":"IF(E132<>0,(IF(lfValidaCEP(E132)=TRUE,\"Válido\",\"Inválido\")),\"\")","v":""}]
[null,null,null,null,null,null,null,null,null,"",{"$f":"IF(C133<>0,(IF(lfValidaCNPJ(C133)=TRUE,\"Válido\",\"Inválido\")),\"\")","v":""},{"$f":"IF(E133<>0,(IF(lfValidaCEP(E133)=TRUE,\"Válido\",\"Inválido\")),\"\")","v":""}]
[null,null,null,null,null,null,null,null,null,"",{"$f":"IF(C134<>0,(IF(lfValidaCNPJ(C134)=TRUE,\"Válido\",\"Inválido\")),\"\")","v":""},{"$f":"IF(E134<>0,(IF(lfValidaCEP(E134)=TRUE,\"Válido\",\"Inválido\")),\"\")","v":""}]
[null,null,null,null,null,null,null,null,null,"",{"$f":"IF(C135<>0,(IF(lfValidaCNPJ(C135)=TRUE,\"Válido\",\"Inválido\")),\"\")","v":""},{"$f":"IF(E135<>0,(IF(lfValidaCEP(E135)=TRUE,\"Válido\",\"Inválido\")),\"\")","v":""}]
[null,null,null,null,null,null,null,null,null,"",{"$f":"IF(C136<>0,(IF(lfValidaCNPJ(C136)=TRUE,\"Válido\",\"Inválido\")),\"\")","v":""},{"$f":"IF(E136<>0,(IF(lfValidaCEP(E136)=TRUE,\"Válido\",\"Inválido\")),\"\")","v":""}]
[null,null,null,null,null,null,null,null,null,"",{"$f":"IF(C137<>0,(IF(lfValidaCNPJ(C137)=TRUE,\"Válido\",\"Inválido\")),\"\")","v":""},{"$f":"IF(E137<>0,(IF(lfValidaCEP(E137)=TRUE,\"Válido\",\"Inválido\")),\"\")","v":""}]
[null,null,null,null,null,null,null,null,null,"",{"$f":"IF(C138<>0,(IF(lfValidaCNPJ(C138)=TRUE,\"Válido\",\"Inválido\")),\"\")","v":""},{"$f":"IF(E138<>0,(IF(lfValidaCEP(E138)=TRUE,\"Válido\",\"Inválido\")),\"\")","v":""}]
[null,null,null,null,null,null,null,null,null,"",{"$f":"IF(C139<>0,(IF(lfValidaCNPJ(C139)=TRUE,\"Válido\",\"Inválido\")),\"\")","v":""},{"$f":"IF(E139<>0,(IF(lfValidaCEP(E139)=TRUE,\"Válido\",\"Inválido\")),\"\")","v":""}]
[null,null,null,null,null,null,null,null,null,{"$f":"IF(COUNTA(B140:G140)<>0,IF(AND(B140<>0,C140<>0,D140<>0,E140<>0,F140<>0,G140<>0),\"Completo\",\"Incompleto\"),\"\")","v":""},{"$f":"IF(C140<>0,(IF(lfValidaCNPJ(C140)=TRUE,\"Válido\",\"Inválido\")),\"\")","v":""},{"$f":"IF(E140<>0,(IF(lfValidaCEP(E140)=TRUE,\"Válido\",\"Inválido\")),\"\")","v":""}]
[null,null,null,null,null,null,null,null,null,"",{"$f":"IF(C141<>0,(IF(lfValidaCNPJ(C141)=TRUE,\"Válido\",\"Inválido\")),\"\")","v":""},{"$f":"IF(E141<>0,(IF(lfValidaCEP(E141)=TRUE,\"Válido\",\"Inválido\")),\"\")","v":""}]
[null,null,null,null,null,null,null,null,null,"",{"$f":"IF(C142<>0,(IF(lfValidaCNPJ(C142)=TRUE,\"Válido\",\"Inválido\")),\"\")","v":""},{"$f":"IF(E142<>0,(IF(lfValidaCEP(E142)=TRUE,\"Válido\",\"Inválido\")),\"\")","v":""}]
[null,null,null,null,null,null,null,null,null,"",{"$f":"IF(C143<>0,(IF(lfValidaCNPJ(C143)=TRUE,\"Válido\",\"Inválido\")),\"\")","v":""},{"$f":"IF(E143<>0,(IF(lfValidaCEP(E143)=TRUE,\"Válido\",\"Inválido\")),\"\")","v":""}]
[null,null,null,null,null,null,null,null,null,"",{"$f":"IF(C144<>0,(IF(lfValidaCNPJ(C144)=TRUE,\"Válido\",\"Inválido\")),\"\")","v":""},{"$f":"IF(E144<>0,(IF(lfValidaCEP(E144)=TRUE,\"Válido\",\"Inválido\")),\"\")","v":""}]
[null,null,null,null,null,null,null,null,null,"",{"$f":"IF(C145<>0,(IF(lfValidaCNPJ(C145)=TRUE,\"Válido\",\"Inválido\")),\"\")","v":""},{"$f":"IF(E145<>0,(IF(lfValidaCEP(E145)=TRUE,\"Válido\",\"Inválido\")),\"\")","v":""}]
[null,null,null,null,null,null,null,null,null,"",{"$f":"IF(C146<>0,(IF(lfValidaCNPJ(C146)=TRUE,\"Válido\",\"Inválido\")),\"\")","v":""},{"$f":"IF(E146<>0,(IF(lfValidaCEP(E146)=TRUE,\"Válido\",\"Inválido\")),\"\")","v":""}]
[null,null,null,null,null,null,null,null,null,"",{"$f":"IF(C147<>0,(IF(lfValidaCNPJ(C147)=TRUE,\"Válido\",\"Inválido\")),\"\")","v":""},{"$f":"IF(E147<>0,(IF(lfValidaCEP(E147)=TRUE,\"Válido\",\"Inválido\")),\"\")","v":""}]
[null,null,null,null,null,null,null,null,null,"",{"$f":"IF(C148<>0,(IF(lfValidaCNPJ(C148)=TRUE,\"Válido\",\"Inválido\")),\"\")","v":""},{"$f":"IF(E148<>0,(IF(lfValidaCEP(E148)=TRUE,\"Válido\",\"Inválido\")),\"\")","v":""}]
[null,null,null,null,null,null,null,null,null,"",{"$f":"IF(C149<>0,(IF(lfValidaCNPJ(C149)=TRUE,\"Válido\",\"Inválido\")),\"\")","v":""},{"$f":"IF(E149<>0,(IF(lfValidaCEP(E149)=TRUE,\"Válido\",\"Inválido\")),\"\")","v":""}]
[null,null,null,null,null,null,null,null,null,"",{"$f":"IF(C150<>0,(IF(lfValidaCNPJ(C150)=TRUE,\"Válido\",\"Inválido\")),\"\")","v":""},{"$f":"IF(E150<>0,(IF(lfValidaCEP(E150)=TRUE,\"Válido\",\"Inválido\")),\"\")","v":""}]
[null,null,null,null,null,null,null,null,null,"",{"$f":"IF(C151<>0,(IF(lfValidaCNPJ(C151)=TRUE,\"Válido\",\"Inválido\")),\"\")","v":""},{"$f":"IF(E151<>0,(IF(lfValidaCEP(E151)=TRUE,\"Válido\",\"Inválido\")),\"\")","v":""}]
[null,null,null,null,null,null,null,null,null,"",{"$f":"IF(C152<>0,(IF(lfValidaCNPJ(C152)=TRUE,\"Válido\",\"Inválido\")),\"\")","v":""},{"$f":"IF(E152<>0,(IF(lfValidaCEP(E152)=TRUE,\"Válido\",\"Inválido\")),\"\")","v":""}]
[null,null,null,null,null,null,null,null,null,"",{"$f":"IF(C153<>0,(IF(lfValidaCNPJ(C153)=TRUE,\"Válido\",\"Inválido\")),\"\")","v":""},{"$f":"IF(E153<>0,(IF(lfValidaCEP(E153)=TRUE,\"Válido\",\"Inválido\")),\"\")","v":""}]
[null,null,null,null,null,null,null,null,null,"",{"$f":"IF(C154<>0,(IF(lfValidaCNPJ(C154)=TRUE,\"Válido\",\"Inválido\")),\"\")","v":""},{"$f":"IF(E154<>0,(IF(lfValidaCEP(E154)=TRUE,\"Válido\",\"Inválido\")),\"\")","v":""}]
[null,null,null,null,null,null,null,null,null,"",{"$f":"IF(C155<>0,(IF(lfValidaCNPJ(C155)=TRUE,\"Válido\",\"Inválido\")),\"\")","v":""},{"$f":"IF(E155<>0,(IF(lfValidaCEP(E155)=TRUE,\"Válido\",\"Inválido\")),\"\")","v":""}]
[null,null,null,null,null,null,null,null,null,"",{"$f":"IF(C156<>0,(IF(lfValidaCNPJ(C156)=TRUE,\"Válido\",\"Inválido\")),\"\")","v":""},{"$f":"IF(E156<>0,(IF(lfValidaCEP(E156)=TRUE,\"Válido\",\"Inválido\")),\"\")","v":""}]
[null,null,null,null,null,null,null,null,null,"",{"$f":"IF(C157<>0,(IF(lfValidaCNPJ(C157)=TRUE,\"Válido\",\"Inválido\")),\"\")","v":""},{"$f":"IF(E157<>0,(IF(lfValidaCEP(E157)=TRUE,\"Válido\",\"Inválido\")),\"\")","v":""}]
[null,null,null,null,null,null,null,null,null,"",{"$f":"IF(C158<>0,(IF(lfValidaCNPJ(C158)=TRUE,\"Válido\",\"Inválido\")),\"\")","v":""},{"$f":"IF(E158<>0,(IF(lfValidaCEP(E158)=TRUE,\"Válido\",\"Inválido\")),\"\")","v":""}]
[null,null,null,null,null,null,null,null,null,"",{"$f":"IF(C159<>0,(IF(lfValidaCNPJ(C159)=TRUE,\"Válido\",\"Inválido\")),\"\")","v":""},{"$f":"IF(E159<>0,(IF(lfValidaCEP(E159)=TRUE,\"Válido\",\"Inválido\")),\"\")","v":""}]
[null,null,null,null,null,null,null,null,null,"",{"$f":"IF(C160<>0,(IF(lfValidaCNPJ(C160)=TRUE,\"Válido\",\"Inválido\")),\"\")","v":""},{"$f":"IF(E160<>0,(IF(lfValidaCEP(E160)=TRUE,\"Válido\",\"Inválido\")),\"\")","v":""}]
[null,null,null,null,null,null,null,null,null,"",{"$f":"IF(C161<>0,(IF(lfValidaCNPJ(C161)=TRUE,\"Válido\",\"Inválido\")),\"\")","v":""},{"$f":"IF(E161<>0,(IF(lfValidaCEP(E161)=TRUE,\"Válido\",\"Inválido\")),\"\")","v":""}]
[null,null,null,null,null,null,null,null,null,"",{"$f":"IF(C162<>0,(IF(lfValidaCNPJ(C162)=TRUE,\"Válido\",\"Inválido\")),\"\")","v":""},{"$f":"IF(E162<>0,(IF(lfValidaCEP(E162)=TRUE,\"Válido\",\"Inválido\")),\"\")","v":""}]
[null,null,null,null,null,null,null,null,null,"",{"$f":"IF(C163<>0,(IF(lfValidaCNPJ(C163)=TRUE,\"Válido\",\"Inválido\")),\"\")","v":""},{"$f":"IF(E163<>0,(IF(lfValidaCEP(E163)=TRUE,\"Válido\",\"Inválido\")),\"\")","v":""}]
[null,null,null,null,null,null,null,null,null,"",{"$f":"IF(C164<>0,(IF(lfValidaCNPJ(C164)=TRUE,\"Válido\",\"Inválido\")),\"\")","v":""},{"$f":"IF(E164<>0,(IF(lfValidaCEP(E164)=TRUE,\"Válido\",\"Inválido\")),\"\")","v":""}]
[null,null,null,null,null,null,null,null,null,"",{"$f":"IF(C165<>0,(IF(lfValidaCNPJ(C165)=TRUE,\"Válido\",\"Inválido\")),\"\")","v":""},{"$f":"IF(E165<>0,(IF(lfValidaCEP(E165)=TRUE,\"Válido\",\"Inválido\")),\"\")","v":""}]
[null,null,null,null,null,null,null,null,null,"",{"$f":"IF(C166<>0,(IF(lfValidaCNPJ(C166)=TRUE,\"Válido\",\"Inválido\")),\"\")","v":""},{"$f":"IF(E166<>0,(IF(lfValidaCEP(E166)=TRUE,\"Válido\",\"Inválido\")),\"\")","v":""}]
[null,null,null,null,null,null,null,null,null,"",{"$f":"IF(C167<>0,(IF(lfValidaCNPJ(C167)=TRUE,\"Válido\",\"Inválido\")),\"\")","v":""},{"$f":"IF(E167<>0,(IF(lfValidaCEP(E167)=TRUE,\"Válido\",\"Inválido\")),\"\")","v":""}]
[null,null,null,null,null,null,null,null,null,"",{"$f":"IF(C168<>0,(IF(lfValidaCNPJ(C168)=TRUE,\"Válido\",\"Inválido\")),\"\")","v":""},{"$f":"IF(E168<>0,(IF(lfValidaCEP(E168)=TRUE,\"Válido\",\"Inválido\")),\"\")","v":""}]
[null,null,null,null,null,null,null,null,null,"",{"$f":"IF(C169<>0,(IF(lfValidaCNPJ(C169)=TRUE,\"Válido\",\"Inválido\")),\"\")","v":""},{"$f":"IF(E169<>0,(IF(lfValidaCEP(E169)=TRUE,\"Válido\",\"Inválido\")),\"\")","v":""}]
[null,null,null,null,null,null,null,null,null,"",{"$f":"IF(C170<>0,(IF(lfValidaCNPJ(C170)=TRUE,\"Válido\",\"Inválido\")),\"\")","v":""},{"$f":"IF(E170<>0,(IF(lfValidaCEP(E170)=TRUE,\"Válido\",\"Inválido\")),\"\")","v":""}]
[null,null,null,null,null,null,null,null,null,"",{"$f":"IF(C171<>0,(IF(lfValidaCNPJ(C171)=TRUE,\"Válido\",\"Inválido\")),\"\")","v":""},{"$f":"IF(E171<>0,(IF(lfValidaCEP(E171)=TRUE,\"Válido\",\"Inválido\")),\"\")","v":""}]
[null,null,null,null,null,null,null,null,null,"",{"$f":"IF(C172<>0,(IF(lfValidaCNPJ(C172)=TRUE,\"Válido\",\"Inválido\")),\"\")","v":""},{"$f":"IF(E172<>0,(IF(lfValidaCEP(E172)=TRUE,\"Válido\",\"Inválido\")),\"\")","v":""}]
[null,null,null,null,null,null,null,null,null,"",{"$f":"IF(C173<>0,(IF(lfValidaCNPJ(C173)=TRUE,\"Válido\",\"Inválido\")),\"\")","v":""},{"$f":"IF(E173<>0,(IF(lfValidaCEP(E173)=TRUE,\"Válido\",\"Inválido\")),\"\")","v":""}]
[null,null,null,null,null,null,null,null,null,"",{"$f":"IF(C174<>0,(IF(lfValidaCNPJ(C174)=TRUE,\"Válido\",\"Inválido\")),\"\")","v":""},{"$f":"IF(E174<>0,(IF(lfValidaCEP(E174)=TRUE,\"Válido\",\"Inválido\")),\"\")","v":""}]
[null,null,null,null,null,null,null,null,null,"",{"$f":"IF(C175<>0,(IF(lfValidaCNPJ(C175)=TRUE,\"Válido\",\"Inválido\")),\"\")","v":""},{"$f":"IF(E175<>0,(IF(lfValidaCEP(E175)=TRUE,\"Válido\",\"Inválido\")),\"\")","v":""}]
[null,null,null,null,null,null,null,null,null,"",{"$f":"IF(C176<>0,(IF(lfValidaCNPJ(C176)=TRUE,\"Válido\",\"Inválido\")),\"\")","v":""},{"$f":"IF(E176<>0,(IF(lfValidaCEP(E176)=TRUE,\"Válido\",\"Inválido\")),\"\")","v":""}]
[null,null,null,null,null,null,null,null,null,"",{"$f":"IF(C177<>0,(IF(lfValidaCNPJ(C177)=TRUE,\"Válido\",\"Inválido\")),\"\")","v":""},{"$f":"IF(E177<>0,(IF(lfValidaCEP(E177)=TRUE,\"Válido\",\"Inválido\")),\"\")","v":""}]
[null,null,null,null,null,null,null,null,null,"",{"$f":"IF(C178<>0,(IF(lfValidaCNPJ(C178)=TRUE,\"Válido\",\"Inválido\")),\"\")","v":""},{"$f":"IF(E178<>0,(IF(lfValidaCEP(E178)=TRUE,\"Válido\",\"Inválido\")),\"\")","v":""}]
[null,null,null,null,null,null,null,null,null,"",{"$f":"IF(C179<>0,(IF(lfValidaCNPJ(C179)=TRUE,\"Válido\",\"Inválido\")),\"\")","v":""},{"$f":"IF(E179<>0,(IF(lfValidaCEP(E179)=TRUE,\"Válido\",\"Inválido\")),\"\")","v":""}]
[null,null,null,null,null,null,null,null,null,"",{"$f":"IF(C180<>0,(IF(lfValidaCNPJ(C180)=TRUE,\"Válido\",\"Inválido\")),\"\")","v":""},{"$f":"IF(E180<>0,(IF(lfValidaCEP(E180)=TRUE,\"Válido\",\"Inválido\")),\"\")","v":""}]
[null,null,null,null,null,null,null,null,null,"",{"$f":"IF(C181<>0,(IF(lfValidaCNPJ(C181)=TRUE,\"Válido\",\"Inválido\")),\"\")","v":""},{"$f":"IF(E181<>0,(IF(lfValidaCEP(E181)=TRUE,\"Válido\",\"Inválido\")),\"\")","v":""}]
[null,null,null,null,null,null,null,null,null,"",{"$f":"IF(C182<>0,(IF(lfValidaCNPJ(C182)=TRUE,\"Válido\",\"Inválido\")),\"\")","v":""},{"$f":"IF(E182<>0,(IF(lfValidaCEP(E182)=TRUE,\"Válido\",\"Inválido\")),\"\")","v":""}]
[null,null,null,null,null,null,null,null,null,"",{"$f":"IF(C183<>0,(IF(lfValidaCNPJ(C183)=TRUE,\"Válido\",\"Inválido\")),\"\")","v":""},{"$f":"IF(E183<>0,(IF(lfValidaCEP(E183)=TRUE,\"Válido\",\"Inválido\")),\"\")","v":""}]
[null,null,null,null,null,null,null,null,null,"",{"$f":"IF(C184<>0,(IF(lfValidaCNPJ(C184)=TRUE,\"Válido\",\"Inválido\")),\"\")","v":""},{"$f":"IF(E184<>0,(IF(lfValidaCEP(E184)=TRUE,\"Válido\",\"Inválido\")),\"\")","v":""}]
[null,null,null,null,null,null,null,null,null,"",{"$f":"IF(C185<>0,(IF(lfValidaCNPJ(C185)=TRUE,\"Válido\",\"Inválido\")),\"\")","v":""},{"$f":"IF(E185<>0,(IF(lfValidaCEP(E185)=TRUE,\"Válido\",\"Inválido\")),\"\")","v":""}]
[null,null,null,null,null,null,null,null,null,"",{"$f":"IF(C186<>0,(IF(lfValidaCNPJ(C186)=TRUE,\"Válido\",\"Inválido\")),\"\")","v":""},{"$f":"IF(E186<>0,(IF(lfValidaCEP(E186)=TRUE,\"Válido\",\"Inválido\")),\"\")","v":""}]
[null,null,null,null,null,null,null,null,null,"",{"$f":"IF(C187<>0,(IF(lfValidaCNPJ(C187)=TRUE,\"Válido\",\"Inválido\")),\"\")","v":""},{"$f":"IF(E187<>0,(IF(lfValidaCEP(E187)=TRUE,\"Válido\",\"Inválido\")),\"\")","v":""}]
[null,null,null,null,null,null,null,null,null,"",{"$f":"IF(C188<>0,(IF(lfValidaCNPJ(C188)=TRUE,\"Válido\",\"Inválido\")),\"\")","v":""},{"$f":"IF(E188<>0,(IF(lfValidaCEP(E188)=TRUE,\"Válido\",\"Inválido\")),\"\")","v":""}]
[null,null,null,null,null,null,null,null,null,"",{"$f":"IF(C189<>0,(IF(lfValidaCNPJ(C189)=TRUE,\"Válido\",\"Inválido\")),\"\")","v":""},{"$f":"IF(E189<>0,(IF(lfValidaCEP(E189)=TRUE,\"Válido\",\"Inválido\")),\"\")","v":""}]
[null,null,null,null,null,null,null,null,null,"",{"$f":"IF(C190<>0,(IF(lfValidaCNPJ(C190)=TRUE,\"Válido\",\"Inválido\")),\"\")","v":""},{"$f":"IF(E190<>0,(IF(lfValidaCEP(E190)=TRUE,\"Válido\",\"Inválido\")),\"\")","v":""}]
[null,null,null,null,null,null,null,null,null,"",{"$f":"IF(C191<>0,(IF(lfValidaCNPJ(C191)=TRUE,\"Válido\",\"Inválido\")),\"\")","v":""},{"$f":"IF(E191<>0,(IF(lfValidaCEP(E191)=TRUE,\"Válido\",\"Inválido\")),\"\")","v":""}]
[null,null,null,null,null,null,null,null,null,"",{"$f":"IF(C192<>0,(IF(lfValidaCNPJ(C192)=TRUE,\"Válido\",\"Inválido\")),\"\")","v":""},{"$f":"IF(E192<>0,(IF(lfValidaCEP(E192)=TRUE,\"Válido\",\"Inválido\")),\"\")","v":""}]
[null,null,null,null,null,null,null,null,null,"",{"$f":"IF(C193<>0,(IF(lfValidaCNPJ(C193)=TRUE,\"Válido\",\"Inválido\")),\"\")","v":""},{"$f":"IF(E193<>0,(IF(lfValidaCEP(E193)=TRUE,\"Válido\",\"Inválido\")),\"\")","v":""}]
[null,null,null,null,null,null,null,null,null,"",{"$f":"IF(C194<>0,(IF(lfValidaCNPJ(C194)=TRUE,\"Válido\",\"Inválido\")),\"\")","v":""},{"$f":"IF(E194<>0,(IF(lfValidaCEP(E194)=TRUE,\"Válido\",\"Inválido\")),\"\")","v":""}]
[null,null,null,null,null,null,null,null,null,"",{"$f":"IF(C195<>0,(IF(lfValidaCNPJ(C195)=TRUE,\"Válido\",\"Inválido\")),\"\")","v":""},{"$f":"IF(E195<>0,(IF(lfValidaCEP(E195)=TRUE,\"Válido\",\"Inválido\")),\"\")","v":""}]
[null,null,null,null,null,null,null,null,null,"",{"$f":"IF(C196<>0,(IF(lfValidaCNPJ(C196)=TRUE,\"Válido\",\"Inválido\")),\"\")","v":""},{"$f":"IF(E196<>0,(IF(lfValidaCEP(E196)=TRUE,\"Válido\",\"Inválido\")),\"\")","v":""}]
[null,null,null,null,null,null,null,null,null,"",{"$f":"IF(C197<>0,(IF(lfValidaCNPJ(C197)=TRUE,\"Válido\",\"Inválido\")),\"\")","v":""},{"$f":"IF(E197<>0,(IF(lfValidaCEP(E197)=TRUE,\"Válido\",\"Inválido\")),\"\")","v":""}]
[null,null,null,null,null,null,null,null,null,"",{"$f":"IF(C198<>0,(IF(lfValidaCNPJ(C198)=TRUE,\"Válido\",\"Inválido\")),\"\")","v":""},{"$f":"IF(E198<>0,(IF(lfValidaCEP(E198)=TRUE,\"Válido\",\"Inválido\")),\"\")","v":""}]
[null,null,null,null,null,null,null,null,null,"",{"$f":"IF(C199<>0,(IF(lfValidaCNPJ(C199)=TRUE,\"Válido\",\"Inválido\")),\"\")","v":""},{"$f":"IF(E199<>0,(IF(lfValidaCEP(E199)=TRUE,\"Válido\",\"Inválido\")),\"\")","v":""}]
[null,null,null,null,null,null,null,null,null,"",{"$f":"IF(C200<>0,(IF(lfValidaCNPJ(C200)=TRUE,\"Válido\",\"Inválido\")),\"\")","v":""},{"$f":"IF(E200<>0,(IF(lfValidaCEP(E200)=TRUE,\"Válido\",\"Inválido\")),\"\")","v":""}]
[null,null,null,null,null,null,null,null,null,"",{"$f":"IF(C201<>0,(IF(lfValidaCNPJ(C201)=TRUE,\"Válido\",\"Inválido\")),\"\")","v":""},{"$f":"IF(E201<>0,(IF(lfValidaCEP(E201)=TRUE,\"Válido\",\"Inválido\")),\"\")","v":""}]
[null,null,null,null,null,null,null,null,null,"",{"$f":"IF(C202<>0,(IF(lfValidaCNPJ(C202)=TRUE,\"Válido\",\"Inválido\")),\"\")","v":""},{"$f":"IF(E202<>0,(IF(lfValidaCEP(E202)=TRUE,\"Válido\",\"Inválido\")),\"\")","v":""}]
[null,null,null,null,null,null,null,null,null,"",{"$f":"IF(C203<>0,(IF(lfValidaCNPJ(C203)=TRUE,\"Válido\",\"Inválido\")),\"\")","v":""},{"$f":"IF(E203<>0,(IF(lfValidaCEP(E203)=TRUE,\"Válido\",\"Inválido\")),\"\")","v":""}]
[null,null,null,null,null,null,null,null,null,{"$f":"IF(COUNTA(B204:G204)<>0,IF(AND(B204<>0,C204<>0,D204<>0,E204<>0,F204<>0,G204<>0),\"Completo\",\"Incompleto\"),\"\")","v":""},{"$f":"IF(C204<>0,(IF(lfValidaCNPJ(C204)=TRUE,\"Válido\",\"Inválido\")),\"\")","v":""},{"$f":"IF(E204<>0,(IF(lfValidaCEP(E204)=TRUE,\"Válido\",\"Inválido\")),\"\")","v":""}]
[null,null,null,null,null,null,null,null,null,"",{"$f":"IF(C205<>0,(IF(lfValidaCNPJ(C205)=TRUE,\"Válido\",\"Inválido\")),\"\")","v":""},{"$f":"IF(E205<>0,(IF(lfValidaCEP(E205)=TRUE,\"Válido\",\"Inválido\")),\"\")","v":""}]
[null,null,null,null,null,null,null,null,null,"",{"$f":"IF(C206<>0,(IF(lfValidaCNPJ(C206)=TRUE,\"Válido\",\"Inválido\")),\"\")","v":""},{"$f":"IF(E206<>0,(IF(lfValidaCEP(E206)=TRUE,\"Válido\",\"Inválido\")),\"\")","v":""}]
[null,null,null,null,null,null,null,null,null,"",{"$f":"IF(C207<>0,(IF(lfValidaCNPJ(C207)=TRUE,\"Válido\",\"Inválido\")),\"\")","v":""},{"$f":"IF(E207<>0,(IF(lfValidaCEP(E207)=TRUE,\"Válido\",\"Inválido\")),\"\")","v":""}]
[null,null,null,null,null,null,null,null,null,"",{"$f":"IF(C208<>0,(IF(lfValidaCNPJ(C208)=TRUE,\"Válido\",\"Inválido\")),\"\")","v":""},{"$f":"IF(E208<>0,(IF(lfValidaCEP(E208)=TRUE,\"Válido\",\"Inválido\")),\"\")","v":""}]
[null,null,null,null,null,null,null,null,null,"",{"$f":"IF(C209<>0,(IF(lfValidaCNPJ(C209)=TRUE,\"Válido\",\"Inválido\")),\"\")","v":""},{"$f":"IF(E209<>0,(IF(lfValidaCEP(E209)=TRUE,\"Válido\",\"Inválido\")),\"\")","v":""}]
[null,null,null,null,null,null,null,null,null,"",{"$f":"IF(C210<>0,(IF(lfValidaCNPJ(C210)=TRUE,\"Válido\",\"Inválido\")),\"\")","v":""},{"$f":"IF(E210<>0,(IF(lfValidaCEP(E210)=TRUE,\"Válido\",\"Inválido\")),\"\")","v":""}]
[null,null,null,null,null,null,null,null,null,"",{"$f":"IF(C211<>0,(IF(lfValidaCNPJ(C211)=TRUE,\"Válido\",\"Inválido\")),\"\")","v":""},{"$f":"IF(E211<>0,(IF(lfValidaCEP(E211)=TRUE,\"Válido\",\"Inválido\")),\"\")","v":""}]
[null,null,null,null,null,null,null,null,null,"",{"$f":"IF(C212<>0,(IF(lfValidaCNPJ(C212)=TRUE,\"Válido\",\"Inválido\")),\"\")","v":""},{"$f":"IF(E212<>0,(IF(lfValidaCEP(E212)=TRUE,\"Válido\",\"Inválido\")),\"\")","v":""}]
[null,null,null,null,null,null,null,null,null,"",{"$f":"IF(C213<>0,(IF(lfValidaCNPJ(C213)=TRUE,\"Válido\",\"Inválido\")),\"\")","v":""},{"$f":"IF(E213<>0,(IF(lfValidaCEP(E213)=TRUE,\"Válido\",\"Inválido\")),\"\")","v":""}]
[null,null,null,null,null,null,null,null,null,"",{"$f":"IF(C214<>0,(IF(lfValidaCNPJ(C214)=TRUE,\"Válido\",\"Inválido\")),\"\")","v":""},{"$f":"IF(E214<>0,(IF(lfValidaCEP(E214)=TRUE,\"Válido\",\"Inválido\")),\"\")","v":""}]
[null,null,null,null,null,null,null,null,null,"",{"$f":"IF(C215<>0,(IF(lfValidaCNPJ(C215)=TRUE,\"Válido\",\"Inválido\")),\"\")","v":""},{"$f":"IF(E215<>0,(IF(lfValidaCEP(E215)=TRUE,\"Válido\",\"Inválido\")),\"\")","v":""}]
[null,null,null,null,null,null,null,null,null,"",{"$f":"IF(C216<>0,(IF(lfValidaCNPJ(C216)=TRUE,\"Válido\",\"Inválido\")),\"\")","v":""},{"$f":"IF(E216<>0,(IF(lfValidaCEP(E216)=TRUE,\"Válido\",\"Inválido\")),\"\")","v":""}]
[null,null,null,null,null,null,null,null,null,"",{"$f":"IF(C217<>0,(IF(lfValidaCNPJ(C217)=TRUE,\"Válido\",\"Inválido\")),\"\")","v":""},{"$f":"IF(E217<>0,(IF(lfValidaCEP(E217)=TRUE,\"Válido\",\"Inválido\")),\"\")","v":""}]
[null,null,null,null,null,null,null,null,null,"",{"$f":"IF(C218<>0,(IF(lfValidaCNPJ(C218)=TRUE,\"Válido\",\"Inválido\")),\"\")","v":""},{"$f":"IF(E218<>0,(IF(lfValidaCEP(E218)=TRUE,\"Válido\",\"Inválido\")),\"\")","v":""}]
[null,null,null,null,null,null,null,null,null,"",{"$f":"IF(C219<>0,(IF(lfValidaCNPJ(C219)=TRUE,\"Válido\",\"Inválido\")),\"\")","v":""},{"$f":"IF(E219<>0,(IF(lfValidaCEP(E219)=TRUE,\"Válido\",\"Inválido\")),\"\")","v":""}]
[null,null,null,null,null,null,null,null,null,"",{"$f":"IF(C220<>0,(IF(lfValidaCNPJ(C220)=TRUE,\"Válido\",\"Inválido\")),\"\")","v":""},{"$f":"IF(E220<>0,(IF(lfValidaCEP(E220)=TRUE,\"Válido\",\"Inválido\")),\"\")","v":""}]
[null,null,null,null,null,null,null,null,null,"",{"$f":"IF(C221<>0,(IF(lfValidaCNPJ(C221)=TRUE,\"Válido\",\"Inválido\")),\"\")","v":""},{"$f":"IF(E221<>0,(IF(lfValidaCEP(E221)=TRUE,\"Válido\",\"Inválido\")),\"\")","v":""}]
[null,null,null,null,null,null,null,null,null,"",{"$f":"IF(C222<>0,(IF(lfValidaCNPJ(C222)=TRUE,\"Válido\",\"Inválido\")),\"\")","v":""},{"$f":"IF(E222<>0,(IF(lfValidaCEP(E222)=TRUE,\"Válido\",\"Inválido\")),\"\")","v":""}]
[null,null,null,null,null,null,null,null,null,"",{"$f":"IF(C223<>0,(IF(lfValidaCNPJ(C223)=TRUE,\"Válido\",\"Inválido\")),\"\")","v":""},{"$f":"IF(E223<>0,(IF(lfValidaCEP(E223)=TRUE,\"Válido\",\"Inválido\")),\"\")","v":""}]
[null,null,null,null,null,null,null,null,null,"",{"$f":"IF(C224<>0,(IF(lfValidaCNPJ(C224)=TRUE,\"Válido\",\"Inválido\")),\"\")","v":""},{"$f":"IF(E224<>0,(IF(lfValidaCEP(E224)=TRUE,\"Válido\",\"Inválido\")),\"\")","v":""}]
[null,null,null,null,null,null,null,null,null,"",{"$f":"IF(C225<>0,(IF(lfValidaCNPJ(C225)=TRUE,\"Válido\",\"Inválido\")),\"\")","v":""},{"$f":"IF(E225<>0,(IF(lfValidaCEP(E225)=TRUE,\"Válido\",\"Inválido\")),\"\")","v":""}]
[null,null,null,null,null,null,null,null,null,"",{"$f":"IF(C226<>0,(IF(lfValidaCNPJ(C226)=TRUE,\"Válido\",\"Inválido\")),\"\")","v":""},{"$f":"IF(E226<>0,(IF(lfValidaCEP(E226)=TRUE,\"Válido\",\"Inválido\")),\"\")","v":""}]
[null,null,null,null,null,null,null,null,null,"",{"$f":"IF(C227<>0,(IF(lfValidaCNPJ(C227)=TRUE,\"Válido\",\"Inválido\")),\"\")","v":""},{"$f":"IF(E227<>0,(IF(lfValidaCEP(E227)=TRUE,\"Válido\",\"Inválido\")),\"\")","v":""}]
[null,null,null,null,null,null,null,null,null,"",{"$f":"IF(C228<>0,(IF(lfValidaCNPJ(C228)=TRUE,\"Válido\",\"Inválido\")),\"\")","v":""},{"$f":"IF(E228<>0,(IF(lfValidaCEP(E228)=TRUE,\"Válido\",\"Inválido\")),\"\")","v":""}]
[null,null,null,null,null,null,null,null,null,"",{"$f":"IF(C229<>0,(IF(lfValidaCNPJ(C229)=TRUE,\"Válido\",\"Inválido\")),\"\")","v":""},{"$f":"IF(E229<>0,(IF(lfValidaCEP(E229)=TRUE,\"Válido\",\"Inválido\")),\"\")","v":""}]
[null,null,null,null,null,null,null,null,null,"",{"$f":"IF(C230<>0,(IF(lfValidaCNPJ(C230)=TRUE,\"Válido\",\"Inválido\")),\"\")","v":""},{"$f":"IF(E230<>0,(IF(lfValidaCEP(E230)=TRUE,\"Válido\",\"Inválido\")),\"\")","v":""}]
[null,null,null,null,null,null,null,null,null,"",{"$f":"IF(C231<>0,(IF(lfValidaCNPJ(C231)=TRUE,\"Válido\",\"Inválido\")),\"\")","v":""},{"$f":"IF(E231<>0,(IF(lfValidaCEP(E231)=TRUE,\"Válido\",\"Inválido\")),\"\")","v":""}]
[null,null,null,null,null,null,null,null,null,"",{"$f":"IF(C232<>0,(IF(lfValidaCNPJ(C232)=TRUE,\"Válido\",\"Inválido\")),\"\")","v":""},{"$f":"IF(E232<>0,(IF(lfValidaCEP(E232)=TRUE,\"Válido\",\"Inválido\")),\"\")","v":""}]
[null,null,null,null,null,null,null,null,null,"",{"$f":"IF(C233<>0,(IF(lfValidaCNPJ(C233)=TRUE,\"Válido\",\"Inválido\")),\"\")","v":""},{"$f":"IF(E233<>0,(IF(lfValidaCEP(E233)=TRUE,\"Válido\",\"Inválido\")),\"\")","v":""}]
[null,null,null,null,null,null,null,null,null,"",{"$f":"IF(C234<>0,(IF(lfValidaCNPJ(C234)=TRUE,\"Válido\",\"Inválido\")),\"\")","v":""},{"$f":"IF(E234<>0,(IF(lfValidaCEP(E234)=TRUE,\"Válido\",\"Inválido\")),\"\")","v":""}]
[null,null,null,null,null,null,null,null,null,"",{"$f":"IF(C235<>0,(IF(lfValidaCNPJ(C235)=TRUE,\"Válido\",\"Inválido\")),\"\")","v":""},{"$f":"IF(E235<>0,(IF(lfValidaCEP(E235)=TRUE,\"Válido\",\"Inválido\")),\"\")","v":""}]
[null,null,null,null,null,null,null,null,null,"",{"$f":"IF(C236<>0,(IF(lfValidaCNPJ(C236)=TRUE,\"Válido\",\"Inválido\")),\"\")","v":""},{"$f":"IF(E236<>0,(IF(lfValidaCEP(E236)=TRUE,\"Válido\",\"Inválido\")),\"\")","v":""}]
[null,null,null,null,null,null,null,null,null,"",{"$f":"IF(C237<>0,(IF(lfValidaCNPJ(C237)=TRUE,\"Válido\",\"Inválido\")),\"\")","v":""},{"$f":"IF(E237<>0,(IF(lfValidaCEP(E237)=TRUE,\"Válido\",\"Inválido\")),\"\")","v":""}]
[null,null,null,null,null,null,null,null,null,"",{"$f":"IF(C238<>0,(IF(lfValidaCNPJ(C238)=TRUE,\"Válido\",\"Inválido\")),\"\")","v":""},{"$f":"IF(E238<>0,(IF(lfValidaCEP(E238)=TRUE,\"Válido\",\"Inválido\")),\"\")","v":""}]
[null,null,null,null,null,null,null,null,null,"",{"$f":"IF(C239<>0,(IF(lfValidaCNPJ(C239)=TRUE,\"Válido\",\"Inválido\")),\"\")","v":""},{"$f":"IF(E239<>0,(IF(lfValidaCEP(E239)=TRUE,\"Válido\",\"Inválido\")),\"\")","v":""}]
[null,null,null,null,null,null,null,null,null,"",{"$f":"IF(C240<>0,(IF(lfValidaCNPJ(C240)=TRUE,\"Válido\",\"Inválido\")),\"\")","v":""},{"$f":"IF(E240<>0,(IF(lfValidaCEP(E240)=TRUE,\"Válido\",\"Inválido\")),\"\")","v":""}]
[null,null,null,null,null,null,null,null,null,"",{"$f":"IF(C241<>0,(IF(lfValidaCNPJ(C241)=TRUE,\"Válido\",\"Inválido\")),\"\")","v":""},{"$f":"IF(E241<>0,(IF(lfValidaCEP(E241)=TRUE,\"Válido\",\"Inválido\")),\"\")","v":""}]
[null,null,null,null,null,null,null,null,null,"",{"$f":"IF(C242<>0,(IF(lfValidaCNPJ(C242)=TRUE,\"Válido\",\"Inválido\")),\"\")","v":""},{"$f":"IF(E242<>0,(IF(lfValidaCEP(E242)=TRUE,\"Válido\",\"Inválido\")),\"\")","v":""}]
[null,null,null,null,null,null,null,null,null,"",{"$f":"IF(C243<>0,(IF(lfValidaCNPJ(C243)=TRUE,\"Válido\",\"Inválido\")),\"\")","v":""},{"$f":"IF(E243<>0,(IF(lfValidaCEP(E243)=TRUE,\"Válido\",\"Inválido\")),\"\")","v":""}]
[null,null,null,null,null,null,null,null,null,"",{"$f":"IF(C244<>0,(IF(lfValidaCNPJ(C244)=TRUE,\"Válido\",\"Inválido\")),\"\")","v":""},{"$f":"IF(E244<>0,(IF(lfValidaCEP(E244)=TRUE,\"Válido\",\"Inválido\")),\"\")","v":""}]
[null,null,null,null,null,null,null,null,null,"",{"$f":"IF(C245<>0,(IF(lfValidaCNPJ(C245)=TRUE,\"Válido\",\"Inválido\")),\"\")","v":""},{"$f":"IF(E245<>0,(IF(lfValidaCEP(E245)=TRUE,\"Válido\",\"Inválido\")),\"\")","v":""}]
[null,null,null,null,null,null,null,null,null,"",{"$f":"IF(C246<>0,(IF(lfValidaCNPJ(C246)=TRUE,\"Válido\",\"Inválido\")),\"\")","v":""},{"$f":"IF(E246<>0,(IF(lfValidaCEP(E246)=TRUE,\"Válido\",\"Inválido\")),\"\")","v":""}]
[null,null,null,null,null,null,null,null,null,"",{"$f":"IF(C247<>0,(IF(lfValidaCNPJ(C247)=TRUE,\"Válido\",\"Inválido\")),\"\")","v":""},{"$f":"IF(E247<>0,(IF(lfValidaCEP(E247)=TRUE,\"Válido\",\"Inválido\")),\"\")","v":""}]
[null,null,null,null,null,null,null,null,null,"",{"$f":"IF(C248<>0,(IF(lfValidaCNPJ(C248)=TRUE,\"Válido\",\"Inválido\")),\"\")","v":""},{"$f":"IF(E248<>0,(IF(lfValidaCEP(E248)=TRUE,\"Válido\",\"Inválido\")),\"\")","v":""}]
[null,null,null,null,null,null,null,null,null,"",{"$f":"IF(C249<>0,(IF(lfValidaCNPJ(C249)=TRUE,\"Válido\",\"Inválido\")),\"\")","v":""},{"$f":"IF(E249<>0,(IF(lfValidaCEP(E249)=TRUE,\"Válido\",\"Inválido\")),\"\")","v":""}]
[null,null,null,null,null,null,null,null,null,"",{"$f":"IF(C250<>0,(IF(lfValidaCNPJ(C250)=TRUE,\"Válido\",\"Inválido\")),\"\")","v":""},{"$f":"IF(E250<>0,(IF(lfValidaCEP(E250)=TRUE,\"Válido\",\"Inválido\")),\"\")","v":""}]
[null,null,null,null,null,null,null,null,null,"",{"$f":"IF(C251<>0,(IF(lfValidaCNPJ(C251)=TRUE,\"Válido\",\"Inválido\")),\"\")","v":""},{"$f":"IF(E251<>0,(IF(lfValidaCEP(E251)=TRUE,\"Válido\",\"Inválido\")),\"\")","v":""}]
[null,null,null,null,null,null,null,null,null,"",{"$f":"IF(C252<>0,(IF(lfValidaCNPJ(C252)=TRUE,\"Válido\",\"Inválido\")),\"\")","v":""},{"$f":"IF(E252<>0,(IF(lfValidaCEP(E252)=TRUE,\"Válido\",\"Inválido\")),\"\")","v":""}]
[null,null,null,null,null,null,null,null,null,"",{"$f":"IF(C253<>0,(IF(lfValidaCNPJ(C253)=TRUE,\"Válido\",\"Inválido\")),\"\")","v":""},{"$f":"IF(E253<>0,(IF(lfValidaCEP(E253)=TRUE,\"Válido\",\"Inválido\")),\"\")","v":""}]
[null,null,null,null,null,null,null,null,null,"",{"$f":"IF(C254<>0,(IF(lfValidaCNPJ(C254)=TRUE,\"Válido\",\"Inválido\")),\"\")","v":""},{"$f":"IF(E254<>0,(IF(lfValidaCEP(E254)=TRUE,\"Válido\",\"Inválido\")),\"\")","v":""}]
[null,null,null,null,null,null,null,null,null,"",{"$f":"IF(C255<>0,(IF(lfValidaCNPJ(C255)=TRUE,\"Válido\",\"Inválido\")),\"\")","v":""},{"$f":"IF(E255<>0,(IF(lfValidaCEP(E255)=TRUE,\"Válido\",\"Inválido\")),\"\")","v":""}]
[null,null,null,null,null,null,null,null,null,"",{"$f":"IF(C256<>0,(IF(lfValidaCNPJ(C256)=TRUE,\"Válido\",\"Inválido\")),\"\")","v":""},{"$f":"IF(E256<>0,(IF(lfValidaCEP(E256)=TRUE,\"Válido\",\"Inválido\")),\"\")","v":""}]
[null,null,null,null,null,null,null,null,null,"",{"$f":"IF(C257<>0,(IF(lfValidaCNPJ(C257)=TRUE,\"Válido\",\"Inválido\")),\"\")","v":""},{"$f":"IF(E257<>0,(IF(lfValidaCEP(E257)=TRUE,\"Válido\",\"Inválido\")),\"\")","v":""}]
[null,null,null,null,null,null,null,null,null,"",{"$f":"IF(C258<>0,(IF(lfValidaCNPJ(C258)=TRUE,\"Válido\",\"Inválido\")),\"\")","v":""},{"$f":"IF(E258<>0,(IF(lfValidaCEP(E258)=TRUE,\"Válido\",\"Inválido\")),\"\")","v":""}]
[null,null,null,null,null,null,null,null,null,"",{"$f":"IF(C259<>0,(IF(lfValidaCNPJ(C259)=TRUE,\"Válido\",\"Inválido\")),\"\")","v":""},{"$f":"IF(E259<>0,(IF(lfValidaCEP(E259)=TRUE,\"Válido\",\"Inválido\")),\"\")","v":""}]
[null,null,null,null,null,null,null,null,null,"",{"$f":"IF(C260<>0,(IF(lfValidaCNPJ(C260)=TRUE,\"Válido\",\"Inválido\")),\"\")","v":""},{"$f":"IF(E260<>0,(IF(lfValidaCEP(E260)=TRUE,\"Válido\",\"Inválido\")),\"\")","v":""}]
[null,null,null,null,null,null,null,null,null,"",{"$f":"IF(C261<>0,(IF(lfValidaCNPJ(C261)=TRUE,\"Válido\",\"Inválido\")),\"\")","v":""},{"$f":"IF(E261<>0,(IF(lfValidaCEP(E261)=TRUE,\"Válido\",\"Inválido\")),\"\")","v":""}]
[null,null,null,null,null,null,null,null,null,"",{"$f":"IF(C262<>0,(IF(lfValidaCNPJ(C262)=TRUE,\"Válido\",\"Inválido\")),\"\")","v":""},{"$f":"IF(E262<>0,(IF(lfValidaCEP(E262)=TRUE,\"Válido\",\"Inválido\")),\"\")","v":""}]
[null,null,null,null,null,null,null,null,null,"",{"$f":"IF(C263<>0,(IF(lfValidaCNPJ(C263)=TRUE,\"Válido\",\"Inválido\")),\"\")","v":""},{"$f":"IF(E263<>0,(IF(lfValidaCEP(E263)=TRUE,\"Válido\",\"Inválido\")),\"\")","v":""}]
[null,null,null,null,null,null,null,null,null,"",{"$f":"IF(C264<>0,(IF(lfValidaCNPJ(C264)=TRUE,\"Válido\",\"Inválido\")),\"\")","v":""},{"$f":"IF(E264<>0,(IF(lfValidaCEP(E264)=TRUE,\"Válido\",\"Inválido\")),\"\")","v":""}]
[null,null,null,null,null,null,null,null,null,"",{"$f":"IF(C265<>0,(IF(lfValidaCNPJ(C265)=TRUE,\"Válido\",\"Inválido\")),\"\")","v":""},{"$f":"IF(E265<>0,(IF(lfValidaCEP(E265)=TRUE,\"Válido\",\"Inválido\")),\"\")","v":""}]
[null,null,null,null,null,null,null,null,null,"",{"$f":"IF(C266<>0,(IF(lfValidaCNPJ(C266)=TRUE,\"Válido\",\"Inválido\")),\"\")","v":""},{"$f":"IF(E266<>0,(IF(lfValidaCEP(E266)=TRUE,\"Válido\",\"Inválido\")),\"\")","v":""}]
[null,null,null,null,null,null,null,null,null,"",{"$f":"IF(C267<>0,(IF(lfValidaCNPJ(C267)=TRUE,\"Válido\",\"Inválido\")),\"\")","v":""},{"$f":"IF(E267<>0,(IF(lfValidaCEP(E267)=TRUE,\"Válido\",\"Inválido\")),\"\")","v":""}]
[null,null,null,null,null,null,null,null,null,{"$f":"IF(COUNTA(B268:G268)<>0,IF(AND(B268<>0,C268<>0,D268<>0,E268<>0,F268<>0,G268<>0),\"Completo\",\"Incompleto\"),\"\")","v":""},{"$f":"IF(C268<>0,(IF(lfValidaCNPJ(C268)=TRUE,\"Válido\",\"Inválido\")),\"\")","v":""},{"$f":"IF(E268<>0,(IF(lfValidaCEP(E268)=TRUE,\"Válido\",\"Inválido\")),\"\")","v":""}]
[null,null,null,null,null,null,null,null,null,"",{"$f":"IF(C269<>0,(IF(lfValidaCNPJ(C269)=TRUE,\"Válido\",\"Inválido\")),\"\")","v":""},{"$f":"IF(E269<>0,(IF(lfValidaCEP(E269)=TRUE,\"Válido\",\"Inválido\")),\"\")","v":""}]
[null,null,null,null,null,null,null,null,null,"",{"$f":"IF(C270<>0,(IF(lfValidaCNPJ(C270)=TRUE,\"Válido\",\"Inválido\")),\"\")","v":""},{"$f":"IF(E270<>0,(IF(lfValidaCEP(E270)=TRUE,\"Válido\",\"Inválido\")),\"\")","v":""}]
[null,null,null,null,null,null,null,null,null,"",{"$f":"IF(C271<>0,(IF(lfValidaCNPJ(C271)=TRUE,\"Válido\",\"Inválido\")),\"\")","v":""},{"$f":"IF(E271<>0,(IF(lfValidaCEP(E271)=TRUE,\"Válido\",\"Inválido\")),\"\")","v":""}]
[null,null,null,null,null,null,null,null,null,"",{"$f":"IF(C272<>0,(IF(lfValidaCNPJ(C272)=TRUE,\"Válido\",\"Inválido\")),\"\")","v":""},{"$f":"IF(E272<>0,(IF(lfValidaCEP(E272)=TRUE,\"Válido\",\"Inválido\")),\"\")","v":""}]
[null,null,null,null,null,null,null,null,null,"",{"$f":"IF(C273<>0,(IF(lfValidaCNPJ(C273)=TRUE,\"Válido\",\"Inválido\")),\"\")","v":""},{"$f":"IF(E273<>0,(IF(lfValidaCEP(E273)=TRUE,\"Válido\",\"Inválido\")),\"\")","v":""}]
[null,null,null,null,null,null,null,null,null,"",{"$f":"IF(C274<>0,(IF(lfValidaCNPJ(C274)=TRUE,\"Válido\",\"Inválido\")),\"\")","v":""},{"$f":"IF(E274<>0,(IF(lfValidaCEP(E274)=TRUE,\"Válido\",\"Inválido\")),\"\")","v":""}]
[null,null,null,null,null,null,null,null,null,"",{"$f":"IF(C275<>0,(IF(lfValidaCNPJ(C275)=TRUE,\"Válido\",\"Inválido\")),\"\")","v":""},{"$f":"IF(E275<>0,(IF(lfValidaCEP(E275)=TRUE,\"Válido\",\"Inválido\")),\"\")","v":""}]
[null,null,null,null,null,null,null,null,null,"",{"$f":"IF(C276<>0,(IF(lfValidaCNPJ(C276)=TRUE,\"Válido\",\"Inválido\")),\"\")","v":""},{"$f":"IF(E276<>0,(IF(lfValidaCEP(E276)=TRUE,\"Válido\",\"Inválido\")),\"\")","v":""}]
[null,null,null,null,null,null,null,null,null,"",{"$f":"IF(C277<>0,(IF(lfValidaCNPJ(C277)=TRUE,\"Válido\",\"Inválido\")),\"\")","v":""},{"$f":"IF(E277<>0,(IF(lfValidaCEP(E277)=TRUE,\"Válido\",\"Inválido\")),\"\")","v":""}]
[null,null,null,null,null,null,null,null,null,"",{"$f":"IF(C278<>0,(IF(lfValidaCNPJ(C278)=TRUE,\"Válido\",\"Inválido\")),\"\")","v":""},{"$f":"IF(E278<>0,(IF(lfValidaCEP(E278)=TRUE,\"Válido\",\"Inválido\")),\"\")","v":""}]
[null,null,null,null,null,null,null,null,null,"",{"$f":"IF(C279<>0,(IF(lfValidaCNPJ(C279)=TRUE,\"Válido\",\"Inválido\")),\"\")","v":""},{"$f":"IF(E279<>0,(IF(lfValidaCEP(E279)=TRUE,\"Válido\",\"Inválido\")),\"\")","v":""}]
[null,null,null,null,null,null,null,null,null,"",{"$f":"IF(C280<>0,(IF(lfValidaCNPJ(C280)=TRUE,\"Válido\",\"Inválido\")),\"\")","v":""},{"$f":"IF(E280<>0,(IF(lfValidaCEP(E280)=TRUE,\"Válido\",\"Inválido\")),\"\")","v":""}]
[null,null,null,null,null,null,null,null,null,"",{"$f":"IF(C281<>0,(IF(lfValidaCNPJ(C281)=TRUE,\"Válido\",\"Inválido\")),\"\")","v":""},{"$f":"IF(E281<>0,(IF(lfValidaCEP(E281)=TRUE,\"Válido\",\"Inválido\")),\"\")","v":""}]
[null,null,null,null,null,null,null,null,null,"",{"$f":"IF(C282<>0,(IF(lfValidaCNPJ(C282)=TRUE,\"Válido\",\"Inválido\")),\"\")","v":""},{"$f":"IF(E282<>0,(IF(lfValidaCEP(E282)=TRUE,\"Válido\",\"Inválido\")),\"\")","v":""}]
[null,null,null,null,null,null,null,null,null,"",{"$f":"IF(C283<>0,(IF(lfValidaCNPJ(C283)=TRUE,\"Válido\",\"Inválido\")),\"\")","v":""},{"$f":"IF(E283<>0,(IF(lfValidaCEP(E283)=TRUE,\"Válido\",\"Inválido\")),\"\")","v":""}]
[null,null,null,null,null,null,null,null,null,"",{"$f":"IF(C284<>0,(IF(lfValidaCNPJ(C284)=TRUE,\"Válido\",\"Inválido\")),\"\")","v":""},{"$f":"IF(E284<>0,(IF(lfValidaCEP(E284)=TRUE,\"Válido\",\"Inválido\")),\"\")","v":""}]
[null,null,null,null,null,null,null,null,null,"",{"$f":"IF(C285<>0,(IF(lfValidaCNPJ(C285)=TRUE,\"Válido\",\"Inválido\")),\"\")","v":""},{"$f":"IF(E285<>0,(IF(lfValidaCEP(E285)=TRUE,\"Válido\",\"Inválido\")),\"\")","v":""}]
[null,null,null,null,null,null,null,null,null,"",{"$f":"IF(C286<>0,(IF(lfValidaCNPJ(C286)=TRUE,\"Válido\",\"Inválido\")),\"\")","v":""},{"$f":"IF(E286<>0,(IF(lfValidaCEP(E286)=TRUE,\"Válido\",\"Inválido\")),\"\")","v":""}]
[null,null,null,null,null,null,null,null,null,"",{"$f":"IF(C287<>0,(IF(lfValidaCNPJ(C287)=TRUE,\"Válido\",\"Inválido\")),\"\")","v":""},{"$f":"IF(E287<>0,(IF(lfValidaCEP(E287)=TRUE,\"Válido\",\"Inválido\")),\"\")","v":""}]
[null,null,null,null,null,null,null,null,null,"",{"$f":"IF(C288<>0,(IF(lfValidaCNPJ(C288)=TRUE,\"Válido\",\"Inválido\")),\"\")","v":""},{"$f":"IF(E288<>0,(IF(lfValidaCEP(E288)=TRUE,\"Válido\",\"Inválido\")),\"\")","v":""}]
[null,null,null,null,null,null,null,null,null,"",{"$f":"IF(C289<>0,(IF(lfValidaCNPJ(C289)=TRUE,\"Válido\",\"Inválido\")),\"\")","v":""},{"$f":"IF(E289<>0,(IF(lfValidaCEP(E289)=TRUE,\"Válido\",\"Inválido\")),\"\")","v":""}]
[null,null,null,null,null,null,null,null,null,"",{"$f":"IF(C290<>0,(IF(lfValidaCNPJ(C290)=TRUE,\"Válido\",\"Inválido\")),\"\")","v":""},{"$f":"IF(E290<>0,(IF(lfValidaCEP(E290)=TRUE,\"Válido\",\"Inválido\")),\"\")","v":""}]
[null,null,null,null,null,null,null,null,null,"",{"$f":"IF(C291<>0,(IF(lfValidaCNPJ(C291)=TRUE,\"Válido\",\"Inválido\")),\"\")","v":""},{"$f":"IF(E291<>0,(IF(lfValidaCEP(E291)=TRUE,\"Válido\",\"Inválido\")),\"\")","v":""}]
[null,null,null,null,null,null,null,null,null,"",{"$f":"IF(C292<>0,(IF(lfValidaCNPJ(C292)=TRUE,\"Válido\",\"Inválido\")),\"\")","v":""},{"$f":"IF(E292<>0,(IF(lfValidaCEP(E292)=TRUE,\"Válido\",\"Inválido\")),\"\")","v":""}]
[null,null,null,null,null,null,null,null,null,"",{"$f":"IF(C293<>0,(IF(lfValidaCNPJ(C293)=TRUE,\"Válido\",\"Inválido\")),\"\")","v":""},{"$f":"IF(E293<>0,(IF(lfValidaCEP(E293)=TRUE,\"Válido\",\"Inválido\")),\"\")","v":""}]
[null,null,null,null,null,null,null,null,null,"",{"$f":"IF(C294<>0,(IF(lfValidaCNPJ(C294)=TRUE,\"Válido\",\"Inválido\")),\"\")","v":""},{"$f":"IF(E294<>0,(IF(lfValidaCEP(E294)=TRUE,\"Válido\",\"Inválido\")),\"\")","v":""}]
[null,null,null,null,null,null,null,null,null,"",{"$f":"IF(C295<>0,(IF(lfValidaCNPJ(C295)=TRUE,\"Válido\",\"Inválido\")),\"\")","v":""},{"$f":"IF(E295<>0,(IF(lfValidaCEP(E295)=TRUE,\"Válido\",\"Inválido\")),\"\")","v":""}]
[null,null,null,null,null,null,null,null,null,"",{"$f":"IF(C296<>0,(IF(lfValidaCNPJ(C296)=TRUE,\"Válido\",\"Inválido\")),\"\")","v":""},{"$f":"IF(E296<>0,(IF(lfValidaCEP(E296)=TRUE,\"Válido\",\"Inválido\")),\"\")","v":""}]
[null,null,null,null,null,null,null,null,null,"",{"$f":"IF(C297<>0,(IF(lfValidaCNPJ(C297)=TRUE,\"Válido\",\"Inválido\")),\"\")","v":""},{"$f":"IF(E297<>0,(IF(lfValidaCEP(E297)=TRUE,\"Válido\",\"Inválido\")),\"\")","v":""}]
[null,null,null,null,null,null,null,null,null,"",{"$f":"IF(C298<>0,(IF(lfValidaCNPJ(C298)=TRUE,\"Válido\",\"Inválido\")),\"\")","v":""},{"$f":"IF(E298<>0,(IF(lfValidaCEP(E298)=TRUE,\"Válido\",\"Inválido\")),\"\")","v":""}]
[null,null,null,null,null,null,null,null,null,"",{"$f":"IF(C299<>0,(IF(lfValidaCNPJ(C299)=TRUE,\"Válido\",\"Inválido\")),\"\")","v":""},{"$f":"IF(E299<>0,(IF(lfValidaCEP(E299)=TRUE,\"Válido\",\"Inválido\")),\"\")","v":""}]
[null,null,null,null,null,null,null,null,null,"",{"$f":"IF(C300<>0,(IF(lfValidaCNPJ(C300)=TRUE,\"Válido\",\"Inválido\")),\"\")","v":""},{"$f":"IF(E300<>0,(IF(lfValidaCEP(E300)=TRUE,\"Válido\",\"Inválido\")),\"\")","v":""}]
[null,null,null,null,null,null,null,null,null,"",{"$f":"IF(C301<>0,(IF(lfValidaCNPJ(C301)=TRUE,\"Válido\",\"Inválido\")),\"\")","v":""},{"$f":"IF(E301<>0,(IF(lfValidaCEP(E301)=TRUE,\"Válido\",\"Inválido\")),\"\")","v":""}]
[null,null,null,null,null,null,null,null,null,"",{"$f":"IF(C302<>0,(IF(lfValidaCNPJ(C302)=TRUE,\"Válido\",\"Inválido\")),\"\")","v":""},{"$f":"IF(E302<>0,(IF(lfValidaCEP(E302)=TRUE,\"Válido\",\"Inválido\")),\"\")","v":""}]
[null,null,null,null,null,null,null,null,null,"",{"$f":"IF(C303<>0,(IF(lfValidaCNPJ(C303)=TRUE,\"Válido\",\"Inválido\")),\"\")","v":""},{"$f":"IF(E303<>0,(IF(lfValidaCEP(E303)=TRUE,\"Válido\",\"Inválido\")),\"\")","v":""}]
[null,null,null,null,null,null,null,null,null,"",{"$f":"IF(C304<>0,(IF(lfValidaCNPJ(C304)=TRUE,\"Válido\",\"Inválido\")),\"\")","v":""},{"$f":"IF(E304<>0,(IF(lfValidaCEP(E304)=TRUE,\"Válido\",\"Inválido\")),\"\")","v":""}]
[null,null,null,null,null,null,null,null,null,"",{"$f":"IF(C305<>0,(IF(lfValidaCNPJ(C305)=TRUE,\"Válido\",\"Inválido\")),\"\")","v":""},{"$f":"IF(E305<>0,(IF(lfValidaCEP(E305)=TRUE,\"Válido\",\"Inválido\")),\"\")","v":""}]
[null,null,null,null,null,null,null,null,null,"",{"$f":"IF(C306<>0,(IF(lfValidaCNPJ(C306)=TRUE,\"Válido\",\"Inválido\")),\"\")","v":""},{"$f":"IF(E306<>0,(IF(lfValidaCEP(E306)=TRUE,\"Válido\",\"Inválido\")),\"\")","v":""}]
[null,null,null,null,null,null,null,null,null,"",{"$f":"IF(C307<>0,(IF(lfValidaCNPJ(C307)=TRUE,\"Válido\",\"Inválido\")),\"\")","v":""},{"$f":"IF(E307<>0,(IF(lfValidaCEP(E307)=TRUE,\"Válido\",\"Inválido\")),\"\")","v":""}]
[null,null,null,null,null,null,null,null,null,"",{"$f":"IF(C308<>0,(IF(lfValidaCNPJ(C308)=TRUE,\"Válido\",\"Inválido\")),\"\")","v":""},{"$f":"IF(E308<>0,(IF(lfValidaCEP(E308)=TRUE,\"Válido\",\"Inválido\")),\"\")","v":""}]
[null,null,null,null,null,null,null,null,null,"",{"$f":"IF(C309<>0,(IF(lfValidaCNPJ(C309)=TRUE,\"Válido\",\"Inválido\")),\"\")","v":""},{"$f":"IF(E309<>0,(IF(lfValidaCEP(E309)=TRUE,\"Válido\",\"Inválido\")),\"\")","v":""}]
[null,null,null,null,null,null,null,null,null,"",{"$f":"IF(C310<>0,(IF(lfValidaCNPJ(C310)=TRUE,\"Válido\",\"Inválido\")),\"\")","v":""},{"$f":"IF(E310<>0,(IF(lfValidaCEP(E310)=TRUE,\"Válido\",\"Inválido\")),\"\")","v":""}]
[null,null,null,null,null,null,null,null,null,"",{"$f":"IF(C311<>0,(IF(lfValidaCNPJ(C311)=TRUE,\"Válido\",\"Inválido\")),\"\")","v":""},{"$f":"IF(E311<>0,(IF(lfValidaCEP(E311)=TRUE,\"Válido\",\"Inválido\")),\"\")","v":""}]
[null,null,null,null,null,null,null,null,null,"",{"$f":"IF(C312<>0,(IF(lfValidaCNPJ(C312)=TRUE,\"Válido\",\"Inválido\")),\"\")","v":""},{"$f":"IF(E312<>0,(IF(lfValidaCEP(E312)=TRUE,\"Válido\",\"Inválido\")),\"\")","v":""}]
[null,null,null,null,null,null,null,null,null,"",{"$f":"IF(C313<>0,(IF(lfValidaCNPJ(C313)=TRUE,\"Válido\",\"Inválido\")),\"\")","v":""},{"$f":"IF(E313<>0,(IF(lfValidaCEP(E313)=TRUE,\"Válido\",\"Inválido\")),\"\")","v":""}]
[null,null,null,null,null,null,null,null,null,"",{"$f":"IF(C314<>0,(IF(lfValidaCNPJ(C314)=TRUE,\"Válido\",\"Inválido\")),\"\")","v":""},{"$f":"IF(E314<>0,(IF(lfValidaCEP(E314)=TRUE,\"Válido\",\"Inválido\")),\"\")","v":""}]
[null,null,null,null,null,null,null,null,null,"",{"$f":"IF(C315<>0,(IF(lfValidaCNPJ(C315)=TRUE,\"Válido\",\"Inválido\")),\"\")","v":""},{"$f":"IF(E315<>0,(IF(lfValidaCEP(E315)=TRUE,\"Válido\",\"Inválido\")),\"\")","v":""}]
[null,null,null,null,null,null,null,null,null,"",{"$f":"IF(C316<>0,(IF(lfValidaCNPJ(C316)=TRUE,\"Válido\",\"Inválido\")),\"\")","v":""},{"$f":"IF(E316<>0,(IF(lfValidaCEP(E316)=TRUE,\"Válido\",\"Inválido\")),\"\")","v":""}]
[null,null,null,null,null,null,null,null,null,"",{"$f":"IF(C317<>0,(IF(lfValidaCNPJ(C317)=TRUE,\"Válido\",\"Inválido\")),\"\")","v":""},{"$f":"IF(E317<>0,(IF(lfValidaCEP(E317)=TRUE,\"Válido\",\"Inválido\")),\"\")","v":""}]
[null,null,null,null,null,null,null,null,null,"",{"$f":"IF(C318<>0,(IF(lfValidaCNPJ(C318)=TRUE,\"Válido\",\"Inválido\")),\"\")","v":""},{"$f":"IF(E318<>0,(IF(lfValidaCEP(E318)=TRUE,\"Válido\",\"Inválido\")),\"\")","v":""}]
[null,null,null,null,null,null,null,null,null,"",{"$f":"IF(C319<>0,(IF(lfValidaCNPJ(C319)=TRUE,\"Válido\",\"Inválido\")),\"\")","v":""},{"$f":"IF(E319<>0,(IF(lfValidaCEP(E319)=TRUE,\"Válido\",\"Inválido\")),\"\")","v":""}]
[null,null,null,null,null,null,null,null,null,"",{"$f":"IF(C320<>0,(IF(lfValidaCNPJ(C320)=TRUE,\"Válido\",\"Inválido\")),\"\")","v":""},{"$f":"IF(E320<>0,(IF(lfValidaCEP(E320)=TRUE,\"Válido\",\"Inválido\")),\"\")","v":""}]
[null,null,null,null,null,null,null,null,null,"",{"$f":"IF(C321<>0,(IF(lfValidaCNPJ(C321)=TRUE,\"Válido\",\"Inválido\")),\"\")","v":""},{"$f":"IF(E321<>0,(IF(lfValidaCEP(E321)=TRUE,\"Válido\",\"Inválido\")),\"\")","v":""}]
[null,null,null,null,null,null,null,null,null,"",{"$f":"IF(C322<>0,(IF(lfValidaCNPJ(C322)=TRUE,\"Válido\",\"Inválido\")),\"\")","v":""},{"$f":"IF(E322<>0,(IF(lfValidaCEP(E322)=TRUE,\"Válido\",\"Inválido\")),\"\")","v":""}]
[null,null,null,null,null,null,null,null,null,"",{"$f":"IF(C323<>0,(IF(lfValidaCNPJ(C323)=TRUE,\"Válido\",\"Inválido\")),\"\")","v":""},{"$f":"IF(E323<>0,(IF(lfValidaCEP(E323)=TRUE,\"Válido\",\"Inválido\")),\"\")","v":""}]
[null,null,null,null,null,null,null,null,null,"",{"$f":"IF(C324<>0,(IF(lfValidaCNPJ(C324)=TRUE,\"Válido\",\"Inválido\")),\"\")","v":""},{"$f":"IF(E324<>0,(IF(lfValidaCEP(E324)=TRUE,\"Válido\",\"Inválido\")),\"\")","v":""}]
[null,null,null,null,null,null,null,null,null,"",{"$f":"IF(C325<>0,(IF(lfValidaCNPJ(C325)=TRUE,\"Válido\",\"Inválido\")),\"\")","v":""},{"$f":"IF(E325<>0,(IF(lfValidaCEP(E325)=TRUE,\"Válido\",\"Inválido\")),\"\")","v":""}]
[null,null,null,null,null,null,null,null,null,"",{"$f":"IF(C326<>0,(IF(lfValidaCNPJ(C326)=TRUE,\"Válido\",\"Inválido\")),\"\")","v":""},{"$f":"IF(E326<>0,(IF(lfValidaCEP(E326)=TRUE,\"Válido\",\"Inválido\")),\"\")","v":""}]
[null,null,null,null,null,null,null,null,null,"",{"$f":"IF(C327<>0,(IF(lfValidaCNPJ(C327)=TRUE,\"Válido\",\"Inválido\")),\"\")","v":""},{"$f":"IF(E327<>0,(IF(lfValidaCEP(E327)=TRUE,\"Válido\",\"Inválido\")),\"\")","v":""}]
[null,null,null,null,null,null,null,null,null,"",{"$f":"IF(C328<>0,(IF(lfValidaCNPJ(C328)=TRUE,\"Válido\",\"Inválido\")),\"\")","v":""},{"$f":"IF(E328<>0,(IF(lfValidaCEP(E328)=TRUE,\"Válido\",\"Inválido\")),\"\")","v":""}]
[null,null,null,null,null,null,null,null,null,"",{"$f":"IF(C329<>0,(IF(lfValidaCNPJ(C329)=TRUE,\"Válido\",\"Inválido\")),\"\")","v":""},{"$f":"IF(E329<>0,(IF(lfValidaCEP(E329)=TRUE,\"Válido\",\"Inválido\")),\"\")","v":""}]
[null,null,null,null,null,null,null,null,null,"",{"$f":"IF(C330<>0,(IF(lfValidaCNPJ(C330)=TRUE,\"Válido\",\"Inválido\")),\"\")","v":""},{"$f":"IF(E330<>0,(IF(lfValidaCEP(E330)=TRUE,\"Válido\",\"Inválido\")),\"\")","v":""}]
[null,null,null,null,null,null,null,null,null,"",{"$f":"IF(C331<>0,(IF(lfValidaCNPJ(C331)=TRUE,\"Válido\",\"Inválido\")),\"\")","v":""},{"$f":"IF(E331<>0,(IF(lfValidaCEP(E331)=TRUE,\"Válido\",\"Inválido\")),\"\")","v":""}]
[null,null,null,null,null,null,null,null,null,{"$f":"IF(COUNTA(B332:G332)<>0,IF(AND(B332<>0,C332<>0,D332<>0,E332<>0,F332<>0,G332<>0),\"Completo\",\"Incompleto\"),\"\")","v":""},{"$f":"IF(C332<>0,(IF(lfValidaCNPJ(C332)=TRUE,\"Válido\",\"Inválido\")),\"\")","v":""},{"$f":"IF(E332<>0,(IF(lfValidaCEP(E332)=TRUE,\"Válido\",\"Inválido\")),\"\")","v":""}]
[null,null,null,null,null,null,null,null,null,"",{"$f":"IF(C333<>0,(IF(lfValidaCNPJ(C333)=TRUE,\"Válido\",\"Inválido\")),\"\")","v":""},{"$f":"IF(E333<>0,(IF(lfValidaCEP(E333)=TRUE,\"Válido\",\"Inválido\")),\"\")","v":""}]
[null,null,null,null,null,null,null,null,null,"",{"$f":"IF(C334<>0,(IF(lfValidaCNPJ(C334)=TRUE,\"Válido\",\"Inválido\")),\"\")","v":""},{"$f":"IF(E334<>0,(IF(lfValidaCEP(E334)=TRUE,\"Válido\",\"Inválido\")),\"\")","v":""}]
[null,null,null,null,null,null,null,null,null,"",{"$f":"IF(C335<>0,(IF(lfValidaCNPJ(C335)=TRUE,\"Válido\",\"Inválido\")),\"\")","v":""},{"$f":"IF(E335<>0,(IF(lfValidaCEP(E335)=TRUE,\"Válido\",\"Inválido\")),\"\")","v":""}]
[null,null,null,null,null,null,null,null,null,"",{"$f":"IF(C336<>0,(IF(lfValidaCNPJ(C336)=TRUE,\"Válido\",\"Inválido\")),\"\")","v":""},{"$f":"IF(E336<>0,(IF(lfValidaCEP(E336)=TRUE,\"Válido\",\"Inválido\")),\"\")","v":""}]
[null,null,null,null,null,null,null,null,null,"",{"$f":"IF(C337<>0,(IF(lfValidaCNPJ(C337)=TRUE,\"Válido\",\"Inválido\")),\"\")","v":""},{"$f":"IF(E337<>0,(IF(lfValidaCEP(E337)=TRUE,\"Válido\",\"Inválido\")),\"\")","v":""}]
[null,null,null,null,null,null,null,null,null,"",{"$f":"IF(C338<>0,(IF(lfValidaCNPJ(C338)=TRUE,\"Válido\",\"Inválido\")),\"\")","v":""},{"$f":"IF(E338<>0,(IF(lfValidaCEP(E338)=TRUE,\"Válido\",\"Inválido\")),\"\")","v":""}]
[null,null,null,null,null,null,null,null,null,"",{"$f":"IF(C339<>0,(IF(lfValidaCNPJ(C339)=TRUE,\"Válido\",\"Inválido\")),\"\")","v":""},{"$f":"IF(E339<>0,(IF(lfValidaCEP(E339)=TRUE,\"Válido\",\"Inválido\")),\"\")","v":""}]
[null,null,null,null,null,null,null,null,null,"",{"$f":"IF(C340<>0,(IF(lfValidaCNPJ(C340)=TRUE,\"Válido\",\"Inválido\")),\"\")","v":""},{"$f":"IF(E340<>0,(IF(lfValidaCEP(E340)=TRUE,\"Válido\",\"Inválido\")),\"\")","v":""}]
[null,null,null,null,null,null,null,null,null,"",{"$f":"IF(C341<>0,(IF(lfValidaCNPJ(C341)=TRUE,\"Válido\",\"Inválido\")),\"\")","v":""},{"$f":"IF(E341<>0,(IF(lfValidaCEP(E341)=TRUE,\"Válido\",\"Inválido\")),\"\")","v":""}]
[null,null,null,null,null,null,null,null,null,"",{"$f":"IF(C342<>0,(IF(lfValidaCNPJ(C342)=TRUE,\"Válido\",\"Inválido\")),\"\")","v":""},{"$f":"IF(E342<>0,(IF(lfValidaCEP(E342)=TRUE,\"Válido\",\"Inválido\")),\"\")","v":""}]
[null,null,null,null,null,null,null,null,null,"",{"$f":"IF(C343<>0,(IF(lfValidaCNPJ(C343)=TRUE,\"Válido\",\"Inválido\")),\"\")","v":""},{"$f":"IF(E343<>0,(IF(lfValidaCEP(E343)=TRUE,\"Válido\",\"Inválido\")),\"\")","v":""}]
[null,null,null,null,null,null,null,null,null,"",{"$f":"IF(C344<>0,(IF(lfValidaCNPJ(C344)=TRUE,\"Válido\",\"Inválido\")),\"\")","v":""},{"$f":"IF(E344<>0,(IF(lfValidaCEP(E344)=TRUE,\"Válido\",\"Inválido\")),\"\")","v":""}]
[null,null,null,null,null,null,null,null,null,"",{"$f":"IF(C345<>0,(IF(lfValidaCNPJ(C345)=TRUE,\"Válido\",\"Inválido\")),\"\")","v":""},{"$f":"IF(E345<>0,(IF(lfValidaCEP(E345)=TRUE,\"Válido\",\"Inválido\")),\"\")","v":""}]
[null,null,null,null,null,null,null,null,null,"",{"$f":"IF(C346<>0,(IF(lfValidaCNPJ(C346)=TRUE,\"Válido\",\"Inválido\")),\"\")","v":""},{"$f":"IF(E346<>0,(IF(lfValidaCEP(E346)=TRUE,\"Válido\",\"Inválido\")),\"\")","v":""}]
[null,null,null,null,null,null,null,null,null,"",{"$f":"IF(C347<>0,(IF(lfValidaCNPJ(C347)=TRUE,\"Válido\",\"Inválido\")),\"\")","v":""},{"$f":"IF(E347<>0,(IF(lfValidaCEP(E347)=TRUE,\"Válido\",\"Inválido\")),\"\")","v":""}]
[null,null,null,null,null,null,null,null,null,"",{"$f":"IF(C348<>0,(IF(lfValidaCNPJ(C348)=TRUE,\"Válido\",\"Inválido\")),\"\")","v":""},{"$f":"IF(E348<>0,(IF(lfValidaCEP(E348)=TRUE,\"Válido\",\"Inválido\")),\"\")","v":""}]
[null,null,null,null,null,null,null,null,null,"",{"$f":"IF(C349<>0,(IF(lfValidaCNPJ(C349)=TRUE,\"Válido\",\"Inválido\")),\"\")","v":""},{"$f":"IF(E349<>0,(IF(lfValidaCEP(E349)=TRUE,\"Válido\",\"Inválido\")),\"\")","v":""}]
[null,null,null,null,null,null,null,null,null,"",{"$f":"IF(C350<>0,(IF(lfValidaCNPJ(C350)=TRUE,\"Válido\",\"Inválido\")),\"\")","v":""},{"$f":"IF(E350<>0,(IF(lfValidaCEP(E350)=TRUE,\"Válido\",\"Inválido\")),\"\")","v":""}]
[null,null,null,null,null,null,null,null,null,"",{"$f":"IF(C351<>0,(IF(lfValidaCNPJ(C351)=TRUE,\"Válido\",\"Inválido\")),\"\")","v":""},{"$f":"IF(E351<>0,(IF(lfValidaCEP(E351)=TRUE,\"Válido\",\"Inválido\")),\"\")","v":""}]
[null,null,null,null,null,null,null,null,null,"",{"$f":"IF(C352<>0,(IF(lfValidaCNPJ(C352)=TRUE,\"Válido\",\"Inválido\")),\"\")","v":""},{"$f":"IF(E352<>0,(IF(lfValidaCEP(E352)=TRUE,\"Válido\",\"Inválido\")),\"\")","v":""}]
[null,null,null,null,null,null,null,null,null,"",{"$f":"IF(C353<>0,(IF(lfValidaCNPJ(C353)=TRUE,\"Válido\",\"Inválido\")),\"\")","v":""},{"$f":"IF(E353<>0,(IF(lfValidaCEP(E353)=TRUE,\"Válido\",\"Inválido\")),\"\")","v":""}]
[null,null,null,null,null,null,null,null,null,"",{"$f":"IF(C354<>0,(IF(lfValidaCNPJ(C354)=TRUE,\"Válido\",\"Inválido\")),\"\")","v":""},{"$f":"IF(E354<>0,(IF(lfValidaCEP(E354)=TRUE,\"Válido\",\"Inválido\")),\"\")","v":""}]
[null,null,null,null,null,null,null,null,null,"",{"$f":"IF(C355<>0,(IF(lfValidaCNPJ(C355)=TRUE,\"Válido\",\"Inválido\")),\"\")","v":""},{"$f":"IF(E355<>0,(IF(lfValidaCEP(E355)=TRUE,\"Válido\",\"Inválido\")),\"\")","v":""}]
[null,null,null,null,null,null,null,null,null,"",{"$f":"IF(C356<>0,(IF(lfValidaCNPJ(C356)=TRUE,\"Válido\",\"Inválido\")),\"\")","v":""},{"$f":"IF(E356<>0,(IF(lfValidaCEP(E356)=TRUE,\"Válido\",\"Inválido\")),\"\")","v":""}]
[null,null,null,null,null,null,null,null,null,"",{"$f":"IF(C357<>0,(IF(lfValidaCNPJ(C357)=TRUE,\"Válido\",\"Inválido\")),\"\")","v":""},{"$f":"IF(E357<>0,(IF(lfValidaCEP(E357)=TRUE,\"Válido\",\"Inválido\")),\"\")","v":""}]
[null,null,null,null,null,null,null,null,null,"",{"$f":"IF(C358<>0,(IF(lfValidaCNPJ(C358)=TRUE,\"Válido\",\"Inválido\")),\"\")","v":""},{"$f":"IF(E358<>0,(IF(lfValidaCEP(E358)=TRUE,\"Válido\",\"Inválido\")),\"\")","v":""}]
[null,null,null,null,null,null,null,null,null,"",{"$f":"IF(C359<>0,(IF(lfValidaCNPJ(C359)=TRUE,\"Válido\",\"Inválido\")),\"\")","v":""},{"$f":"IF(E359<>0,(IF(lfValidaCEP(E359)=TRUE,\"Válido\",\"Inválido\")),\"\")","v":""}]
[null,null,null,null,null,null,null,null,null,"",{"$f":"IF(C360<>0,(IF(lfValidaCNPJ(C360)=TRUE,\"Válido\",\"Inválido\")),\"\")","v":""},{"$f":"IF(E360<>0,(IF(lfValidaCEP(E360)=TRUE,\"Válido\",\"Inválido\")),\"\")","v":""}]
[null,null,null,null,null,null,null,null,null,"",{"$f":"IF(C361<>0,(IF(lfValidaCNPJ(C361)=TRUE,\"Válido\",\"Inválido\")),\"\")","v":""},{"$f":"IF(E361<>0,(IF(lfValidaCEP(E361)=TRUE,\"Válido\",\"Inválido\")),\"\")","v":""}]
[null,null,null,null,null,null,null,null,null,"",{"$f":"IF(C362<>0,(IF(lfValidaCNPJ(C362)=TRUE,\"Válido\",\"Inválido\")),\"\")","v":""},{"$f":"IF(E362<>0,(IF(lfValidaCEP(E362)=TRUE,\"Válido\",\"Inválido\")),\"\")","v":""}]
[null,null,null,null,null,null,null,null,null,"",{"$f":"IF(C363<>0,(IF(lfValidaCNPJ(C363)=TRUE,\"Válido\",\"Inválido\")),\"\")","v":""},{"$f":"IF(E363<>0,(IF(lfValidaCEP(E363)=TRUE,\"Válido\",\"Inválido\")),\"\")","v":""}]
[null,null,null,null,null,null,null,null,null,"",{"$f":"IF(C364<>0,(IF(lfValidaCNPJ(C364)=TRUE,\"Válido\",\"Inválido\")),\"\")","v":""},{"$f":"IF(E364<>0,(IF(lfValidaCEP(E364)=TRUE,\"Válido\",\"Inválido\")),\"\")","v":""}]
[null,null,null,null,null,null,null,null,null,"",{"$f":"IF(C365<>0,(IF(lfValidaCNPJ(C365)=TRUE,\"Válido\",\"Inválido\")),\"\")","v":""},{"$f":"IF(E365<>0,(IF(lfValidaCEP(E365)=TRUE,\"Válido\",\"Inválido\")),\"\")","v":""}]
[null,null,null,null,null,null,null,null,null,"",{"$f":"IF(C366<>0,(IF(lfValidaCNPJ(C366)=TRUE,\"Válido\",\"Inválido\")),\"\")","v":""},{"$f":"IF(E366<>0,(IF(lfValidaCEP(E366)=TRUE,\"Válido\",\"Inválido\")),\"\")","v":""}]
[null,null,null,null,null,null,null,null,null,"",{"$f":"IF(C367<>0,(IF(lfValidaCNPJ(C367)=TRUE,\"Válido\",\"Inválido\")),\"\")","v":""},{"$f":"IF(E367<>0,(IF(lfValidaCEP(E367)=TRUE,\"Válido\",\"Inválido\")),\"\")","v":""}]
[null,null,null,null,null,null,null,null,null,"",{"$f":"IF(C368<>0,(IF(lfValidaCNPJ(C368)=TRUE,\"Válido\",\"Inválido\")),\"\")","v":""},{"$f":"IF(E368<>0,(IF(lfValidaCEP(E368)=TRUE,\"Válido\",\"Inválido\")),\"\")","v":""}]
[null,null,null,null,null,null,null,null,null,"",{"$f":"IF(C369<>0,(IF(lfValidaCNPJ(C369)=TRUE,\"Válido\",\"Inválido\")),\"\")","v":""},{"$f":"IF(E369<>0,(IF(lfValidaCEP(E369)=TRUE,\"Válido\",\"Inválido\")),\"\")","v":""}]
[null,null,null,null,null,null,null,null,null,"",{"$f":"IF(C370<>0,(IF(lfValidaCNPJ(C370)=TRUE,\"Válido\",\"Inválido\")),\"\")","v":""},{"$f":"IF(E370<>0,(IF(lfValidaCEP(E370)=TRUE,\"Válido\",\"Inválido\")),\"\")","v":""}]
[null,null,null,null,null,null,null,null,null,"",{"$f":"IF(C371<>0,(IF(lfValidaCNPJ(C371)=TRUE,\"Válido\",\"Inválido\")),\"\")","v":""},{"$f":"IF(E371<>0,(IF(lfValidaCEP(E371)=TRUE,\"Válido\",\"Inválido\")),\"\")","v":""}]
[null,null,null,null,null,null,null,null,null,"",{"$f":"IF(C372<>0,(IF(lfValidaCNPJ(C372)=TRUE,\"Válido\",\"Inválido\")),\"\")","v":""},{"$f":"IF(E372<>0,(IF(lfValidaCEP(E372)=TRUE,\"Válido\",\"Inválido\")),\"\")","v":""}]
[null,null,null,null,null,null,null,null,null,"",{"$f":"IF(C373<>0,(IF(lfValidaCNPJ(C373)=TRUE,\"Válido\",\"Inválido\")),\"\")","v":""},{"$f":"IF(E373<>0,(IF(lfValidaCEP(E373)=TRUE,\"Válido\",\"Inválido\")),\"\")","v":""}]
[null,null,null,null,null,null,null,null,null,"",{"$f":"IF(C374<>0,(IF(lfValidaCNPJ(C374)=TRUE,\"Válido\",\"Inválido\")),\"\")","v":""},{"$f":"IF(E374<>0,(IF(lfValidaCEP(E374)=TRUE,\"Válido\",\"Inválido\")),\"\")","v":""}]
[null,null,null,null,null,null,null,null,null,"",{"$f":"IF(C375<>0,(IF(lfValidaCNPJ(C375)=TRUE,\"Válido\",\"Inválido\")),\"\")","v":""},{"$f":"IF(E375<>0,(IF(lfValidaCEP(E375)=TRUE,\"Válido\",\"Inválido\")),\"\")","v":""}]
[null,null,null,null,null,null,null,null,null,"",{"$f":"IF(C376<>0,(IF(lfValidaCNPJ(C376)=TRUE,\"Válido\",\"Inválido\")),\"\")","v":""},{"$f":"IF(E376<>0,(IF(lfValidaCEP(E376)=TRUE,\"Válido\",\"Inválido\")),\"\")","v":""}]
[null,null,null,null,null,null,null,null,null,"",{"$f":"IF(C377<>0,(IF(lfValidaCNPJ(C377)=TRUE,\"Válido\",\"Inválido\")),\"\")","v":""},{"$f":"IF(E377<>0,(IF(lfValidaCEP(E377)=TRUE,\"Válido\",\"Inválido\")),\"\")","v":""}]
[null,null,null,null,null,null,null,null,null,"",{"$f":"IF(C378<>0,(IF(lfValidaCNPJ(C378)=TRUE,\"Válido\",\"Inválido\")),\"\")","v":""},{"$f":"IF(E378<>0,(IF(lfValidaCEP(E378)=TRUE,\"Válido\",\"Inválido\")),\"\")","v":""}]
[null,null,null,null,null,null,null,null,null,"",{"$f":"IF(C379<>0,(IF(lfValidaCNPJ(C379)=TRUE,\"Válido\",\"Inválido\")),\"\")","v":""},{"$f":"IF(E379<>0,(IF(lfValidaCEP(E379)=TRUE,\"Válido\",\"Inválido\")),\"\")","v":""}]
[null,null,null,null,null,null,null,null,null,"",{"$f":"IF(C380<>0,(IF(lfValidaCNPJ(C380)=TRUE,\"Válido\",\"Inválido\")),\"\")","v":""},{"$f":"IF(E380<>0,(IF(lfValidaCEP(E380)=TRUE,\"Válido\",\"Inválido\")),\"\")","v":""}]
[null,null,null,null,null,null,null,null,null,"",{"$f":"IF(C381<>0,(IF(lfValidaCNPJ(C381)=TRUE,\"Válido\",\"Inválido\")),\"\")","v":""},{"$f":"IF(E381<>0,(IF(lfValidaCEP(E381)=TRUE,\"Válido\",\"Inválido\")),\"\")","v":""}]
[null,null,null,null,null,null,null,null,null,"",{"$f":"IF(C382<>0,(IF(lfValidaCNPJ(C382)=TRUE,\"Válido\",\"Inválido\")),\"\")","v":""},{"$f":"IF(E382<>0,(IF(lfValidaCEP(E382)=TRUE,\"Válido\",\"Inválido\")),\"\")","v":""}]
[null,null,null,null,null,null,null,null,null,"",{"$f":"IF(C383<>0,(IF(lfValidaCNPJ(C383)=TRUE,\"Válido\",\"Inválido\")),\"\")","v":""},{"$f":"IF(E383<>0,(IF(lfValidaCEP(E383)=TRUE,\"Válido\",\"Inválido\")),\"\")","v":""}]
[null,null,null,null,null,null,null,null,null,"",{"$f":"IF(C384<>0,(IF(lfValidaCNPJ(C384)=TRUE,\"Válido\",\"Inválido\")),\"\")","v":""},{"$f":"IF(E384<>0,(IF(lfValidaCEP(E384)=TRUE,\"Válido\",\"Inválido\")),\"\")","v":""}]
[null,null,null,null,null,null,null,null,null,"",{"$f":"IF(C385<>0,(IF(lfValidaCNPJ(C385)=TRUE,\"Válido\",\"Inválido\")),\"\")","v":""},{"$f":"IF(E385<>0,(IF(lfValidaCEP(E385)=TRUE,\"Válido\",\"Inválido\")),\"\")","v":""}]
[null,null,null,null,null,null,null,null,null,"",{"$f":"IF(C386<>0,(IF(lfValidaCNPJ(C386)=TRUE,\"Válido\",\"Inválido\")),\"\")","v":""},{"$f":"IF(E386<>0,(IF(lfValidaCEP(E386)=TRUE,\"Válido\",\"Inválido\")),\"\")","v":""}]
[null,null,null,null,null,null,null,null,null,"",{"$f":"IF(C387<>0,(IF(lfValidaCNPJ(C387)=TRUE,\"Válido\",\"Inválido\")),\"\")","v":""},{"$f":"IF(E387<>0,(IF(lfValidaCEP(E387)=TRUE,\"Válido\",\"Inválido\")),\"\")","v":""}]
[null,null,null,null,null,null,null,null,null,"",{"$f":"IF(C388<>0,(IF(lfValidaCNPJ(C388)=TRUE,\"Válido\",\"Inválido\")),\"\")","v":""},{"$f":"IF(E388<>0,(IF(lfValidaCEP(E388)=TRUE,\"Válido\",\"Inválido\")),\"\")","v":""}]
[null,null,null,null,null,null,null,null,null,"",{"$f":"IF(C389<>0,(IF(lfValidaCNPJ(C389)=TRUE,\"Válido\",\"Inválido\")),\"\")","v":""},{"$f":"IF(E389<>0,(IF(lfValidaCEP(E389)=TRUE,\"Válido\",\"Inválido\")),\"\")","v":""}]
[null,null,null,null,null,null,null,null,null,"",{"$f":"IF(C390<>0,(IF(lfValidaCNPJ(C390)=TRUE,\"Válido\",\"Inválido\")),\"\")","v":""},{"$f":"IF(E390<>0,(IF(lfValidaCEP(E390)=TRUE,\"Válido\",\"Inválido\")),\"\")","v":""}]
[null,null,null,null,null,null,null,null,null,"",{"$f":"IF(C391<>0,(IF(lfValidaCNPJ(C391)=TRUE,\"Válido\",\"Inválido\")),\"\")","v":""},{"$f":"IF(E391<>0,(IF(lfValidaCEP(E391)=TRUE,\"Válido\",\"Inválido\")),\"\")","v":""}]
[null,null,null,null,null,null,null,null,null,"",{"$f":"IF(C392<>0,(IF(lfValidaCNPJ(C392)=TRUE,\"Válido\",\"Inválido\")),\"\")","v":""},{"$f":"IF(E392<>0,(IF(lfValidaCEP(E392)=TRUE,\"Válido\",\"Inválido\")),\"\")","v":""}]
[null,null,null,null,null,null,null,null,null,"",{"$f":"IF(C393<>0,(IF(lfValidaCNPJ(C393)=TRUE,\"Válido\",\"Inválido\")),\"\")","v":""},{"$f":"IF(E393<>0,(IF(lfValidaCEP(E393)=TRUE,\"Válido\",\"Inválido\")),\"\")","v":""}]
[null,null,null,null,null,null,null,null,null,"",{"$f":"IF(C394<>0,(IF(lfValidaCNPJ(C394)=TRUE,\"Válido\",\"Inválido\")),\"\")","v":""},{"$f":"IF(E394<>0,(IF(lfValidaCEP(E394)=TRUE,\"Válido\",\"Inválido\")),\"\")","v":""}]
[null,null,null,null,null,null,null,null,null,"",{"$f":"IF(C395<>0,(IF(lfValidaCNPJ(C395)=TRUE,\"Válido\",\"Inválido\")),\"\")","v":""},{"$f":"IF(E395<>0,(IF(lfValidaCEP(E395)=TRUE,\"Válido\",\"Inválido\")),\"\")","v":""}]
[null,null,null,null,null,null,null,null,null,{"$f":"IF(COUNTA(B396:G396)<>0,IF(AND(B396<>0,C396<>0,D396<>0,E396<>0,F396<>0,G396<>0),\"Completo\",\"Incompleto\"),\"\")","v":""},{"$f":"IF(C396<>0,(IF(lfValidaCNPJ(C396)=TRUE,\"Válido\",\"Inválido\")),\"\")","v":""},{"$f":"IF(E396<>0,(IF(lfValidaCEP(E396)=TRUE,\"Válido\",\"Inválido\")),\"\")","v":""}]
[null,null,null,null,null,null,null,null,null,"",{"$f":"IF(C397<>0,(IF(lfValidaCNPJ(C397)=TRUE,\"Válido\",\"Inválido\")),\"\")","v":""},{"$f":"IF(E397<>0,(IF(lfValidaCEP(E397)=TRUE,\"Válido\",\"Inválido\")),\"\")","v":""}]
[null,null,null,null,null,null,null,null,null,"",{"$f":"IF(C398<>0,(IF(lfValidaCNPJ(C398)=TRUE,\"Válido\",\"Inválido\")),\"\")","v":""},{"$f":"IF(E398<>0,(IF(lfValidaCEP(E398)=TRUE,\"Válido\",\"Inválido\")),\"\")","v":""}]
[null,null,null,null,null,null,null,null,null,"",{"$f":"IF(C399<>0,(IF(lfValidaCNPJ(C399)=TRUE,\"Válido\",\"Inválido\")),\"\")","v":""},{"$f":"IF(E399<>0,(IF(lfValidaCEP(E399)=TRUE,\"Válido\",\"Inválido\")),\"\")","v":""}]
[null,null,null,null,null,null,null,null,null,"",{"$f":"IF(C400<>0,(IF(lfValidaCNPJ(C400)=TRUE,\"Válido\",\"Inválido\")),\"\")","v":""},{"$f":"IF(E400<>0,(IF(lfValidaCEP(E400)=TRUE,\"Válido\",\"Inválido\")),\"\")","v":""}]
[null,null,null,null,null,null,null,null,null,"",{"$f":"IF(C401<>0,(IF(lfValidaCNPJ(C401)=TRUE,\"Válido\",\"Inválido\")),\"\")","v":""},{"$f":"IF(E401<>0,(IF(lfValidaCEP(E401)=TRUE,\"Válido\",\"Inválido\")),\"\")","v":""}]
[null,null,null,null,null,null,null,null,null,"",{"$f":"IF(C402<>0,(IF(lfValidaCNPJ(C402)=TRUE,\"Válido\",\"Inválido\")),\"\")","v":""},{"$f":"IF(E402<>0,(IF(lfValidaCEP(E402)=TRUE,\"Válido\",\"Inválido\")),\"\")","v":""}]
[null,null,null,null,null,null,null,null,null,"",{"$f":"IF(C403<>0,(IF(lfValidaCNPJ(C403)=TRUE,\"Válido\",\"Inválido\")),\"\")","v":""},{"$f":"IF(E403<>0,(IF(lfValidaCEP(E403)=TRUE,\"Válido\",\"Inválido\")),\"\")","v":""}]
[null,null,null,null,null,null,null,null,null,"",{"$f":"IF(C404<>0,(IF(lfValidaCNPJ(C404)=TRUE,\"Válido\",\"Inválido\")),\"\")","v":""},{"$f":"IF(E404<>0,(IF(lfValidaCEP(E404)=TRUE,\"Válido\",\"Inválido\")),\"\")","v":""}]
[null,null,null,null,null,null,null,null,null,"",{"$f":"IF(C405<>0,(IF(lfValidaCNPJ(C405)=TRUE,\"Válido\",\"Inválido\")),\"\")","v":""},{"$f":"IF(E405<>0,(IF(lfValidaCEP(E405)=TRUE,\"Válido\",\"Inválido\")),\"\")","v":""}]
[null,null,null,null,null,null,null,null,null,"",{"$f":"IF(C406<>0,(IF(lfValidaCNPJ(C406)=TRUE,\"Válido\",\"Inválido\")),\"\")","v":""},{"$f":"IF(E406<>0,(IF(lfValidaCEP(E406)=TRUE,\"Válido\",\"Inválido\")),\"\")","v":""}]
[null,null,null,null,null,null,null,null,null,"",{"$f":"IF(C407<>0,(IF(lfValidaCNPJ(C407)=TRUE,\"Válido\",\"Inválido\")),\"\")","v":""},{"$f":"IF(E407<>0,(IF(lfValidaCEP(E407)=TRUE,\"Válido\",\"Inválido\")),\"\")","v":""}]
[null,null,null,null,null,null,null,null,null,"",{"$f":"IF(C408<>0,(IF(lfValidaCNPJ(C408)=TRUE,\"Válido\",\"Inválido\")),\"\")","v":""},{"$f":"IF(E408<>0,(IF(lfValidaCEP(E408)=TRUE,\"Válido\",\"Inválido\")),\"\")","v":""}]
[null,null,null,null,null,null,null,null,null,"",{"$f":"IF(C409<>0,(IF(lfValidaCNPJ(C409)=TRUE,\"Válido\",\"Inválido\")),\"\")","v":""},{"$f":"IF(E409<>0,(IF(lfValidaCEP(E409)=TRUE,\"Válido\",\"Inválido\")),\"\")","v":""}]
[null,null,null,null,null,null,null,null,null,"",{"$f":"IF(C410<>0,(IF(lfValidaCNPJ(C410)=TRUE,\"Válido\",\"Inválido\")),\"\")","v":""},{"$f":"IF(E410<>0,(IF(lfValidaCEP(E410)=TRUE,\"Válido\",\"Inválido\")),\"\")","v":""}]
[null,null,null,null,null,null,null,null,null,"",{"$f":"IF(C411<>0,(IF(lfValidaCNPJ(C411)=TRUE,\"Válido\",\"Inválido\")),\"\")","v":""},{"$f":"IF(E411<>0,(IF(lfValidaCEP(E411)=TRUE,\"Válido\",\"Inválido\")),\"\")","v":""}]
[null,null,null,null,null,null,null,null,null,"",{"$f":"IF(C412<>0,(IF(lfValidaCNPJ(C412)=TRUE,\"Válido\",\"Inválido\")),\"\")","v":""},{"$f":"IF(E412<>0,(IF(lfValidaCEP(E412)=TRUE,\"Válido\",\"Inválido\")),\"\")","v":""}]
[null,null,null,null,null,null,null,null,null,"",{"$f":"IF(C413<>0,(IF(lfValidaCNPJ(C413)=TRUE,\"Válido\",\"Inválido\")),\"\")","v":""},{"$f":"IF(E413<>0,(IF(lfValidaCEP(E413)=TRUE,\"Válido\",\"Inválido\")),\"\")","v":""}]
[null,null,null,null,null,null,null,null,null,"",{"$f":"IF(C414<>0,(IF(lfValidaCNPJ(C414)=TRUE,\"Válido\",\"Inválido\")),\"\")","v":""},{"$f":"IF(E414<>0,(IF(lfValidaCEP(E414)=TRUE,\"Válido\",\"Inválido\")),\"\")","v":""}]
[null,null,null,null,null,null,null,null,null,"",{"$f":"IF(C415<>0,(IF(lfValidaCNPJ(C415)=TRUE,\"Válido\",\"Inválido\")),\"\")","v":""},{"$f":"IF(E415<>0,(IF(lfValidaCEP(E415)=TRUE,\"Válido\",\"Inválido\")),\"\")","v":""}]
[null,null,null,null,null,null,null,null,null,"",{"$f":"IF(C416<>0,(IF(lfValidaCNPJ(C416)=TRUE,\"Válido\",\"Inválido\")),\"\")","v":""},{"$f":"IF(E416<>0,(IF(lfValidaCEP(E416)=TRUE,\"Válido\",\"Inválido\")),\"\")","v":""}]
[null,null,null,null,null,null,null,null,null,"",{"$f":"IF(C417<>0,(IF(lfValidaCNPJ(C417)=TRUE,\"Válido\",\"Inválido\")),\"\")","v":""},{"$f":"IF(E417<>0,(IF(lfValidaCEP(E417)=TRUE,\"Válido\",\"Inválido\")),\"\")","v":""}]
[null,null,null,null,null,null,null,null,null,"",{"$f":"IF(C418<>0,(IF(lfValidaCNPJ(C418)=TRUE,\"Válido\",\"Inválido\")),\"\")","v":""},{"$f":"IF(E418<>0,(IF(lfValidaCEP(E418)=TRUE,\"Válido\",\"Inválido\")),\"\")","v":""}]
[null,null,null,null,null,null,null,null,null,"",{"$f":"IF(C419<>0,(IF(lfValidaCNPJ(C419)=TRUE,\"Válido\",\"Inválido\")),\"\")","v":""},{"$f":"IF(E419<>0,(IF(lfValidaCEP(E419)=TRUE,\"Válido\",\"Inválido\")),\"\")","v":""}]
[null,null,null,null,null,null,null,null,null,"",{"$f":"IF(C420<>0,(IF(lfValidaCNPJ(C420)=TRUE,\"Válido\",\"Inválido\")),\"\")","v":""},{"$f":"IF(E420<>0,(IF(lfValidaCEP(E420)=TRUE,\"Válido\",\"Inválido\")),\"\")","v":""}]
[null,null,null,null,null,null,null,null,null,"",{"$f":"IF(C421<>0,(IF(lfValidaCNPJ(C421)=TRUE,\"Válido\",\"Inválido\")),\"\")","v":""},{"$f":"IF(E421<>0,(IF(lfValidaCEP(E421)=TRUE,\"Válido\",\"Inválido\")),\"\")","v":""}]
[null,null,null,null,null,null,null,null,null,"",{"$f":"IF(C422<>0,(IF(lfValidaCNPJ(C422)=TRUE,\"Válido\",\"Inválido\")),\"\")","v":""},{"$f":"IF(E422<>0,(IF(lfValidaCEP(E422)=TRUE,\"Válido\",\"Inválido\")),\"\")","v":""}]
[null,null,null,null,null,null,null,null,null,"",{"$f":"IF(C423<>0,(IF(lfValidaCNPJ(C423)=TRUE,\"Válido\",\"Inválido\")),\"\")","v":""},{"$f":"IF(E423<>0,(IF(lfValidaCEP(E423)=TRUE,\"Válido\",\"Inválido\")),\"\")","v":""}]
[null,null,null,null,null,null,null,null,null,"",{"$f":"IF(C424<>0,(IF(lfValidaCNPJ(C424)=TRUE,\"Válido\",\"Inválido\")),\"\")","v":""},{"$f":"IF(E424<>0,(IF(lfValidaCEP(E424)=TRUE,\"Válido\",\"Inválido\")),\"\")","v":""}]
[null,null,null,null,null,null,null,null,null,"",{"$f":"IF(C425<>0,(IF(lfValidaCNPJ(C425)=TRUE,\"Válido\",\"Inválido\")),\"\")","v":""},{"$f":"IF(E425<>0,(IF(lfValidaCEP(E425)=TRUE,\"Válido\",\"Inválido\")),\"\")","v":""}]
[null,null,null,null,null,null,null,null,null,"",{"$f":"IF(C426<>0,(IF(lfValidaCNPJ(C426)=TRUE,\"Válido\",\"Inválido\")),\"\")","v":""},{"$f":"IF(E426<>0,(IF(lfValidaCEP(E426)=TRUE,\"Válido\",\"Inválido\")),\"\")","v":""}]
[null,null,null,null,null,null,null,null,null,"",{"$f":"IF(C427<>0,(IF(lfValidaCNPJ(C427)=TRUE,\"Válido\",\"Inválido\")),\"\")","v":""},{"$f":"IF(E427<>0,(IF(lfValidaCEP(E427)=TRUE,\"Válido\",\"Inválido\")),\"\")","v":""}]
[null,null,null,null,null,null,null,null,null,"",{"$f":"IF(C428<>0,(IF(lfValidaCNPJ(C428)=TRUE,\"Válido\",\"Inválido\")),\"\")","v":""},{"$f":"IF(E428<>0,(IF(lfValidaCEP(E428)=TRUE,\"Válido\",\"Inválido\")),\"\")","v":""}]
[null,null,null,null,null,null,null,null,null,"",{"$f":"IF(C429<>0,(IF(lfValidaCNPJ(C429)=TRUE,\"Válido\",\"Inválido\")),\"\")","v":""},{"$f":"IF(E429<>0,(IF(lfValidaCEP(E429)=TRUE,\"Válido\",\"Inválido\")),\"\")","v":""}]
[null,null,null,null,null,null,null,null,null,"",{"$f":"IF(C430<>0,(IF(lfValidaCNPJ(C430)=TRUE,\"Válido\",\"Inválido\")),\"\")","v":""},{"$f":"IF(E430<>0,(IF(lfValidaCEP(E430)=TRUE,\"Válido\",\"Inválido\")),\"\")","v":""}]
[null,null,null,null,null,null,null,null,null,"",{"$f":"IF(C431<>0,(IF(lfValidaCNPJ(C431)=TRUE,\"Válido\",\"Inválido\")),\"\")","v":""},{"$f":"IF(E431<>0,(IF(lfValidaCEP(E431)=TRUE,\"Válido\",\"Inválido\")),\"\")","v":""}]
[null,null,null,null,null,null,null,null,null,"",{"$f":"IF(C432<>0,(IF(lfValidaCNPJ(C432)=TRUE,\"Válido\",\"Inválido\")),\"\")","v":""},{"$f":"IF(E432<>0,(IF(lfValidaCEP(E432)=TRUE,\"Válido\",\"Inválido\")),\"\")","v":""}]
[null,null,null,null,null,null,null,null,null,"",{"$f":"IF(C433<>0,(IF(lfValidaCNPJ(C433)=TRUE,\"Válido\",\"Inválido\")),\"\")","v":""},{"$f":"IF(E433<>0,(IF(lfValidaCEP(E433)=TRUE,\"Válido\",\"Inválido\")),\"\")","v":""}]
[null,null,null,null,null,null,null,null,null,"",{"$f":"IF(C434<>0,(IF(lfValidaCNPJ(C434)=TRUE,\"Válido\",\"Inválido\")),\"\")","v":""},{"$f":"IF(E434<>0,(IF(lfValidaCEP(E434)=TRUE,\"Válido\",\"Inválido\")),\"\")","v":""}]
[null,null,null,null,null,null,null,null,null,"",{"$f":"IF(C435<>0,(IF(lfValidaCNPJ(C435)=TRUE,\"Válido\",\"Inválido\")),\"\")","v":""},{"$f":"IF(E435<>0,(IF(lfValidaCEP(E435)=TRUE,\"Válido\",\"Inválido\")),\"\")","v":""}]
[null,null,null,null,null,null,null,null,null,"",{"$f":"IF(C436<>0,(IF(lfValidaCNPJ(C436)=TRUE,\"Válido\",\"Inválido\")),\"\")","v":""},{"$f":"IF(E436<>0,(IF(lfValidaCEP(E436)=TRUE,\"Válido\",\"Inválido\")),\"\")","v":""}]
[null,null,null,null,null,null,null,null,null,"",{"$f":"IF(C437<>0,(IF(lfValidaCNPJ(C437)=TRUE,\"Válido\",\"Inválido\")),\"\")","v":""},{"$f":"IF(E437<>0,(IF(lfValidaCEP(E437)=TRUE,\"Válido\",\"Inválido\")),\"\")","v":""}]
[null,null,null,null,null,null,null,null,null,"",{"$f":"IF(C438<>0,(IF(lfValidaCNPJ(C438)=TRUE,\"Válido\",\"Inválido\")),\"\")","v":""},{"$f":"IF(E438<>0,(IF(lfValidaCEP(E438)=TRUE,\"Válido\",\"Inválido\")),\"\")","v":""}]
[null,null,null,null,null,null,null,null,null,"",{"$f":"IF(C439<>0,(IF(lfValidaCNPJ(C439)=TRUE,\"Válido\",\"Inválido\")),\"\")","v":""},{"$f":"IF(E439<>0,(IF(lfValidaCEP(E439)=TRUE,\"Válido\",\"Inválido\")),\"\")","v":""}]
[null,null,null,null,null,null,null,null,null,"",{"$f":"IF(C440<>0,(IF(lfValidaCNPJ(C440)=TRUE,\"Válido\",\"Inválido\")),\"\")","v":""},{"$f":"IF(E440<>0,(IF(lfValidaCEP(E440)=TRUE,\"Válido\",\"Inválido\")),\"\")","v":""}]
[null,null,null,null,null,null,null,null,null,"",{"$f":"IF(C441<>0,(IF(lfValidaCNPJ(C441)=TRUE,\"Válido\",\"Inválido\")),\"\")","v":""},{"$f":"IF(E441<>0,(IF(lfValidaCEP(E441)=TRUE,\"Válido\",\"Inválido\")),\"\")","v":""}]
[null,null,null,null,null,null,null,null,null,"",{"$f":"IF(C442<>0,(IF(lfValidaCNPJ(C442)=TRUE,\"Válido\",\"Inválido\")),\"\")","v":""},{"$f":"IF(E442<>0,(IF(lfValidaCEP(E442)=TRUE,\"Válido\",\"Inválido\")),\"\")","v":""}]
[null,null,null,null,null,null,null,null,null,"",{"$f":"IF(C443<>0,(IF(lfValidaCNPJ(C443)=TRUE,\"Válido\",\"Inválido\")),\"\")","v":""},{"$f":"IF(E443<>0,(IF(lfValidaCEP(E443)=TRUE,\"Válido\",\"Inválido\")),\"\")","v":""}]
[null,null,null,null,null,null,null,null,null,"",{"$f":"IF(C444<>0,(IF(lfValidaCNPJ(C444)=TRUE,\"Válido\",\"Inválido\")),\"\")","v":""},{"$f":"IF(E444<>0,(IF(lfValidaCEP(E444)=TRUE,\"Válido\",\"Inválido\")),\"\")","v":""}]
[null,null,null,null,null,null,null,null,null,"",{"$f":"IF(C445<>0,(IF(lfValidaCNPJ(C445)=TRUE,\"Válido\",\"Inválido\")),\"\")","v":""},{"$f":"IF(E445<>0,(IF(lfValidaCEP(E445)=TRUE,\"Válido\",\"Inválido\")),\"\")","v":""}]
[null,null,null,null,null,null,null,null,null,"",{"$f":"IF(C446<>0,(IF(lfValidaCNPJ(C446)=TRUE,\"Válido\",\"Inválido\")),\"\")","v":""},{"$f":"IF(E446<>0,(IF(lfValidaCEP(E446)=TRUE,\"Válido\",\"Inválido\")),\"\")","v":""}]
[null,null,null,null,null,null,null,null,null,"",{"$f":"IF(C447<>0,(IF(lfValidaCNPJ(C447)=TRUE,\"Válido\",\"Inválido\")),\"\")","v":""},{"$f":"IF(E447<>0,(IF(lfValidaCEP(E447)=TRUE,\"Válido\",\"Inválido\")),\"\")","v":""}]
[null,null,null,null,null,null,null,null,null,"",{"$f":"IF(C448<>0,(IF(lfValidaCNPJ(C448)=TRUE,\"Válido\",\"Inválido\")),\"\")","v":""},{"$f":"IF(E448<>0,(IF(lfValidaCEP(E448)=TRUE,\"Válido\",\"Inválido\")),\"\")","v":""}]
[null,null,null,null,null,null,null,null,null,"",{"$f":"IF(C449<>0,(IF(lfValidaCNPJ(C449)=TRUE,\"Válido\",\"Inválido\")),\"\")","v":""},{"$f":"IF(E449<>0,(IF(lfValidaCEP(E449)=TRUE,\"Válido\",\"Inválido\")),\"\")","v":""}]
[null,null,null,null,null,null,null,null,null,"",{"$f":"IF(C450<>0,(IF(lfValidaCNPJ(C450)=TRUE,\"Válido\",\"Inválido\")),\"\")","v":""},{"$f":"IF(E450<>0,(IF(lfValidaCEP(E450)=TRUE,\"Válido\",\"Inválido\")),\"\")","v":""}]
[null,null,null,null,null,null,null,null,null,"",{"$f":"IF(C451<>0,(IF(lfValidaCNPJ(C451)=TRUE,\"Válido\",\"Inválido\")),\"\")","v":""},{"$f":"IF(E451<>0,(IF(lfValidaCEP(E451)=TRUE,\"Válido\",\"Inválido\")),\"\")","v":""}]
[null,null,null,null,null,null,null,null,null,"",{"$f":"IF(C452<>0,(IF(lfValidaCNPJ(C452)=TRUE,\"Válido\",\"Inválido\")),\"\")","v":""},{"$f":"IF(E452<>0,(IF(lfValidaCEP(E452)=TRUE,\"Válido\",\"Inválido\")),\"\")","v":""}]
[null,null,null,null,null,null,null,null,null,"",{"$f":"IF(C453<>0,(IF(lfValidaCNPJ(C453)=TRUE,\"Válido\",\"Inválido\")),\"\")","v":""},{"$f":"IF(E453<>0,(IF(lfValidaCEP(E453)=TRUE,\"Válido\",\"Inválido\")),\"\")","v":""}]
[null,null,null,null,null,null,null,null,null,"",{"$f":"IF(C454<>0,(IF(lfValidaCNPJ(C454)=TRUE,\"Válido\",\"Inválido\")),\"\")","v":""},{"$f":"IF(E454<>0,(IF(lfValidaCEP(E454)=TRUE,\"Válido\",\"Inválido\")),\"\")","v":""}]
[null,null,null,null,null,null,null,null,null,"",{"$f":"IF(C455<>0,(IF(lfValidaCNPJ(C455)=TRUE,\"Válido\",\"Inválido\")),\"\")","v":""},{"$f":"IF(E455<>0,(IF(lfValidaCEP(E455)=TRUE,\"Válido\",\"Inválido\")),\"\")","v":""}]
[null,null,null,null,null,null,null,null,null,"",{"$f":"IF(C456<>0,(IF(lfValidaCNPJ(C456)=TRUE,\"Válido\",\"Inválido\")),\"\")","v":""},{"$f":"IF(E456<>0,(IF(lfValidaCEP(E456)=TRUE,\"Válido\",\"Inválido\")),\"\")","v":""}]
[null,null,null,null,null,null,null,null,null,"",{"$f":"IF(C457<>0,(IF(lfValidaCNPJ(C457)=TRUE,\"Válido\",\"Inválido\")),\"\")","v":""},{"$f":"IF(E457<>0,(IF(lfValidaCEP(E457)=TRUE,\"Válido\",\"Inválido\")),\"\")","v":""}]
[null,null,null,null,null,null,null,null,null,"",{"$f":"IF(C458<>0,(IF(lfValidaCNPJ(C458)=TRUE,\"Válido\",\"Inválido\")),\"\")","v":""},{"$f":"IF(E458<>0,(IF(lfValidaCEP(E458)=TRUE,\"Válido\",\"Inválido\")),\"\")","v":""}]
[null,null,null,null,null,null,null,null,null,"",{"$f":"IF(C459<>0,(IF(lfValidaCNPJ(C459)=TRUE,\"Válido\",\"Inválido\")),\"\")","v":""},{"$f":"IF(E459<>0,(IF(lfValidaCEP(E459)=TRUE,\"Válido\",\"Inválido\")),\"\")","v":""}]
[null,null,null,null,null,null,null,null,null,{"$f":"IF(COUNTA(B460:G460)<>0,IF(AND(B460<>0,C460<>0,D460<>0,E460<>0,F460<>0,G460<>0),\"Completo\",\"Incompleto\"),\"\")","v":""},{"$f":"IF(C460<>0,(IF(lfValidaCNPJ(C460)=TRUE,\"Válido\",\"Inválido\")),\"\")","v":""},{"$f":"IF(E460<>0,(IF(lfValidaCEP(E460)=TRUE,\"Válido\",\"Inválido\")),\"\")","v":""}]
[null,null,null,null,null,null,null,null,null,"",{"$f":"IF(C461<>0,(IF(lfValidaCNPJ(C461)=TRUE,\"Válido\",\"Inválido\")),\"\")","v":""},{"$f":"IF(E461<>0,(IF(lfValidaCEP(E461)=TRUE,\"Válido\",\"Inválido\")),\"\")","v":""}]
[null,null,null,null,null,null,null,null,null,"",{"$f":"IF(C462<>0,(IF(lfValidaCNPJ(C462)=TRUE,\"Válido\",\"Inválido\")),\"\")","v":""},{"$f":"IF(E462<>0,(IF(lfValidaCEP(E462)=TRUE,\"Válido\",\"Inválido\")),\"\")","v":""}]
[null,null,null,null,null,null,null,null,null,"",{"$f":"IF(C463<>0,(IF(lfValidaCNPJ(C463)=TRUE,\"Válido\",\"Inválido\")),\"\")","v":""},{"$f":"IF(E463<>0,(IF(lfValidaCEP(E463)=TRUE,\"Válido\",\"Inválido\")),\"\")","v":""}]
[null,null,null,null,null,null,null,null,null,"",{"$f":"IF(C464<>0,(IF(lfValidaCNPJ(C464)=TRUE,\"Válido\",\"Inválido\")),\"\")","v":""},{"$f":"IF(E464<>0,(IF(lfValidaCEP(E464)=TRUE,\"Válido\",\"Inválido\")),\"\")","v":""}]
[null,null,null,null,null,null,null,null,null,"",{"$f":"IF(C465<>0,(IF(lfValidaCNPJ(C465)=TRUE,\"Válido\",\"Inválido\")),\"\")","v":""},{"$f":"IF(E465<>0,(IF(lfValidaCEP(E465)=TRUE,\"Válido\",\"Inválido\")),\"\")","v":""}]
[null,null,null,null,null,null,null,null,null,"",{"$f":"IF(C466<>0,(IF(lfValidaCNPJ(C466)=TRUE,\"Válido\",\"Inválido\")),\"\")","v":""},{"$f":"IF(E466<>0,(IF(lfValidaCEP(E466)=TRUE,\"Válido\",\"Inválido\")),\"\")","v":""}]
[null,null,null,null,null,null,null,null,null,"",{"$f":"IF(C467<>0,(IF(lfValidaCNPJ(C467)=TRUE,\"Válido\",\"Inválido\")),\"\")","v":""},{"$f":"IF(E467<>0,(IF(lfValidaCEP(E467)=TRUE,\"Válido\",\"Inválido\")),\"\")","v":""}]
[null,null,null,null,null,null,null,null,null,"",{"$f":"IF(C468<>0,(IF(lfValidaCNPJ(C468)=TRUE,\"Válido\",\"Inválido\")),\"\")","v":""},{"$f":"IF(E468<>0,(IF(lfValidaCEP(E468)=TRUE,\"Válido\",\"Inválido\")),\"\")","v":""}]
[null,null,null,null,null,null,null,null,null,"",{"$f":"IF(C469<>0,(IF(lfValidaCNPJ(C469)=TRUE,\"Válido\",\"Inválido\")),\"\")","v":""},{"$f":"IF(E469<>0,(IF(lfValidaCEP(E469)=TRUE,\"Válido\",\"Inválido\")),\"\")","v":""}]
[null,null,null,null,null,null,null,null,null,"",{"$f":"IF(C470<>0,(IF(lfValidaCNPJ(C470)=TRUE,\"Válido\",\"Inválido\")),\"\")","v":""},{"$f":"IF(E470<>0,(IF(lfValidaCEP(E470)=TRUE,\"Válido\",\"Inválido\")),\"\")","v":""}]
[null,null,null,null,null,null,null,null,null,"",{"$f":"IF(C471<>0,(IF(lfValidaCNPJ(C471)=TRUE,\"Válido\",\"Inválido\")),\"\")","v":""},{"$f":"IF(E471<>0,(IF(lfValidaCEP(E471)=TRUE,\"Válido\",\"Inválido\")),\"\")","v":""}]
[null,null,null,null,null,null,null,null,null,"",{"$f":"IF(C472<>0,(IF(lfValidaCNPJ(C472)=TRUE,\"Válido\",\"Inválido\")),\"\")","v":""},{"$f":"IF(E472<>0,(IF(lfValidaCEP(E472)=TRUE,\"Válido\",\"Inválido\")),\"\")","v":""}]
[null,null,null,null,null,null,null,null,null,"",{"$f":"IF(C473<>0,(IF(lfValidaCNPJ(C473)=TRUE,\"Válido\",\"Inválido\")),\"\")","v":""},{"$f":"IF(E473<>0,(IF(lfValidaCEP(E473)=TRUE,\"Válido\",\"Inválido\")),\"\")","v":""}]
[null,null,null,null,null,null,null,null,null,"",{"$f":"IF(C474<>0,(IF(lfValidaCNPJ(C474)=TRUE,\"Válido\",\"Inválido\")),\"\")","v":""},{"$f":"IF(E474<>0,(IF(lfValidaCEP(E474)=TRUE,\"Válido\",\"Inválido\")),\"\")","v":""}]
[null,null,null,null,null,null,null,null,null,"",{"$f":"IF(C475<>0,(IF(lfValidaCNPJ(C475)=TRUE,\"Válido\",\"Inválido\")),\"\")","v":""},{"$f":"IF(E475<>0,(IF(lfValidaCEP(E475)=TRUE,\"Válido\",\"Inválido\")),\"\")","v":""}]
[null,null,null,null,null,null,null,null,null,"",{"$f":"IF(C476<>0,(IF(lfValidaCNPJ(C476)=TRUE,\"Válido\",\"Inválido\")),\"\")","v":""},{"$f":"IF(E476<>0,(IF(lfValidaCEP(E476)=TRUE,\"Válido\",\"Inválido\")),\"\")","v":""}]
[null,null,null,null,null,null,null,null,null,"",{"$f":"IF(C477<>0,(IF(lfValidaCNPJ(C477)=TRUE,\"Válido\",\"Inválido\")),\"\")","v":""},{"$f":"IF(E477<>0,(IF(lfValidaCEP(E477)=TRUE,\"Válido\",\"Inválido\")),\"\")","v":""}]
[null,null,null,null,null,null,null,null,null,"",{"$f":"IF(C478<>0,(IF(lfValidaCNPJ(C478)=TRUE,\"Válido\",\"Inválido\")),\"\")","v":""},{"$f":"IF(E478<>0,(IF(lfValidaCEP(E478)=TRUE,\"Válido\",\"Inválido\")),\"\")","v":""}]
[null,null,null,null,null,null,null,null,null,"",{"$f":"IF(C479<>0,(IF(lfValidaCNPJ(C479)=TRUE,\"Válido\",\"Inválido\")),\"\")","v":""},{"$f":"IF(E479<>0,(IF(lfValidaCEP(E479)=TRUE,\"Válido\",\"Inválido\")),\"\")","v":""}]
[null,null,null,null,null,null,null,null,null,"",{"$f":"IF(C480<>0,(IF(lfValidaCNPJ(C480)=TRUE,\"Válido\",\"Inválido\")),\"\")","v":""},{"$f":"IF(E480<>0,(IF(lfValidaCEP(E480)=TRUE,\"Válido\",\"Inválido\")),\"\")","v":""}]
[null,null,null,null,null,null,null,null,null,"",{"$f":"IF(C481<>0,(IF(lfValidaCNPJ(C481)=TRUE,\"Válido\",\"Inválido\")),\"\")","v":""},{"$f":"IF(E481<>0,(IF(lfValidaCEP(E481)=TRUE,\"Válido\",\"Inválido\")),\"\")","v":""}]
[null,null,null,null,null,null,null,null,null,"",{"$f":"IF(C482<>0,(IF(lfValidaCNPJ(C482)=TRUE,\"Válido\",\"Inválido\")),\"\")","v":""},{"$f":"IF(E482<>0,(IF(lfValidaCEP(E482)=TRUE,\"Válido\",\"Inválido\")),\"\")","v":""}]
[null,null,null,null,null,null,null,null,null,"",{"$f":"IF(C483<>0,(IF(lfValidaCNPJ(C483)=TRUE,\"Válido\",\"Inválido\")),\"\")","v":""},{"$f":"IF(E483<>0,(IF(lfValidaCEP(E483)=TRUE,\"Válido\",\"Inválido\")),\"\")","v":""}]
[null,null,null,null,null,null,null,null,null,"",{"$f":"IF(C484<>0,(IF(lfValidaCNPJ(C484)=TRUE,\"Válido\",\"Inválido\")),\"\")","v":""},{"$f":"IF(E484<>0,(IF(lfValidaCEP(E484)=TRUE,\"Válido\",\"Inválido\")),\"\")","v":""}]
[null,null,null,null,null,null,null,null,null,"",{"$f":"IF(C485<>0,(IF(lfValidaCNPJ(C485)=TRUE,\"Válido\",\"Inválido\")),\"\")","v":""},{"$f":"IF(E485<>0,(IF(lfValidaCEP(E485)=TRUE,\"Válido\",\"Inválido\")),\"\")","v":""}]
[null,null,null,null,null,null,null,null,null,"",{"$f":"IF(C486<>0,(IF(lfValidaCNPJ(C486)=TRUE,\"Válido\",\"Inválido\")),\"\")","v":""},{"$f":"IF(E486<>0,(IF(lfValidaCEP(E486)=TRUE,\"Válido\",\"Inválido\")),\"\")","v":""}]
[null,null,null,null,null,null,null,null,null,"",{"$f":"IF(C487<>0,(IF(lfValidaCNPJ(C487)=TRUE,\"Válido\",\"Inválido\")),\"\")","v":""},{"$f":"IF(E487<>0,(IF(lfValidaCEP(E487)=TRUE,\"Válido\",\"Inválido\")),\"\")","v":""}]
[null,null,null,null,null,null,null,null,null,"",{"$f":"IF(C488<>0,(IF(lfValidaCNPJ(C488)=TRUE,\"Válido\",\"Inválido\")),\"\")","v":""},{"$f":"IF(E488<>0,(IF(lfValidaCEP(E488)=TRUE,\"Válido\",\"Inválido\")),\"\")","v":""}]
[null,null,null,null,null,null,null,null,null,"",{"$f":"IF(C489<>0,(IF(lfValidaCNPJ(C489)=TRUE,\"Válido\",\"Inválido\")),\"\")","v":""},{"$f":"IF(E489<>0,(IF(lfValidaCEP(E489)=TRUE,\"Válido\",\"Inválido\")),\"\")","v":""}]
[null,null,null,null,null,null,null,null,null,"",{"$f":"IF(C490<>0,(IF(lfValidaCNPJ(C490)=TRUE,\"Válido\",\"Inválido\")),\"\")","v":""},{"$f":"IF(E490<>0,(IF(lfValidaCEP(E490)=TRUE,\"Válido\",\"Inválido\")),\"\")","v":""}]
[null,null,null,null,null,null,null,null,null,"",{"$f":"IF(C491<>0,(IF(lfValidaCNPJ(C491)=TRUE,\"Válido\",\"Inválido\")),\"\")","v":""},{"$f":"IF(E491<>0,(IF(lfValidaCEP(E491)=TRUE,\"Válido\",\"Inválido\")),\"\")","v":""}]
[null,null,null,null,null,null,null,null,null,"",{"$f":"IF(C492<>0,(IF(lfValidaCNPJ(C492)=TRUE,\"Válido\",\"Inválido\")),\"\")","v":""},{"$f":"IF(E492<>0,(IF(lfValidaCEP(E492)=TRUE,\"Válido\",\"Inválido\")),\"\")","v":""}]
[null,null,null,null,null,null,null,null,null,"",{"$f":"IF(C493<>0,(IF(lfValidaCNPJ(C493)=TRUE,\"Válido\",\"Inválido\")),\"\")","v":""},{"$f":"IF(E493<>0,(IF(lfValidaCEP(E493)=TRUE,\"Válido\",\"Inválido\")),\"\")","v":""}]
[null,null,null,null,null,null,null,null,null,"",{"$f":"IF(C494<>0,(IF(lfValidaCNPJ(C494)=TRUE,\"Válido\",\"Inválido\")),\"\")","v":""},{"$f":"IF(E494<>0,(IF(lfValidaCEP(E494)=TRUE,\"Válido\",\"Inválido\")),\"\")","v":""}]
[null,null,null,null,null,null,null,null,null,"",{"$f":"IF(C495<>0,(IF(lfValidaCNPJ(C495)=TRUE,\"Válido\",\"Inválido\")),\"\")","v":""},{"$f":"IF(E495<>0,(IF(lfValidaCEP(E495)=TRUE,\"Válido\",\"Inválido\")),\"\")","v":""}]
[null,null,null,null,null,null,null,null,null,"",{"$f":"IF(C496<>0,(IF(lfValidaCNPJ(C496)=TRUE,\"Válido\",\"Inválido\")),\"\")","v":""},{"$f":"IF(E496<>0,(IF(lfValidaCEP(E496)=TRUE,\"Válido\",\"Inválido\")),\"\")","v":""}]
[null,null,null,null,null,null,null,null,null,"",{"$f":"IF(C497<>0,(IF(lfValidaCNPJ(C497)=TRUE,\"Válido\",\"Inválido\")),\"\")","v":""},{"$f":"IF(E497<>0,(IF(lfValidaCEP(E497)=TRUE,\"Válido\",\"Inválido\")),\"\")","v":""}]
[null,null,null,null,null,null,null,null,null,"",{"$f":"IF(C498<>0,(IF(lfValidaCNPJ(C498)=TRUE,\"Válido\",\"Inválido\")),\"\")","v":""},{"$f":"IF(E498<>0,(IF(lfValidaCEP(E498)=TRUE,\"Válido\",\"Inválido\")),\"\")","v":""}]
[null,null,null,null,null,null,null,null,null,"",{"$f":"IF(C499<>0,(IF(lfValidaCNPJ(C499)=TRUE,\"Válido\",\"Inválido\")),\"\")","v":""},{"$f":"IF(E499<>0,(IF(lfValidaCEP(E499)=TRUE,\"Válido\",\"Inválido\")),\"\")","v":""}]
[null,null,null,null,null,null,null,null,null,"",{"$f":"IF(C500<>0,(IF(lfValidaCNPJ(C500)=TRUE,\"Válido\",\"Inválido\")),\"\")","v":""},{"$f":"IF(E500<>0,(IF(lfValidaCEP(E500)=TRUE,\"Válido\",\"Inválido\")),\"\")","v":""}]
[null,null,null,null,null,null,null,null,null,"",{"$f":"IF(C501<>0,(IF(lfValidaCNPJ(C501)=TRUE,\"Válido\",\"Inválido\")),\"\")","v":""},{"$f":"IF(E501<>0,(IF(lfValidaCEP(E501)=TRUE,\"Válido\",\"Inválido\")),\"\")","v":""}]
[null,null,null,null,null,null,null,null,null,"",{"$f":"IF(C502<>0,(IF(lfValidaCNPJ(C502)=TRUE,\"Válido\",\"Inválido\")),\"\")","v":""},{"$f":"IF(E502<>0,(IF(lfValidaCEP(E502)=TRUE,\"Válido\",\"Inválido\")),\"\")","v":""}]
[null,null,null,null,null,null,null,null,null,"",{"$f":"IF(C503<>0,(IF(lfValidaCNPJ(C503)=TRUE,\"Válido\",\"Inválido\")),\"\")","v":""},{"$f":"IF(E503<>0,(IF(lfValidaCEP(E503)=TRUE,\"Válido\",\"Inválido\")),\"\")","v":""}]
[null,null,null,null,null,null,null,null,null,"",{"$f":"IF(C504<>0,(IF(lfValidaCNPJ(C504)=TRUE,\"Válido\",\"Inválido\")),\"\")","v":""},{"$f":"IF(E504<>0,(IF(lfValidaCEP(E504)=TRUE,\"Válido\",\"Inválido\")),\"\")","v":""}]
[null,null,null,null,null,null,null,null,null,"",{"$f":"IF(C505<>0,(IF(lfValidaCNPJ(C505)=TRUE,\"Válido\",\"Inválido\")),\"\")","v":""},{"$f":"IF(E505<>0,(IF(lfValidaCEP(E505)=TRUE,\"Válido\",\"Inválido\")),\"\")","v":""}]
[null,null,null,null,null,null,null,null,null,"",{"$f":"IF(C506<>0,(IF(lfValidaCNPJ(C506)=TRUE,\"Válido\",\"Inválido\")),\"\")","v":""},{"$f":"IF(E506<>0,(IF(lfValidaCEP(E506)=TRUE,\"Válido\",\"Inválido\")),\"\")","v":""}]
[null,null,null,null,null,null,null,null,null,"",{"$f":"IF(C507<>0,(IF(lfValidaCNPJ(C507)=TRUE,\"Válido\",\"Inválido\")),\"\")","v":""},{"$f":"IF(E507<>0,(IF(lfValidaCEP(E507)=TRUE,\"Válido\",\"Inválido\")),\"\")","v":""}]
[null,null,null,null,null,null,null,null,null,"",{"$f":"IF(C508<>0,(IF(lfValidaCNPJ(C508)=TRUE,\"Válido\",\"Inválido\")),\"\")","v":""},{"$f":"IF(E508<>0,(IF(lfValidaCEP(E508)=TRUE,\"Válido\",\"Inválido\")),\"\")","v":""}]
[null,null,null,null,null,null,null,null,null,"",{"$f":"IF(C509<>0,(IF(lfValidaCNPJ(C509)=TRUE,\"Válido\",\"Inválido\")),\"\")","v":""},{"$f":"IF(E509<>0,(IF(lfValidaCEP(E509)=TRUE,\"Válido\",\"Inválido\")),\"\")","v":""}]
[null,null,null,null,null,null,null,null,null,"",{"$f":"IF(C510<>0,(IF(lfValidaCNPJ(C510)=TRUE,\"Válido\",\"Inválido\")),\"\")","v":""},{"$f":"IF(E510<>0,(IF(lfValidaCEP(E510)=TRUE,\"Válido\",\"Inválido\")),\"\")","v":""}]
[null,null,null,null,null,null,null,null,null,"",{"$f":"IF(C511<>0,(IF(lfValidaCNPJ(C511)=TRUE,\"Válido\",\"Inválido\")),\"\")","v":""},{"$f":"IF(E511<>0,(IF(lfValidaCEP(E511)=TRUE,\"Válido\",\"Inválido\")),\"\")","v":""}]
[null,null,null,null,null,null,null,null,null,"",{"$f":"IF(C512<>0,(IF(lfValidaCNPJ(C512)=TRUE,\"Válido\",\"Inválido\")),\"\")","v":""},{"$f":"IF(E512<>0,(IF(lfValidaCEP(E512)=TRUE,\"Válido\",\"Inválido\")),\"\")","v":""}]
[null,null,null,null,null,null,null,null,null,"",{"$f":"IF(C513<>0,(IF(lfValidaCNPJ(C513)=TRUE,\"Válido\",\"Inválido\")),\"\")","v":""},{"$f":"IF(E513<>0,(IF(lfValidaCEP(E513)=TRUE,\"Válido\",\"Inválido\")),\"\")","v":""}]
[null,null,null,null,null,null,null,null,null,"",{"$f":"IF(C514<>0,(IF(lfValidaCNPJ(C514)=TRUE,\"Válido\",\"Inválido\")),\"\")","v":""},{"$f":"IF(E514<>0,(IF(lfValidaCEP(E514)=TRUE,\"Válido\",\"Inválido\")),\"\")","v":""}]
[null,null,null,null,null,null,null,null,null,"",{"$f":"IF(C515<>0,(IF(lfValidaCNPJ(C515)=TRUE,\"Válido\",\"Inválido\")),\"\")","v":""},{"$f":"IF(E515<>0,(IF(lfValidaCEP(E515)=TRUE,\"Válido\",\"Inválido\")),\"\")","v":""}]
[null,null,null,null,null,null,null,null,null,"",{"$f":"IF(C516<>0,(IF(lfValidaCNPJ(C516)=TRUE,\"Válido\",\"Inválido\")),\"\")","v":""},{"$f":"IF(E516<>0,(IF(lfValidaCEP(E516)=TRUE,\"Válido\",\"Inválido\")),\"\")","v":""}]
[null,null,null,null,null,null,null,null,null,"",{"$f":"IF(C517<>0,(IF(lfValidaCNPJ(C517)=TRUE,\"Válido\",\"Inválido\")),\"\")","v":""},{"$f":"IF(E517<>0,(IF(lfValidaCEP(E517)=TRUE,\"Válido\",\"Inválido\")),\"\")","v":""}]
[null,null,null,null,null,null,null,null,null,"",{"$f":"IF(C518<>0,(IF(lfValidaCNPJ(C518)=TRUE,\"Válido\",\"Inválido\")),\"\")","v":""},{"$f":"IF(E518<>0,(IF(lfValidaCEP(E518)=TRUE,\"Válido\",\"Inválido\")),\"\")","v":""}]
[null,null,null,null,null,null,null,null,null,"",{"$f":"IF(C519<>0,(IF(lfValidaCNPJ(C519)=TRUE,\"Válido\",\"Inválido\")),\"\")","v":""},{"$f":"IF(E519<>0,(IF(lfValidaCEP(E519)=TRUE,\"Válido\",\"Inválido\")),\"\")","v":""}]
[null,null,null,null,null,null,null,null,null,"",{"$f":"IF(C520<>0,(IF(lfValidaCNPJ(C520)=TRUE,\"Válido\",\"Inválido\")),\"\")","v":""},{"$f":"IF(E520<>0,(IF(lfValidaCEP(E520)=TRUE,\"Válido\",\"Inválido\")),\"\")","v":""}]
[null,null,null,null,null,null,null,null,null,"",{"$f":"IF(C521<>0,(IF(lfValidaCNPJ(C521)=TRUE,\"Válido\",\"Inválido\")),\"\")","v":""},{"$f":"IF(E521<>0,(IF(lfValidaCEP(E521)=TRUE,\"Válido\",\"Inválido\")),\"\")","v":""}]
[null,null,null,null,null,null,null,null,null,"",{"$f":"IF(C522<>0,(IF(lfValidaCNPJ(C522)=TRUE,\"Válido\",\"Inválido\")),\"\")","v":""},{"$f":"IF(E522<>0,(IF(lfValidaCEP(E522)=TRUE,\"Válido\",\"Inválido\")),\"\")","v":""}]
[null,null,null,null,null,null,null,null,null,"",{"$f":"IF(C523<>0,(IF(lfValidaCNPJ(C523)=TRUE,\"Válido\",\"Inválido\")),\"\")","v":""},{"$f":"IF(E523<>0,(IF(lfValidaCEP(E523)=TRUE,\"Válido\",\"Inválido\")),\"\")","v":""}]
[null,null,null,null,null,null,null,null,null,{"$f":"IF(COUNTA(B524:G524)<>0,IF(AND(B524<>0,C524<>0,D524<>0,E524<>0,F524<>0,G524<>0),\"Completo\",\"Incompleto\"),\"\")","v":""},{"$f":"IF(C524<>0,(IF(lfValidaCNPJ(C524)=TRUE,\"Válido\",\"Inválido\")),\"\")","v":""},{"$f":"IF(E524<>0,(IF(lfValidaCEP(E524)=TRUE,\"Válido\",\"Inválido\")),\"\")","v":""}]
[null,null,null,null,null,null,null,null,null,"",{"$f":"IF(C525<>0,(IF(lfValidaCNPJ(C525)=TRUE,\"Válido\",\"Inválido\")),\"\")","v":""},{"$f":"IF(E525<>0,(IF(lfValidaCEP(E525)=TRUE,\"Válido\",\"Inválido\")),\"\")","v":""}]
[null,null,null,null,null,null,null,null,null,"",{"$f":"IF(C526<>0,(IF(lfValidaCNPJ(C526)=TRUE,\"Válido\",\"Inválido\")),\"\")","v":""},{"$f":"IF(E526<>0,(IF(lfValidaCEP(E526)=TRUE,\"Válido\",\"Inválido\")),\"\")","v":""}]
[null,null,null,null,null,null,null,null,null,"",{"$f":"IF(C527<>0,(IF(lfValidaCNPJ(C527)=TRUE,\"Válido\",\"Inválido\")),\"\")","v":""},{"$f":"IF(E527<>0,(IF(lfValidaCEP(E527)=TRUE,\"Válido\",\"Inválido\")),\"\")","v":""}]
[null,null,null,null,null,null,null,null,null,"",{"$f":"IF(C528<>0,(IF(lfValidaCNPJ(C528)=TRUE,\"Válido\",\"Inválido\")),\"\")","v":""},{"$f":"IF(E528<>0,(IF(lfValidaCEP(E528)=TRUE,\"Válido\",\"Inválido\")),\"\")","v":""}]
[null,null,null,null,null,null,null,null,null,"",{"$f":"IF(C529<>0,(IF(lfValidaCNPJ(C529)=TRUE,\"Válido\",\"Inválido\")),\"\")","v":""},{"$f":"IF(E529<>0,(IF(lfValidaCEP(E529)=TRUE,\"Válido\",\"Inválido\")),\"\")","v":""}]
[null,null,null,null,null,null,null,null,null,"",{"$f":"IF(C530<>0,(IF(lfValidaCNPJ(C530)=TRUE,\"Válido\",\"Inválido\")),\"\")","v":""},{"$f":"IF(E530<>0,(IF(lfValidaCEP(E530)=TRUE,\"Válido\",\"Inválido\")),\"\")","v":""}]
[null,null,null,null,null,null,null,null,null,"",{"$f":"IF(C531<>0,(IF(lfValidaCNPJ(C531)=TRUE,\"Válido\",\"Inválido\")),\"\")","v":""},{"$f":"IF(E531<>0,(IF(lfValidaCEP(E531)=TRUE,\"Válido\",\"Inválido\")),\"\")","v":""}]
[null,null,null,null,null,null,null,null,null,"",{"$f":"IF(C532<>0,(IF(lfValidaCNPJ(C532)=TRUE,\"Válido\",\"Inválido\")),\"\")","v":""},{"$f":"IF(E532<>0,(IF(lfValidaCEP(E532)=TRUE,\"Válido\",\"Inválido\")),\"\")","v":""}]
[null,null,null,null,null,null,null,null,null,"",{"$f":"IF(C533<>0,(IF(lfValidaCNPJ(C533)=TRUE,\"Válido\",\"Inválido\")),\"\")","v":""},{"$f":"IF(E533<>0,(IF(lfValidaCEP(E533)=TRUE,\"Válido\",\"Inválido\")),\"\")","v":""}]
[null,null,null,null,null,null,null,null,null,"",{"$f":"IF(C534<>0,(IF(lfValidaCNPJ(C534)=TRUE,\"Válido\",\"Inválido\")),\"\")","v":""},{"$f":"IF(E534<>0,(IF(lfValidaCEP(E534)=TRUE,\"Válido\",\"Inválido\")),\"\")","v":""}]
[null,null,null,null,null,null,null,null,null,"",{"$f":"IF(C535<>0,(IF(lfValidaCNPJ(C535)=TRUE,\"Válido\",\"Inválido\")),\"\")","v":""},{"$f":"IF(E535<>0,(IF(lfValidaCEP(E535)=TRUE,\"Válido\",\"Inválido\")),\"\")","v":""}]
[null,null,null,null,null,null,null,null,null,"",{"$f":"IF(C536<>0,(IF(lfValidaCNPJ(C536)=TRUE,\"Válido\",\"Inválido\")),\"\")","v":""},{"$f":"IF(E536<>0,(IF(lfValidaCEP(E536)=TRUE,\"Válido\",\"Inválido\")),\"\")","v":""}]
[null,null,null,null,null,null,null,null,null,"",{"$f":"IF(C537<>0,(IF(lfValidaCNPJ(C537)=TRUE,\"Válido\",\"Inválido\")),\"\")","v":""},{"$f":"IF(E537<>0,(IF(lfValidaCEP(E537)=TRUE,\"Válido\",\"Inválido\")),\"\")","v":""}]
[null,null,null,null,null,null,null,null,null,"",{"$f":"IF(C538<>0,(IF(lfValidaCNPJ(C538)=TRUE,\"Válido\",\"Inválido\")),\"\")","v":""},{"$f":"IF(E538<>0,(IF(lfValidaCEP(E538)=TRUE,\"Válido\",\"Inválido\")),\"\")","v":""}]
[null,null,null,null,null,null,null,null,null,"",{"$f":"IF(C539<>0,(IF(lfValidaCNPJ(C539)=TRUE,\"Válido\",\"Inválido\")),\"\")","v":""},{"$f":"IF(E539<>0,(IF(lfValidaCEP(E539)=TRUE,\"Válido\",\"Inválido\")),\"\")","v":""}]
[null,null,null,null,null,null,null,null,null,"",{"$f":"IF(C540<>0,(IF(lfValidaCNPJ(C540)=TRUE,\"Válido\",\"Inválido\")),\"\")","v":""},{"$f":"IF(E540<>0,(IF(lfValidaCEP(E540)=TRUE,\"Válido\",\"Inválido\")),\"\")","v":""}]
[null,null,null,null,null,null,null,null,null,"",{"$f":"IF(C541<>0,(IF(lfValidaCNPJ(C541)=TRUE,\"Válido\",\"Inválido\")),\"\")","v":""},{"$f":"IF(E541<>0,(IF(lfValidaCEP(E541)=TRUE,\"Válido\",\"Inválido\")),\"\")","v":""}]
[null,null,null,null,null,null,null,null,null,"",{"$f":"IF(C542<>0,(IF(lfValidaCNPJ(C542)=TRUE,\"Válido\",\"Inválido\")),\"\")","v":""},{"$f":"IF(E542<>0,(IF(lfValidaCEP(E542)=TRUE,\"Válido\",\"Inválido\")),\"\")","v":""}]
[null,null,null,null,null,null,null,null,null,"",{"$f":"IF(C543<>0,(IF(lfValidaCNPJ(C543)=TRUE,\"Válido\",\"Inválido\")),\"\")","v":""},{"$f":"IF(E543<>0,(IF(lfValidaCEP(E543)=TRUE,\"Válido\",\"Inválido\")),\"\")","v":""}]
[null,null,null,null,null,null,null,null,null,"",{"$f":"IF(C544<>0,(IF(lfValidaCNPJ(C544)=TRUE,\"Válido\",\"Inválido\")),\"\")","v":""},{"$f":"IF(E544<>0,(IF(lfValidaCEP(E544)=TRUE,\"Válido\",\"Inválido\")),\"\")","v":""}]
[null,null,null,null,null,null,null,null,null,"",{"$f":"IF(C545<>0,(IF(lfValidaCNPJ(C545)=TRUE,\"Válido\",\"Inválido\")),\"\")","v":""},{"$f":"IF(E545<>0,(IF(lfValidaCEP(E545)=TRUE,\"Válido\",\"Inválido\")),\"\")","v":""}]
[null,null,null,null,null,null,null,null,null,"",{"$f":"IF(C546<>0,(IF(lfValidaCNPJ(C546)=TRUE,\"Válido\",\"Inválido\")),\"\")","v":""},{"$f":"IF(E546<>0,(IF(lfValidaCEP(E546)=TRUE,\"Válido\",\"Inválido\")),\"\")","v":""}]
[null,null,null,null,null,null,null,null,null,"",{"$f":"IF(C547<>0,(IF(lfValidaCNPJ(C547)=TRUE,\"Válido\",\"Inválido\")),\"\")","v":""},{"$f":"IF(E547<>0,(IF(lfValidaCEP(E547)=TRUE,\"Válido\",\"Inválido\")),\"\")","v":""}]
[null,null,null,null,null,null,null,null,null,"",{"$f":"IF(C548<>0,(IF(lfValidaCNPJ(C548)=TRUE,\"Válido\",\"Inválido\")),\"\")","v":""},{"$f":"IF(E548<>0,(IF(lfValidaCEP(E548)=TRUE,\"Válido\",\"Inválido\")),\"\")","v":""}]
[null,null,null,null,null,null,null,null,null,"",{"$f":"IF(C549<>0,(IF(lfValidaCNPJ(C549)=TRUE,\"Válido\",\"Inválido\")),\"\")","v":""},{"$f":"IF(E549<>0,(IF(lfValidaCEP(E549)=TRUE,\"Válido\",\"Inválido\")),\"\")","v":""}]
[null,null,null,null,null,null,null,null,null,"",{"$f":"IF(C550<>0,(IF(lfValidaCNPJ(C550)=TRUE,\"Válido\",\"Inválido\")),\"\")","v":""},{"$f":"IF(E550<>0,(IF(lfValidaCEP(E550)=TRUE,\"Válido\",\"Inválido\")),\"\")","v":""}]
[null,null,null,null,null,null,null,null,null,"",{"$f":"IF(C551<>0,(IF(lfValidaCNPJ(C551)=TRUE,\"Válido\",\"Inválido\")),\"\")","v":""},{"$f":"IF(E551<>0,(IF(lfValidaCEP(E551)=TRUE,\"Válido\",\"Inválido\")),\"\")","v":""}]
[null,null,null,null,null,null,null,null,null,"",{"$f":"IF(C552<>0,(IF(lfValidaCNPJ(C552)=TRUE,\"Válido\",\"Inválido\")),\"\")","v":""},{"$f":"IF(E552<>0,(IF(lfValidaCEP(E552)=TRUE,\"Válido\",\"Inválido\")),\"\")","v":""}]
[null,null,null,null,null,null,null,null,null,"",{"$f":"IF(C553<>0,(IF(lfValidaCNPJ(C553)=TRUE,\"Válido\",\"Inválido\")),\"\")","v":""},{"$f":"IF(E553<>0,(IF(lfValidaCEP(E553)=TRUE,\"Válido\",\"Inválido\")),\"\")","v":""}]
[null,null,null,null,null,null,null,null,null,"",{"$f":"IF(C554<>0,(IF(lfValidaCNPJ(C554)=TRUE,\"Válido\",\"Inválido\")),\"\")","v":""},{"$f":"IF(E554<>0,(IF(lfValidaCEP(E554)=TRUE,\"Válido\",\"Inválido\")),\"\")","v":""}]
[null,null,null,null,null,null,null,null,null,"",{"$f":"IF(C555<>0,(IF(lfValidaCNPJ(C555)=TRUE,\"Válido\",\"Inválido\")),\"\")","v":""},{"$f":"IF(E555<>0,(IF(lfValidaCEP(E555)=TRUE,\"Válido\",\"Inválido\")),\"\")","v":""}]
[null,null,null,null,null,null,null,null,null,"",{"$f":"IF(C556<>0,(IF(lfValidaCNPJ(C556)=TRUE,\"Válido\",\"Inválido\")),\"\")","v":""},{"$f":"IF(E556<>0,(IF(lfValidaCEP(E556)=TRUE,\"Válido\",\"Inválido\")),\"\")","v":""}]
[null,null,null,null,null,null,null,null,null,"",{"$f":"IF(C557<>0,(IF(lfValidaCNPJ(C557)=TRUE,\"Válido\",\"Inválido\")),\"\")","v":""},{"$f":"IF(E557<>0,(IF(lfValidaCEP(E557)=TRUE,\"Válido\",\"Inválido\")),\"\")","v":""}]
[null,null,null,null,null,null,null,null,null,"",{"$f":"IF(C558<>0,(IF(lfValidaCNPJ(C558)=TRUE,\"Válido\",\"Inválido\")),\"\")","v":""},{"$f":"IF(E558<>0,(IF(lfValidaCEP(E558)=TRUE,\"Válido\",\"Inválido\")),\"\")","v":""}]
[null,null,null,null,null,null,null,null,null,"",{"$f":"IF(C559<>0,(IF(lfValidaCNPJ(C559)=TRUE,\"Válido\",\"Inválido\")),\"\")","v":""},{"$f":"IF(E559<>0,(IF(lfValidaCEP(E559)=TRUE,\"Válido\",\"Inválido\")),\"\")","v":""}]
[null,null,null,null,null,null,null,null,null,"",{"$f":"IF(C560<>0,(IF(lfValidaCNPJ(C560)=TRUE,\"Válido\",\"Inválido\")),\"\")","v":""},{"$f":"IF(E560<>0,(IF(lfValidaCEP(E560)=TRUE,\"Válido\",\"Inválido\")),\"\")","v":""}]
[null,null,null,null,null,null,null,null,null,"",{"$f":"IF(C561<>0,(IF(lfValidaCNPJ(C561)=TRUE,\"Válido\",\"Inválido\")),\"\")","v":""},{"$f":"IF(E561<>0,(IF(lfValidaCEP(E561)=TRUE,\"Válido\",\"Inválido\")),\"\")","v":""}]
[null,null,null,null,null,null,null,null,null,"",{"$f":"IF(C562<>0,(IF(lfValidaCNPJ(C562)=TRUE,\"Válido\",\"Inválido\")),\"\")","v":""},{"$f":"IF(E562<>0,(IF(lfValidaCEP(E562)=TRUE,\"Válido\",\"Inválido\")),\"\")","v":""}]
[null,null,null,null,null,null,null,null,null,"",{"$f":"IF(C563<>0,(IF(lfValidaCNPJ(C563)=TRUE,\"Válido\",\"Inválido\")),\"\")","v":""},{"$f":"IF(E563<>0,(IF(lfValidaCEP(E563)=TRUE,\"Válido\",\"Inválido\")),\"\")","v":""}]
[null,null,null,null,null,null,null,null,null,"",{"$f":"IF(C564<>0,(IF(lfValidaCNPJ(C564)=TRUE,\"Válido\",\"Inválido\")),\"\")","v":""},{"$f":"IF(E564<>0,(IF(lfValidaCEP(E564)=TRUE,\"Válido\",\"Inválido\")),\"\")","v":""}]
[null,null,null,null,null,null,null,null,null,"",{"$f":"IF(C565<>0,(IF(lfValidaCNPJ(C565)=TRUE,\"Válido\",\"Inválido\")),\"\")","v":""},{"$f":"IF(E565<>0,(IF(lfValidaCEP(E565)=TRUE,\"Válido\",\"Inválido\")),\"\")","v":""}]
[null,null,null,null,null,null,null,null,null,"",{"$f":"IF(C566<>0,(IF(lfValidaCNPJ(C566)=TRUE,\"Válido\",\"Inválido\")),\"\")","v":""},{"$f":"IF(E566<>0,(IF(lfValidaCEP(E566)=TRUE,\"Válido\",\"Inválido\")),\"\")","v":""}]
[null,null,null,null,null,null,null,null,null,"",{"$f":"IF(C567<>0,(IF(lfValidaCNPJ(C567)=TRUE,\"Válido\",\"Inválido\")),\"\")","v":""},{"$f":"IF(E567<>0,(IF(lfValidaCEP(E567)=TRUE,\"Válido\",\"Inválido\")),\"\")","v":""}]
[null,null,null,null,null,null,null,null,null,"",{"$f":"IF(C568<>0,(IF(lfValidaCNPJ(C568)=TRUE,\"Válido\",\"Inválido\")),\"\")","v":""},{"$f":"IF(E568<>0,(IF(lfValidaCEP(E568)=TRUE,\"Válido\",\"Inválido\")),\"\")","v":""}]
[null,null,null,null,null,null,null,null,null,"",{"$f":"IF(C569<>0,(IF(lfValidaCNPJ(C569)=TRUE,\"Válido\",\"Inválido\")),\"\")","v":""},{"$f":"IF(E569<>0,(IF(lfValidaCEP(E569)=TRUE,\"Válido\",\"Inválido\")),\"\")","v":""}]
[null,null,null,null,null,null,null,null,null,"",{"$f":"IF(C570<>0,(IF(lfValidaCNPJ(C570)=TRUE,\"Válido\",\"Inválido\")),\"\")","v":""},{"$f":"IF(E570<>0,(IF(lfValidaCEP(E570)=TRUE,\"Válido\",\"Inválido\")),\"\")","v":""}]
[null,null,null,null,null,null,null,null,null,"",{"$f":"IF(C571<>0,(IF(lfValidaCNPJ(C571)=TRUE,\"Válido\",\"Inválido\")),\"\")","v":""},{"$f":"IF(E571<>0,(IF(lfValidaCEP(E571)=TRUE,\"Válido\",\"Inválido\")),\"\")","v":""}]
[null,null,null,null,null,null,null,null,null,"",{"$f":"IF(C572<>0,(IF(lfValidaCNPJ(C572)=TRUE,\"Válido\",\"Inválido\")),\"\")","v":""},{"$f":"IF(E572<>0,(IF(lfValidaCEP(E572)=TRUE,\"Válido\",\"Inválido\")),\"\")","v":""}]
[null,null,null,null,null,null,null,null,null,"",{"$f":"IF(C573<>0,(IF(lfValidaCNPJ(C573)=TRUE,\"Válido\",\"Inválido\")),\"\")","v":""},{"$f":"IF(E573<>0,(IF(lfValidaCEP(E573)=TRUE,\"Válido\",\"Inválido\")),\"\")","v":""}]
[null,null,null,null,null,null,null,null,null,"",{"$f":"IF(C574<>0,(IF(lfValidaCNPJ(C574)=TRUE,\"Válido\",\"Inválido\")),\"\")","v":""},{"$f":"IF(E574<>0,(IF(lfValidaCEP(E574)=TRUE,\"Válido\",\"Inválido\")),\"\")","v":""}]
[null,null,null,null,null,null,null,null,null,"",{"$f":"IF(C575<>0,(IF(lfValidaCNPJ(C575)=TRUE,\"Válido\",\"Inválido\")),\"\")","v":""},{"$f":"IF(E575<>0,(IF(lfValidaCEP(E575)=TRUE,\"Válido\",\"Inválido\")),\"\")","v":""}]
[null,null,null,null,null,null,null,null,null,"",{"$f":"IF(C576<>0,(IF(lfValidaCNPJ(C576)=TRUE,\"Válido\",\"Inválido\")),\"\")","v":""},{"$f":"IF(E576<>0,(IF(lfValidaCEP(E576)=TRUE,\"Válido\",\"Inválido\")),\"\")","v":""}]
[null,null,null,null,null,null,null,null,null,"",{"$f":"IF(C577<>0,(IF(lfValidaCNPJ(C577)=TRUE,\"Válido\",\"Inválido\")),\"\")","v":""},{"$f":"IF(E577<>0,(IF(lfValidaCEP(E577)=TRUE,\"Válido\",\"Inválido\")),\"\")","v":""}]
[null,null,null,null,null,null,null,null,null,"",{"$f":"IF(C578<>0,(IF(lfValidaCNPJ(C578)=TRUE,\"Válido\",\"Inválido\")),\"\")","v":""},{"$f":"IF(E578<>0,(IF(lfValidaCEP(E578)=TRUE,\"Válido\",\"Inválido\")),\"\")","v":""}]
[null,null,null,null,null,null,null,null,null,"",{"$f":"IF(C579<>0,(IF(lfValidaCNPJ(C579)=TRUE,\"Válido\",\"Inválido\")),\"\")","v":""},{"$f":"IF(E579<>0,(IF(lfValidaCEP(E579)=TRUE,\"Válido\",\"Inválido\")),\"\")","v":""}]
[null,null,null,null,null,null,null,null,null,"",{"$f":"IF(C580<>0,(IF(lfValidaCNPJ(C580)=TRUE,\"Válido\",\"Inválido\")),\"\")","v":""},{"$f":"IF(E580<>0,(IF(lfValidaCEP(E580)=TRUE,\"Válido\",\"Inválido\")),\"\")","v":""}]
[null,null,null,null,null,null,null,null,null,"",{"$f":"IF(C581<>0,(IF(lfValidaCNPJ(C581)=TRUE,\"Válido\",\"Inválido\")),\"\")","v":""},{"$f":"IF(E581<>0,(IF(lfValidaCEP(E581)=TRUE,\"Válido\",\"Inválido\")),\"\")","v":""}]
[null,null,null,null,null,null,null,null,null,"",{"$f":"IF(C582<>0,(IF(lfValidaCNPJ(C582)=TRUE,\"Válido\",\"Inválido\")),\"\")","v":""},{"$f":"IF(E582<>0,(IF(lfValidaCEP(E582)=TRUE,\"Válido\",\"Inválido\")),\"\")","v":""}]
[null,null,null,null,null,null,null,null,null,"",{"$f":"IF(C583<>0,(IF(lfValidaCNPJ(C583)=TRUE,\"Válido\",\"Inválido\")),\"\")","v":""},{"$f":"IF(E583<>0,(IF(lfValidaCEP(E583)=TRUE,\"Válido\",\"Inválido\")),\"\")","v":""}]
[null,null,null,null,null,null,null,null,null,"",{"$f":"IF(C584<>0,(IF(lfValidaCNPJ(C584)=TRUE,\"Válido\",\"Inválido\")),\"\")","v":""},{"$f":"IF(E584<>0,(IF(lfValidaCEP(E584)=TRUE,\"Válido\",\"Inválido\")),\"\")","v":""}]
[null,null,null,null,null,null,null,null,null,"",{"$f":"IF(C585<>0,(IF(lfValidaCNPJ(C585)=TRUE,\"Válido\",\"Inválido\")),\"\")","v":""},{"$f":"IF(E585<>0,(IF(lfValidaCEP(E585)=TRUE,\"Válido\",\"Inválido\")),\"\")","v":""}]
[null,null,null,null,null,null,null,null,null,"",{"$f":"IF(C586<>0,(IF(lfValidaCNPJ(C586)=TRUE,\"Válido\",\"Inválido\")),\"\")","v":""},{"$f":"IF(E586<>0,(IF(lfValidaCEP(E586)=TRUE,\"Válido\",\"Inválido\")),\"\")","v":""}]
[null,null,null,null,null,null,null,null,null,"",{"$f":"IF(C587<>0,(IF(lfValidaCNPJ(C587)=TRUE,\"Válido\",\"Inválido\")),\"\")","v":""},{"$f":"IF(E587<>0,(IF(lfValidaCEP(E587)=TRUE,\"Válido\",\"Inválido\")),\"\")","v":""}]
[null,null,null,null,null,null,null,null,null,{"$f":"IF(COUNTA(B588:G588)<>0,IF(AND(B588<>0,C588<>0,D588<>0,E588<>0,F588<>0,G588<>0),\"Completo\",\"Incompleto\"),\"\")","v":""},{"$f":"IF(C588<>0,(IF(lfValidaCNPJ(C588)=TRUE,\"Válido\",\"Inválido\")),\"\")","v":""},{"$f":"IF(E588<>0,(IF(lfValidaCEP(E588)=TRUE,\"Válido\",\"Inválido\")),\"\")","v":""}]
[null,null,null,null,null,null,null,null,null,"",{"$f":"IF(C589<>0,(IF(lfValidaCNPJ(C589)=TRUE,\"Válido\",\"Inválido\")),\"\")","v":""},{"$f":"IF(E589<>0,(IF(lfValidaCEP(E589)=TRUE,\"Válido\",\"Inválido\")),\"\")","v":""}]
[null,null,null,null,null,null,null,null,null,"",{"$f":"IF(C590<>0,(IF(lfValidaCNPJ(C590)=TRUE,\"Válido\",\"Inválido\")),\"\")","v":""},{"$f":"IF(E590<>0,(IF(lfValidaCEP(E590)=TRUE,\"Válido\",\"Inválido\")),\"\")","v":""}]
[null,null,null,null,null,null,null,null,null,"",{"$f":"IF(C591<>0,(IF(lfValidaCNPJ(C591)=TRUE,\"Válido\",\"Inválido\")),\"\")","v":""},{"$f":"IF(E591<>0,(IF(lfValidaCEP(E591)=TRUE,\"Válido\",\"Inválido\")),\"\")","v":""}]
[null,null,null,null,null,null,null,null,null,"",{"$f":"IF(C592<>0,(IF(lfValidaCNPJ(C592)=TRUE,\"Válido\",\"Inválido\")),\"\")","v":""},{"$f":"IF(E592<>0,(IF(lfValidaCEP(E592)=TRUE,\"Válido\",\"Inválido\")),\"\")","v":""}]
[null,null,null,null,null,null,null,null,null,"",{"$f":"IF(C593<>0,(IF(lfValidaCNPJ(C593)=TRUE,\"Válido\",\"Inválido\")),\"\")","v":""},{"$f":"IF(E593<>0,(IF(lfValidaCEP(E593)=TRUE,\"Válido\",\"Inválido\")),\"\")","v":""}]
[null,null,null,null,null,null,null,null,null,"",{"$f":"IF(C594<>0,(IF(lfValidaCNPJ(C594)=TRUE,\"Válido\",\"Inválido\")),\"\")","v":""},{"$f":"IF(E594<>0,(IF(lfValidaCEP(E594)=TRUE,\"Válido\",\"Inválido\")),\"\")","v":""}]
[null,null,null,null,null,null,null,null,null,"",{"$f":"IF(C595<>0,(IF(lfValidaCNPJ(C595)=TRUE,\"Válido\",\"Inválido\")),\"\")","v":""},{"$f":"IF(E595<>0,(IF(lfValidaCEP(E595)=TRUE,\"Válido\",\"Inválido\")),\"\")","v":""}]
[null,null,null,null,null,null,null,null,null,"",{"$f":"IF(C596<>0,(IF(lfValidaCNPJ(C596)=TRUE,\"Válido\",\"Inválido\")),\"\")","v":""},{"$f":"IF(E596<>0,(IF(lfValidaCEP(E596)=TRUE,\"Válido\",\"Inválido\")),\"\")","v":""}]
[null,null,null,null,null,null,null,null,null,"",{"$f":"IF(C597<>0,(IF(lfValidaCNPJ(C597)=TRUE,\"Válido\",\"Inválido\")),\"\")","v":""},{"$f":"IF(E597<>0,(IF(lfValidaCEP(E597)=TRUE,\"Válido\",\"Inválido\")),\"\")","v":""}]
[null,null,null,null,null,null,null,null,null,"",{"$f":"IF(C598<>0,(IF(lfValidaCNPJ(C598)=TRUE,\"Válido\",\"Inválido\")),\"\")","v":""},{"$f":"IF(E598<>0,(IF(lfValidaCEP(E598)=TRUE,\"Válido\",\"Inválido\")),\"\")","v":""}]
[null,null,null,null,null,null,null,null,null,"",{"$f":"IF(C599<>0,(IF(lfValidaCNPJ(C599)=TRUE,\"Válido\",\"Inválido\")),\"\")","v":""},{"$f":"IF(E599<>0,(IF(lfValidaCEP(E599)=TRUE,\"Válido\",\"Inválido\")),\"\")","v":""}]
[null,null,null,null,null,null,null,null,null,"",{"$f":"IF(C600<>0,(IF(lfValidaCNPJ(C600)=TRUE,\"Válido\",\"Inválido\")),\"\")","v":""},{"$f":"IF(E600<>0,(IF(lfValidaCEP(E600)=TRUE,\"Válido\",\"Inválido\")),\"\")","v":""}]
[null,null,null,null,null,null,null,null,null,"",{"$f":"IF(C601<>0,(IF(lfValidaCNPJ(C601)=TRUE,\"Válido\",\"Inválido\")),\"\")","v":""},{"$f":"IF(E601<>0,(IF(lfValidaCEP(E601)=TRUE,\"Válido\",\"Inválido\")),\"\")","v":""}]
[null,null,null,null,null,null,null,null,null,"",{"$f":"IF(C602<>0,(IF(lfValidaCNPJ(C602)=TRUE,\"Válido\",\"Inválido\")),\"\")","v":""},{"$f":"IF(E602<>0,(IF(lfValidaCEP(E602)=TRUE,\"Válido\",\"Inválido\")),\"\")","v":""}]
[null,null,null,null,null,null,null,null,null,"",{"$f":"IF(C603<>0,(IF(lfValidaCNPJ(C603)=TRUE,\"Válido\",\"Inválido\")),\"\")","v":""},{"$f":"IF(E603<>0,(IF(lfValidaCEP(E603)=TRUE,\"Válido\",\"Inválido\")),\"\")","v":""}]
[null,null,null,null,null,null,null,null,null,"",{"$f":"IF(C604<>0,(IF(lfValidaCNPJ(C604)=TRUE,\"Válido\",\"Inválido\")),\"\")","v":""},{"$f":"IF(E604<>0,(IF(lfValidaCEP(E604)=TRUE,\"Válido\",\"Inválido\")),\"\")","v":""}]
[null,null,null,null,null,null,null,null,null,"",{"$f":"IF(C605<>0,(IF(lfValidaCNPJ(C605)=TRUE,\"Válido\",\"Inválido\")),\"\")","v":""},{"$f":"IF(E605<>0,(IF(lfValidaCEP(E605)=TRUE,\"Válido\",\"Inválido\")),\"\")","v":""}]
[null,null,null,null,null,null,null,null,null,"",{"$f":"IF(C606<>0,(IF(lfValidaCNPJ(C606)=TRUE,\"Válido\",\"Inválido\")),\"\")","v":""},{"$f":"IF(E606<>0,(IF(lfValidaCEP(E606)=TRUE,\"Válido\",\"Inválido\")),\"\")","v":""}]
[null,null,null,null,null,null,null,null,null,"",{"$f":"IF(C607<>0,(IF(lfValidaCNPJ(C607)=TRUE,\"Válido\",\"Inválido\")),\"\")","v":""},{"$f":"IF(E607<>0,(IF(lfValidaCEP(E607)=TRUE,\"Válido\",\"Inválido\")),\"\")","v":""}]
[null,null,null,null,null,null,null,null,null,"",{"$f":"IF(C608<>0,(IF(lfValidaCNPJ(C608)=TRUE,\"Válido\",\"Inválido\")),\"\")","v":""},{"$f":"IF(E608<>0,(IF(lfValidaCEP(E608)=TRUE,\"Válido\",\"Inválido\")),\"\")","v":""}]
[null,null,null,null,null,null,null,null,null,"",{"$f":"IF(C609<>0,(IF(lfValidaCNPJ(C609)=TRUE,\"Válido\",\"Inválido\")),\"\")","v":""},{"$f":"IF(E609<>0,(IF(lfValidaCEP(E609)=TRUE,\"Válido\",\"Inválido\")),\"\")","v":""}]
[null,null,null,null,null,null,null,null,null,"",{"$f":"IF(C610<>0,(IF(lfValidaCNPJ(C610)=TRUE,\"Válido\",\"Inválido\")),\"\")","v":""},{"$f":"IF(E610<>0,(IF(lfValidaCEP(E610)=TRUE,\"Válido\",\"Inválido\")),\"\")","v":""}]
[null,null,null,null,null,null,null,null,null,"",{"$f":"IF(C611<>0,(IF(lfValidaCNPJ(C611)=TRUE,\"Válido\",\"Inválido\")),\"\")","v":""},{"$f":"IF(E611<>0,(IF(lfValidaCEP(E611)=TRUE,\"Válido\",\"Inválido\")),\"\")","v":""}]
[null,null,null,null,null,null,null,null,null,"",{"$f":"IF(C612<>0,(IF(lfValidaCNPJ(C612)=TRUE,\"Válido\",\"Inválido\")),\"\")","v":""},{"$f":"IF(E612<>0,(IF(lfValidaCEP(E612)=TRUE,\"Válido\",\"Inválido\")),\"\")","v":""}]
[null,null,null,null,null,null,null,null,null,"",{"$f":"IF(C613<>0,(IF(lfValidaCNPJ(C613)=TRUE,\"Válido\",\"Inválido\")),\"\")","v":""},{"$f":"IF(E613<>0,(IF(lfValidaCEP(E613)=TRUE,\"Válido\",\"Inválido\")),\"\")","v":""}]
[null,null,null,null,null,null,null,null,null,"",{"$f":"IF(C614<>0,(IF(lfValidaCNPJ(C614)=TRUE,\"Válido\",\"Inválido\")),\"\")","v":""},{"$f":"IF(E614<>0,(IF(lfValidaCEP(E614)=TRUE,\"Válido\",\"Inválido\")),\"\")","v":""}]
[null,null,null,null,null,null,null,null,null,"",{"$f":"IF(C615<>0,(IF(lfValidaCNPJ(C615)=TRUE,\"Válido\",\"Inválido\")),\"\")","v":""},{"$f":"IF(E615<>0,(IF(lfValidaCEP(E615)=TRUE,\"Válido\",\"Inválido\")),\"\")","v":""}]
[null,null,null,null,null,null,null,null,null,"",{"$f":"IF(C616<>0,(IF(lfValidaCNPJ(C616)=TRUE,\"Válido\",\"Inválido\")),\"\")","v":""},{"$f":"IF(E616<>0,(IF(lfValidaCEP(E616)=TRUE,\"Válido\",\"Inválido\")),\"\")","v":""}]
[null,null,null,null,null,null,null,null,null,"",{"$f":"IF(C617<>0,(IF(lfValidaCNPJ(C617)=TRUE,\"Válido\",\"Inválido\")),\"\")","v":""},{"$f":"IF(E617<>0,(IF(lfValidaCEP(E617)=TRUE,\"Válido\",\"Inválido\")),\"\")","v":""}]
[null,null,null,null,null,null,null,null,null,"",{"$f":"IF(C618<>0,(IF(lfValidaCNPJ(C618)=TRUE,\"Válido\",\"Inválido\")),\"\")","v":""},{"$f":"IF(E618<>0,(IF(lfValidaCEP(E618)=TRUE,\"Válido\",\"Inválido\")),\"\")","v":""}]
[null,null,null,null,null,null,null,null,null,"",{"$f":"IF(C619<>0,(IF(lfValidaCNPJ(C619)=TRUE,\"Válido\",\"Inválido\")),\"\")","v":""},{"$f":"IF(E619<>0,(IF(lfValidaCEP(E619)=TRUE,\"Válido\",\"Inválido\")),\"\")","v":""}]
[null,null,null,null,null,null,null,null,null,"",{"$f":"IF(C620<>0,(IF(lfValidaCNPJ(C620)=TRUE,\"Válido\",\"Inválido\")),\"\")","v":""},{"$f":"IF(E620<>0,(IF(lfValidaCEP(E620)=TRUE,\"Válido\",\"Inválido\")),\"\")","v":""}]
[null,null,null,null,null,null,null,null,null,"",{"$f":"IF(C621<>0,(IF(lfValidaCNPJ(C621)=TRUE,\"Válido\",\"Inválido\")),\"\")","v":""},{"$f":"IF(E621<>0,(IF(lfValidaCEP(E621)=TRUE,\"Válido\",\"Inválido\")),\"\")","v":""}]
[null,null,null,null,null,null,null,null,null,"",{"$f":"IF(C622<>0,(IF(lfValidaCNPJ(C622)=TRUE,\"Válido\",\"Inválido\")),\"\")","v":""},{"$f":"IF(E622<>0,(IF(lfValidaCEP(E622)=TRUE,\"Válido\",\"Inválido\")),\"\")","v":""}]
[null,null,null,null,null,null,null,null,null,"",{"$f":"IF(C623<>0,(IF(lfValidaCNPJ(C623)=TRUE,\"Válido\",\"Inválido\")),\"\")","v":""},{"$f":"IF(E623<>0,(IF(lfValidaCEP(E623)=TRUE,\"Válido\",\"Inválido\")),\"\")","v":""}]
[null,null,null,null,null,null,null,null,null,"",{"$f":"IF(C624<>0,(IF(lfValidaCNPJ(C624)=TRUE,\"Válido\",\"Inválido\")),\"\")","v":""},{"$f":"IF(E624<>0,(IF(lfValidaCEP(E624)=TRUE,\"Válido\",\"Inválido\")),\"\")","v":""}]
[null,null,null,null,null,null,null,null,null,"",{"$f":"IF(C625<>0,(IF(lfValidaCNPJ(C625)=TRUE,\"Válido\",\"Inválido\")),\"\")","v":""},{"$f":"IF(E625<>0,(IF(lfValidaCEP(E625)=TRUE,\"Válido\",\"Inválido\")),\"\")","v":""}]
[null,null,null,null,null,null,null,null,null,"",{"$f":"IF(C626<>0,(IF(lfValidaCNPJ(C626)=TRUE,\"Válido\",\"Inválido\")),\"\")","v":""},{"$f":"IF(E626<>0,(IF(lfValidaCEP(E626)=TRUE,\"Válido\",\"Inválido\")),\"\")","v":""}]
[null,null,null,null,null,null,null,null,null,"",{"$f":"IF(C627<>0,(IF(lfValidaCNPJ(C627)=TRUE,\"Válido\",\"Inválido\")),\"\")","v":""},{"$f":"IF(E627<>0,(IF(lfValidaCEP(E627)=TRUE,\"Válido\",\"Inválido\")),\"\")","v":""}]
[null,null,null,null,null,null,null,null,null,"",{"$f":"IF(C628<>0,(IF(lfValidaCNPJ(C628)=TRUE,\"Válido\",\"Inválido\")),\"\")","v":""},{"$f":"IF(E628<>0,(IF(lfValidaCEP(E628)=TRUE,\"Válido\",\"Inválido\")),\"\")","v":""}]
[null,null,null,null,null,null,null,null,null,"",{"$f":"IF(C629<>0,(IF(lfValidaCNPJ(C629)=TRUE,\"Válido\",\"Inválido\")),\"\")","v":""},{"$f":"IF(E629<>0,(IF(lfValidaCEP(E629)=TRUE,\"Válido\",\"Inválido\")),\"\")","v":""}]
[null,null,null,null,null,null,null,null,null,"",{"$f":"IF(C630<>0,(IF(lfValidaCNPJ(C630)=TRUE,\"Válido\",\"Inválido\")),\"\")","v":""},{"$f":"IF(E630<>0,(IF(lfValidaCEP(E630)=TRUE,\"Válido\",\"Inválido\")),\"\")","v":""}]
[null,null,null,null,null,null,null,null,null,"",{"$f":"IF(C631<>0,(IF(lfValidaCNPJ(C631)=TRUE,\"Válido\",\"Inválido\")),\"\")","v":""},{"$f":"IF(E631<>0,(IF(lfValidaCEP(E631)=TRUE,\"Válido\",\"Inválido\")),\"\")","v":""}]
[null,null,null,null,null,null,null,null,null,"",{"$f":"IF(C632<>0,(IF(lfValidaCNPJ(C632)=TRUE,\"Válido\",\"Inválido\")),\"\")","v":""},{"$f":"IF(E632<>0,(IF(lfValidaCEP(E632)=TRUE,\"Válido\",\"Inválido\")),\"\")","v":""}]
[null,null,null,null,null,null,null,null,null,"",{"$f":"IF(C633<>0,(IF(lfValidaCNPJ(C633)=TRUE,\"Válido\",\"Inválido\")),\"\")","v":""},{"$f":"IF(E633<>0,(IF(lfValidaCEP(E633)=TRUE,\"Válido\",\"Inválido\")),\"\")","v":""}]
[null,null,null,null,null,null,null,null,null,"",{"$f":"IF(C634<>0,(IF(lfValidaCNPJ(C634)=TRUE,\"Válido\",\"Inválido\")),\"\")","v":""},{"$f":"IF(E634<>0,(IF(lfValidaCEP(E634)=TRUE,\"Válido\",\"Inválido\")),\"\")","v":""}]
[null,null,null,null,null,null,null,null,null,"",{"$f":"IF(C635<>0,(IF(lfValidaCNPJ(C635)=TRUE,\"Válido\",\"Inválido\")),\"\")","v":""},{"$f":"IF(E635<>0,(IF(lfValidaCEP(E635)=TRUE,\"Válido\",\"Inválido\")),\"\")","v":""}]
[null,null,null,null,null,null,null,null,null,"",{"$f":"IF(C636<>0,(IF(lfValidaCNPJ(C636)=TRUE,\"Válido\",\"Inválido\")),\"\")","v":""},{"$f":"IF(E636<>0,(IF(lfValidaCEP(E636)=TRUE,\"Válido\",\"Inválido\")),\"\")","v":""}]
[null,null,null,null,null,null,null,null,null,"",{"$f":"IF(C637<>0,(IF(lfValidaCNPJ(C637)=TRUE,\"Válido\",\"Inválido\")),\"\")","v":""},{"$f":"IF(E637<>0,(IF(lfValidaCEP(E637)=TRUE,\"Válido\",\"Inválido\")),\"\")","v":""}]
[null,null,null,null,null,null,null,null,null,"",{"$f":"IF(C638<>0,(IF(lfValidaCNPJ(C638)=TRUE,\"Válido\",\"Inválido\")),\"\")","v":""},{"$f":"IF(E638<>0,(IF(lfValidaCEP(E638)=TRUE,\"Válido\",\"Inválido\")),\"\")","v":""}]
[null,null,null,null,null,null,null,null,null,"",{"$f":"IF(C639<>0,(IF(lfValidaCNPJ(C639)=TRUE,\"Válido\",\"Inválido\")),\"\")","v":""},{"$f":"IF(E639<>0,(IF(lfValidaCEP(E639)=TRUE,\"Válido\",\"Inválido\")),\"\")","v":""}]
[null,null,null,null,null,null,null,null,null,"",{"$f":"IF(C640<>0,(IF(lfValidaCNPJ(C640)=TRUE,\"Válido\",\"Inválido\")),\"\")","v":""},{"$f":"IF(E640<>0,(IF(lfValidaCEP(E640)=TRUE,\"Válido\",\"Inválido\")),\"\")","v":""}]
[null,null,null,null,null,null,null,null,null,"",{"$f":"IF(C641<>0,(IF(lfValidaCNPJ(C641)=TRUE,\"Válido\",\"Inválido\")),\"\")","v":""},{"$f":"IF(E641<>0,(IF(lfValidaCEP(E641)=TRUE,\"Válido\",\"Inválido\")),\"\")","v":""}]
[null,null,null,null,null,null,null,null,null,"",{"$f":"IF(C642<>0,(IF(lfValidaCNPJ(C642)=TRUE,\"Válido\",\"Inválido\")),\"\")","v":""},{"$f":"IF(E642<>0,(IF(lfValidaCEP(E642)=TRUE,\"Válido\",\"Inválido\")),\"\")","v":""}]
[null,null,null,null,null,null,null,null,null,"",{"$f":"IF(C643<>0,(IF(lfValidaCNPJ(C643)=TRUE,\"Válido\",\"Inválido\")),\"\")","v":""},{"$f":"IF(E643<>0,(IF(lfValidaCEP(E643)=TRUE,\"Válido\",\"Inválido\")),\"\")","v":""}]
[null,null,null,null,null,null,null,null,null,"",{"$f":"IF(C644<>0,(IF(lfValidaCNPJ(C644)=TRUE,\"Válido\",\"Inválido\")),\"\")","v":""},{"$f":"IF(E644<>0,(IF(lfValidaCEP(E644)=TRUE,\"Válido\",\"Inválido\")),\"\")","v":""}]
[null,null,null,null,null,null,null,null,null,"",{"$f":"IF(C645<>0,(IF(lfValidaCNPJ(C645)=TRUE,\"Válido\",\"Inválido\")),\"\")","v":""},{"$f":"IF(E645<>0,(IF(lfValidaCEP(E645)=TRUE,\"Válido\",\"Inválido\")),\"\")","v":""}]
[null,null,null,null,null,null,null,null,null,"",{"$f":"IF(C646<>0,(IF(lfValidaCNPJ(C646)=TRUE,\"Válido\",\"Inválido\")),\"\")","v":""},{"$f":"IF(E646<>0,(IF(lfValidaCEP(E646)=TRUE,\"Válido\",\"Inválido\")),\"\")","v":""}]
[null,null,null,null,null,null,null,null,null,"",{"$f":"IF(C647<>0,(IF(lfValidaCNPJ(C647)=TRUE,\"Válido\",\"Inválido\")),\"\")","v":""},{"$f":"IF(E647<>0,(IF(lfValidaCEP(E647)=TRUE,\"Válido\",\"Inválido\")),\"\")","v":""}]
[null,null,null,null,null,null,null,null,null,"",{"$f":"IF(C648<>0,(IF(lfValidaCNPJ(C648)=TRUE,\"Válido\",\"Inválido\")),\"\")","v":""},{"$f":"IF(E648<>0,(IF(lfValidaCEP(E648)=TRUE,\"Válido\",\"Inválido\")),\"\")","v":""}]
[null,null,null,null,null,null,null,null,null,"",{"$f":"IF(C649<>0,(IF(lfValidaCNPJ(C649)=TRUE,\"Válido\",\"Inválido\")),\"\")","v":""},{"$f":"IF(E649<>0,(IF(lfValidaCEP(E649)=TRUE,\"Válido\",\"Inválido\")),\"\")","v":""}]
[null,null,null,null,null,null,null,null,null,"",{"$f":"IF(C650<>0,(IF(lfValidaCNPJ(C650)=TRUE,\"Válido\",\"Inválido\")),\"\")","v":""},{"$f":"IF(E650<>0,(IF(lfValidaCEP(E650)=TRUE,\"Válido\",\"Inválido\")),\"\")","v":""}]
[null,null,null,null,null,null,null,null,null,"",{"$f":"IF(C651<>0,(IF(lfValidaCNPJ(C651)=TRUE,\"Válido\",\"Inválido\")),\"\")","v":""},{"$f":"IF(E651<>0,(IF(lfValidaCEP(E651)=TRUE,\"Válido\",\"Inválido\")),\"\")","v":""}]
[null,null,null,null,null,null,null,null,null,{"$f":"IF(COUNTA(B652:G652)<>0,IF(AND(B652<>0,C652<>0,D652<>0,E652<>0,F652<>0,G652<>0),\"Completo\",\"Incompleto\"),\"\")","v":""},{"$f":"IF(C652<>0,(IF(lfValidaCNPJ(C652)=TRUE,\"Válido\",\"Inválido\")),\"\")","v":""},{"$f":"IF(E652<>0,(IF(lfValidaCEP(E652)=TRUE,\"Válido\",\"Inválido\")),\"\")","v":""}]
[null,null,null,null,null,null,null,null,null,"",{"$f":"IF(C653<>0,(IF(lfValidaCNPJ(C653)=TRUE,\"Válido\",\"Inválido\")),\"\")","v":""},{"$f":"IF(E653<>0,(IF(lfValidaCEP(E653)=TRUE,\"Válido\",\"Inválido\")),\"\")","v":""}]
[null,null,null,null,null,null,null,null,null,"",{"$f":"IF(C654<>0,(IF(lfValidaCNPJ(C654)=TRUE,\"Válido\",\"Inválido\")),\"\")","v":""},{"$f":"IF(E654<>0,(IF(lfValidaCEP(E654)=TRUE,\"Válido\",\"Inválido\")),\"\")","v":""}]
[null,null,null,null,null,null,null,null,null,"",{"$f":"IF(C655<>0,(IF(lfValidaCNPJ(C655)=TRUE,\"Válido\",\"Inválido\")),\"\")","v":""},{"$f":"IF(E655<>0,(IF(lfValidaCEP(E655)=TRUE,\"Válido\",\"Inválido\")),\"\")","v":""}]
[null,null,null,null,null,null,null,null,null,"",{"$f":"IF(C656<>0,(IF(lfValidaCNPJ(C656)=TRUE,\"Válido\",\"Inválido\")),\"\")","v":""},{"$f":"IF(E656<>0,(IF(lfValidaCEP(E656)=TRUE,\"Válido\",\"Inválido\")),\"\")","v":""}]
[null,null,null,null,null,null,null,null,null,"",{"$f":"IF(C657<>0,(IF(lfValidaCNPJ(C657)=TRUE,\"Válido\",\"Inválido\")),\"\")","v":""},{"$f":"IF(E657<>0,(IF(lfValidaCEP(E657)=TRUE,\"Válido\",\"Inválido\")),\"\")","v":""}]
[null,null,null,null,null,null,null,null,null,"",{"$f":"IF(C658<>0,(IF(lfValidaCNPJ(C658)=TRUE,\"Válido\",\"Inválido\")),\"\")","v":""},{"$f":"IF(E658<>0,(IF(lfValidaCEP(E658)=TRUE,\"Válido\",\"Inválido\")),\"\")","v":""}]
[null,null,null,null,null,null,null,null,null,"",{"$f":"IF(C659<>0,(IF(lfValidaCNPJ(C659)=TRUE,\"Válido\",\"Inválido\")),\"\")","v":""},{"$f":"IF(E659<>0,(IF(lfValidaCEP(E659)=TRUE,\"Válido\",\"Inválido\")),\"\")","v":""}]
[null,null,null,null,null,null,null,null,null,"",{"$f":"IF(C660<>0,(IF(lfValidaCNPJ(C660)=TRUE,\"Válido\",\"Inválido\")),\"\")","v":""},{"$f":"IF(E660<>0,(IF(lfValidaCEP(E660)=TRUE,\"Válido\",\"Inválido\")),\"\")","v":""}]
[null,null,null,null,null,null,null,null,null,"",{"$f":"IF(C661<>0,(IF(lfValidaCNPJ(C661)=TRUE,\"Válido\",\"Inválido\")),\"\")","v":""},{"$f":"IF(E661<>0,(IF(lfValidaCEP(E661)=TRUE,\"Válido\",\"Inválido\")),\"\")","v":""}]
[null,null,null,null,null,null,null,null,null,"",{"$f":"IF(C662<>0,(IF(lfValidaCNPJ(C662)=TRUE,\"Válido\",\"Inválido\")),\"\")","v":""},{"$f":"IF(E662<>0,(IF(lfValidaCEP(E662)=TRUE,\"Válido\",\"Inválido\")),\"\")","v":""}]
[null,null,null,null,null,null,null,null,null,"",{"$f":"IF(C663<>0,(IF(lfValidaCNPJ(C663)=TRUE,\"Válido\",\"Inválido\")),\"\")","v":""},{"$f":"IF(E663<>0,(IF(lfValidaCEP(E663)=TRUE,\"Válido\",\"Inválido\")),\"\")","v":""}]
[null,null,null,null,null,null,null,null,null,"",{"$f":"IF(C664<>0,(IF(lfValidaCNPJ(C664)=TRUE,\"Válido\",\"Inválido\")),\"\")","v":""},{"$f":"IF(E664<>0,(IF(lfValidaCEP(E664)=TRUE,\"Válido\",\"Inválido\")),\"\")","v":""}]
[null,null,null,null,null,null,null,null,null,"",{"$f":"IF(C665<>0,(IF(lfValidaCNPJ(C665)=TRUE,\"Válido\",\"Inválido\")),\"\")","v":""},{"$f":"IF(E665<>0,(IF(lfValidaCEP(E665)=TRUE,\"Válido\",\"Inválido\")),\"\")","v":""}]
[null,null,null,null,null,null,null,null,null,"",{"$f":"IF(C666<>0,(IF(lfValidaCNPJ(C666)=TRUE,\"Válido\",\"Inválido\")),\"\")","v":""},{"$f":"IF(E666<>0,(IF(lfValidaCEP(E666)=TRUE,\"Válido\",\"Inválido\")),\"\")","v":""}]
[null,null,null,null,null,null,null,null,null,"",{"$f":"IF(C667<>0,(IF(lfValidaCNPJ(C667)=TRUE,\"Válido\",\"Inválido\")),\"\")","v":""},{"$f":"IF(E667<>0,(IF(lfValidaCEP(E667)=TRUE,\"Válido\",\"Inválido\")),\"\")","v":""}]
[null,null,null,null,null,null,null,null,null,"",{"$f":"IF(C668<>0,(IF(lfValidaCNPJ(C668)=TRUE,\"Válido\",\"Inválido\")),\"\")","v":""},{"$f":"IF(E668<>0,(IF(lfValidaCEP(E668)=TRUE,\"Válido\",\"Inválido\")),\"\")","v":""}]
[null,null,null,null,null,null,null,null,null,"",{"$f":"IF(C669<>0,(IF(lfValidaCNPJ(C669)=TRUE,\"Válido\",\"Inválido\")),\"\")","v":""},{"$f":"IF(E669<>0,(IF(lfValidaCEP(E669)=TRUE,\"Válido\",\"Inválido\")),\"\")","v":""}]
[null,null,null,null,null,null,null,null,null,"",{"$f":"IF(C670<>0,(IF(lfValidaCNPJ(C670)=TRUE,\"Válido\",\"Inválido\")),\"\")","v":""},{"$f":"IF(E670<>0,(IF(lfValidaCEP(E670)=TRUE,\"Válido\",\"Inválido\")),\"\")","v":""}]
[null,null,null,null,null,null,null,null,null,"",{"$f":"IF(C671<>0,(IF(lfValidaCNPJ(C671)=TRUE,\"Válido\",\"Inválido\")),\"\")","v":""},{"$f":"IF(E671<>0,(IF(lfValidaCEP(E671)=TRUE,\"Válido\",\"Inválido\")),\"\")","v":""}]
[null,null,null,null,null,null,null,null,null,"",{"$f":"IF(C672<>0,(IF(lfValidaCNPJ(C672)=TRUE,\"Válido\",\"Inválido\")),\"\")","v":""},{"$f":"IF(E672<>0,(IF(lfValidaCEP(E672)=TRUE,\"Válido\",\"Inválido\")),\"\")","v":""}]
[null,null,null,null,null,null,null,null,null,"",{"$f":"IF(C673<>0,(IF(lfValidaCNPJ(C673)=TRUE,\"Válido\",\"Inválido\")),\"\")","v":""},{"$f":"IF(E673<>0,(IF(lfValidaCEP(E673)=TRUE,\"Válido\",\"Inválido\")),\"\")","v":""}]
[null,null,null,null,null,null,null,null,null,"",{"$f":"IF(C674<>0,(IF(lfValidaCNPJ(C674)=TRUE,\"Válido\",\"Inválido\")),\"\")","v":""},{"$f":"IF(E674<>0,(IF(lfValidaCEP(E674)=TRUE,\"Válido\",\"Inválido\")),\"\")","v":""}]
[null,null,null,null,null,null,null,null,null,"",{"$f":"IF(C675<>0,(IF(lfValidaCNPJ(C675)=TRUE,\"Válido\",\"Inválido\")),\"\")","v":""},{"$f":"IF(E675<>0,(IF(lfValidaCEP(E675)=TRUE,\"Válido\",\"Inválido\")),\"\")","v":""}]
[null,null,null,null,null,null,null,null,null,"",{"$f":"IF(C676<>0,(IF(lfValidaCNPJ(C676)=TRUE,\"Válido\",\"Inválido\")),\"\")","v":""},{"$f":"IF(E676<>0,(IF(lfValidaCEP(E676)=TRUE,\"Válido\",\"Inválido\")),\"\")","v":""}]
[null,null,null,null,null,null,null,null,null,"",{"$f":"IF(C677<>0,(IF(lfValidaCNPJ(C677)=TRUE,\"Válido\",\"Inválido\")),\"\")","v":""},{"$f":"IF(E677<>0,(IF(lfValidaCEP(E677)=TRUE,\"Válido\",\"Inválido\")),\"\")","v":""}]
[null,null,null,null,null,null,null,null,null,"",{"$f":"IF(C678<>0,(IF(lfValidaCNPJ(C678)=TRUE,\"Válido\",\"Inválido\")),\"\")","v":""},{"$f":"IF(E678<>0,(IF(lfValidaCEP(E678)=TRUE,\"Válido\",\"Inválido\")),\"\")","v":""}]
[null,null,null,null,null,null,null,null,null,"",{"$f":"IF(C679<>0,(IF(lfValidaCNPJ(C679)=TRUE,\"Válido\",\"Inválido\")),\"\")","v":""},{"$f":"IF(E679<>0,(IF(lfValidaCEP(E679)=TRUE,\"Válido\",\"Inválido\")),\"\")","v":""}]
[null,null,null,null,null,null,null,null,null,"",{"$f":"IF(C680<>0,(IF(lfValidaCNPJ(C680)=TRUE,\"Válido\",\"Inválido\")),\"\")","v":""},{"$f":"IF(E680<>0,(IF(lfValidaCEP(E680)=TRUE,\"Válido\",\"Inválido\")),\"\")","v":""}]
[null,null,null,null,null,null,null,null,null,"",{"$f":"IF(C681<>0,(IF(lfValidaCNPJ(C681)=TRUE,\"Válido\",\"Inválido\")),\"\")","v":""},{"$f":"IF(E681<>0,(IF(lfValidaCEP(E681)=TRUE,\"Válido\",\"Inválido\")),\"\")","v":""}]
[null,null,null,null,null,null,null,null,null,"",{"$f":"IF(C682<>0,(IF(lfValidaCNPJ(C682)=TRUE,\"Válido\",\"Inválido\")),\"\")","v":""},{"$f":"IF(E682<>0,(IF(lfValidaCEP(E682)=TRUE,\"Válido\",\"Inválido\")),\"\")","v":""}]
[null,null,null,null,null,null,null,null,null,"",{"$f":"IF(C683<>0,(IF(lfValidaCNPJ(C683)=TRUE,\"Válido\",\"Inválido\")),\"\")","v":""},{"$f":"IF(E683<>0,(IF(lfValidaCEP(E683)=TRUE,\"Válido\",\"Inválido\")),\"\")","v":""}]
[null,null,null,null,null,null,null,null,null,"",{"$f":"IF(C684<>0,(IF(lfValidaCNPJ(C684)=TRUE,\"Válido\",\"Inválido\")),\"\")","v":""},{"$f":"IF(E684<>0,(IF(lfValidaCEP(E684)=TRUE,\"Válido\",\"Inválido\")),\"\")","v":""}]
[null,null,null,null,null,null,null,null,null,"",{"$f":"IF(C685<>0,(IF(lfValidaCNPJ(C685)=TRUE,\"Válido\",\"Inválido\")),\"\")","v":""},{"$f":"IF(E685<>0,(IF(lfValidaCEP(E685)=TRUE,\"Válido\",\"Inválido\")),\"\")","v":""}]
[null,null,null,null,null,null,null,null,null,"",{"$f":"IF(C686<>0,(IF(lfValidaCNPJ(C686)=TRUE,\"Válido\",\"Inválido\")),\"\")","v":""},{"$f":"IF(E686<>0,(IF(lfValidaCEP(E686)=TRUE,\"Válido\",\"Inválido\")),\"\")","v":""}]
[null,null,null,null,null,null,null,null,null,"",{"$f":"IF(C687<>0,(IF(lfValidaCNPJ(C687)=TRUE,\"Válido\",\"Inválido\")),\"\")","v":""},{"$f":"IF(E687<>0,(IF(lfValidaCEP(E687)=TRUE,\"Válido\",\"Inválido\")),\"\")","v":""}]
[null,null,null,null,null,null,null,null,null,"",{"$f":"IF(C688<>0,(IF(lfValidaCNPJ(C688)=TRUE,\"Válido\",\"Inválido\")),\"\")","v":""},{"$f":"IF(E688<>0,(IF(lfValidaCEP(E688)=TRUE,\"Válido\",\"Inválido\")),\"\")","v":""}]
[null,null,null,null,null,null,null,null,null,"",{"$f":"IF(C689<>0,(IF(lfValidaCNPJ(C689)=TRUE,\"Válido\",\"Inválido\")),\"\")","v":""},{"$f":"IF(E689<>0,(IF(lfValidaCEP(E689)=TRUE,\"Válido\",\"Inválido\")),\"\")","v":""}]
[null,null,null,null,null,null,null,null,null,"",{"$f":"IF(C690<>0,(IF(lfValidaCNPJ(C690)=TRUE,\"Válido\",\"Inválido\")),\"\")","v":""},{"$f":"IF(E690<>0,(IF(lfValidaCEP(E690)=TRUE,\"Válido\",\"Inválido\")),\"\")","v":""}]
[null,null,null,null,null,null,null,null,null,"",{"$f":"IF(C691<>0,(IF(lfValidaCNPJ(C691)=TRUE,\"Válido\",\"Inválido\")),\"\")","v":""},{"$f":"IF(E691<>0,(IF(lfValidaCEP(E691)=TRUE,\"Válido\",\"Inválido\")),\"\")","v":""}]
[null,null,null,null,null,null,null,null,null,"",{"$f":"IF(C692<>0,(IF(lfValidaCNPJ(C692)=TRUE,\"Válido\",\"Inválido\")),\"\")","v":""},{"$f":"IF(E692<>0,(IF(lfValidaCEP(E692)=TRUE,\"Válido\",\"Inválido\")),\"\")","v":""}]
[null,null,null,null,null,null,null,null,null,"",{"$f":"IF(C693<>0,(IF(lfValidaCNPJ(C693)=TRUE,\"Válido\",\"Inválido\")),\"\")","v":""},{"$f":"IF(E693<>0,(IF(lfValidaCEP(E693)=TRUE,\"Válido\",\"Inválido\")),\"\")","v":""}]
[null,null,null,null,null,null,null,null,null,"",{"$f":"IF(C694<>0,(IF(lfValidaCNPJ(C694)=TRUE,\"Válido\",\"Inválido\")),\"\")","v":""},{"$f":"IF(E694<>0,(IF(lfValidaCEP(E694)=TRUE,\"Válido\",\"Inválido\")),\"\")","v":""}]
[null,null,null,null,null,null,null,null,null,"",{"$f":"IF(C695<>0,(IF(lfValidaCNPJ(C695)=TRUE,\"Válido\",\"Inválido\")),\"\")","v":""},{"$f":"IF(E695<>0,(IF(lfValidaCEP(E695)=TRUE,\"Válido\",\"Inválido\")),\"\")","v":""}]
[null,null,null,null,null,null,null,null,null,"",{"$f":"IF(C696<>0,(IF(lfValidaCNPJ(C696)=TRUE,\"Válido\",\"Inválido\")),\"\")","v":""},{"$f":"IF(E696<>0,(IF(lfValidaCEP(E696)=TRUE,\"Válido\",\"Inválido\")),\"\")","v":""}]
[null,null,null,null,null,null,null,null,null,"",{"$f":"IF(C697<>0,(IF(lfValidaCNPJ(C697)=TRUE,\"Válido\",\"Inválido\")),\"\")","v":""},{"$f":"IF(E697<>0,(IF(lfValidaCEP(E697)=TRUE,\"Válido\",\"Inválido\")),\"\")","v":""}]
[null,null,null,null,null,null,null,null,null,"",{"$f":"IF(C698<>0,(IF(lfValidaCNPJ(C698)=TRUE,\"Válido\",\"Inválido\")),\"\")","v":""},{"$f":"IF(E698<>0,(IF(lfValidaCEP(E698)=TRUE,\"Válido\",\"Inválido\")),\"\")","v":""}]
[null,null,null,null,null,null,null,null,null,"",{"$f":"IF(C699<>0,(IF(lfValidaCNPJ(C699)=TRUE,\"Válido\",\"Inválido\")),\"\")","v":""},{"$f":"IF(E699<>0,(IF(lfValidaCEP(E699)=TRUE,\"Válido\",\"Inválido\")),\"\")","v":""}]
[null,null,null,null,null,null,null,null,null,"",{"$f":"IF(C700<>0,(IF(lfValidaCNPJ(C700)=TRUE,\"Válido\",\"Inválido\")),\"\")","v":""},{"$f":"IF(E700<>0,(IF(lfValidaCEP(E700)=TRUE,\"Válido\",\"Inválido\")),\"\")","v":""}]
[null,null,null,null,null,null,null,null,null,"",{"$f":"IF(C701<>0,(IF(lfValidaCNPJ(C701)=TRUE,\"Válido\",\"Inválido\")),\"\")","v":""},{"$f":"IF(E701<>0,(IF(lfValidaCEP(E701)=TRUE,\"Válido\",\"Inválido\")),\"\")","v":""}]
[null,null,null,null,null,null,null,null,null,"",{"$f":"IF(C702<>0,(IF(lfValidaCNPJ(C702)=TRUE,\"Válido\",\"Inválido\")),\"\")","v":""},{"$f":"IF(E702<>0,(IF(lfValidaCEP(E702)=TRUE,\"Válido\",\"Inválido\")),\"\")","v":""}]
[null,null,null,null,null,null,null,null,null,"",{"$f":"IF(C703<>0,(IF(lfValidaCNPJ(C703)=TRUE,\"Válido\",\"Inválido\")),\"\")","v":""},{"$f":"IF(E703<>0,(IF(lfValidaCEP(E703)=TRUE,\"Válido\",\"Inválido\")),\"\")","v":""}]
[null,null,null,null,null,null,null,null,null,"",{"$f":"IF(C704<>0,(IF(lfValidaCNPJ(C704)=TRUE,\"Válido\",\"Inválido\")),\"\")","v":""},{"$f":"IF(E704<>0,(IF(lfValidaCEP(E704)=TRUE,\"Válido\",\"Inválido\")),\"\")","v":""}]
[null,null,null,null,null,null,null,null,null,"",{"$f":"IF(C705<>0,(IF(lfValidaCNPJ(C705)=TRUE,\"Válido\",\"Inválido\")),\"\")","v":""},{"$f":"IF(E705<>0,(IF(lfValidaCEP(E705)=TRUE,\"Válido\",\"Inválido\")),\"\")","v":""}]
[null,null,null,null,null,null,null,null,null,"",{"$f":"IF(C706<>0,(IF(lfValidaCNPJ(C706)=TRUE,\"Válido\",\"Inválido\")),\"\")","v":""},{"$f":"IF(E706<>0,(IF(lfValidaCEP(E706)=TRUE,\"Válido\",\"Inválido\")),\"\")","v":""}]
[null,null,null,null,null,null,null,null,null,"",{"$f":"IF(C707<>0,(IF(lfValidaCNPJ(C707)=TRUE,\"Válido\",\"Inválido\")),\"\")","v":""},{"$f":"IF(E707<>0,(IF(lfValidaCEP(E707)=TRUE,\"Válido\",\"Inválido\")),\"\")","v":""}]
[null,null,null,null,null,null,null,null,null,"",{"$f":"IF(C708<>0,(IF(lfValidaCNPJ(C708)=TRUE,\"Válido\",\"Inválido\")),\"\")","v":""},{"$f":"IF(E708<>0,(IF(lfValidaCEP(E708)=TRUE,\"Válido\",\"Inválido\")),\"\")","v":""}]
[null,null,null,null,null,null,null,null,null,"",{"$f":"IF(C709<>0,(IF(lfValidaCNPJ(C709)=TRUE,\"Válido\",\"Inválido\")),\"\")","v":""},{"$f":"IF(E709<>0,(IF(lfValidaCEP(E709)=TRUE,\"Válido\",\"Inválido\")),\"\")","v":""}]
[null,null,null,null,null,null,null,null,null,"",{"$f":"IF(C710<>0,(IF(lfValidaCNPJ(C710)=TRUE,\"Válido\",\"Inválido\")),\"\")","v":""},{"$f":"IF(E710<>0,(IF(lfValidaCEP(E710)=TRUE,\"Válido\",\"Inválido\")),\"\")","v":""}]
[null,null,null,null,null,null,null,null,null,"",{"$f":"IF(C711<>0,(IF(lfValidaCNPJ(C711)=TRUE,\"Válido\",\"Inválido\")),\"\")","v":""},{"$f":"IF(E711<>0,(IF(lfValidaCEP(E711)=TRUE,\"Válido\",\"Inválido\")),\"\")","v":""}]
[null,null,null,null,null,null,null,null,null,"",{"$f":"IF(C712<>0,(IF(lfValidaCNPJ(C712)=TRUE,\"Válido\",\"Inválido\")),\"\")","v":""},{"$f":"IF(E712<>0,(IF(lfValidaCEP(E712)=TRUE,\"Válido\",\"Inválido\")),\"\")","v":""}]
[null,null,null,null,null,null,null,null,null,"",{"$f":"IF(C713<>0,(IF(lfValidaCNPJ(C713)=TRUE,\"Válido\",\"Inválido\")),\"\")","v":""},{"$f":"IF(E713<>0,(IF(lfValidaCEP(E713)=TRUE,\"Válido\",\"Inválido\")),\"\")","v":""}]
[null,null,null,null,null,null,null,null,null,"",{"$f":"IF(C714<>0,(IF(lfValidaCNPJ(C714)=TRUE,\"Válido\",\"Inválido\")),\"\")","v":""},{"$f":"IF(E714<>0,(IF(lfValidaCEP(E714)=TRUE,\"Válido\",\"Inválido\")),\"\")","v":""}]
[null,null,null,null,null,null,null,null,null,"",{"$f":"IF(C715<>0,(IF(lfValidaCNPJ(C715)=TRUE,\"Válido\",\"Inválido\")),\"\")","v":""},{"$f":"IF(E715<>0,(IF(lfValidaCEP(E715)=TRUE,\"Válido\",\"Inválido\")),\"\")","v":""}]
[null,null,null,null,null,null,null,null,null,{"$f":"IF(COUNTA(B716:G716)<>0,IF(AND(B716<>0,C716<>0,D716<>0,E716<>0,F716<>0,G716<>0),\"Completo\",\"Incompleto\"),\"\")","v":""},{"$f":"IF(C716<>0,(IF(lfValidaCNPJ(C716)=TRUE,\"Válido\",\"Inválido\")),\"\")","v":""},{"$f":"IF(E716<>0,(IF(lfValidaCEP(E716)=TRUE,\"Válido\",\"Inválido\")),\"\")","v":""}]
[null,null,null,null,null,null,null,null,null,"",{"$f":"IF(C717<>0,(IF(lfValidaCNPJ(C717)=TRUE,\"Válido\",\"Inválido\")),\"\")","v":""},{"$f":"IF(E717<>0,(IF(lfValidaCEP(E717)=TRUE,\"Válido\",\"Inválido\")),\"\")","v":""}]
[null,null,null,null,null,null,null,null,null,"",{"$f":"IF(C718<>0,(IF(lfValidaCNPJ(C718)=TRUE,\"Válido\",\"Inválido\")),\"\")","v":""},{"$f":"IF(E718<>0,(IF(lfValidaCEP(E718)=TRUE,\"Válido\",\"Inválido\")),\"\")","v":""}]
[null,null,null,null,null,null,null,null,null,"",{"$f":"IF(C719<>0,(IF(lfValidaCNPJ(C719)=TRUE,\"Válido\",\"Inválido\")),\"\")","v":""},{"$f":"IF(E719<>0,(IF(lfValidaCEP(E719)=TRUE,\"Válido\",\"Inválido\")),\"\")","v":""}]
[null,null,null,null,null,null,null,null,null,"",{"$f":"IF(C720<>0,(IF(lfValidaCNPJ(C720)=TRUE,\"Válido\",\"Inválido\")),\"\")","v":""},{"$f":"IF(E720<>0,(IF(lfValidaCEP(E720)=TRUE,\"Válido\",\"Inválido\")),\"\")","v":""}]
[null,null,null,null,null,null,null,null,null,"",{"$f":"IF(C721<>0,(IF(lfValidaCNPJ(C721)=TRUE,\"Válido\",\"Inválido\")),\"\")","v":""},{"$f":"IF(E721<>0,(IF(lfValidaCEP(E721)=TRUE,\"Válido\",\"Inválido\")),\"\")","v":""}]
[null,null,null,null,null,null,null,null,null,"",{"$f":"IF(C722<>0,(IF(lfValidaCNPJ(C722)=TRUE,\"Válido\",\"Inválido\")),\"\")","v":""},{"$f":"IF(E722<>0,(IF(lfValidaCEP(E722)=TRUE,\"Válido\",\"Inválido\")),\"\")","v":""}]
[null,null,null,null,null,null,null,null,null,"",{"$f":"IF(C723<>0,(IF(lfValidaCNPJ(C723)=TRUE,\"Válido\",\"Inválido\")),\"\")","v":""},{"$f":"IF(E723<>0,(IF(lfValidaCEP(E723)=TRUE,\"Válido\",\"Inválido\")),\"\")","v":""}]
[null,null,null,null,null,null,null,null,null,"",{"$f":"IF(C724<>0,(IF(lfValidaCNPJ(C724)=TRUE,\"Válido\",\"Inválido\")),\"\")","v":""},{"$f":"IF(E724<>0,(IF(lfValidaCEP(E724)=TRUE,\"Válido\",\"Inválido\")),\"\")","v":""}]
[null,null,null,null,null,null,null,null,null,"",{"$f":"IF(C725<>0,(IF(lfValidaCNPJ(C725)=TRUE,\"Válido\",\"Inválido\")),\"\")","v":""},{"$f":"IF(E725<>0,(IF(lfValidaCEP(E725)=TRUE,\"Válido\",\"Inválido\")),\"\")","v":""}]
[null,null,null,null,null,null,null,null,null,"",{"$f":"IF(C726<>0,(IF(lfValidaCNPJ(C726)=TRUE,\"Válido\",\"Inválido\")),\"\")","v":""},{"$f":"IF(E726<>0,(IF(lfValidaCEP(E726)=TRUE,\"Válido\",\"Inválido\")),\"\")","v":""}]
[null,null,null,null,null,null,null,null,null,"",{"$f":"IF(C727<>0,(IF(lfValidaCNPJ(C727)=TRUE,\"Válido\",\"Inválido\")),\"\")","v":""},{"$f":"IF(E727<>0,(IF(lfValidaCEP(E727)=TRUE,\"Válido\",\"Inválido\")),\"\")","v":""}]
[null,null,null,null,null,null,null,null,null,"",{"$f":"IF(C728<>0,(IF(lfValidaCNPJ(C728)=TRUE,\"Válido\",\"Inválido\")),\"\")","v":""},{"$f":"IF(E728<>0,(IF(lfValidaCEP(E728)=TRUE,\"Válido\",\"Inválido\")),\"\")","v":""}]
[null,null,null,null,null,null,null,null,null,"",{"$f":"IF(C729<>0,(IF(lfValidaCNPJ(C729)=TRUE,\"Válido\",\"Inválido\")),\"\")","v":""},{"$f":"IF(E729<>0,(IF(lfValidaCEP(E729)=TRUE,\"Válido\",\"Inválido\")),\"\")","v":""}]
[null,null,null,null,null,null,null,null,null,"",{"$f":"IF(C730<>0,(IF(lfValidaCNPJ(C730)=TRUE,\"Válido\",\"Inválido\")),\"\")","v":""},{"$f":"IF(E730<>0,(IF(lfValidaCEP(E730)=TRUE,\"Válido\",\"Inválido\")),\"\")","v":""}]
[null,null,null,null,null,null,null,null,null,"",{"$f":"IF(C731<>0,(IF(lfValidaCNPJ(C731)=TRUE,\"Válido\",\"Inválido\")),\"\")","v":""},{"$f":"IF(E731<>0,(IF(lfValidaCEP(E731)=TRUE,\"Válido\",\"Inválido\")),\"\")","v":""}]
[null,null,null,null,null,null,null,null,null,"",{"$f":"IF(C732<>0,(IF(lfValidaCNPJ(C732)=TRUE,\"Válido\",\"Inválido\")),\"\")","v":""},{"$f":"IF(E732<>0,(IF(lfValidaCEP(E732)=TRUE,\"Válido\",\"Inválido\")),\"\")","v":""}]
[null,null,null,null,null,null,null,null,null,"",{"$f":"IF(C733<>0,(IF(lfValidaCNPJ(C733)=TRUE,\"Válido\",\"Inválido\")),\"\")","v":""},{"$f":"IF(E733<>0,(IF(lfValidaCEP(E733)=TRUE,\"Válido\",\"Inválido\")),\"\")","v":""}]
[null,null,null,null,null,null,null,null,null,"",{"$f":"IF(C734<>0,(IF(lfValidaCNPJ(C734)=TRUE,\"Válido\",\"Inválido\")),\"\")","v":""},{"$f":"IF(E734<>0,(IF(lfValidaCEP(E734)=TRUE,\"Válido\",\"Inválido\")),\"\")","v":""}]
[null,null,null,null,null,null,null,null,null,"",{"$f":"IF(C735<>0,(IF(lfValidaCNPJ(C735)=TRUE,\"Válido\",\"Inválido\")),\"\")","v":""},{"$f":"IF(E735<>0,(IF(lfValidaCEP(E735)=TRUE,\"Válido\",\"Inválido\")),\"\")","v":""}]
[null,null,null,null,null,null,null,null,null,"",{"$f":"IF(C736<>0,(IF(lfValidaCNPJ(C736)=TRUE,\"Válido\",\"Inválido\")),\"\")","v":""},{"$f":"IF(E736<>0,(IF(lfValidaCEP(E736)=TRUE,\"Válido\",\"Inválido\")),\"\")","v":""}]
[null,null,null,null,null,null,null,null,null,"",{"$f":"IF(C737<>0,(IF(lfValidaCNPJ(C737)=TRUE,\"Válido\",\"Inválido\")),\"\")","v":""},{"$f":"IF(E737<>0,(IF(lfValidaCEP(E737)=TRUE,\"Válido\",\"Inválido\")),\"\")","v":""}]
[null,null,null,null,null,null,null,null,null,"",{"$f":"IF(C738<>0,(IF(lfValidaCNPJ(C738)=TRUE,\"Válido\",\"Inválido\")),\"\")","v":""},{"$f":"IF(E738<>0,(IF(lfValidaCEP(E738)=TRUE,\"Válido\",\"Inválido\")),\"\")","v":""}]
[null,null,null,null,null,null,null,null,null,"",{"$f":"IF(C739<>0,(IF(lfValidaCNPJ(C739)=TRUE,\"Válido\",\"Inválido\")),\"\")","v":""},{"$f":"IF(E739<>0,(IF(lfValidaCEP(E739)=TRUE,\"Válido\",\"Inválido\")),\"\")","v":""}]
[null,null,null,null,null,null,null,null,null,"",{"$f":"IF(C740<>0,(IF(lfValidaCNPJ(C740)=TRUE,\"Válido\",\"Inválido\")),\"\")","v":""},{"$f":"IF(E740<>0,(IF(lfValidaCEP(E740)=TRUE,\"Válido\",\"Inválido\")),\"\")","v":""}]
[null,null,null,null,null,null,null,null,null,"",{"$f":"IF(C741<>0,(IF(lfValidaCNPJ(C741)=TRUE,\"Válido\",\"Inválido\")),\"\")","v":""},{"$f":"IF(E741<>0,(IF(lfValidaCEP(E741)=TRUE,\"Válido\",\"Inválido\")),\"\")","v":""}]
[null,null,null,null,null,null,null,null,null,"",{"$f":"IF(C742<>0,(IF(lfValidaCNPJ(C742)=TRUE,\"Válido\",\"Inválido\")),\"\")","v":""},{"$f":"IF(E742<>0,(IF(lfValidaCEP(E742)=TRUE,\"Válido\",\"Inválido\")),\"\")","v":""}]
[null,null,null,null,null,null,null,null,null,"",{"$f":"IF(C743<>0,(IF(lfValidaCNPJ(C743)=TRUE,\"Válido\",\"Inválido\")),\"\")","v":""},{"$f":"IF(E743<>0,(IF(lfValidaCEP(E743)=TRUE,\"Válido\",\"Inválido\")),\"\")","v":""}]
[null,null,null,null,null,null,null,null,null,"",{"$f":"IF(C744<>0,(IF(lfValidaCNPJ(C744)=TRUE,\"Válido\",\"Inválido\")),\"\")","v":""},{"$f":"IF(E744<>0,(IF(lfValidaCEP(E744)=TRUE,\"Válido\",\"Inválido\")),\"\")","v":""}]
[null,null,null,null,null,null,null,null,null,"",{"$f":"IF(C745<>0,(IF(lfValidaCNPJ(C745)=TRUE,\"Válido\",\"Inválido\")),\"\")","v":""},{"$f":"IF(E745<>0,(IF(lfValidaCEP(E745)=TRUE,\"Válido\",\"Inválido\")),\"\")","v":""}]
[null,null,null,null,null,null,null,null,null,"",{"$f":"IF(C746<>0,(IF(lfValidaCNPJ(C746)=TRUE,\"Válido\",\"Inválido\")),\"\")","v":""},{"$f":"IF(E746<>0,(IF(lfValidaCEP(E746)=TRUE,\"Válido\",\"Inválido\")),\"\")","v":""}]
[null,null,null,null,null,null,null,null,null,"",{"$f":"IF(C747<>0,(IF(lfValidaCNPJ(C747)=TRUE,\"Válido\",\"Inválido\")),\"\")","v":""},{"$f":"IF(E747<>0,(IF(lfValidaCEP(E747)=TRUE,\"Válido\",\"Inválido\")),\"\")","v":""}]
[null,null,null,null,null,null,null,null,null,"",{"$f":"IF(C748<>0,(IF(lfValidaCNPJ(C748)=TRUE,\"Válido\",\"Inválido\")),\"\")","v":""},{"$f":"IF(E748<>0,(IF(lfValidaCEP(E748)=TRUE,\"Válido\",\"Inválido\")),\"\")","v":""}]
[null,null,null,null,null,null,null,null,null,"",{"$f":"IF(C749<>0,(IF(lfValidaCNPJ(C749)=TRUE,\"Válido\",\"Inválido\")),\"\")","v":""},{"$f":"IF(E749<>0,(IF(lfValidaCEP(E749)=TRUE,\"Válido\",\"Inválido\")),\"\")","v":""}]
[null,null,null,null,null,null,null,null,null,"",{"$f":"IF(C750<>0,(IF(lfValidaCNPJ(C750)=TRUE,\"Válido\",\"Inválido\")),\"\")","v":""},{"$f":"IF(E750<>0,(IF(lfValidaCEP(E750)=TRUE,\"Válido\",\"Inválido\")),\"\")","v":""}]
[null,null,null,null,null,null,null,null,null,"",{"$f":"IF(C751<>0,(IF(lfValidaCNPJ(C751)=TRUE,\"Válido\",\"Inválido\")),\"\")","v":""},{"$f":"IF(E751<>0,(IF(lfValidaCEP(E751)=TRUE,\"Válido\",\"Inválido\")),\"\")","v":""}]
[null,null,null,null,null,null,null,null,null,"",{"$f":"IF(C752<>0,(IF(lfValidaCNPJ(C752)=TRUE,\"Válido\",\"Inválido\")),\"\")","v":""},{"$f":"IF(E752<>0,(IF(lfValidaCEP(E752)=TRUE,\"Válido\",\"Inválido\")),\"\")","v":""}]
[null,null,null,null,null,null,null,null,null,"",{"$f":"IF(C753<>0,(IF(lfValidaCNPJ(C753)=TRUE,\"Válido\",\"Inválido\")),\"\")","v":""},{"$f":"IF(E753<>0,(IF(lfValidaCEP(E753)=TRUE,\"Válido\",\"Inválido\")),\"\")","v":""}]
[null,null,null,null,null,null,null,null,null,"",{"$f":"IF(C754<>0,(IF(lfValidaCNPJ(C754)=TRUE,\"Válido\",\"Inválido\")),\"\")","v":""},{"$f":"IF(E754<>0,(IF(lfValidaCEP(E754)=TRUE,\"Válido\",\"Inválido\")),\"\")","v":""}]
[null,null,null,null,null,null,null,null,null,"",{"$f":"IF(C755<>0,(IF(lfValidaCNPJ(C755)=TRUE,\"Válido\",\"Inválido\")),\"\")","v":""},{"$f":"IF(E755<>0,(IF(lfValidaCEP(E755)=TRUE,\"Válido\",\"Inválido\")),\"\")","v":""}]
[null,null,null,null,null,null,null,null,null,"",{"$f":"IF(C756<>0,(IF(lfValidaCNPJ(C756)=TRUE,\"Válido\",\"Inválido\")),\"\")","v":""},{"$f":"IF(E756<>0,(IF(lfValidaCEP(E756)=TRUE,\"Válido\",\"Inválido\")),\"\")","v":""}]
[null,null,null,null,null,null,null,null,null,"",{"$f":"IF(C757<>0,(IF(lfValidaCNPJ(C757)=TRUE,\"Válido\",\"Inválido\")),\"\")","v":""},{"$f":"IF(E757<>0,(IF(lfValidaCEP(E757)=TRUE,\"Válido\",\"Inválido\")),\"\")","v":""}]
[null,null,null,null,null,null,null,null,null,"",{"$f":"IF(C758<>0,(IF(lfValidaCNPJ(C758)=TRUE,\"Válido\",\"Inválido\")),\"\")","v":""},{"$f":"IF(E758<>0,(IF(lfValidaCEP(E758)=TRUE,\"Válido\",\"Inválido\")),\"\")","v":""}]
[null,null,null,null,null,null,null,null,null,"",{"$f":"IF(C759<>0,(IF(lfValidaCNPJ(C759)=TRUE,\"Válido\",\"Inválido\")),\"\")","v":""},{"$f":"IF(E759<>0,(IF(lfValidaCEP(E759)=TRUE,\"Válido\",\"Inválido\")),\"\")","v":""}]
[null,null,null,null,null,null,null,null,null,"",{"$f":"IF(C760<>0,(IF(lfValidaCNPJ(C760)=TRUE,\"Válido\",\"Inválido\")),\"\")","v":""},{"$f":"IF(E760<>0,(IF(lfValidaCEP(E760)=TRUE,\"Válido\",\"Inválido\")),\"\")","v":""}]
[null,null,null,null,null,null,null,null,null,"",{"$f":"IF(C761<>0,(IF(lfValidaCNPJ(C761)=TRUE,\"Válido\",\"Inválido\")),\"\")","v":""},{"$f":"IF(E761<>0,(IF(lfValidaCEP(E761)=TRUE,\"Válido\",\"Inválido\")),\"\")","v":""}]
[null,null,null,null,null,null,null,null,null,"",{"$f":"IF(C762<>0,(IF(lfValidaCNPJ(C762)=TRUE,\"Válido\",\"Inválido\")),\"\")","v":""},{"$f":"IF(E762<>0,(IF(lfValidaCEP(E762)=TRUE,\"Válido\",\"Inválido\")),\"\")","v":""}]
[null,null,null,null,null,null,null,null,null,"",{"$f":"IF(C763<>0,(IF(lfValidaCNPJ(C763)=TRUE,\"Válido\",\"Inválido\")),\"\")","v":""},{"$f":"IF(E763<>0,(IF(lfValidaCEP(E763)=TRUE,\"Válido\",\"Inválido\")),\"\")","v":""}]
[null,null,null,null,null,null,null,null,null,"",{"$f":"IF(C764<>0,(IF(lfValidaCNPJ(C764)=TRUE,\"Válido\",\"Inválido\")),\"\")","v":""},{"$f":"IF(E764<>0,(IF(lfValidaCEP(E764)=TRUE,\"Válido\",\"Inválido\")),\"\")","v":""}]
[null,null,null,null,null,null,null,null,null,"",{"$f":"IF(C765<>0,(IF(lfValidaCNPJ(C765)=TRUE,\"Válido\",\"Inválido\")),\"\")","v":""},{"$f":"IF(E765<>0,(IF(lfValidaCEP(E765)=TRUE,\"Válido\",\"Inválido\")),\"\")","v":""}]
[null,null,null,null,null,null,null,null,null,"",{"$f":"IF(C766<>0,(IF(lfValidaCNPJ(C766)=TRUE,\"Válido\",\"Inválido\")),\"\")","v":""},{"$f":"IF(E766<>0,(IF(lfValidaCEP(E766)=TRUE,\"Válido\",\"Inválido\")),\"\")","v":""}]
[null,null,null,null,null,null,null,null,null,"",{"$f":"IF(C767<>0,(IF(lfValidaCNPJ(C767)=TRUE,\"Válido\",\"Inválido\")),\"\")","v":""},{"$f":"IF(E767<>0,(IF(lfValidaCEP(E767)=TRUE,\"Válido\",\"Inválido\")),\"\")","v":""}]
[null,null,null,null,null,null,null,null,null,"",{"$f":"IF(C768<>0,(IF(lfValidaCNPJ(C768)=TRUE,\"Válido\",\"Inválido\")),\"\")","v":""},{"$f":"IF(E768<>0,(IF(lfValidaCEP(E768)=TRUE,\"Válido\",\"Inválido\")),\"\")","v":""}]
[null,null,null,null,null,null,null,null,null,"",{"$f":"IF(C769<>0,(IF(lfValidaCNPJ(C769)=TRUE,\"Válido\",\"Inválido\")),\"\")","v":""},{"$f":"IF(E769<>0,(IF(lfValidaCEP(E769)=TRUE,\"Válido\",\"Inválido\")),\"\")","v":""}]
[null,null,null,null,null,null,null,null,null,"",{"$f":"IF(C770<>0,(IF(lfValidaCNPJ(C770)=TRUE,\"Válido\",\"Inválido\")),\"\")","v":""},{"$f":"IF(E770<>0,(IF(lfValidaCEP(E770)=TRUE,\"Válido\",\"Inválido\")),\"\")","v":""}]
[null,null,null,null,null,null,null,null,null,"",{"$f":"IF(C771<>0,(IF(lfValidaCNPJ(C771)=TRUE,\"Válido\",\"Inválido\")),\"\")","v":""},{"$f":"IF(E771<>0,(IF(lfValidaCEP(E771)=TRUE,\"Válido\",\"Inválido\")),\"\")","v":""}]
[null,null,null,null,null,null,null,null,null,"",{"$f":"IF(C772<>0,(IF(lfValidaCNPJ(C772)=TRUE,\"Válido\",\"Inválido\")),\"\")","v":""},{"$f":"IF(E772<>0,(IF(lfValidaCEP(E772)=TRUE,\"Válido\",\"Inválido\")),\"\")","v":""}]
[null,null,null,null,null,null,null,null,null,"",{"$f":"IF(C773<>0,(IF(lfValidaCNPJ(C773)=TRUE,\"Válido\",\"Inválido\")),\"\")","v":""},{"$f":"IF(E773<>0,(IF(lfValidaCEP(E773)=TRUE,\"Válido\",\"Inválido\")),\"\")","v":""}]
[null,null,null,null,null,null,null,null,null,"",{"$f":"IF(C774<>0,(IF(lfValidaCNPJ(C774)=TRUE,\"Válido\",\"Inválido\")),\"\")","v":""},{"$f":"IF(E774<>0,(IF(lfValidaCEP(E774)=TRUE,\"Válido\",\"Inválido\")),\"\")","v":""}]
[null,null,null,null,null,null,null,null,null,"",{"$f":"IF(C775<>0,(IF(lfValidaCNPJ(C775)=TRUE,\"Válido\",\"Inválido\")),\"\")","v":""},{"$f":"IF(E775<>0,(IF(lfValidaCEP(E775)=TRUE,\"Válido\",\"Inválido\")),\"\")","v":""}]
[null,null,null,null,null,null,null,null,null,"",{"$f":"IF(C776<>0,(IF(lfValidaCNPJ(C776)=TRUE,\"Válido\",\"Inválido\")),\"\")","v":""},{"$f":"IF(E776<>0,(IF(lfValidaCEP(E776)=TRUE,\"Válido\",\"Inválido\")),\"\")","v":""}]
[null,null,null,null,null,null,null,null,null,"",{"$f":"IF(C777<>0,(IF(lfValidaCNPJ(C777)=TRUE,\"Válido\",\"Inválido\")),\"\")","v":""},{"$f":"IF(E777<>0,(IF(lfValidaCEP(E777)=TRUE,\"Válido\",\"Inválido\")),\"\")","v":""}]
[null,null,null,null,null,null,null,null,null,"",{"$f":"IF(C778<>0,(IF(lfValidaCNPJ(C778)=TRUE,\"Válido\",\"Inválido\")),\"\")","v":""},{"$f":"IF(E778<>0,(IF(lfValidaCEP(E778)=TRUE,\"Válido\",\"Inválido\")),\"\")","v":""}]
[null,null,null,null,null,null,null,null,null,"",{"$f":"IF(C779<>0,(IF(lfValidaCNPJ(C779)=TRUE,\"Válido\",\"Inválido\")),\"\")","v":""},{"$f":"IF(E779<>0,(IF(lfValidaCEP(E779)=TRUE,\"Válido\",\"Inválido\")),\"\")","v":""}]
[null,null,null,null,null,null,null,null,null,{"$f":"IF(COUNTA(B780:G780)<>0,IF(AND(B780<>0,C780<>0,D780<>0,E780<>0,F780<>0,G780<>0),\"Completo\",\"Incompleto\"),\"\")","v":""},{"$f":"IF(C780<>0,(IF(lfValidaCNPJ(C780)=TRUE,\"Válido\",\"Inválido\")),\"\")","v":""},{"$f":"IF(E780<>0,(IF(lfValidaCEP(E780)=TRUE,\"Válido\",\"Inválido\")),\"\")","v":""}]
[null,null,null,null,null,null,null,null,null,"",{"$f":"IF(C781<>0,(IF(lfValidaCNPJ(C781)=TRUE,\"Válido\",\"Inválido\")),\"\")","v":""},{"$f":"IF(E781<>0,(IF(lfValidaCEP(E781)=TRUE,\"Válido\",\"Inválido\")),\"\")","v":""}]
[null,null,null,null,null,null,null,null,null,"",{"$f":"IF(C782<>0,(IF(lfValidaCNPJ(C782)=TRUE,\"Válido\",\"Inválido\")),\"\")","v":""},{"$f":"IF(E782<>0,(IF(lfValidaCEP(E782)=TRUE,\"Válido\",\"Inválido\")),\"\")","v":""}]
[null,null,null,null,null,null,null,null,null,"",{"$f":"IF(C783<>0,(IF(lfValidaCNPJ(C783)=TRUE,\"Válido\",\"Inválido\")),\"\")","v":""},{"$f":"IF(E783<>0,(IF(lfValidaCEP(E783)=TRUE,\"Válido\",\"Inválido\")),\"\")","v":""}]
[null,null,null,null,null,null,null,null,null,"",{"$f":"IF(C784<>0,(IF(lfValidaCNPJ(C784)=TRUE,\"Válido\",\"Inválido\")),\"\")","v":""},{"$f":"IF(E784<>0,(IF(lfValidaCEP(E784)=TRUE,\"Válido\",\"Inválido\")),\"\")","v":""}]
[null,null,null,null,null,null,null,null,null,"",{"$f":"IF(C785<>0,(IF(lfValidaCNPJ(C785)=TRUE,\"Válido\",\"Inválido\")),\"\")","v":""},{"$f":"IF(E785<>0,(IF(lfValidaCEP(E785)=TRUE,\"Válido\",\"Inválido\")),\"\")","v":""}]
[null,null,null,null,null,null,null,null,null,"",{"$f":"IF(C786<>0,(IF(lfValidaCNPJ(C786)=TRUE,\"Válido\",\"Inválido\")),\"\")","v":""},{"$f":"IF(E786<>0,(IF(lfValidaCEP(E786)=TRUE,\"Válido\",\"Inválido\")),\"\")","v":""}]
[null,null,null,null,null,null,null,null,null,"",{"$f":"IF(C787<>0,(IF(lfValidaCNPJ(C787)=TRUE,\"Válido\",\"Inválido\")),\"\")","v":""},{"$f":"IF(E787<>0,(IF(lfValidaCEP(E787)=TRUE,\"Válido\",\"Inválido\")),\"\")","v":""}]
[null,null,null,null,null,null,null,null,null,"",{"$f":"IF(C788<>0,(IF(lfValidaCNPJ(C788)=TRUE,\"Válido\",\"Inválido\")),\"\")","v":""},{"$f":"IF(E788<>0,(IF(lfValidaCEP(E788)=TRUE,\"Válido\",\"Inválido\")),\"\")","v":""}]
[null,null,null,null,null,null,null,null,null,"",{"$f":"IF(C789<>0,(IF(lfValidaCNPJ(C789)=TRUE,\"Válido\",\"Inválido\")),\"\")","v":""},{"$f":"IF(E789<>0,(IF(lfValidaCEP(E789)=TRUE,\"Válido\",\"Inválido\")),\"\")","v":""}]
[null,null,null,null,null,null,null,null,null,"",{"$f":"IF(C790<>0,(IF(lfValidaCNPJ(C790)=TRUE,\"Válido\",\"Inválido\")),\"\")","v":""},{"$f":"IF(E790<>0,(IF(lfValidaCEP(E790)=TRUE,\"Válido\",\"Inválido\")),\"\")","v":""}]
[null,null,null,null,null,null,null,null,null,"",{"$f":"IF(C791<>0,(IF(lfValidaCNPJ(C791)=TRUE,\"Válido\",\"Inválido\")),\"\")","v":""},{"$f":"IF(E791<>0,(IF(lfValidaCEP(E791)=TRUE,\"Válido\",\"Inválido\")),\"\")","v":""}]
[null,null,null,null,null,null,null,null,null,"",{"$f":"IF(C792<>0,(IF(lfValidaCNPJ(C792)=TRUE,\"Válido\",\"Inválido\")),\"\")","v":""},{"$f":"IF(E792<>0,(IF(lfValidaCEP(E792)=TRUE,\"Válido\",\"Inválido\")),\"\")","v":""}]
[null,null,null,null,null,null,null,null,null,"",{"$f":"IF(C793<>0,(IF(lfValidaCNPJ(C793)=TRUE,\"Válido\",\"Inválido\")),\"\")","v":""},{"$f":"IF(E793<>0,(IF(lfValidaCEP(E793)=TRUE,\"Válido\",\"Inválido\")),\"\")","v":""}]
[null,null,null,null,null,null,null,null,null,"",{"$f":"IF(C794<>0,(IF(lfValidaCNPJ(C794)=TRUE,\"Válido\",\"Inválido\")),\"\")","v":""},{"$f":"IF(E794<>0,(IF(lfValidaCEP(E794)=TRUE,\"Válido\",\"Inválido\")),\"\")","v":""}]
[null,null,null,null,null,null,null,null,null,"",{"$f":"IF(C795<>0,(IF(lfValidaCNPJ(C795)=TRUE,\"Válido\",\"Inválido\")),\"\")","v":""},{"$f":"IF(E795<>0,(IF(lfValidaCEP(E795)=TRUE,\"Válido\",\"Inválido\")),\"\")","v":""}]
[null,null,null,null,null,null,null,null,null,"",{"$f":"IF(C796<>0,(IF(lfValidaCNPJ(C796)=TRUE,\"Válido\",\"Inválido\")),\"\")","v":""},{"$f":"IF(E796<>0,(IF(lfValidaCEP(E796)=TRUE,\"Válido\",\"Inválido\")),\"\")","v":""}]
[null,null,null,null,null,null,null,null,null,"",{"$f":"IF(C797<>0,(IF(lfValidaCNPJ(C797)=TRUE,\"Válido\",\"Inválido\")),\"\")","v":""},{"$f":"IF(E797<>0,(IF(lfValidaCEP(E797)=TRUE,\"Válido\",\"Inválido\")),\"\")","v":""}]
[null,null,null,null,null,null,null,null,null,"",{"$f":"IF(C798<>0,(IF(lfValidaCNPJ(C798)=TRUE,\"Válido\",\"Inválido\")),\"\")","v":""},{"$f":"IF(E798<>0,(IF(lfValidaCEP(E798)=TRUE,\"Válido\",\"Inválido\")),\"\")","v":""}]
[null,null,null,null,null,null,null,null,null,"",{"$f":"IF(C799<>0,(IF(lfValidaCNPJ(C799)=TRUE,\"Válido\",\"Inválido\")),\"\")","v":""},{"$f":"IF(E799<>0,(IF(lfValidaCEP(E799)=TRUE,\"Válido\",\"Inválido\")),\"\")","v":""}]
[null,null,null,null,null,null,null,null,null,"",{"$f":"IF(C800<>0,(IF(lfValidaCNPJ(C800)=TRUE,\"Válido\",\"Inválido\")),\"\")","v":""},{"$f":"IF(E800<>0,(IF(lfValidaCEP(E800)=TRUE,\"Válido\",\"Inválido\")),\"\")","v":""}]
[null,null,null,null,null,null,null,null,null,"",{"$f":"IF(C801<>0,(IF(lfValidaCNPJ(C801)=TRUE,\"Válido\",\"Inválido\")),\"\")","v":""},{"$f":"IF(E801<>0,(IF(lfValidaCEP(E801)=TRUE,\"Válido\",\"Inválido\")),\"\")","v":""}]
[null,null,null,null,null,null,null,null,null,"",{"$f":"IF(C802<>0,(IF(lfValidaCNPJ(C802)=TRUE,\"Válido\",\"Inválido\")),\"\")","v":""},{"$f":"IF(E802<>0,(IF(lfValidaCEP(E802)=TRUE,\"Válido\",\"Inválido\")),\"\")","v":""}]
[null,null,null,null,null,null,null,null,null,"",{"$f":"IF(C803<>0,(IF(lfValidaCNPJ(C803)=TRUE,\"Válido\",\"Inválido\")),\"\")","v":""},{"$f":"IF(E803<>0,(IF(lfValidaCEP(E803)=TRUE,\"Válido\",\"Inválido\")),\"\")","v":""}]
[null,null,null,null,null,null,null,null,null,"",{"$f":"IF(C804<>0,(IF(lfValidaCNPJ(C804)=TRUE,\"Válido\",\"Inválido\")),\"\")","v":""},{"$f":"IF(E804<>0,(IF(lfValidaCEP(E804)=TRUE,\"Válido\",\"Inválido\")),\"\")","v":""}]
[null,null,null,null,null,null,null,null,null,"",{"$f":"IF(C805<>0,(IF(lfValidaCNPJ(C805)=TRUE,\"Válido\",\"Inválido\")),\"\")","v":""},{"$f":"IF(E805<>0,(IF(lfValidaCEP(E805)=TRUE,\"Válido\",\"Inválido\")),\"\")","v":""}]
[null,null,null,null,null,null,null,null,null,"",{"$f":"IF(C806<>0,(IF(lfValidaCNPJ(C806)=TRUE,\"Válido\",\"Inválido\")),\"\")","v":""},{"$f":"IF(E806<>0,(IF(lfValidaCEP(E806)=TRUE,\"Válido\",\"Inválido\")),\"\")","v":""}]
[null,null,null,null,null,null,null,null,null,"",{"$f":"IF(C807<>0,(IF(lfValidaCNPJ(C807)=TRUE,\"Válido\",\"Inválido\")),\"\")","v":""},{"$f":"IF(E807<>0,(IF(lfValidaCEP(E807)=TRUE,\"Válido\",\"Inválido\")),\"\")","v":""}]
[null,null,null,null,null,null,null,null,null,"",{"$f":"IF(C808<>0,(IF(lfValidaCNPJ(C808)=TRUE,\"Válido\",\"Inválido\")),\"\")","v":""},{"$f":"IF(E808<>0,(IF(lfValidaCEP(E808)=TRUE,\"Válido\",\"Inválido\")),\"\")","v":""}]
[null,null,null,null,null,null,null,null,null,"",{"$f":"IF(C809<>0,(IF(lfValidaCNPJ(C809)=TRUE,\"Válido\",\"Inválido\")),\"\")","v":""},{"$f":"IF(E809<>0,(IF(lfValidaCEP(E809)=TRUE,\"Válido\",\"Inválido\")),\"\")","v":""}]
[null,null,null,null,null,null,null,null,null,"",{"$f":"IF(C810<>0,(IF(lfValidaCNPJ(C810)=TRUE,\"Válido\",\"Inválido\")),\"\")","v":""},{"$f":"IF(E810<>0,(IF(lfValidaCEP(E810)=TRUE,\"Válido\",\"Inválido\")),\"\")","v":""}]
[null,null,null,null,null,null,null,null,null,"",{"$f":"IF(C811<>0,(IF(lfValidaCNPJ(C811)=TRUE,\"Válido\",\"Inválido\")),\"\")","v":""},{"$f":"IF(E811<>0,(IF(lfValidaCEP(E811)=TRUE,\"Válido\",\"Inválido\")),\"\")","v":""}]
[null,null,null,null,null,null,null,null,null,"",{"$f":"IF(C812<>0,(IF(lfValidaCNPJ(C812)=TRUE,\"Válido\",\"Inválido\")),\"\")","v":""},{"$f":"IF(E812<>0,(IF(lfValidaCEP(E812)=TRUE,\"Válido\",\"Inválido\")),\"\")","v":""}]
[null,null,null,null,null,null,null,null,null,"",{"$f":"IF(C813<>0,(IF(lfValidaCNPJ(C813)=TRUE,\"Válido\",\"Inválido\")),\"\")","v":""},{"$f":"IF(E813<>0,(IF(lfValidaCEP(E813)=TRUE,\"Válido\",\"Inválido\")),\"\")","v":""}]
[null,null,null,null,null,null,null,null,null,"",{"$f":"IF(C814<>0,(IF(lfValidaCNPJ(C814)=TRUE,\"Válido\",\"Inválido\")),\"\")","v":""},{"$f":"IF(E814<>0,(IF(lfValidaCEP(E814)=TRUE,\"Válido\",\"Inválido\")),\"\")","v":""}]
[null,null,null,null,null,null,null,null,null,"",{"$f":"IF(C815<>0,(IF(lfValidaCNPJ(C815)=TRUE,\"Válido\",\"Inválido\")),\"\")","v":""},{"$f":"IF(E815<>0,(IF(lfValidaCEP(E815)=TRUE,\"Válido\",\"Inválido\")),\"\")","v":""}]
[null,null,null,null,null,null,null,null,null,"",{"$f":"IF(C816<>0,(IF(lfValidaCNPJ(C816)=TRUE,\"Válido\",\"Inválido\")),\"\")","v":""},{"$f":"IF(E816<>0,(IF(lfValidaCEP(E816)=TRUE,\"Válido\",\"Inválido\")),\"\")","v":""}]
[null,null,null,null,null,null,null,null,null,"",{"$f":"IF(C817<>0,(IF(lfValidaCNPJ(C817)=TRUE,\"Válido\",\"Inválido\")),\"\")","v":""},{"$f":"IF(E817<>0,(IF(lfValidaCEP(E817)=TRUE,\"Válido\",\"Inválido\")),\"\")","v":""}]
[null,null,null,null,null,null,null,null,null,"",{"$f":"IF(C818<>0,(IF(lfValidaCNPJ(C818)=TRUE,\"Válido\",\"Inválido\")),\"\")","v":""},{"$f":"IF(E818<>0,(IF(lfValidaCEP(E818)=TRUE,\"Válido\",\"Inválido\")),\"\")","v":""}]
[null,null,null,null,null,null,null,null,null,"",{"$f":"IF(C819<>0,(IF(lfValidaCNPJ(C819)=TRUE,\"Válido\",\"Inválido\")),\"\")","v":""},{"$f":"IF(E819<>0,(IF(lfValidaCEP(E819)=TRUE,\"Válido\",\"Inválido\")),\"\")","v":""}]
[null,null,null,null,null,null,null,null,null,"",{"$f":"IF(C820<>0,(IF(lfValidaCNPJ(C820)=TRUE,\"Válido\",\"Inválido\")),\"\")","v":""},{"$f":"IF(E820<>0,(IF(lfValidaCEP(E820)=TRUE,\"Válido\",\"Inválido\")),\"\")","v":""}]
[null,null,null,null,null,null,null,null,null,"",{"$f":"IF(C821<>0,(IF(lfValidaCNPJ(C821)=TRUE,\"Válido\",\"Inválido\")),\"\")","v":""},{"$f":"IF(E821<>0,(IF(lfValidaCEP(E821)=TRUE,\"Válido\",\"Inválido\")),\"\")","v":""}]
[null,null,null,null,null,null,null,null,null,"",{"$f":"IF(C822<>0,(IF(lfValidaCNPJ(C822)=TRUE,\"Válido\",\"Inválido\")),\"\")","v":""},{"$f":"IF(E822<>0,(IF(lfValidaCEP(E822)=TRUE,\"Válido\",\"Inválido\")),\"\")","v":""}]
[null,null,null,null,null,null,null,null,null,"",{"$f":"IF(C823<>0,(IF(lfValidaCNPJ(C823)=TRUE,\"Válido\",\"Inválido\")),\"\")","v":""},{"$f":"IF(E823<>0,(IF(lfValidaCEP(E823)=TRUE,\"Válido\",\"Inválido\")),\"\")","v":""}]
[null,null,null,null,null,null,null,null,null,"",{"$f":"IF(C824<>0,(IF(lfValidaCNPJ(C824)=TRUE,\"Válido\",\"Inválido\")),\"\")","v":""},{"$f":"IF(E824<>0,(IF(lfValidaCEP(E824)=TRUE,\"Válido\",\"Inválido\")),\"\")","v":""}]
[null,null,null,null,null,null,null,null,null,"",{"$f":"IF(C825<>0,(IF(lfValidaCNPJ(C825)=TRUE,\"Válido\",\"Inválido\")),\"\")","v":""},{"$f":"IF(E825<>0,(IF(lfValidaCEP(E825)=TRUE,\"Válido\",\"Inválido\")),\"\")","v":""}]
[null,null,null,null,null,null,null,null,null,"",{"$f":"IF(C826<>0,(IF(lfValidaCNPJ(C826)=TRUE,\"Válido\",\"Inválido\")),\"\")","v":""},{"$f":"IF(E826<>0,(IF(lfValidaCEP(E826)=TRUE,\"Válido\",\"Inválido\")),\"\")","v":""}]
[null,null,null,null,null,null,null,null,null,"",{"$f":"IF(C827<>0,(IF(lfValidaCNPJ(C827)=TRUE,\"Válido\",\"Inválido\")),\"\")","v":""},{"$f":"IF(E827<>0,(IF(lfValidaCEP(E827)=TRUE,\"Válido\",\"Inválido\")),\"\")","v":""}]
[null,null,null,null,null,null,null,null,null,"",{"$f":"IF(C828<>0,(IF(lfValidaCNPJ(C828)=TRUE,\"Válido\",\"Inválido\")),\"\")","v":""},{"$f":"IF(E828<>0,(IF(lfValidaCEP(E828)=TRUE,\"Válido\",\"Inválido\")),\"\")","v":""}]
[null,null,null,null,null,null,null,null,null,"",{"$f":"IF(C829<>0,(IF(lfValidaCNPJ(C829)=TRUE,\"Válido\",\"Inválido\")),\"\")","v":""},{"$f":"IF(E829<>0,(IF(lfValidaCEP(E829)=TRUE,\"Válido\",\"Inválido\")),\"\")","v":""}]
[null,null,null,null,null,null,null,null,null,"",{"$f":"IF(C830<>0,(IF(lfValidaCNPJ(C830)=TRUE,\"Válido\",\"Inválido\")),\"\")","v":""},{"$f":"IF(E830<>0,(IF(lfValidaCEP(E830)=TRUE,\"Válido\",\"Inválido\")),\"\")","v":""}]
[null,null,null,null,null,null,null,null,null,"",{"$f":"IF(C831<>0,(IF(lfValidaCNPJ(C831)=TRUE,\"Válido\",\"Inválido\")),\"\")","v":""},{"$f":"IF(E831<>0,(IF(lfValidaCEP(E831)=TRUE,\"Válido\",\"Inválido\")),\"\")","v":""}]
[null,null,null,null,null,null,null,null,null,"",{"$f":"IF(C832<>0,(IF(lfValidaCNPJ(C832)=TRUE,\"Válido\",\"Inválido\")),\"\")","v":""},{"$f":"IF(E832<>0,(IF(lfValidaCEP(E832)=TRUE,\"Válido\",\"Inválido\")),\"\")","v":""}]
[null,null,null,null,null,null,null,null,null,"",{"$f":"IF(C833<>0,(IF(lfValidaCNPJ(C833)=TRUE,\"Válido\",\"Inválido\")),\"\")","v":""},{"$f":"IF(E833<>0,(IF(lfValidaCEP(E833)=TRUE,\"Válido\",\"Inválido\")),\"\")","v":""}]
[null,null,null,null,null,null,null,null,null,"",{"$f":"IF(C834<>0,(IF(lfValidaCNPJ(C834)=TRUE,\"Válido\",\"Inválido\")),\"\")","v":""},{"$f":"IF(E834<>0,(IF(lfValidaCEP(E834)=TRUE,\"Válido\",\"Inválido\")),\"\")","v":""}]
[null,null,null,null,null,null,null,null,null,"",{"$f":"IF(C835<>0,(IF(lfValidaCNPJ(C835)=TRUE,\"Válido\",\"Inválido\")),\"\")","v":""},{"$f":"IF(E835<>0,(IF(lfValidaCEP(E835)=TRUE,\"Válido\",\"Inválido\")),\"\")","v":""}]
[null,null,null,null,null,null,null,null,null,"",{"$f":"IF(C836<>0,(IF(lfValidaCNPJ(C836)=TRUE,\"Válido\",\"Inválido\")),\"\")","v":""},{"$f":"IF(E836<>0,(IF(lfValidaCEP(E836)=TRUE,\"Válido\",\"Inválido\")),\"\")","v":""}]
[null,null,null,null,null,null,null,null,null,"",{"$f":"IF(C837<>0,(IF(lfValidaCNPJ(C837)=TRUE,\"Válido\",\"Inválido\")),\"\")","v":""},{"$f":"IF(E837<>0,(IF(lfValidaCEP(E837)=TRUE,\"Válido\",\"Inválido\")),\"\")","v":""}]
[null,null,null,null,null,null,null,null,null,"",{"$f":"IF(C838<>0,(IF(lfValidaCNPJ(C838)=TRUE,\"Válido\",\"Inválido\")),\"\")","v":""},{"$f":"IF(E838<>0,(IF(lfValidaCEP(E838)=TRUE,\"Válido\",\"Inválido\")),\"\")","v":""}]
[null,null,null,null,null,null,null,null,null,"",{"$f":"IF(C839<>0,(IF(lfValidaCNPJ(C839)=TRUE,\"Válido\",\"Inválido\")),\"\")","v":""},{"$f":"IF(E839<>0,(IF(lfValidaCEP(E839)=TRUE,\"Válido\",\"Inválido\")),\"\")","v":""}]
[null,null,null,null,null,null,null,null,null,"",{"$f":"IF(C840<>0,(IF(lfValidaCNPJ(C840)=TRUE,\"Válido\",\"Inválido\")),\"\")","v":""},{"$f":"IF(E840<>0,(IF(lfValidaCEP(E840)=TRUE,\"Válido\",\"Inválido\")),\"\")","v":""}]
[null,null,null,null,null,null,null,null,null,"",{"$f":"IF(C841<>0,(IF(lfValidaCNPJ(C841)=TRUE,\"Válido\",\"Inválido\")),\"\")","v":""},{"$f":"IF(E841<>0,(IF(lfValidaCEP(E841)=TRUE,\"Válido\",\"Inválido\")),\"\")","v":""}]
[null,null,null,null,null,null,null,null,null,"",{"$f":"IF(C842<>0,(IF(lfValidaCNPJ(C842)=TRUE,\"Válido\",\"Inválido\")),\"\")","v":""},{"$f":"IF(E842<>0,(IF(lfValidaCEP(E842)=TRUE,\"Válido\",\"Inválido\")),\"\")","v":""}]
[null,null,null,null,null,null,null,null,null,"",{"$f":"IF(C843<>0,(IF(lfValidaCNPJ(C843)=TRUE,\"Válido\",\"Inválido\")),\"\")","v":""},{"$f":"IF(E843<>0,(IF(lfValidaCEP(E843)=TRUE,\"Válido\",\"Inválido\")),\"\")","v":""}]
[null,null,null,null,null,null,null,null,null,{"$f":"IF(COUNTA(B844:G844)<>0,IF(AND(B844<>0,C844<>0,D844<>0,E844<>0,F844<>0,G844<>0),\"Completo\",\"Incompleto\"),\"\")","v":""},{"$f":"IF(C844<>0,(IF(lfValidaCNPJ(C844)=TRUE,\"Válido\",\"Inválido\")),\"\")","v":""},{"$f":"IF(E844<>0,(IF(lfValidaCEP(E844)=TRUE,\"Válido\",\"Inválido\")),\"\")","v":""}]
[null,null,null,null,null,null,null,null,null,"",{"$f":"IF(C845<>0,(IF(lfValidaCNPJ(C845)=TRUE,\"Válido\",\"Inválido\")),\"\")","v":""},{"$f":"IF(E845<>0,(IF(lfValidaCEP(E845)=TRUE,\"Válido\",\"Inválido\")),\"\")","v":""}]
[null,null,null,null,null,null,null,null,null,"",{"$f":"IF(C846<>0,(IF(lfValidaCNPJ(C846)=TRUE,\"Válido\",\"Inválido\")),\"\")","v":""},{"$f":"IF(E846<>0,(IF(lfValidaCEP(E846)=TRUE,\"Válido\",\"Inválido\")),\"\")","v":""}]
[null,null,null,null,null,null,null,null,null,"",{"$f":"IF(C847<>0,(IF(lfValidaCNPJ(C847)=TRUE,\"Válido\",\"Inválido\")),\"\")","v":""},{"$f":"IF(E847<>0,(IF(lfValidaCEP(E847)=TRUE,\"Válido\",\"Inválido\")),\"\")","v":""}]
[null,null,null,null,null,null,null,null,null,"",{"$f":"IF(C848<>0,(IF(lfValidaCNPJ(C848)=TRUE,\"Válido\",\"Inválido\")),\"\")","v":""},{"$f":"IF(E848<>0,(IF(lfValidaCEP(E848)=TRUE,\"Válido\",\"Inválido\")),\"\")","v":""}]
[null,null,null,null,null,null,null,null,null,"",{"$f":"IF(C849<>0,(IF(lfValidaCNPJ(C849)=TRUE,\"Válido\",\"Inválido\")),\"\")","v":""},{"$f":"IF(E849<>0,(IF(lfValidaCEP(E849)=TRUE,\"Válido\",\"Inválido\")),\"\")","v":""}]
[null,null,null,null,null,null,null,null,null,"",{"$f":"IF(C850<>0,(IF(lfValidaCNPJ(C850)=TRUE,\"Válido\",\"Inválido\")),\"\")","v":""},{"$f":"IF(E850<>0,(IF(lfValidaCEP(E850)=TRUE,\"Válido\",\"Inválido\")),\"\")","v":""}]
[null,null,null,null,null,null,null,null,null,"",{"$f":"IF(C851<>0,(IF(lfValidaCNPJ(C851)=TRUE,\"Válido\",\"Inválido\")),\"\")","v":""},{"$f":"IF(E851<>0,(IF(lfValidaCEP(E851)=TRUE,\"Válido\",\"Inválido\")),\"\")","v":""}]
[null,null,null,null,null,null,null,null,null,"",{"$f":"IF(C852<>0,(IF(lfValidaCNPJ(C852)=TRUE,\"Válido\",\"Inválido\")),\"\")","v":""},{"$f":"IF(E852<>0,(IF(lfValidaCEP(E852)=TRUE,\"Válido\",\"Inválido\")),\"\")","v":""}]
[null,null,null,null,null,null,null,null,null,"",{"$f":"IF(C853<>0,(IF(lfValidaCNPJ(C853)=TRUE,\"Válido\",\"Inválido\")),\"\")","v":""},{"$f":"IF(E853<>0,(IF(lfValidaCEP(E853)=TRUE,\"Válido\",\"Inválido\")),\"\")","v":""}]
[null,null,null,null,null,null,null,null,null,"",{"$f":"IF(C854<>0,(IF(lfValidaCNPJ(C854)=TRUE,\"Válido\",\"Inválido\")),\"\")","v":""},{"$f":"IF(E854<>0,(IF(lfValidaCEP(E854)=TRUE,\"Válido\",\"Inválido\")),\"\")","v":""}]
[null,null,null,null,null,null,null,null,null,"",{"$f":"IF(C855<>0,(IF(lfValidaCNPJ(C855)=TRUE,\"Válido\",\"Inválido\")),\"\")","v":""},{"$f":"IF(E855<>0,(IF(lfValidaCEP(E855)=TRUE,\"Válido\",\"Inválido\")),\"\")","v":""}]
[null,null,null,null,null,null,null,null,null,"",{"$f":"IF(C856<>0,(IF(lfValidaCNPJ(C856)=TRUE,\"Válido\",\"Inválido\")),\"\")","v":""},{"$f":"IF(E856<>0,(IF(lfValidaCEP(E856)=TRUE,\"Válido\",\"Inválido\")),\"\")","v":""}]
[null,null,null,null,null,null,null,null,null,"",{"$f":"IF(C857<>0,(IF(lfValidaCNPJ(C857)=TRUE,\"Válido\",\"Inválido\")),\"\")","v":""},{"$f":"IF(E857<>0,(IF(lfValidaCEP(E857)=TRUE,\"Válido\",\"Inválido\")),\"\")","v":""}]
[null,null,null,null,null,null,null,null,null,"",{"$f":"IF(C858<>0,(IF(lfValidaCNPJ(C858)=TRUE,\"Válido\",\"Inválido\")),\"\")","v":""},{"$f":"IF(E858<>0,(IF(lfValidaCEP(E858)=TRUE,\"Válido\",\"Inválido\")),\"\")","v":""}]
[null,null,null,null,null,null,null,null,null,"",{"$f":"IF(C859<>0,(IF(lfValidaCNPJ(C859)=TRUE,\"Válido\",\"Inválido\")),\"\")","v":""},{"$f":"IF(E859<>0,(IF(lfValidaCEP(E859)=TRUE,\"Válido\",\"Inválido\")),\"\")","v":""}]
[null,null,null,null,null,null,null,null,null,"",{"$f":"IF(C860<>0,(IF(lfValidaCNPJ(C860)=TRUE,\"Válido\",\"Inválido\")),\"\")","v":""},{"$f":"IF(E860<>0,(IF(lfValidaCEP(E860)=TRUE,\"Válido\",\"Inválido\")),\"\")","v":""}]
[null,null,null,null,null,null,null,null,null,"",{"$f":"IF(C861<>0,(IF(lfValidaCNPJ(C861)=TRUE,\"Válido\",\"Inválido\")),\"\")","v":""},{"$f":"IF(E861<>0,(IF(lfValidaCEP(E861)=TRUE,\"Válido\",\"Inválido\")),\"\")","v":""}]
[null,null,null,null,null,null,null,null,null,"",{"$f":"IF(C862<>0,(IF(lfValidaCNPJ(C862)=TRUE,\"Válido\",\"Inválido\")),\"\")","v":""},{"$f":"IF(E862<>0,(IF(lfValidaCEP(E862)=TRUE,\"Válido\",\"Inválido\")),\"\")","v":""}]
[null,null,null,null,null,null,null,null,null,"",{"$f":"IF(C863<>0,(IF(lfValidaCNPJ(C863)=TRUE,\"Válido\",\"Inválido\")),\"\")","v":""},{"$f":"IF(E863<>0,(IF(lfValidaCEP(E863)=TRUE,\"Válido\",\"Inválido\")),\"\")","v":""}]
[null,null,null,null,null,null,null,null,null,"",{"$f":"IF(C864<>0,(IF(lfValidaCNPJ(C864)=TRUE,\"Válido\",\"Inválido\")),\"\")","v":""},{"$f":"IF(E864<>0,(IF(lfValidaCEP(E864)=TRUE,\"Válido\",\"Inválido\")),\"\")","v":""}]
[null,null,null,null,null,null,null,null,null,"",{"$f":"IF(C865<>0,(IF(lfValidaCNPJ(C865)=TRUE,\"Válido\",\"Inválido\")),\"\")","v":""},{"$f":"IF(E865<>0,(IF(lfValidaCEP(E865)=TRUE,\"Válido\",\"Inválido\")),\"\")","v":""}]
[null,null,null,null,null,null,null,null,null,"",{"$f":"IF(C866<>0,(IF(lfValidaCNPJ(C866)=TRUE,\"Válido\",\"Inválido\")),\"\")","v":""},{"$f":"IF(E866<>0,(IF(lfValidaCEP(E866)=TRUE,\"Válido\",\"Inválido\")),\"\")","v":""}]
[null,null,null,null,null,null,null,null,null,"",{"$f":"IF(C867<>0,(IF(lfValidaCNPJ(C867)=TRUE,\"Válido\",\"Inválido\")),\"\")","v":""},{"$f":"IF(E867<>0,(IF(lfValidaCEP(E867)=TRUE,\"Válido\",\"Inválido\")),\"\")","v":""}]
[null,null,null,null,null,null,null,null,null,"",{"$f":"IF(C868<>0,(IF(lfValidaCNPJ(C868)=TRUE,\"Válido\",\"Inválido\")),\"\")","v":""},{"$f":"IF(E868<>0,(IF(lfValidaCEP(E868)=TRUE,\"Válido\",\"Inválido\")),\"\")","v":""}]
[null,null,null,null,null,null,null,null,null,"",{"$f":"IF(C869<>0,(IF(lfValidaCNPJ(C869)=TRUE,\"Válido\",\"Inválido\")),\"\")","v":""},{"$f":"IF(E869<>0,(IF(lfValidaCEP(E869)=TRUE,\"Válido\",\"Inválido\")),\"\")","v":""}]
[null,null,null,null,null,null,null,null,null,"",{"$f":"IF(C870<>0,(IF(lfValidaCNPJ(C870)=TRUE,\"Válido\",\"Inválido\")),\"\")","v":""},{"$f":"IF(E870<>0,(IF(lfValidaCEP(E870)=TRUE,\"Válido\",\"Inválido\")),\"\")","v":""}]
[null,null,null,null,null,null,null,null,null,"",{"$f":"IF(C871<>0,(IF(lfValidaCNPJ(C871)=TRUE,\"Válido\",\"Inválido\")),\"\")","v":""},{"$f":"IF(E871<>0,(IF(lfValidaCEP(E871)=TRUE,\"Válido\",\"Inválido\")),\"\")","v":""}]
[null,null,null,null,null,null,null,null,null,"",{"$f":"IF(C872<>0,(IF(lfValidaCNPJ(C872)=TRUE,\"Válido\",\"Inválido\")),\"\")","v":""},{"$f":"IF(E872<>0,(IF(lfValidaCEP(E872)=TRUE,\"Válido\",\"Inválido\")),\"\")","v":""}]
[null,null,null,null,null,null,null,null,null,"",{"$f":"IF(C873<>0,(IF(lfValidaCNPJ(C873)=TRUE,\"Válido\",\"Inválido\")),\"\")","v":""},{"$f":"IF(E873<>0,(IF(lfValidaCEP(E873)=TRUE,\"Válido\",\"Inválido\")),\"\")","v":""}]
[null,null,null,null,null,null,null,null,null,"",{"$f":"IF(C874<>0,(IF(lfValidaCNPJ(C874)=TRUE,\"Válido\",\"Inválido\")),\"\")","v":""},{"$f":"IF(E874<>0,(IF(lfValidaCEP(E874)=TRUE,\"Válido\",\"Inválido\")),\"\")","v":""}]
[null,null,null,null,null,null,null,null,null,"",{"$f":"IF(C875<>0,(IF(lfValidaCNPJ(C875)=TRUE,\"Válido\",\"Inválido\")),\"\")","v":""},{"$f":"IF(E875<>0,(IF(lfValidaCEP(E875)=TRUE,\"Válido\",\"Inválido\")),\"\")","v":""}]
[null,null,null,null,null,null,null,null,null,"",{"$f":"IF(C876<>0,(IF(lfValidaCNPJ(C876)=TRUE,\"Válido\",\"Inválido\")),\"\")","v":""},{"$f":"IF(E876<>0,(IF(lfValidaCEP(E876)=TRUE,\"Válido\",\"Inválido\")),\"\")","v":""}]
[null,null,null,null,null,null,null,null,null,"",{"$f":"IF(C877<>0,(IF(lfValidaCNPJ(C877)=TRUE,\"Válido\",\"Inválido\")),\"\")","v":""},{"$f":"IF(E877<>0,(IF(lfValidaCEP(E877)=TRUE,\"Válido\",\"Inválido\")),\"\")","v":""}]
[null,null,null,null,null,null,null,null,null,"",{"$f":"IF(C878<>0,(IF(lfValidaCNPJ(C878)=TRUE,\"Válido\",\"Inválido\")),\"\")","v":""},{"$f":"IF(E878<>0,(IF(lfValidaCEP(E878)=TRUE,\"Válido\",\"Inválido\")),\"\")","v":""}]
[null,null,null,null,null,null,null,null,null,"",{"$f":"IF(C879<>0,(IF(lfValidaCNPJ(C879)=TRUE,\"Válido\",\"Inválido\")),\"\")","v":""},{"$f":"IF(E879<>0,(IF(lfValidaCEP(E879)=TRUE,\"Válido\",\"Inválido\")),\"\")","v":""}]
[null,null,null,null,null,null,null,null,null,"",{"$f":"IF(C880<>0,(IF(lfValidaCNPJ(C880)=TRUE,\"Válido\",\"Inválido\")),\"\")","v":""},{"$f":"IF(E880<>0,(IF(lfValidaCEP(E880)=TRUE,\"Válido\",\"Inválido\")),\"\")","v":""}]
[null,null,null,null,null,null,null,null,null,"",{"$f":"IF(C881<>0,(IF(lfValidaCNPJ(C881)=TRUE,\"Válido\",\"Inválido\")),\"\")","v":""},{"$f":"IF(E881<>0,(IF(lfValidaCEP(E881)=TRUE,\"Válido\",\"Inválido\")),\"\")","v":""}]
[null,null,null,null,null,null,null,null,null,"",{"$f":"IF(C882<>0,(IF(lfValidaCNPJ(C882)=TRUE,\"Válido\",\"Inválido\")),\"\")","v":""},{"$f":"IF(E882<>0,(IF(lfValidaCEP(E882)=TRUE,\"Válido\",\"Inválido\")),\"\")","v":""}]
[null,null,null,null,null,null,null,null,null,"",{"$f":"IF(C883<>0,(IF(lfValidaCNPJ(C883)=TRUE,\"Válido\",\"Inválido\")),\"\")","v":""},{"$f":"IF(E883<>0,(IF(lfValidaCEP(E883)=TRUE,\"Válido\",\"Inválido\")),\"\")","v":""}]
[null,null,null,null,null,null,null,null,null,"",{"$f":"IF(C884<>0,(IF(lfValidaCNPJ(C884)=TRUE,\"Válido\",\"Inválido\")),\"\")","v":""},{"$f":"IF(E884<>0,(IF(lfValidaCEP(E884)=TRUE,\"Válido\",\"Inválido\")),\"\")","v":""}]
[null,null,null,null,null,null,null,null,null,"",{"$f":"IF(C885<>0,(IF(lfValidaCNPJ(C885)=TRUE,\"Válido\",\"Inválido\")),\"\")","v":""},{"$f":"IF(E885<>0,(IF(lfValidaCEP(E885)=TRUE,\"Válido\",\"Inválido\")),\"\")","v":""}]
[null,null,null,null,null,null,null,null,null,"",{"$f":"IF(C886<>0,(IF(lfValidaCNPJ(C886)=TRUE,\"Válido\",\"Inválido\")),\"\")","v":""},{"$f":"IF(E886<>0,(IF(lfValidaCEP(E886)=TRUE,\"Válido\",\"Inválido\")),\"\")","v":""}]
[null,null,null,null,null,null,null,null,null,"",{"$f":"IF(C887<>0,(IF(lfValidaCNPJ(C887)=TRUE,\"Válido\",\"Inválido\")),\"\")","v":""},{"$f":"IF(E887<>0,(IF(lfValidaCEP(E887)=TRUE,\"Válido\",\"Inválido\")),\"\")","v":""}]
[null,null,null,null,null,null,null,null,null,"",{"$f":"IF(C888<>0,(IF(lfValidaCNPJ(C888)=TRUE,\"Válido\",\"Inválido\")),\"\")","v":""},{"$f":"IF(E888<>0,(IF(lfValidaCEP(E888)=TRUE,\"Válido\",\"Inválido\")),\"\")","v":""}]
[null,null,null,null,null,null,null,null,null,"",{"$f":"IF(C889<>0,(IF(lfValidaCNPJ(C889)=TRUE,\"Válido\",\"Inválido\")),\"\")","v":""},{"$f":"IF(E889<>0,(IF(lfValidaCEP(E889)=TRUE,\"Válido\",\"Inválido\")),\"\")","v":""}]
[null,null,null,null,null,null,null,null,null,"",{"$f":"IF(C890<>0,(IF(lfValidaCNPJ(C890)=TRUE,\"Válido\",\"Inválido\")),\"\")","v":""},{"$f":"IF(E890<>0,(IF(lfValidaCEP(E890)=TRUE,\"Válido\",\"Inválido\")),\"\")","v":""}]
[null,null,null,null,null,null,null,null,null,"",{"$f":"IF(C891<>0,(IF(lfValidaCNPJ(C891)=TRUE,\"Válido\",\"Inválido\")),\"\")","v":""},{"$f":"IF(E891<>0,(IF(lfValidaCEP(E891)=TRUE,\"Válido\",\"Inválido\")),\"\")","v":""}]
[null,null,null,null,null,null,null,null,null,"",{"$f":"IF(C892<>0,(IF(lfValidaCNPJ(C892)=TRUE,\"Válido\",\"Inválido\")),\"\")","v":""},{"$f":"IF(E892<>0,(IF(lfValidaCEP(E892)=TRUE,\"Válido\",\"Inválido\")),\"\")","v":""}]
[null,null,null,null,null,null,null,null,null,"",{"$f":"IF(C893<>0,(IF(lfValidaCNPJ(C893)=TRUE,\"Válido\",\"Inválido\")),\"\")","v":""},{"$f":"IF(E893<>0,(IF(lfValidaCEP(E893)=TRUE,\"Válido\",\"Inválido\")),\"\")","v":""}]
[null,null,null,null,null,null,null,null,null,"",{"$f":"IF(C894<>0,(IF(lfValidaCNPJ(C894)=TRUE,\"Válido\",\"Inválido\")),\"\")","v":""},{"$f":"IF(E894<>0,(IF(lfValidaCEP(E894)=TRUE,\"Válido\",\"Inválido\")),\"\")","v":""}]
[null,null,null,null,null,null,null,null,null,"",{"$f":"IF(C895<>0,(IF(lfValidaCNPJ(C895)=TRUE,\"Válido\",\"Inválido\")),\"\")","v":""},{"$f":"IF(E895<>0,(IF(lfValidaCEP(E895)=TRUE,\"Válido\",\"Inválido\")),\"\")","v":""}]
[null,null,null,null,null,null,null,null,null,"",{"$f":"IF(C896<>0,(IF(lfValidaCNPJ(C896)=TRUE,\"Válido\",\"Inválido\")),\"\")","v":""},{"$f":"IF(E896<>0,(IF(lfValidaCEP(E896)=TRUE,\"Válido\",\"Inválido\")),\"\")","v":""}]
[null,null,null,null,null,null,null,null,null,"",{"$f":"IF(C897<>0,(IF(lfValidaCNPJ(C897)=TRUE,\"Válido\",\"Inválido\")),\"\")","v":""},{"$f":"IF(E897<>0,(IF(lfValidaCEP(E897)=TRUE,\"Válido\",\"Inválido\")),\"\")","v":""}]
[null,null,null,null,null,null,null,null,null,"",{"$f":"IF(C898<>0,(IF(lfValidaCNPJ(C898)=TRUE,\"Válido\",\"Inválido\")),\"\")","v":""},{"$f":"IF(E898<>0,(IF(lfValidaCEP(E898)=TRUE,\"Válido\",\"Inválido\")),\"\")","v":""}]
[null,null,null,null,null,null,null,null,null,"",{"$f":"IF(C899<>0,(IF(lfValidaCNPJ(C899)=TRUE,\"Válido\",\"Inválido\")),\"\")","v":""},{"$f":"IF(E899<>0,(IF(lfValidaCEP(E899)=TRUE,\"Válido\",\"Inválido\")),\"\")","v":""}]
[null,null,null,null,null,null,null,null,null,"",{"$f":"IF(C900<>0,(IF(lfValidaCNPJ(C900)=TRUE,\"Válido\",\"Inválido\")),\"\")","v":""},{"$f":"IF(E900<>0,(IF(lfValidaCEP(E900)=TRUE,\"Válido\",\"Inválido\")),\"\")","v":""}]
[null,null,null,null,null,null,null,null,null,"",{"$f":"IF(C901<>0,(IF(lfValidaCNPJ(C901)=TRUE,\"Válido\",\"Inválido\")),\"\")","v":""},{"$f":"IF(E901<>0,(IF(lfValidaCEP(E901)=TRUE,\"Válido\",\"Inválido\")),\"\")","v":""}]
[null,null,null,null,null,null,null,null,null,"",{"$f":"IF(C902<>0,(IF(lfValidaCNPJ(C902)=TRUE,\"Válido\",\"Inválido\")),\"\")","v":""},{"$f":"IF(E902<>0,(IF(lfValidaCEP(E902)=TRUE,\"Válido\",\"Inválido\")),\"\")","v":""}]
[null,null,null,null,null,null,null,null,null,"",{"$f":"IF(C903<>0,(IF(lfValidaCNPJ(C903)=TRUE,\"Válido\",\"Inválido\")),\"\")","v":""},{"$f":"IF(E903<>0,(IF(lfValidaCEP(E903)=TRUE,\"Válido\",\"Inválido\")),\"\")","v":""}]
[null,null,null,null,null,null,null,null,null,"",{"$f":"IF(C904<>0,(IF(lfValidaCNPJ(C904)=TRUE,\"Válido\",\"Inválido\")),\"\")","v":""},{"$f":"IF(E904<>0,(IF(lfValidaCEP(E904)=TRUE,\"Válido\",\"Inválido\")),\"\")","v":""}]
[null,null,null,null,null,null,null,null,null,"",{"$f":"IF(C905<>0,(IF(lfValidaCNPJ(C905)=TRUE,\"Válido\",\"Inválido\")),\"\")","v":""},{"$f":"IF(E905<>0,(IF(lfValidaCEP(E905)=TRUE,\"Válido\",\"Inválido\")),\"\")","v":""}]
[null,null,null,null,null,null,null,null,null,"",{"$f":"IF(C906<>0,(IF(lfValidaCNPJ(C906)=TRUE,\"Válido\",\"Inválido\")),\"\")","v":""},{"$f":"IF(E906<>0,(IF(lfValidaCEP(E906)=TRUE,\"Válido\",\"Inválido\")),\"\")","v":""}]
[null,null,null,null,null,null,null,null,null,"",{"$f":"IF(C907<>0,(IF(lfValidaCNPJ(C907)=TRUE,\"Válido\",\"Inválido\")),\"\")","v":""},{"$f":"IF(E907<>0,(IF(lfValidaCEP(E907)=TRUE,\"Válido\",\"Inválido\")),\"\")","v":""}]
[null,null,null,null,null,null,null,null,null,{"$f":"IF(COUNTA(B908:G908)<>0,IF(AND(B908<>0,C908<>0,D908<>0,E908<>0,F908<>0,G908<>0),\"Completo\",\"Incompleto\"),\"\")","v":""},{"$f":"IF(C908<>0,(IF(lfValidaCNPJ(C908)=TRUE,\"Válido\",\"Inválido\")),\"\")","v":""},{"$f":"IF(E908<>0,(IF(lfValidaCEP(E908)=TRUE,\"Válido\",\"Inválido\")),\"\")","v":""}]
[null,null,null,null,null,null,null,null,null,"",{"$f":"IF(C909<>0,(IF(lfValidaCNPJ(C909)=TRUE,\"Válido\",\"Inválido\")),\"\")","v":""},{"$f":"IF(E909<>0,(IF(lfValidaCEP(E909)=TRUE,\"Válido\",\"Inválido\")),\"\")","v":""}]
[null,null,null,null,null,null,null,null,null,"",{"$f":"IF(C910<>0,(IF(lfValidaCNPJ(C910)=TRUE,\"Válido\",\"Inválido\")),\"\")","v":""},{"$f":"IF(E910<>0,(IF(lfValidaCEP(E910)=TRUE,\"Válido\",\"Inválido\")),\"\")","v":""}]
[null,null,null,null,null,null,null,null,null,"",{"$f":"IF(C911<>0,(IF(lfValidaCNPJ(C911)=TRUE,\"Válido\",\"Inválido\")),\"\")","v":""},{"$f":"IF(E911<>0,(IF(lfValidaCEP(E911)=TRUE,\"Válido\",\"Inválido\")),\"\")","v":""}]
[null,null,null,null,null,null,null,null,null,"",{"$f":"IF(C912<>0,(IF(lfValidaCNPJ(C912)=TRUE,\"Válido\",\"Inválido\")),\"\")","v":""},{"$f":"IF(E912<>0,(IF(lfValidaCEP(E912)=TRUE,\"Válido\",\"Inválido\")),\"\")","v":""}]
[null,null,null,null,null,null,null,null,null,"",{"$f":"IF(C913<>0,(IF(lfValidaCNPJ(C913)=TRUE,\"Válido\",\"Inválido\")),\"\")","v":""},{"$f":"IF(E913<>0,(IF(lfValidaCEP(E913)=TRUE,\"Válido\",\"Inválido\")),\"\")","v":""}]
[null,null,null,null,null,null,null,null,null,"",{"$f":"IF(C914<>0,(IF(lfValidaCNPJ(C914)=TRUE,\"Válido\",\"Inválido\")),\"\")","v":""},{"$f":"IF(E914<>0,(IF(lfValidaCEP(E914)=TRUE,\"Válido\",\"Inválido\")),\"\")","v":""}]
[null,null,null,null,null,null,null,null,null,"",{"$f":"IF(C915<>0,(IF(lfValidaCNPJ(C915)=TRUE,\"Válido\",\"Inválido\")),\"\")","v":""},{"$f":"IF(E915<>0,(IF(lfValidaCEP(E915)=TRUE,\"Válido\",\"Inválido\")),\"\")","v":""}]
[null,null,null,null,null,null,null,null,null,"",{"$f":"IF(C916<>0,(IF(lfValidaCNPJ(C916)=TRUE,\"Válido\",\"Inválido\")),\"\")","v":""},{"$f":"IF(E916<>0,(IF(lfValidaCEP(E916)=TRUE,\"Válido\",\"Inválido\")),\"\")","v":""}]
[null,null,null,null,null,null,null,null,null,"",{"$f":"IF(C917<>0,(IF(lfValidaCNPJ(C917)=TRUE,\"Válido\",\"Inválido\")),\"\")","v":""},{"$f":"IF(E917<>0,(IF(lfValidaCEP(E917)=TRUE,\"Válido\",\"Inválido\")),\"\")","v":""}]
[null,null,null,null,null,null,null,null,null,"",{"$f":"IF(C918<>0,(IF(lfValidaCNPJ(C918)=TRUE,\"Válido\",\"Inválido\")),\"\")","v":""},{"$f":"IF(E918<>0,(IF(lfValidaCEP(E918)=TRUE,\"Válido\",\"Inválido\")),\"\")","v":""}]
[null,null,null,null,null,null,null,null,null,"",{"$f":"IF(C919<>0,(IF(lfValidaCNPJ(C919)=TRUE,\"Válido\",\"Inválido\")),\"\")","v":""},{"$f":"IF(E919<>0,(IF(lfValidaCEP(E919)=TRUE,\"Válido\",\"Inválido\")),\"\")","v":""}]
[null,null,null,null,null,null,null,null,null,"",{"$f":"IF(C920<>0,(IF(lfValidaCNPJ(C920)=TRUE,\"Válido\",\"Inválido\")),\"\")","v":""},{"$f":"IF(E920<>0,(IF(lfValidaCEP(E920)=TRUE,\"Válido\",\"Inválido\")),\"\")","v":""}]
[null,null,null,null,null,null,null,null,null,"",{"$f":"IF(C921<>0,(IF(lfValidaCNPJ(C921)=TRUE,\"Válido\",\"Inválido\")),\"\")","v":""},{"$f":"IF(E921<>0,(IF(lfValidaCEP(E921)=TRUE,\"Válido\",\"Inválido\")),\"\")","v":""}]
[null,null,null,null,null,null,null,null,null,"",{"$f":"IF(C922<>0,(IF(lfValidaCNPJ(C922)=TRUE,\"Válido\",\"Inválido\")),\"\")","v":""},{"$f":"IF(E922<>0,(IF(lfValidaCEP(E922)=TRUE,\"Válido\",\"Inválido\")),\"\")","v":""}]
[null,null,null,null,null,null,null,null,null,"",{"$f":"IF(C923<>0,(IF(lfValidaCNPJ(C923)=TRUE,\"Válido\",\"Inválido\")),\"\")","v":""},{"$f":"IF(E923<>0,(IF(lfValidaCEP(E923)=TRUE,\"Válido\",\"Inválido\")),\"\")","v":""}]
[null,null,null,null,null,null,null,null,null,"",{"$f":"IF(C924<>0,(IF(lfValidaCNPJ(C924)=TRUE,\"Válido\",\"Inválido\")),\"\")","v":""},{"$f":"IF(E924<>0,(IF(lfValidaCEP(E924)=TRUE,\"Válido\",\"Inválido\")),\"\")","v":""}]
[null,null,null,null,null,null,null,null,null,"",{"$f":"IF(C925<>0,(IF(lfValidaCNPJ(C925)=TRUE,\"Válido\",\"Inválido\")),\"\")","v":""},{"$f":"IF(E925<>0,(IF(lfValidaCEP(E925)=TRUE,\"Válido\",\"Inválido\")),\"\")","v":""}]
[null,null,null,null,null,null,null,null,null,"",{"$f":"IF(C926<>0,(IF(lfValidaCNPJ(C926)=TRUE,\"Válido\",\"Inválido\")),\"\")","v":""},{"$f":"IF(E926<>0,(IF(lfValidaCEP(E926)=TRUE,\"Válido\",\"Inválido\")),\"\")","v":""}]
[null,null,null,null,null,null,null,null,null,"",{"$f":"IF(C927<>0,(IF(lfValidaCNPJ(C927)=TRUE,\"Válido\",\"Inválido\")),\"\")","v":""},{"$f":"IF(E927<>0,(IF(lfValidaCEP(E927)=TRUE,\"Válido\",\"Inválido\")),\"\")","v":""}]
[null,null,null,null,null,null,null,null,null,"",{"$f":"IF(C928<>0,(IF(lfValidaCNPJ(C928)=TRUE,\"Válido\",\"Inválido\")),\"\")","v":""},{"$f":"IF(E928<>0,(IF(lfValidaCEP(E928)=TRUE,\"Válido\",\"Inválido\")),\"\")","v":""}]
[null,null,null,null,null,null,null,null,null,"",{"$f":"IF(C929<>0,(IF(lfValidaCNPJ(C929)=TRUE,\"Válido\",\"Inválido\")),\"\")","v":""},{"$f":"IF(E929<>0,(IF(lfValidaCEP(E929)=TRUE,\"Válido\",\"Inválido\")),\"\")","v":""}]
[null,null,null,null,null,null,null,null,null,"",{"$f":"IF(C930<>0,(IF(lfValidaCNPJ(C930)=TRUE,\"Válido\",\"Inválido\")),\"\")","v":""},{"$f":"IF(E930<>0,(IF(lfValidaCEP(E930)=TRUE,\"Válido\",\"Inválido\")),\"\")","v":""}]
[null,null,null,null,null,null,null,null,null,"",{"$f":"IF(C931<>0,(IF(lfValidaCNPJ(C931)=TRUE,\"Válido\",\"Inválido\")),\"\")","v":""},{"$f":"IF(E931<>0,(IF(lfValidaCEP(E931)=TRUE,\"Válido\",\"Inválido\")),\"\")","v":""}]
[null,null,null,null,null,null,null,null,null,"",{"$f":"IF(C932<>0,(IF(lfValidaCNPJ(C932)=TRUE,\"Válido\",\"Inválido\")),\"\")","v":""},{"$f":"IF(E932<>0,(IF(lfValidaCEP(E932)=TRUE,\"Válido\",\"Inválido\")),\"\")","v":""}]
[null,null,null,null,null,null,null,null,null,"",{"$f":"IF(C933<>0,(IF(lfValidaCNPJ(C933)=TRUE,\"Válido\",\"Inválido\")),\"\")","v":""},{"$f":"IF(E933<>0,(IF(lfValidaCEP(E933)=TRUE,\"Válido\",\"Inválido\")),\"\")","v":""}]
[null,null,null,null,null,null,null,null,null,"",{"$f":"IF(C934<>0,(IF(lfValidaCNPJ(C934)=TRUE,\"Válido\",\"Inválido\")),\"\")","v":""},{"$f":"IF(E934<>0,(IF(lfValidaCEP(E934)=TRUE,\"Válido\",\"Inválido\")),\"\")","v":""}]
[null,null,null,null,null,null,null,null,null,"",{"$f":"IF(C935<>0,(IF(lfValidaCNPJ(C935)=TRUE,\"Válido\",\"Inválido\")),\"\")","v":""},{"$f":"IF(E935<>0,(IF(lfValidaCEP(E935)=TRUE,\"Válido\",\"Inválido\")),\"\")","v":""}]
[null,null,null,null,null,null,null,null,null,"",{"$f":"IF(C936<>0,(IF(lfValidaCNPJ(C936)=TRUE,\"Válido\",\"Inválido\")),\"\")","v":""},{"$f":"IF(E936<>0,(IF(lfValidaCEP(E936)=TRUE,\"Válido\",\"Inválido\")),\"\")","v":""}]
[null,null,null,null,null,null,null,null,null,"",{"$f":"IF(C937<>0,(IF(lfValidaCNPJ(C937)=TRUE,\"Válido\",\"Inválido\")),\"\")","v":""},{"$f":"IF(E937<>0,(IF(lfValidaCEP(E937)=TRUE,\"Válido\",\"Inválido\")),\"\")","v":""}]
[null,null,null,null,null,null,null,null,null,"",{"$f":"IF(C938<>0,(IF(lfValidaCNPJ(C938)=TRUE,\"Válido\",\"Inválido\")),\"\")","v":""},{"$f":"IF(E938<>0,(IF(lfValidaCEP(E938)=TRUE,\"Válido\",\"Inválido\")),\"\")","v":""}]
[null,null,null,null,null,null,null,null,null,"",{"$f":"IF(C939<>0,(IF(lfValidaCNPJ(C939)=TRUE,\"Válido\",\"Inválido\")),\"\")","v":""},{"$f":"IF(E939<>0,(IF(lfValidaCEP(E939)=TRUE,\"Válido\",\"Inválido\")),\"\")","v":""}]
[null,null,null,null,null,null,null,null,null,"",{"$f":"IF(C940<>0,(IF(lfValidaCNPJ(C940)=TRUE,\"Válido\",\"Inválido\")),\"\")","v":""},{"$f":"IF(E940<>0,(IF(lfValidaCEP(E940)=TRUE,\"Válido\",\"Inválido\")),\"\")","v":""}]
[null,null,null,null,null,null,null,null,null,"",{"$f":"IF(C941<>0,(IF(lfValidaCNPJ(C941)=TRUE,\"Válido\",\"Inválido\")),\"\")","v":""},{"$f":"IF(E941<>0,(IF(lfValidaCEP(E941)=TRUE,\"Válido\",\"Inválido\")),\"\")","v":""}]
[null,null,null,null,null,null,null,null,null,"",{"$f":"IF(C942<>0,(IF(lfValidaCNPJ(C942)=TRUE,\"Válido\",\"Inválido\")),\"\")","v":""},{"$f":"IF(E942<>0,(IF(lfValidaCEP(E942)=TRUE,\"Válido\",\"Inválido\")),\"\")","v":""}]
[null,null,null,null,null,null,null,null,null,"",{"$f":"IF(C943<>0,(IF(lfValidaCNPJ(C943)=TRUE,\"Válido\",\"Inválido\")),\"\")","v":""},{"$f":"IF(E943<>0,(IF(lfValidaCEP(E943)=TRUE,\"Válido\",\"Inválido\")),\"\")","v":""}]
[null,null,null,null,null,null,null,null,null,"",{"$f":"IF(C944<>0,(IF(lfValidaCNPJ(C944)=TRUE,\"Válido\",\"Inválido\")),\"\")","v":""},{"$f":"IF(E944<>0,(IF(lfValidaCEP(E944)=TRUE,\"Válido\",\"Inválido\")),\"\")","v":""}]
[null,null,null,null,null,null,null,null,null,"",{"$f":"IF(C945<>0,(IF(lfValidaCNPJ(C945)=TRUE,\"Válido\",\"Inválido\")),\"\")","v":""},{"$f":"IF(E945<>0,(IF(lfValidaCEP(E945)=TRUE,\"Válido\",\"Inválido\")),\"\")","v":""}]
[null,null,null,null,null,null,null,null,null,"",{"$f":"IF(C946<>0,(IF(lfValidaCNPJ(C946)=TRUE,\"Válido\",\"Inválido\")),\"\")","v":""},{"$f":"IF(E946<>0,(IF(lfValidaCEP(E946)=TRUE,\"Válido\",\"Inválido\")),\"\")","v":""}]
[null,null,null,null,null,null,null,null,null,"",{"$f":"IF(C947<>0,(IF(lfValidaCNPJ(C947)=TRUE,\"Válido\",\"Inválido\")),\"\")","v":""},{"$f":"IF(E947<>0,(IF(lfValidaCEP(E947)=TRUE,\"Válido\",\"Inválido\")),\"\")","v":""}]
[null,null,null,null,null,null,null,null,null,"",{"$f":"IF(C948<>0,(IF(lfValidaCNPJ(C948)=TRUE,\"Válido\",\"Inválido\")),\"\")","v":""},{"$f":"IF(E948<>0,(IF(lfValidaCEP(E948)=TRUE,\"Válido\",\"Inválido\")),\"\")","v":""}]
[null,null,null,null,null,null,null,null,null,"",{"$f":"IF(C949<>0,(IF(lfValidaCNPJ(C949)=TRUE,\"Válido\",\"Inválido\")),\"\")","v":""},{"$f":"IF(E949<>0,(IF(lfValidaCEP(E949)=TRUE,\"Válido\",\"Inválido\")),\"\")","v":""}]
[null,null,null,null,null,null,null,null,null,"",{"$f":"IF(C950<>0,(IF(lfValidaCNPJ(C950)=TRUE,\"Válido\",\"Inválido\")),\"\")","v":""},{"$f":"IF(E950<>0,(IF(lfValidaCEP(E950)=TRUE,\"Válido\",\"Inválido\")),\"\")","v":""}]
[null,null,null,null,null,null,null,null,null,"",{"$f":"IF(C951<>0,(IF(lfValidaCNPJ(C951)=TRUE,\"Válido\",\"Inválido\")),\"\")","v":""},{"$f":"IF(E951<>0,(IF(lfValidaCEP(E951)=TRUE,\"Válido\",\"Inválido\")),\"\")","v":""}]
[null,null,null,null,null,null,null,null,null,"",{"$f":"IF(C952<>0,(IF(lfValidaCNPJ(C952)=TRUE,\"Válido\",\"Inválido\")),\"\")","v":""},{"$f":"IF(E952<>0,(IF(lfValidaCEP(E952)=TRUE,\"Válido\",\"Inválido\")),\"\")","v":""}]
[null,null,null,null,null,null,null,null,null,"",{"$f":"IF(C953<>0,(IF(lfValidaCNPJ(C953)=TRUE,\"Válido\",\"Inválido\")),\"\")","v":""},{"$f":"IF(E953<>0,(IF(lfValidaCEP(E953)=TRUE,\"Válido\",\"Inválido\")),\"\")","v":""}]
[null,null,null,null,null,null,null,null,null,"",{"$f":"IF(C954<>0,(IF(lfValidaCNPJ(C954)=TRUE,\"Válido\",\"Inválido\")),\"\")","v":""},{"$f":"IF(E954<>0,(IF(lfValidaCEP(E954)=TRUE,\"Válido\",\"Inválido\")),\"\")","v":""}]
[null,null,null,null,null,null,null,null,null,"",{"$f":"IF(C955<>0,(IF(lfValidaCNPJ(C955)=TRUE,\"Válido\",\"Inválido\")),\"\")","v":""},{"$f":"IF(E955<>0,(IF(lfValidaCEP(E955)=TRUE,\"Válido\",\"Inválido\")),\"\")","v":""}]
[null,null,null,null,null,null,null,null,null,"",{"$f":"IF(C956<>0,(IF(lfValidaCNPJ(C956)=TRUE,\"Válido\",\"Inválido\")),\"\")","v":""},{"$f":"IF(E956<>0,(IF(lfValidaCEP(E956)=TRUE,\"Válido\",\"Inválido\")),\"\")","v":""}]
[null,null,null,null,null,null,null,null,null,"",{"$f":"IF(C957<>0,(IF(lfValidaCNPJ(C957)=TRUE,\"Válido\",\"Inválido\")),\"\")","v":""},{"$f":"IF(E957<>0,(IF(lfValidaCEP(E957)=TRUE,\"Válido\",\"Inválido\")),\"\")","v":""}]
[null,null,null,null,null,null,null,null,null,"",{"$f":"IF(C958<>0,(IF(lfValidaCNPJ(C958)=TRUE,\"Válido\",\"Inválido\")),\"\")","v":""},{"$f":"IF(E958<>0,(IF(lfValidaCEP(E958)=TRUE,\"Válido\",\"Inválido\")),\"\")","v":""}]
[null,null,null,null,null,null,null,null,null,"",{"$f":"IF(C959<>0,(IF(lfValidaCNPJ(C959)=TRUE,\"Válido\",\"Inválido\")),\"\")","v":""},{"$f":"IF(E959<>0,(IF(lfValidaCEP(E959)=TRUE,\"Válido\",\"Inválido\")),\"\")","v":""}]
[null,null,null,null,null,null,null,null,null,"",{"$f":"IF(C960<>0,(IF(lfValidaCNPJ(C960)=TRUE,\"Válido\",\"Inválido\")),\"\")","v":""},{"$f":"IF(E960<>0,(IF(lfValidaCEP(E960)=TRUE,\"Válido\",\"Inválido\")),\"\")","v":""}]
[null,null,null,null,null,null,null,null,null,"",{"$f":"IF(C961<>0,(IF(lfValidaCNPJ(C961)=TRUE,\"Válido\",\"Inválido\")),\"\")","v":""},{"$f":"IF(E961<>0,(IF(lfValidaCEP(E961)=TRUE,\"Válido\",\"Inválido\")),\"\")","v":""}]
[null,null,null,null,null,null,null,null,null,"",{"$f":"IF(C962<>0,(IF(lfValidaCNPJ(C962)=TRUE,\"Válido\",\"Inválido\")),\"\")","v":""},{"$f":"IF(E962<>0,(IF(lfValidaCEP(E962)=TRUE,\"Válido\",\"Inválido\")),\"\")","v":""}]
[null,null,null,null,null,null,null,null,null,"",{"$f":"IF(C963<>0,(IF(lfValidaCNPJ(C963)=TRUE,\"Válido\",\"Inválido\")),\"\")","v":""},{"$f":"IF(E963<>0,(IF(lfValidaCEP(E963)=TRUE,\"Válido\",\"Inválido\")),\"\")","v":""}]
[null,null,null,null,null,null,null,null,null,"",{"$f":"IF(C964<>0,(IF(lfValidaCNPJ(C964)=TRUE,\"Válido\",\"Inválido\")),\"\")","v":""},{"$f":"IF(E964<>0,(IF(lfValidaCEP(E964)=TRUE,\"Válido\",\"Inválido\")),\"\")","v":""}]
[null,null,null,null,null,null,null,null,null,"",{"$f":"IF(C965<>0,(IF(lfValidaCNPJ(C965)=TRUE,\"Válido\",\"Inválido\")),\"\")","v":""},{"$f":"IF(E965<>0,(IF(lfValidaCEP(E965)=TRUE,\"Válido\",\"Inválido\")),\"\")","v":""}]
[null,null,null,null,null,null,null,null,null,"",{"$f":"IF(C966<>0,(IF(lfValidaCNPJ(C966)=TRUE,\"Válido\",\"Inválido\")),\"\")","v":""},{"$f":"IF(E966<>0,(IF(lfValidaCEP(E966)=TRUE,\"Válido\",\"Inválido\")),\"\")","v":""}]
[null,null,null,null,null,null,null,null,null,"",{"$f":"IF(C967<>0,(IF(lfValidaCNPJ(C967)=TRUE,\"Válido\",\"Inválido\")),\"\")","v":""},{"$f":"IF(E967<>0,(IF(lfValidaCEP(E967)=TRUE,\"Válido\",\"Inválido\")),\"\")","v":""}]
[null,null,null,null,null,null,null,null,null,"",{"$f":"IF(C968<>0,(IF(lfValidaCNPJ(C968)=TRUE,\"Válido\",\"Inválido\")),\"\")","v":""},{"$f":"IF(E968<>0,(IF(lfValidaCEP(E968)=TRUE,\"Válido\",\"Inválido\")),\"\")","v":""}]
[null,null,null,null,null,null,null,null,null,"",{"$f":"IF(C969<>0,(IF(lfValidaCNPJ(C969)=TRUE,\"Válido\",\"Inválido\")),\"\")","v":""},{"$f":"IF(E969<>0,(IF(lfValidaCEP(E969)=TRUE,\"Válido\",\"Inválido\")),\"\")","v":""}]
[null,null,null,null,null,null,null,null,null,"",{"$f":"IF(C970<>0,(IF(lfValidaCNPJ(C970)=TRUE,\"Válido\",\"Inválido\")),\"\")","v":""},{"$f":"IF(E970<>0,(IF(lfValidaCEP(E970)=TRUE,\"Válido\",\"Inválido\")),\"\")","v":""}]
[null,null,null,null,null,null,null,null,null,"",{"$f":"IF(C971<>0,(IF(lfValidaCNPJ(C971)=TRUE,\"Válido\",\"Inválido\")),\"\")","v":""},{"$f":"IF(E971<>0,(IF(lfValidaCEP(E971)=TRUE,\"Válido\",\"Inválido\")),\"\")","v":""}]
[null,null,null,null,null,null,null,null,null,{"$f":"IF(COUNTA(B972:G972)<>0,IF(AND(B972<>0,C972<>0,D972<>0,E972<>0,F972<>0,G972<>0),\"Completo\",\"Incompleto\"),\"\")","v":""},{"$f":"IF(C972<>0,(IF(lfValidaCNPJ(C972)=TRUE,\"Válido\",\"Inválido\")),\"\")","v":""},{"$f":"IF(E972<>0,(IF(lfValidaCEP(E972)=TRUE,\"Válido\",\"Inválido\")),\"\")","v":""}]
[null,null,null,null,null,null,null,null,null,"",{"$f":"IF(C973<>0,(IF(lfValidaCNPJ(C973)=TRUE,\"Válido\",\"Inválido\")),\"\")","v":""},{"$f":"IF(E973<>0,(IF(lfValidaCEP(E973)=TRUE,\"Válido\",\"Inválido\")),\"\")","v":""}]
[null,null,null,null,null,null,null,null,null,"",{"$f":"IF(C974<>0,(IF(lfValidaCNPJ(C974)=TRUE,\"Válido\",\"Inválido\")),\"\")","v":""},{"$f":"IF(E974<>0,(IF(lfValidaCEP(E974)=TRUE,\"Válido\",\"Inválido\")),\"\")","v":""}]
[null,null,null,null,null,null,null,null,null,"",{"$f":"IF(C975<>0,(IF(lfValidaCNPJ(C975)=TRUE,\"Válido\",\"Inválido\")),\"\")","v":""},{"$f":"IF(E975<>0,(IF(lfValidaCEP(E975)=TRUE,\"Válido\",\"Inválido\")),\"\")","v":""}]
[null,null,null,null,null,null,null,null,null,"",{"$f":"IF(C976<>0,(IF(lfValidaCNPJ(C976)=TRUE,\"Válido\",\"Inválido\")),\"\")","v":""},{"$f":"IF(E976<>0,(IF(lfValidaCEP(E976)=TRUE,\"Válido\",\"Inválido\")),\"\")","v":""}]
[null,null,null,null,null,null,null,null,null,"",{"$f":"IF(C977<>0,(IF(lfValidaCNPJ(C977)=TRUE,\"Válido\",\"Inválido\")),\"\")","v":""},{"$f":"IF(E977<>0,(IF(lfValidaCEP(E977)=TRUE,\"Válido\",\"Inválido\")),\"\")","v":""}]
[null,null,null,null,null,null,null,null,null,"",{"$f":"IF(C978<>0,(IF(lfValidaCNPJ(C978)=TRUE,\"Válido\",\"Inválido\")),\"\")","v":""},{"$f":"IF(E978<>0,(IF(lfValidaCEP(E978)=TRUE,\"Válido\",\"Inválido\")),\"\")","v":""}]
[null,null,null,null,null,null,null,null,null,"",{"$f":"IF(C979<>0,(IF(lfValidaCNPJ(C979)=TRUE,\"Válido\",\"Inválido\")),\"\")","v":""},{"$f":"IF(E979<>0,(IF(lfValidaCEP(E979)=TRUE,\"Válido\",\"Inválido\")),\"\")","v":""}]
[null,null,null,null,null,null,null,null,null,"",{"$f":"IF(C980<>0,(IF(lfValidaCNPJ(C980)=TRUE,\"Válido\",\"Inválido\")),\"\")","v":""},{"$f":"IF(E980<>0,(IF(lfValidaCEP(E980)=TRUE,\"Válido\",\"Inválido\")),\"\")","v":""}]
[null,null,null,null,null,null,null,null,null,"",{"$f":"IF(C981<>0,(IF(lfValidaCNPJ(C981)=TRUE,\"Válido\",\"Inválido\")),\"\")","v":""},{"$f":"IF(E981<>0,(IF(lfValidaCEP(E981)=TRUE,\"Válido\",\"Inválido\")),\"\")","v":""}]
[null,null,null,null,null,null,null,null,null,"",{"$f":"IF(C982<>0,(IF(lfValidaCNPJ(C982)=TRUE,\"Válido\",\"Inválido\")),\"\")","v":""},{"$f":"IF(E982<>0,(IF(lfValidaCEP(E982)=TRUE,\"Válido\",\"Inválido\")),\"\")","v":""}]
[null,null,null,null,null,null,null,null,null,"",{"$f":"IF(C983<>0,(IF(lfValidaCNPJ(C983)=TRUE,\"Válido\",\"Inválido\")),\"\")","v":""},{"$f":"IF(E983<>0,(IF(lfValidaCEP(E983)=TRUE,\"Válido\",\"Inválido\")),\"\")","v":""}]
[null,null,null,null,null,null,null,null,null,"",{"$f":"IF(C984<>0,(IF(lfValidaCNPJ(C984)=TRUE,\"Válido\",\"Inválido\")),\"\")","v":""},{"$f":"IF(E984<>0,(IF(lfValidaCEP(E984)=TRUE,\"Válido\",\"Inválido\")),\"\")","v":""}]
[null,null,null,null,null,null,null,null,null,"",{"$f":"IF(C985<>0,(IF(lfValidaCNPJ(C985)=TRUE,\"Válido\",\"Inválido\")),\"\")","v":""},{"$f":"IF(E985<>0,(IF(lfValidaCEP(E985)=TRUE,\"Válido\",\"Inválido\")),\"\")","v":""}]
[null,null,null,null,null,null,null,null,null,"",{"$f":"IF(C986<>0,(IF(lfValidaCNPJ(C986)=TRUE,\"Válido\",\"Inválido\")),\"\")","v":""},{"$f":"IF(E986<>0,(IF(lfValidaCEP(E986)=TRUE,\"Válido\",\"Inválido\")),\"\")","v":""}]
[null,null,null,null,null,null,null,null,null,"",{"$f":"IF(C987<>0,(IF(lfValidaCNPJ(C987)=TRUE,\"Válido\",\"Inválido\")),\"\")","v":""},{"$f":"IF(E987<>0,(IF(lfValidaCEP(E987)=TRUE,\"Válido\",\"Inválido\")),\"\")","v":""}]
[null,null,null,null,null,null,null,null,null,"",{"$f":"IF(C988<>0,(IF(lfValidaCNPJ(C988)=TRUE,\"Válido\",\"Inválido\")),\"\")","v":""},{"$f":"IF(E988<>0,(IF(lfValidaCEP(E988)=TRUE,\"Válido\",\"Inválido\")),\"\")","v":""}]
[null,null,null,null,null,null,null,null,null,"",{"$f":"IF(C989<>0,(IF(lfValidaCNPJ(C989)=TRUE,\"Válido\",\"Inválido\")),\"\")","v":""},{"$f":"IF(E989<>0,(IF(lfValidaCEP(E989)=TRUE,\"Válido\",\"Inválido\")),\"\")","v":""}]
[null,null,null,null,null,null,null,null,null,"",{"$f":"IF(C990<>0,(IF(lfValidaCNPJ(C990)=TRUE,\"Válido\",\"Inválido\")),\"\")","v":""},{"$f":"IF(E990<>0,(IF(lfValidaCEP(E990)=TRUE,\"Válido\",\"Inválido\")),\"\")","v":""}]
[null,null,null,null,null,null,null,null,null,"",{"$f":"IF(C991<>0,(IF(lfValidaCNPJ(C991)=TRUE,\"Válido\",\"Inválido\")),\"\")","v":""},{"$f":"IF(E991<>0,(IF(lfValidaCEP(E991)=TRUE,\"Válido\",\"Inválido\")),\"\")","v":""}]
[null,null,null,null,null,null,null,null,null,"",{"$f":"IF(C992<>0,(IF(lfValidaCNPJ(C992)=TRUE,\"Válido\",\"Inválido\")),\"\")","v":""},{"$f":"IF(E992<>0,(IF(lfValidaCEP(E992)=TRUE,\"Válido\",\"Inválido\")),\"\")","v":""}]
[null,null,null,null,null,null,null,null,null,"",{"$f":"IF(C993<>0,(IF(lfValidaCNPJ(C993)=TRUE,\"Válido\",\"Inválido\")),\"\")","v":""},{"$f":"IF(E993<>0,(IF(lfValidaCEP(E993)=TRUE,\"Válido\",\"Inválido\")),\"\")","v":""}]
[null,null,null,null,null,null,null,null,null,"",{"$f":"IF(C994<>0,(IF(lfValidaCNPJ(C994)=TRUE,\"Válido\",\"Inválido\")),\"\")","v":""},{"$f":"IF(E994<>0,(IF(lfValidaCEP(E994)=TRUE,\"Válido\",\"Inválido\")),\"\")","v":""}]
[null,null,null,null,null,null,null,null,null,"",{"$f":"IF(C995<>0,(IF(lfValidaCNPJ(C995)=TRUE,\"Válido\",\"Inválido\")),\"\")","v":""},{"$f":"IF(E995<>0,(IF(lfValidaCEP(E995)=TRUE,\"Válido\",\"Inválido\")),\"\")","v":""}]
[null,null,null,null,null,null,null,null,null,"",{"$f":"IF(C996<>0,(IF(lfValidaCNPJ(C996)=TRUE,\"Válido\",\"Inválido\")),\"\")","v":""},{"$f":"IF(E996<>0,(IF(lfValidaCEP(E996)=TRUE,\"Válido\",\"Inválido\")),\"\")","v":""}]
[null,null,null,null,null,null,null,null,null,"",{"$f":"IF(C997<>0,(IF(lfValidaCNPJ(C997)=TRUE,\"Válido\",\"Inválido\")),\"\")","v":""},{"$f":"IF(E997<>0,(IF(lfValidaCEP(E997)=TRUE,\"Válido\",\"Inválido\")),\"\")","v":""}]
[null,null,null,null,null,null,null,null,null,"",{"$f":"IF(C998<>0,(IF(lfValidaCNPJ(C998)=TRUE,\"Válido\",\"Inválido\")),\"\")","v":""},{"$f":"IF(E998<>0,(IF(lfValidaCEP(E998)=TRUE,\"Válido\",\"Inválido\")),\"\")","v":""}]
[null,null,null,null,null,null,null,null,null,"",{"$f":"IF(C999<>0,(IF(lfValidaCNPJ(C999)=TRUE,\"Válido\",\"Inválido\")),\"\")","v":""},{"$f":"IF(E999<>0,(IF(lfValidaCEP(E999)=TRUE,\"Válido\",\"Inválido\")),\"\")","v":""}]
[null,null,null,null,null,null,null,null,null,"",{"$f":"IF(C1000<>0,(IF(lfValidaCNPJ(C1000)=TRUE,\"Válido\",\"Inválido\")),\"\")","v":""},{"$f":"IF(E1000<>0,(IF(lfValidaCEP(E1000)=TRUE,\"Válido\",\"Inválido\")),\"\")","v":""}]

{"sheet":"I) Destinação","index":10,"n_rows":52,"n_cols":17,"rows_kept":52,"cut":false,"hidden":false,"merged":[[8,14,8,16],[4,1,4,12],[2,1,3,12],[51,3,54,3],[51,1,54,1],[8,1,8,4],[6,1,6,3],[7,1,7,3],[6,4,6,6],[7,4,7,6]]}
[]
[]
[null,"RELATÓRIO COMPROBATÓRIO\nDO PLANO DE LOGÍSTICA REVERSA (RCPLR)"]
[]
[null,{"$f":"RELATÓRIO!$D$7","v":"< SELECIONAR TIPO >"}]
[]
[null,"Entidade ou Empresa Responsável pelo Sistema:",null,null,{"$f":"RELATÓRIO!B12","v":0}]
[null,"CNPJ:",null,null,{"$f":"RELATÓRIO!E12","v":0}]
[null,"2.3) Relação de Destinatários e Quantidades de Resíduos/Rejeitos Destinados",null,null,null,null,null,null,null,null,null,null,null,null,"VERIFICAÇÃO"]
[null,"Resíduos e Rejeitos Destinados","Quantidade de Resíduo/Rejeito Destinada (ton./ano)","Tipo de Destinação","Razão Social","CNPJ\n(Ex. XX.XXX.XXX/0001-XX)","Endereço \n(Ex. Logradouro, número, complemento e bairro)","CEP\n(Ex. XX.XXX-XXX)","Município","UF","Código CNAE","Nº Licença Ambiental","Data de Validade",null,"Preenchimento","CNPJ","CEP"]
[null,"Selecione o resíduo",null,"Selecione o tipo de destinação",null,null,null,null,null,null,null,null,null,null,{"$f":"IF(COUNTA(C11,E11:M11)<>0,IF(AND(E11<>0,F11<>0,G11<>0,H11<>0,I11<>0,J11<>0,K11<>0,L11<>0,M11<>0,B11<>\"Selecione o resíduo\",D11<>\"Selecione o tipo de destinação\"),\"Completo\",\"Incompleto\"),\"\")","v":""},{"$f":"IF(F11<>0,(IF(lfValidaCNPJ(F11)=TRUE,\"Válido\",\"Inválido\")),\"\")","v":""},{"$f":"IF(H11<>0,(IF(lfValidaCEP(H11)=TRUE,\"Válido\",\"Inválido\")),\"\")","v":""}]
[null,"Selecione o resíduo",null,"Selecione o tipo de destinação",null,null,null,null,null,null,null,null,null,null,{"$f":"IF(COUNTA(C12,E12:M12)<>0,IF(AND(E12<>0,F12<>0,G12<>0,H12<>0,I12<>0,J12<>0,K12<>0,L12<>0,M12<>0,B12<>\"Selecione o resíduo\",D12<>\"Selecione o tipo de destinação\"),\"Completo\",\"Incompleto\"),\"\")","v":""},{"$f":"IF(F12<>0,(IF(lfValidaCNPJ(F12)=TRUE,\"Válido\",\"Inválido\")),\"\")","v":""},{"$f":"IF(H12<>0,(IF(lfValidaCEP(H12)=TRUE,\"Válido\",\"Inválido\")),\"\")","v":""}]
[null,"Selecione o resíduo",null,"Selecione o tipo de destinação",null,null,null,null,null,null,null,null,null,null,"",{"$f":"IF(F13<>0,(IF(lfValidaCNPJ(F13)=TRUE,\"Válido\",\"Inválido\")),\"\")","v":""},{"$f":"IF(H13<>0,(IF(lfValidaCEP(H13)=TRUE,\"Válido\",\"Inválido\")),\"\")","v":""}]
[null,"Selecione o resíduo",null,"Selecione o tipo de destinação",null,null,null,null,null,null,null,null,null,null,"",{"$f":"IF(F14<>0,(IF(lfValidaCNPJ(F14)=TRUE,\"Válido\",\"Inválido\")),\"\")","v":""},{"$f":"IF(H14<>0,(IF(lfValidaCEP(H14)=TRUE,\"Válido\",\"Inválido\")),\"\")","v":""}]
[null,"Selecione o resíduo",null,"Selecione o tipo de destinação",null,null,null,null,null,null,null,null,null,null,"",{"$f":"IF(F15<>0,(IF(lfValidaCNPJ(F15)=TRUE,\"Válido\",\"Inválido\")),\"\")","v":""},{"$f":"IF(H15<>0,(IF(lfValidaCEP(H15)=TRUE,\"Válido\",\"Inválido\")),\"\")","v":""}]
[null,"Selecione o resíduo",null,"Selecione o tipo de destinação",null,null,null,null,null,null,null,null,null,null,"",{"$f":"IF(F16<>0,(IF(lfValidaCNPJ(F16)=TRUE,\"Válido\",\"Inválido\")),\"\")","v":""},{"$f":"IF(H16<>0,(IF(lfValidaCEP(H16)=TRUE,\"Válido\",\"Inválido\")),\"\")","v":""}]
[null,"Selecione o resíduo",null,"Selecione o tipo de destinação",null,null,null,null,null,null,null,null,null,null,"",{"$f":"IF(F17<>0,(IF(lfValidaCNPJ(F17)=TRUE,\"Válido\",\"Inválido\")),\"\")","v":""},{"$f":"IF(H17<>0,(IF(lfValidaCEP(H17)=TRUE,\"Válido\",\"Inválido\")),\"\")","v":""}]
[null,"Selecione o resíduo",null,"Selecione o tipo de destinação",null,null,null,null,null,null,null,null,null,null,"",{"$f":"IF(F18<>0,(IF(lfValidaCNPJ(F18)=TRUE,\"Válido\",\"Inválido\")),\"\")","v":""},{"$f":"IF(H18<>0,(IF(lfValidaCEP(H18)=TRUE,\"Válido\",\"Inválido\")),\"\")","v":""}]
[null,"Selecione o resíduo",null,"Selecione o tipo de destinação",null,null,null,null,null,null,null,null,null,null,"",{"$f":"IF(F19<>0,(IF(lfValidaCNPJ(F19)=TRUE,\"Válido\",\"Inválido\")),\"\")","v":""},{"$f":"IF(H19<>0,(IF(lfValidaCEP(H19)=TRUE,\"Válido\",\"Inválido\")),\"\")","v":""}]
[null,"Selecione o resíduo",null,"Selecione o tipo de destinação",null,null,null,null,null,null,null,null,null,null,"",{"$f":"IF(F20<>0,(IF(lfValidaCNPJ(F20)=TRUE,\"Válido\",\"Inválido\")),\"\")","v":""},{"$f":"IF(H20<>0,(IF(lfValidaCEP(H20)=TRUE,\"Válido\",\"Inválido\")),\"\")","v":""}]
[null,"Selecione o resíduo",null,"Selecione o tipo de destinação",null,null,null,null,null,null,null,null,null,null,"",{"$f":"IF(F21<>0,(IF(lfValidaCNPJ(F21)=TRUE,\"Válido\",\"Inválido\")),\"\")","v":""},{"$f":"IF(H21<>0,(IF(lfValidaCEP(H21)=TRUE,\"Válido\",\"Inválido\")),\"\")","v":""}]
[null,"Selecione o resíduo",null,"Selecione o tipo de destinação",null,null,null,null,null,null,null,null,null,null,"",{"$f":"IF(F22<>0,(IF(lfValidaCNPJ(F22)=TRUE,\"Válido\",\"Inválido\")),\"\")","v":""},{"$f":"IF(H22<>0,(IF(lfValidaCEP(H22)=TRUE,\"Válido\",\"Inválido\")),\"\")","v":""}]
[null,"Selecione o resíduo",null,"Selecione o tipo de destinação",null,null,null,null,null,null,null,null,null,null,"",{"$f":"IF(F23<>0,(IF(lfValidaCNPJ(F23)=TRUE,\"Válido\",\"Inválido\")),\"\")","v":""},{"$f":"IF(H23<>0,(IF(lfValidaCEP(H23)=TRUE,\"Válido\",\"Inválido\")),\"\")","v":""}]
[null,"Selecione o resíduo",null,"Selecione o tipo de destinação",null,null,null,null,null,null,null,null,null,null,"",{"$f":"IF(F24<>0,(IF(lfValidaCNPJ(F24)=TRUE,\"Válido\",\"Inválido\")),\"\")","v":""},{"$f":"IF(H24<>0,(IF(lfValidaCEP(H24)=TRUE,\"Válido\",\"Inválido\")),\"\")","v":""}]
[null,"Selecione o resíduo",null,"Selecione o tipo de destinação",null,null,null,null,null,null,null,null,null,null,"",{"$f":"IF(F25<>0,(IF(lfValidaCNPJ(F25)=TRUE,\"Válido\",\"Inválido\")),\"\")","v":""},{"$f":"IF(H25<>0,(IF(lfValidaCEP(H25)=TRUE,\"Válido\",\"Inválido\")),\"\")","v":""}]
[null,"Selecione o resíduo",null,"Selecione o tipo de destinação",null,null,null,null,null,null,null,null,null,null,"",{"$f":"IF(F26<>0,(IF(lfValidaCNPJ(F26)=TRUE,\"Válido\",\"Inválido\")),\"\")","v":""},{"$f":"IF(H26<>0,(IF(lfValidaCEP(H26)=TRUE,\"Válido\",\"Inválido\")),\"\")","v":""}]
[null,"Selecione o resíduo",null,"Selecione o tipo de destinação",null,null,null,null,null,null,null,null,null,null,"",{"$f":"IF(F27<>0,(IF(lfValidaCNPJ(F27)=TRUE,\"Válido\",\"Inválido\")),\"\")","v":""},{"$f":"IF(H27<>0,(IF(lfValidaCEP(H27)=TRUE,\"Válido\",\"Inválido\")),\"\")","v":""}]
[null,"Selecione o resíduo",null,"Selecione o tipo de destinação",null,null,null,null,null,null,null,null,null,null,"",{"$f":"IF(F28<>0,(IF(lfValidaCNPJ(F28)=TRUE,\"Válido\",\"Inválido\")),\"\")","v":""},{"$f":"IF(H28<>0,(IF(lfValidaCEP(H28)=TRUE,\"Válido\",\"Inválido\")),\"\")","v":""}]
[null,"Selecione o resíduo",null,"Selecione o tipo de destinação",null,null,null,null,null,null,null,null,null,null,"",{"$f":"IF(F29<>0,(IF(lfValidaCNPJ(F29)=TRUE,\"Válido\",\"Inválido\")),\"\")","v":""},{"$f":"IF(H29<>0,(IF(lfValidaCEP(H29)=TRUE,\"Válido\",\"Inválido\")),\"\")","v":""}]
[null,"Selecione o resíduo",null,"Selecione o tipo de destinação",null,null,null,null,null,null,null,null,null,null,"",{"$f":"IF(F30<>0,(IF(lfValidaCNPJ(F30)=TRUE,\"Válido\",\"Inválido\")),\"\")","v":""},{"$f":"IF(H30<>0,(IF(lfValidaCEP(H30)=TRUE,\"Válido\",\"Inválido\")),\"\")","v":""}]
[null,"Selecione o resíduo",null,"Selecione o tipo de destinação",null,null,null,null,null,null,null,null,null,null,"",{"$f":"IF(F31<>0,(IF(lfValidaCNPJ(F31)=TRUE,\"Válido\",\"Inválido\")),\"\")","v":""},{"$f":"IF(H31<>0,(IF(lfValidaCEP(H31)=TRUE,\"Válido\",\"Inválido\")),\"\")","v":""}]
[null,"Selecione o resíduo",null,"Selecione o tipo de destinação",null,null,null,null,null,null,null,null,null,null,"",{"$f":"IF(F32<>0,(IF(lfValidaCNPJ(F32)=TRUE,\"Válido\",\"Inválido\")),\"\")","v":""},{"$f":"IF(H32<>0,(IF(lfValidaCEP(H32)=TRUE,\"Válido\",\"Inválido\")),\"\")","v":""}]
[null,"Selecione o resíduo",null,"Selecione o tipo de destinação",null,null,null,null,null,null,null,null,null,null,"",{"$f":"IF(F33<>0,(IF(lfValidaCNPJ(F33)=TRUE,\"Válido\",\"Inválido\")),\"\")","v":""},{"$f":"IF(H33<>0,(IF(lfValidaCEP(H33)=TRUE,\"Válido\",\"Inválido\")),\"\")","v":""}]
[null,"Selecione o resíduo",null,"Selecione o tipo de destinação",null,null,null,null,null,null,null,null,null,null,"",{"$f":"IF(F34<>0,(IF(lfValidaCNPJ(F34)=TRUE,\"Válido\",\"Inválido\")),\"\")","v":""},{"$f":"IF(H34<>0,(IF(lfValidaCEP(H34)=TRUE,\"Válido\",\"Inválido\")),\"\")","v":""}]
[null,"Selecione o resíduo",null,"Selecione o tipo de destinação",null,null,null,null,null,null,null,null,null,null,"",{"$f":"IF(F35<>0,(IF(lfValidaCNPJ(F35)=TRUE,\"Válido\",\"Inválido\")),\"\")","v":""},{"$f":"IF(H35<>0,(IF(lfValidaCEP(H35)=TRUE,\"Válido\",\"Inválido\")),\"\")","v":""}]
[null,"Selecione o resíduo",null,"Selecione o tipo de destinação",null,null,null,null,null,null,null,null,null,null,"",{"$f":"IF(F36<>0,(IF(lfValidaCNPJ(F36)=TRUE,\"Válido\",\"Inválido\")),\"\")","v":""},{"$f":"IF(H36<>0,(IF(lfValidaCEP(H36)=TRUE,\"Válido\",\"Inválido\")),\"\")","v":""}]
[null,"Selecione o resíduo",null,"Selecione o tipo de destinação",null,null,null,null,null,null,null,null,null,null,"",{"$f":"IF(F37<>0,(IF(lfValidaCNPJ(F37)=TRUE,\"Válido\",\"Inválido\")),\"\")","v":""},{"$f":"IF(H37<>0,(IF(lfValidaCEP(H37)=TRUE,\"Válido\",\"Inválido\")),\"\")","v":""}]
[null,"Selecione o resíduo",null,"Selecione o tipo de destinação",null,null,null,null,null,null,null,null,null,null,"",{"$f":"IF(F38<>0,(IF(lfValidaCNPJ(F38)=TRUE,\"Válido\",\"Inválido\")),\"\")","v":""},{"$f":"IF(H38<>0,(IF(lfValidaCEP(H38)=TRUE,\"Válido\",\"Inválido\")),\"\")","v":""}]
[null,"Selecione o resíduo",null,"Selecione o tipo de destinação",null,null,null,null,null,null,null,null,null,null,"",{"$f":"IF(F39<>0,(IF(lfValidaCNPJ(F39)=TRUE,\"Válido\",\"Inválido\")),\"\")","v":""},{"$f":"IF(H39<>0,(IF(lfValidaCEP(H39)=TRUE,\"Válido\",\"Inválido\")),\"\")","v":""}]
[null,"Selecione o resíduo",null,"Selecione o tipo de destinação",null,null,null,null,null,null,null,null,null,null,"",{"$f":"IF(F40<>0,(IF(lfValidaCNPJ(F40)=TRUE,\"Válido\",\"Inválido\")),\"\")","v":""},{"$f":"IF(H40<>0,(IF(lfValidaCEP(H40)=TRUE,\"Válido\",\"Inválido\")),\"\")","v":""}]
[null,"Selecione o resíduo",null,"Selecione o tipo de destinação",null,null,null,null,null,null,null,null,null,null,"",{"$f":"IF(F41<>0,(IF(lfValidaCNPJ(F41)=TRUE,\"Válido\",\"Inválido\")),\"\")","v":""},{"$f":"IF(H41<>0,(IF(lfValidaCEP(H41)=TRUE,\"Válido\",\"Inválido\")),\"\")","v":""}]
[null,"Selecione o resíduo",null,"Selecione o tipo de destinação",null,null,null,null,null,null,null,null,null,null,"",{"$f":"IF(F42<>0,(IF(lfValidaCNPJ(F42)=TRUE,\"Válido\",\"Inválido\")),\"\")","v":""},{"$f":"IF(H42<>0,(IF(lfValidaCEP(H42)=TRUE,\"Válido\",\"Inválido\")),\"\")","v":""}]
[null,"Selecione o resíduo",null,"Selecione o tipo de destinação",null,null,null,null,null,null,null,null,null,null,"",{"$f":"IF(F43<>0,(IF(lfValidaCNPJ(F43)=TRUE,\"Válido\",\"Inválido\")),\"\")","v":""},{"$f":"IF(H43<>0,(IF(lfValidaCEP(H43)=TRUE,\"Válido\",\"Inválido\")),\"\")","v":""}]
[null,"Selecione o resíduo",null,"Selecione o tipo de destinação",null,null,null,null,null,null,null,null,null,null,"",{"$f":"IF(F44<>0,(IF(lfValidaCNPJ(F44)=TRUE,\"Válido\",\"Inválido\")),\"\")","v":""},{"$f":"IF(H44<>0,(IF(lfValidaCEP(H44)=TRUE,\"Válido\",\"Inválido\")),\"\")","v":""}]
[null,"Selecione o resíduo",null,"Selecione o tipo de destinação",null,null,null,null,null,null,null,null,null,null,"",{"$f":"IF(F45<>0,(IF(lfValidaCNPJ(F45)=TRUE,\"Válido\",\"Inválido\")),\"\")","v":""},{"$f":"IF(H45<>0,(IF(lfValidaCEP(H45)=TRUE,\"Válido\",\"Inválido\")),\"\")","v":""}]
[null,"Selecione o resíduo",null,"Selecione o tipo de destinação",null,null,null,null,null,null,null,null,null,null,"",{"$f":"IF(F46<>0,(IF(lfValidaCNPJ(F46)=TRUE,\"Válido\",\"Inválido\")),\"\")","v":""},{"$f":"IF(H46<>0,(IF(lfValidaCEP(H46)=TRUE,\"Válido\",\"Inválido\")),\"\")","v":""}]
[null,"Selecione o resíduo",null,"Selecione o tipo de destinação",null,null,null,null,null,null,null,null,null,null,"",{"$f":"IF(F47<>0,(IF(lfValidaCNPJ(F47)=TRUE,\"Válido\",\"Inválido\")),\"\")","v":""},{"$f":"IF(H47<>0,(IF(lfValidaCEP(H47)=TRUE,\"Válido\",\"Inválido\")),\"\")","v":""}]
[null,"Selecione o resíduo",null,"Selecione o tipo de destinação",null,null,null,null,null,null,null,null,null,null,"",{"$f":"IF(F48<>0,(IF(lfValidaCNPJ(F48)=TRUE,\"Válido\",\"Inválido\")),\"\")","v":""},{"$f":"IF(H48<>0,(IF(lfValidaCEP(H48)=TRUE,\"Válido\",\"Inválido\")),\"\")","v":""}]
[null,"Selecione o resíduo",null,"Selecione o tipo de destinação",null,null,null,null,null,null,null,null,null,null,"",{"$f":"IF(F49<>0,(IF(lfValidaCNPJ(F49)=TRUE,\"Válido\",\"Inválido\")),\"\")","v":""},{"$f":"IF(H49<>0,(IF(lfValidaCEP(H49)=TRUE,\"Válido\",\"Inválido\")),\"\")","v":""}]
[null,"Selecione o resíduo",null,"Selecione o tipo de destinação",null,null,null,null,null,null,null,null,null,null,"",{"$f":"IF(F50<>0,(IF(lfValidaCNPJ(F50)=TRUE,\"Válido\",\"Inválido\")),\"\")","v":""},{"$f":"IF(H50<>0,(IF(lfValidaCEP(H50)=TRUE,\"Válido\",\"Inválido\")),\"\")","v":""}]
[]
[null,"QUADRO 1\nPara incluir outros resíduos na lista de seleção acima, digite nas linhas abaixo e o resíduo digitado fará parte da lista.",null,"QUADRO 2\nPara incluir outros tipos de destinação na lista de seleção acima, digite nas linhas abaixo e o tipo de destinação digitado fará parte da lista."]

{"sheet":"J) Municípios atendidos","index":11,"n_rows":500,"n_cols":5,"rows_kept":500,"cut":false,"hidden":false,"merged":[[2,1,3,2],[4,1,4,2]]}
[]
[]
[null,"RELATÓRIO COMPROBATÓRIO\nDO PLANO DE LOGÍSTICA REVERSA (RCPLR)"]
[]
[null,{"$f":"RELATÓRIO!$D$7","v":"< SELECIONAR TIPO >"}]
[]
[null,"Entidade ou Empresa Responsável pelo Sistema:",{"$f":"RELATÓRIO!B12","v":0}]
[null,"CNPJ:",{"$f":"RELATÓRIO!E12","v":0}]
[null,"4.2) Relação de Municípios Atendidos pelo Sistema"]
[null,"Ano base","Município",null,"VERIFICAÇÃO"]
[null,null,null,null,{"$f":"IF(COUNTA(B11:C11)<>0,IF(AND(B11<>0,C11<>0),\"Completo\",\"Incompleto\"),\"\")","v":""}]
[null,null,null,null,{"$f":"IF(COUNTA(B12:C12)<>0,IF(AND(B12<>0,C12<>0),\"Completo\",\"Incompleto\"),\"\")","v":""}]
[null,null,null,null,""]
[null,null,null,null,""]
[null,null,null,null,""]
[null,null,null,null,""]
[null,null,null,null,""]
[null,null,null,null,""]
[null,null,null,null,""]
[null,null,null,null,""]
[null,null,null,null,""]
[null,null,null,null,""]
[null,null,null,null,""]
[null,null,null,null,""]
[null,null,null,null,""]
[null,null,null,null,""]
[null,null,null,null,""]
[null,null,null,null,""]
[null,null,null,null,""]
[null,null,null,null,""]
[null,null,null,null,""]
[null,null,null,null,""]
[null,null,null,null,""]
[null,null,null,null,""]
[null,null,null,null,""]
[null,null,null,null,""]
[null,null,null,null,""]
[null,null,null,null,""]
[null,null,null,null,""]
[null,null,null,null,""]
[null,null,null,null,""]
[null,null,null,null,""]
[null,null,null,null,""]
[null,null,null,null,""]
[null,null,null,null,""]
[null,null,null,null,""]
[null,null,null,null,""]
[null,null,null,null,""]
[null,null,null,null,""]
[null,null,null,null,""]
[null,null,null,null,""]
[null,null,null,null,""]
[null,null,null,null,""]
[null,null,null,null,""]
[null,null,null,null,""]
[null,null,null,null,""]
[null,null,null,null,""]
[null,null,null,null,""]
[null,null,null,null,""]
[null,null,null,null,""]
[null,null,null,null,""]
[null,null,null,null,""]
[null,null,null,null,""]
[null,null,null,null,""]
[null,null,null,null,""]
[null,null,null,null,""]
[null,null,null,null,""]
[null,null,null,null,""]
[null,null,null,null,""]
[null,null,null,null,""]
[null,null,null,null,""]
[null,null,null,null,""]
[null,null,null,null,""]
[null,null,null,null,""]
[null,null,null,null,""]
[null,null,null,null,{"$f":"IF(COUNTA(B76:C76)<>0,IF(AND(B76<>0,C76<>0),\"Completo\",\"Incompleto\"),\"\")","v":""}]
[null,null,null,null,""]
[null,null,null,null,""]
[null,null,null,null,""]
[null,null,null,null,""]
[null,null,null,null,""]
[null,null,null,null,""]
[null,null,null,null,""]
[null,null,null,null,""]
[null,null,null,null,""]
[null,null,null,null,""]
[null,null,null,null,""]
[null,null,null,null,""]
[null,null,null,null,""]
[null,null,null,null,""]
[null,null,null,null,""]
[null,null,null,null,""]
[null,null,null,null,""]
[null,null,null,null,""]
[null,null,null,null,""]
[null,null,null,null,""]
[null,null,null,null,""]
[null,null,null,null,""]
[null,null,null,null,""]
[null,null,null,null,""]
[null,null,null,null,""]
[null,null,null,null,""]
[null,null,null,null,""]
[null,null,null,null,""]
[null,null,null,null,""]
[null,null,null,null,""]
[null,null,null,null,""]
[null,null,null,null,""]
[null,null,null,null,""]
[null,null,null,null,""]
[null,null,null,null,""]
[null,null,null,null,""]
[null,null,null,null,""]
[null,null,null,null,""]
[null,null,null,null,""]
[null,null,null,null,""]
[null,null,null,null,""]
[null,null,null,null,""]
[null,null,null,null,""]
[null,null,null,null,""]
[null,null,null,null,""]
[null,null,null,null,""]
[null,null,null,null,""]
[null,null,null,null,""]
[null,null,null,null,""]
[null,null,null,null,""]
[null,null,null,null,""]
[null,null,null,null,""]
[null,null,null,null,""]
[null,null,null,null,""]
[null,null,null,null,""]
[null,null,null,null,""]
[null,null,null,null,""]
[null,null,null,null,""]
[null,null,null,null,""]
[null,null,null,null,""]
[null,null,null,null,""]
[null,null,null,null,""]
[null,null,null,null,""]
[null,null,null,null,{"$f":"IF(COUNTA(B140:C140)<>0,IF(AND(B140<>0,C140<>0),\"Completo\",\"Incompleto\"),\"\")","v":""}]
[null,null,null,null,""]
[null,null,null,null,""]
[null,null,null,null,""]
[null,null,null,null,""]
[null,null,null,null,""]
[null,null,null,null,""]
[null,null,null,null,""]
[null,null,null,null,""]
[null,null,null,null,""]
[null,null,null,null,""]
[null,null,null,null,""]
[null,null,null,null,""]
[null,null,null,null,""]
[null,null,null,null,""]
[null,null,null,null,""]
[null,null,null,null,""]
[null,null,null,null,""]
[null,null,null,null,""]
[null,null,null,null,""]
[null,null,null,null,""]
[null,null,null,null,""]
[null,null,null,null,""]
[null,null,null,null,""]
[null,null,null,null,""]
[null,null,null,null,""]
[null,null,null,null,""]
[null,null,null,null,""]
[null,null,null,null,""]
[null,null,null,null,""]
[null,null,null,null,""]
[null,null,null,null,""]
[null,null,null,null,""]
[null,null,null,null,""]
[null,null,null,null,""]
[null,null,null,null,""]
[null,null,null,null,""]
[null,null,null,null,""]
[null,null,null,null,""]
[null,null,null,null,""]
[null,null,null,null,""]
[null,null,null,null,""]
[null,null,null,null,""]
[null,null,null,null,""]
[null,null,null,null,""]
[null,null,null,null,""]
[null,null,null,null,""]
[null,null,null,null,""]
[null,null,null,null,""]
[null,null,null,null,""]
[null,null,null,null,""]
[null,null,null,null,""]
[null,null,null,null,""]
[null,null,null,null,""]
[null,null,null,null,""]
[null,null,null,null,""]
[null,null,null,null,""]
[null,null,null,null,""]
[null,null,null,null,""]
[null,null,null,null,""]
[null,null,null,null,""]
[null,null,null,null,""]
[null,null,null,null,""]
[null,null,null,null,""]
[null,null,null,null,{"$f":"IF(COUNTA(B204:C204)<>0,IF(AND(B204<>0,C204<>0),\"Completo\",\"Incompleto\"),\"\")","v":""}]
[null,null,null,null,""]
[null,null,null,null,""]
[null,null,null,null,""]
[null,null,null,null,""]
[null,null,null,null,""]
[null,null,null,null,""]
[null,null,null,null,""]
[null,null,null,null,""]
[null,null,null,null,""]
[null,null,null,null,""]
[null,null,null,null,""]
[null,null,null,null,""]
[null,null,null,null,""]
[null,null,null,null,""]
[null,null,null,null,""]
[null,null,null,null,""]
[null,null,null,null,""]
[null,null,null,null,""]
[null,null,null,null,""]
[null,null,null,null,""]
[null,null,null,null,""]
[null,null,null,null,""]
[null,null,null,null,""]
[null,null,null,null,""]
[null,null,null,null,""]
[null,null,null,null,""]
[null,null,null,null,""]
[null,null,null,null,""]
[null,null,null,null,""]
[null,null,null,null,""]
[null,null,null,null,""]
[null,null,null,null,""]
[null,null,null,null,""]
[null,null,null,null,""]
[null,null,null,null,""]
[null,null,null,null,""]
[null,null,null,null,""]
[null,null,null,null,""]
[null,null,null,null,""]
[null,null,null,null,""]
[null,null,null,null,""]
[null,null,null,null,""]
[null,null,null,null,""]
[null,null,null,null,""]
[null,null,null,null,""]
[null,null,null,null,""]
[null,null,null,null,""]
[null,null,null,null,""]
[null,null,null,null,""]
[null,null,null,null,""]
[null,null,null,null,""]
[null,null,null,null,""]
[null,null,null,null,""]
[null,null,null,null,""]
[null,null,null,null,""]
[null,null,null,null,""]
[null,null,null,null,""]
[null,null,null,null,""]
[null,null,null,null,""]
[null,null,null,null,""]
[null,null,null,null,""]
[null,null,null,null,""]
[null,null,null,null,""]
[null,null,null,null,{"$f":"IF(COUNTA(B268:C268)<>0,IF(AND(B268<>0,C268<>0),\"Completo\",\"Incompleto\"),\"\")","v":""}]
[null,null,null,null,""]
[null,null,null,null,""]
[null,null,null,null,""]
[null,null,null,null,""]
[null,null,null,null,""]
[null,null,null,null,""]
[null,null,null,null,""]
[null,null,null,null,""]
[null,null,null,null,""]
[null,null,null,null,""]
[null,null,null,null,""]
[null,null,null,null,""]
[null,null,null,null,""]
[null,null,null,null,""]
[null,null,null,null,""]
[null,null,null,null,""]
[null,null,null,null,""]
[null,null,null,null,""]
[null,null,null,null,""]
[null,null,null,null,""]
[null,null,null,null,""]
[null,null,null,null,""]
[null,null,null,null,""]
[null,null,null,null,""]
[null,null,null,null,""]
[null,null,null,null,""]
[null,null,null,null,""]
[null,null,null,null,""]
[null,null,null,null,""]
[null,null,null,null,""]
[null,null,null,null,""]
[null,null,null,null,""]
[null,null,null,null,""]
[null,null,null,null,""]
[null,null,null,null,""]
[null,null,null,null,""]
[null,null,null,null,""]
[null,null,null,null,""]
[null,null,null,null,""]
[null,null,null,null,""]
[null,null,null,null,""]
[null,null,null,null,""]
[null,null,null,null,""]
[null,null,null,null,""]
[null,null,null,null,""]
[null,null,null,null,""]
[null,null,null,null,""]
[null,null,null,null,""]
[null,null,null,null,""]
[null,null,null,null,""]
[null,null,null,null,""]
[null,null,null,null,""]
[null,null,null,null,""]
[null,null,null,null,""]
[null,null,null,null,""]
[null,null,null,null,""]
[null,null,null,null,""]
[null,null,null,null,""]
[null,null,null,null,""]
[null,null,null,null,""]
[null,null,null,null,""]
[null,null,null,null,""]
[null,null,null,null,""]
[null,null,null,null,{"$f":"IF(COUNTA(B332:C332)<>0,IF(AND(B332<>0,C332<>0),\"Completo\",\"Incompleto\"),\"\")","v":""}]
[null,null,null,null,""]
[null,null,null,null,""]
[null,null,null,null,""]
[null,null,null,null,""]
[null,null,null,null,""]
[null,null,null,null,""]
[null,null,null,null,""]
[null,null,null,null,""]
[null,null,null,null,""]
[null,null,null,null,""]
[null,null,null,null,""]
[null,null,null,null,""]
[null,null,null,null,""]
[null,null,null,null,""]
[null,null,null,null,""]
[null,null,null,null,""]
[null,null,null,null,""]
[null,null,null,null,""]
[null,null,null,null,""]
[null,null,null,null,""]
[null,null,null,null,""]
[null,null,null,null,""]
[null,null,null,null,""]
[null,null,null,null,""]
[null,null,null,null,""]
[null,null,null,null,""]
[null,null,null,null,""]
[null,null,null,null,""]
[null,null,null,null,""]
[null,null,null,null,""]
[null,null,null,null,""]
[null,null,null,null,""]
[null,null,null,null,""]
[null,null,null,null,""]
[null,null,null,null,""]
[null,null,null,null,""]
[null,null,null,null,""]
[null,null,null,null,""]
[null,null,null,null,""]
[null,null,null,null,""]
[null,null,null,null,""]
[null,null,null,null,""]
[null,null,null,null,""]
[null,null,null,null,""]
[null,null,null,null,""]
[null,null,null,null,""]
[null,null,null,null,""]
[null,null,null,null,""]
[null,null,null,null,""]
[null,null,null,null,""]
[null,null,null,null,""]
[null,null,null,null,""]
[null,null,null,null,""]
[null,null,null,null,""]
[null,null,null,null,""]
[null,null,null,null,""]
[null,null,null,null,""]
[null,null,null,null,""]
[null,null,null,null,""]
[null,null,null,null,""]
[null,null,null,null,""]
[null,null,null,null,""]
[null,null,null,null,""]
[null,null,null,null,{"$f":"IF(COUNTA(B396:C396)<>0,IF(AND(B396<>0,C396<>0),\"Completo\",\"Incompleto\"),\"\")","v":""}]
[null,null,null,null,""]
[null,null,null,null,""]
[null,null,null,null,""]
[null,null,null,null,""]
[null,null,null,null,""]
[null,null,null,null,""]
[null,null,null,null,""]
[null,null,null,null,""]
[null,null,null,null,""]
[null,null,null,null,""]
[null,null,null,null,""]
[null,null,null,null,""]
[null,null,null,null,""]
[null,null,null,null,""]
[null,null,null,null,""]
[null,null,null,null,""]
[null,null,null,null,""]
[null,null,null,null,""]
[null,null,null,null,""]
[null,null,null,null,""]
[null,null,null,null,""]
[null,null,null,null,""]
[null,null,null,null,""]
[null,null,null,null,""]
[null,null,null,null,""]
[null,null,null,null,""]
[null,null,null,null,""]
[null,null,null,null,""]
[null,null,null,null,""]
[null,null,null,null,""]
[null,null,null,null,""]
[null,null,null,null,""]
[null,null,null,null,""]
[null,null,null,null,""]
[null,null,null,null,""]
[null,null,null,null,""]
[null,null,null,null,""]
[null,null,null,null,""]
[null,null,null,null,""]
[null,null,null,null,""]
[null,null,null,null,""]
[null,null,null,null,""]
[null,null,null,null,""]
[null,null,null,null,""]
[null,null,null,null,""]
[null,null,null,null,""]
[null,null,null,null,""]
[null,null,null,null,""]
[null,null,null,null,""]
[null,null,null,null,""]
[null,null,null,null,""]
[null,null,null,null,""]
[null,null,null,null,""]
[null,null,null,null,""]
[null,null,null,null,""]
[null,null,null,null,""]
[null,null,null,null,""]
[null,null,null,null,""]
[null,null,null,null,""]
[null,null,null,null,""]
[null,null,null,null,""]
[null,null,null,null,""]
[null,null,null,null,""]
[null,null,null,null,{"$f":"IF(COUNTA(B460:C460)<>0,IF(AND(B460<>0,C460<>0),\"Completo\",\"Incompleto\"),\"\")","v":""}]
[null,null,null,null,""]
[null,null,null,null,""]
[null,null,null,null,""]
[null,null,null,null,""]
[null,null,null,null,""]
[null,null,null,null,""]
[null,null,null,null,""]
[null,null,null,null,""]
[null,null,null,null,""]
[null,null,null,null,""]
[null,null,null,null,""]
[null,null,null,null,""]
[null,null,null,null,""]
[null,null,null,null,""]
[null,null,null,null,""]
[null,null,null,null,""]
[null,null,null,null,""]
[null,null,null,null,""]
[null,null,null,null,""]
[null,null,null,null,""]
[null,null,null,null,""]
[null,null,null,null,""]
[null,null,null,null,""]
[null,null,null,null,""]
[null,null,null,null,""]
[null,null,null,null,""]
[null,null,null,null,""]
[null,null,null,null,""]
[null,null,null,null,""]
[null,null,null,null,""]
[null,null,null,null,""]
[null,null,null,null,""]
[null,null,null,null,""]
[null,null,null,null,""]
[null,null,null,null,""]
[null,null,null,null,""]
[null,null,null,null,""]
[null,null,null,null,""]
[null,null,null,null,""]
[null,null,null,null,""]

{"sheet":"VALIDAÇÃO","index":12,"n_rows":46,"n_cols":13,"rows_kept":46,"cut":false,"hidden":true,"merged":[[37,9,37,10],[41,9,41,10],[33,0,33,7],[37,0,37,7],[38,0,38,7],[39,0,39,7],[40,0,40,7],[38,9,38,10],[39,9,39,10],[40,9,40,10],[31,0,31,7],[32,0,32,7],[8,0,8,7],[24,0,24,7],[25,0,25,7],[27,0,27,7],[28,0,28,7],[22,0,22,7],[23,0,23,7],[15,0,15,6],[18,0,18,7],[19,0,19,7],[13,0,13,7],[12,0,12,7],[11,0,11,7],[10,0,10,7],[5,0,5,1],[5,2,5,4],[5,5,5,6],[29,0,29,7],[7,0,7,7],[9,0,9,7],[14,0,14,7],[17,0,17,7]]}
[null,null,null,null,null,null,null,null,null,null,null,null,"Níveis de atenção"]
[null,null,null,null,null,null,null,null,null,null,null,null,"Baixo"]
[null,null,null,null,null,null,null,null,null,null,null,null,"Médio"]
[null,null,null,null,null,null,null,null,null,null,null,null,"Alto"]
[]
["ESCOPO",null,{"$f":"RELATÓRIO!D7","v":"< SELECIONAR TIPO >"},null,null,"Selecionar na\naba \"RELATÓRIO\"",null,null,null,"VALIDAÇÃO 1\n(Verificação do preenchimento do formulário)","VALIDAÇÃO 2\n(Correção do preenchimento)","VALIDAÇÃO 3\n(Correção do preenchimento)","OBRIGATORIEDADE"]
["1 - DADOS GERAIS"]
[{"$f":"RELATÓRIO!B8","v":"1.1) Nome do Sistema/Programa de Logística Reversa"},null,null,null,null,null,null,null,"-",{"$f":"IF(AND(RELATÓRIO!B9<>0), \"Sem pendências\",\"Revisar o preenchimento\")","v":"Revisar o preenchimento"},"-",null,{"$f":"IF($C$6=\"< SELECIONAR TIPO >\",\"Tipo de sistema não selecionado\",\"Preenchimento obrigatório\")","v":"Tipo de sistema não selecionado"}]
[{"$f":"RELATÓRIO!F8","v":"1.2) Resíduo Objeto do Sistema"},null,null,null,null,null,null,null,"-",{"$f":"IF(AND(RELATÓRIO!F9<>\"Selecione o resíduo pós-consumo\"), \"Sem pendências\",\"Revisar o preenchimento\")","v":"Revisar o preenchimento"},"-",null,{"$f":"IF($C$6=\"< SELECIONAR TIPO >\",\"Tipo de sistema não selecionado\",\"Preenchimento obrigatório\")","v":"Tipo de sistema não selecionado"}]
[{"$f":"RELATÓRIO!G8","v":"1.3) Página na Internet"},null,null,null,null,null,null,null,"-",{"$f":"IF(AND(RELATÓRIO!G9<>0), \"Sem pendências\",\"Revisar o preenchimento\")","v":"Revisar o preenchimento"},"-",null,{"$f":"IF($C$6=\"< SELECIONAR TIPO >\",\"Tipo de sistema não selecionado\",\"Preenchimento obrigatório\")","v":"Tipo de sistema não selecionado"}]
[{"$f":"RELATÓRIO!B10","v":"1.4) Entidade ou Empresa Responsável pela Operacionalização do Sistema"},null,null,null,null,null,null,null,"-",{"$f":"IF(AND(RELATÓRIO!B12<>0,RELATÓRIO!E12<>0,RELATÓRIO!F12<>0,RELATÓRIO!G12<>0,RELATÓRIO!H12<>\"Selecione o município\"), \"Sem pendências\",\"Revisar o preenchimento\")","v":"Revisar o preenchimento"},"-",{"$f":"IF(J11<>\"Revisar o preenchimento\",_xlfn.TEXTJOIN(\", \",TRUE,RELATÓRIO!J12:L12),\"-\")","v":"-"},{"$f":"IF($C$6=\"< SELECIONAR TIPO >\",\"Tipo de sistema não selecionado\",\"Preenchimento obrigatório\")","v":"Tipo de sistema não selecionado"}]
[{"$f":"RELATÓRIO!B13","v":"1.5) Responsável pela declaração das informaçõe sobre o sistema"},null,null,null,null,null,null,null,"-",{"$f":"IF(AND(RELATÓRIO!B15<>0,RELATÓRIO!E15<>0,RELATÓRIO!F15<>0,RELATÓRIO!G15<>\"(DDD)\",RELATÓRIO!H15<>0), \"Sem pendências\",\"Revisar o preenchimento\")","v":"Revisar o preenchimento"},"-",{"$f":"IF(J12<>\"Revisar o preenchimento\",_xlfn.TEXTJOIN(\", \",TRUE,RELATÓRIO!J15),\"-\")","v":"-"},{"$f":"IF($C$6=\"< SELECIONAR TIPO >\",\"Tipo de sistema não selecionado\",\"Preenchimento obrigatório\")","v":"Tipo de sistema não selecionado"}]
[{"$f":"RELATÓRIO!B16","v":"1.6) Relação de Entidades Participantes do Sistema"},null,null,null,null,null,null,null,"ANEXO A",{"$f":"IF(OR('Listas suspensas'!U3>0,'Listas suspensas'!V3>0),IF('Listas suspensas'!U3>0,\"Revisar o preenchimento\",\"Sem pendências\"),\"Não preenchido\")","v":"Não preenchido"},"Não preenchido",{"$f":"IF(J13<>\"Revisar o preenchimento\",IF(AND('Listas suspensas'!W3>0,'Listas suspensas'!X3>0),\"Existem números de CNJP e CEP inválidos\",IF('Listas suspensas'!W3>0,\"Existem números de CNPJ inválidos\",IF('Listas suspensas'!X3>0,\"Existem números de CEP inválidos\",\"-\"))),\"-\")","v":"-"},{"$f":"IF($C$6=\"< SELECIONAR TIPO >\",\"Tipo de sistema não selecionado\",IF($C$6=\"SISTEMA COLETIVO\",\"Preenchimento obrigatório\",IF($C$6=\"SISTEMA INDIVIDUAL\",\"Preenchimento não obrigatório\")))","v":"Tipo de sistema não selecionado"}]
[{"$f":"RELATÓRIO!B17","v":"1.7) Relação de Empresas Aderentes e/ou Filiais"},null,null,null,null,null,null,null,"ANEXO B",{"$f":"IF(OR('Listas suspensas'!U4>0,'Listas suspensas'!V4>0),IF('Listas suspensas'!U4>0,\"Revisar o preenchimento\",\"Sem pendências\"),\"Não preenchido\")","v":"Não preenchido"},"Não preenchido",{"$f":"IF(J14<>\"Revisar o preenchimento\",IF(AND('Listas suspensas'!W4>0,'Listas suspensas'!X4>0),\"Existem números de CNJP e CEP inválidos\",IF('Listas suspensas'!W4>0,\"Existem números de CNPJ inválidos\",IF('Listas suspensas'!X4>0,\"Existem números de CEP inválidos\",\"-\"))),\"-\")","v":"-"},{"$f":"IF($C$6=\"< SELECIONAR TIPO >\",\"Tipo de sistema não selecionado\",IF($C$6=\"SISTEMA COLETIVO\",\"Preenchimento obrigatório\",IF($C$6=\"SISTEMA INDIVIDUAL\",\"Preenchimento não obrigatório\")))","v":"Tipo de sistema não selecionado"}]
[{"$f":"RELATÓRIO!B18","v":"1.8) Parcerias com Prefeituras"},null,null,null,null,null,null,null,"ANEXO C",{"$f":"IF(OR('Listas suspensas'!U5>0,'Listas suspensas'!V5>0),IF('Listas suspensas'!U5>0,\"Revisar o preenchimento\",\"Sem pendências\"),\"Não preenchido\")","v":"Não preenchido"},"Não preenchido","-",{"$f":"IF($C$6=\"< SELECIONAR TIPO >\",\"Tipo de sistema não selecionado\",\"Preenchimento não obrigatório\")","v":"Tipo de sistema não selecionado"}]
[]
[{"$f":"RELATÓRIO!B20","v":"2 - DADOS OPERACIONAIS DO SISTEMA DE LOGÍSTICA REVERSA"}]
[{"$f":"RELATÓRIO!B21","v":"2.1) Esquema(s) de coleta / recebimento contemplados no Sistema"}]
[{"$f":"RELATÓRIO!C22","v":"Pontos de Coleta/Entrega/Recebimento"},null,null,null,null,null,null,null,"ANEXO D",{"$f":"IF(OR('Listas suspensas'!U6>0,'Listas suspensas'!V6>0),IF('Listas suspensas'!U6>0,\"Revisar o preenchimento\",\"Sem pendências\"),\"Não preenchido\")","v":"Não preenchido"},"Não preenchido",{"$f":"IF(J19<>\"Revisar o preenchimento\",IF(AND('Listas suspensas'!W6>0,'Listas suspensas'!X6>0),\"Existem números de CNJP e CEP inválidos\",IF('Listas suspensas'!W6>0,\"Existem números de CNPJ inválidos\",IF('Listas suspensas'!X6>0,\"Existem números de CEP inválidos\",\"-\"))),\"-\")","v":"-"},{"$f":"IF($C$6=\"< SELECIONAR TIPO >\",\"Tipo de sistema não selecionado\",\"Preenchimento obrigatório\")","v":"Tipo de sistema não selecionado"}]
[{"$f":"RELATÓRIO!C23","v":"Esquema de Coleta Itinerante"},null,null,null,null,null,null,null,"ANEXO E",{"$f":"IF(OR('Listas suspensas'!U7>0,'Listas suspensas'!V7>0),IF('Listas suspensas'!U7>0,\"Revisar o preenchimento\",\"Sem pendências\"),\"Não preenchido\")","v":"Não preenchido"},"Não preenchido","-",{"$f":"IF($C$6=\"< SELECIONAR TIPO >\",\"Tipo de sistema não selecionado\",\"Preenchimento não obrigatório\")","v":"Tipo de sistema não selecionado"}]
[{"$f":"RELATÓRIO!C24","v":"Apoio às Centrais de Triagem de Materiais Recicláveis"},null,null,null,null,null,null,null,null,{"$f":"IF(OR('Listas suspensas'!U10>0,'Listas suspensas'!V10>0),IF('Listas suspensas'!U10>0,\"Revisar o preenchimento\",\"Sem pendências\"),\"Não preenchido\")","v":"Não preenchido"},"Não preenchido",{"$f":"IF(J21<>\"Revisar o preenchimento\",IF(AND('Listas suspensas'!W10>0,'Listas suspensas'!X10>0),\"Existem números de CNJP e CEP inválidos\",IF('Listas suspensas'!W10>0,\"Existem números de CNPJ inválidos\",IF('Listas suspensas'!X10>0,\"Existem números de CEP inválidos\",\"-\"))),\"-\")","v":"-"},{"$f":"IF($C$6=\"< SELECIONAR TIPO >\",\"Tipo de sistema não selecionado\",\"Preenchimento obrigatório\")","v":"Tipo de sistema não selecionado"}]
[{"$f":"RELATÓRIO!C25","v":"Comprovação por meio dos Certificados de Reciclagem"},null,null,null,null,null,null,null,null,{"$f":"IF(OR('Listas suspensas'!U11>0,'Listas suspensas'!V11>0),IF('Listas suspensas'!U11>0,\"Revisar o preenchimento\",\"Sem pendências\"),\"Não preenchido\")","v":"Não preenchido"},"Não preenchido",{"$f":"IF(J22<>\"Revisar o preenchimento\",IF(AND('Listas suspensas'!W11>0,'Listas suspensas'!X11>0),\"Existem números de CNJP e CEP inválidos\",IF('Listas suspensas'!W11>0,\"Existem números de CNPJ inválidos\",IF('Listas suspensas'!X11>0,\"Existem números de CEP inválidos\",\"-\"))),\"-\")","v":"-"},{"$f":"IF($C$6=\"< SELECIONAR TIPO >\",\"Tipo de sistema não selecionado\",\"Preenchimento não obrigatório\")","v":"Tipo de sistema não selecionado"}]
[{"$f":"RELATÓRIO!C26","v":"Outros - Descrever:"},null,null,null,null,null,null,null,"-",{"$f":"IF('Listas suspensas'!N4=FALSE,\"Não selecionado, declaro que não se aplica\",\"Selecionado, preencher descrição\")","v":"Não selecionado, declaro que não se aplica"},{"$f":"IF(RELATÓRIO!D26<>0,\"Preenchido\",\"Não preenchido\")","v":"Não preenchido"},"-",{"$f":"IF($C$6=\"< SELECIONAR TIPO >\",\"Tipo de sistema não selecionado\",\"Preenchimento não obrigatório\")","v":"Tipo de sistema não selecionado"}]
[{"$f":"RELATÓRIO!B27","v":"2.2) Operadores Logísticos"},null,null,null,null,null,null,null,"ANEXO F",{"$f":"IF(OR('Listas suspensas'!U8>0,'Listas suspensas'!V8>0),IF('Listas suspensas'!U8>0,\"Revisar o preenchimento\",\"Sem pendências\"),\"Não preenchido\")","v":"Não preenchido"},"Não preenchido",{"$f":"IF(J24<>\"Revisar o preenchimento\",IF(AND('Listas suspensas'!W8>0,'Listas suspensas'!X8>0),\"Existem números de CNJP e CEP inválidos\",IF('Listas suspensas'!W8>0,\"Existem números de CNPJ inválidos\",IF('Listas suspensas'!X8>0,\"Existem números de CEP inválidos\",\"-\"))),\"-\")","v":"-"},{"$f":"IF($C$6=\"< SELECIONAR TIPO >\",\"Tipo de sistema não selecionado\",\"Preenchimento obrigatório\")","v":"Tipo de sistema não selecionado"}]
[{"$f":"RELATÓRIO!B28","v":"2.3) Destinatários utilizadas pelo Sistema"},null,null,null,null,null,null,null,"ANEXO G",{"$f":"IF(OR('Listas suspensas'!U9>0,'Listas suspensas'!V9>0),IF('Listas suspensas'!U9>0,\"Revisar o preenchimento\",\"Sem pendências\"),\"Não preenchido\")","v":"Não preenchido"},"Não preenchido",{"$f":"IF(J25<>\"Revisar o preenchimento\",IF(AND('Listas suspensas'!W9>0,'Listas suspensas'!X9>0),\"Existem números de CNJP e CEP inválidos\",IF('Listas suspensas'!W9>0,\"Existem números de CNPJ inválidos\",IF('Listas suspensas'!X9>0,\"Existem números de CEP inválidos\",\"-\"))),\"-\")","v":"-"},{"$f":"IF($C$6=\"< SELECIONAR TIPO >\",\"Tipo de sistema não selecionado\",\"Preenchimento obrigatório\")","v":"Tipo de sistema não selecionado"}]
[]
[{"$f":"RELATÓRIO!B30","v":"3 - RESULTADOS E ATENDIMENTO ÀS METAS QUANTITATIVAS"}]
[{"$f":"RELATÓRIO!B31","v":"3.1) Atendimento às metas quantitativas"},null,null,null,null,null,null,null,"Itens A - D","Análise por equipe técnica","-","-",{"$f":"IF($C$6=\"< SELECIONAR TIPO >\",\"Tipo de sistema não selecionado\",\"Preenchimento obrigatório\")","v":"Tipo de sistema não selecionado"}]
[{"$f":"RELATÓRIO!B37","v":"3.2) Caso a meta (item 3.1.b) não tenha sido atingida:"},null,null,null,null,null,null,null,"Jutificativa","Análise por equipe técnica","-","-",{"$f":"IF($C$6=\"< SELECIONAR TIPO >\",\"Tipo de sistema não selecionado\",\"Preenchimento obrigatório\")","v":"Tipo de sistema não selecionado"}]
[null,null,null,null,null,null,null,null,null,null,null,"-"]
[{"$f":"RELATÓRIO!B41","v":"4 - RESULTADOS E ATENDIMENTO ÀS METAS GEOGRÁFICAS"}]
[{"$f":"RELATÓRIO!C42","v":0},null,null,null,null,null,null,null,"Itens A - D","Análise por equipe técnica","-","-",{"$f":"IF($C$6=\"< SELECIONAR TIPO >\",\"Tipo de sistema não selecionado\",\"Preenchimento obrigatório\")","v":"Tipo de sistema não selecionado"}]
[{"$f":"RELATÓRIO!B42","v":"4.1) Número de municípios panaraenses atendidos pelo sistema de logística reversa"},null,null,null,null,null,null,null,null,{"$f":"IF(OR('Listas suspensas'!U12>0,'Listas suspensas'!V12>0),IF('Listas suspensas'!U12>0,\"Revisar o preenchimento\",\"Sem pendências\"),\"Não preenchido\")","v":"Não preenchido"},"Não preenchido","-",{"$f":"IF($C$6=\"< SELECIONAR TIPO >\",\"Tipo de sistema não selecionado\",\"Preenchimento obrigatório\")","v":"Tipo de sistema não selecionado"}]
[{"$f":"RELATÓRIO!B43","v":"4.2) Atendimento às metas geográficas"},null,null,null,null,null,null,null,"-","Análise por equipe técnica","-","-",{"$f":"IF($C$6=\"< SELECIONAR TIPO >\",\"Tipo de sistema não selecionado\",\"Preenchimento obrigatório\")","v":"Tipo de sistema não selecionado"}]
[{"$f":"RELATÓRIO!B48","v":"4.3) Caso a meta (item 4.2) não tenha sido atingida, justificar:"},null,null,null,null,null,null,null,"Jutificativa","Análise por equipe técnica","-","-",{"$f":"IF($C$6=\"< SELECIONAR TIPO >\",\"Tipo de sistema não selecionado\",\"Preenchimento obrigatório\")","v":"Tipo de sistema não selecionado"}]
[]
["5 - OUTROS RESULTADOS"]
["Forma de declaração:",null,null,null,null,null,null,null,"Declaração:",{"$f":"IF('Listas suspensas'!N6=TRUE,RELATÓRIO!C54,IF('Listas suspensas'!N7=TRUE,\"Declaração simplificada na planilha.\",\"Não confirmado\"))","v":"Não confirmado"},null,"-",{"$f":"IF($C$6=\"< SELECIONAR TIPO >\",\"Tipo de sistema não selecionado\",\"Preenchimento obrigatório\")","v":"Tipo de sistema não selecionado"}]
[{"$f":"RELATÓRIO!B56","v":"5.1) Ações de suporte"},null,null,null,null,null,null,null,"-",{"$f":"IF(RELATÓRIO!B57<>0,\"Sem pendências\",\"Não preenchido\")","v":"Não preenchido"},null,"-","-"]
[{"$f":"RELATÓRIO!B58","v":"5.2) Apoio às Cooperativas/Associações"},null,null,null,null,null,null,null,"-",{"$f":"IF(RELATÓRIO!B59<>0,\"Sem pendências\",\"Não preenchido\")","v":"Não preenchido"},null,"-","-"]
[{"$f":"RELATÓRIO!B60","v":"5.3) Plano de Divulgação"},null,null,null,null,null,null,null,"-",{"$f":"IF(RELATÓRIO!B61<>0,\"Sem pendências\",\"Não preenchido\")","v":"Não preenchido"},null,"-","-"]
[{"$f":"RELATÓRIO!B62","v":"5.4) Documentação comprobatória"},null,null,null,null,null,null,null,"Declaração:",{"$f":"IF('Listas suspensas'!N8=TRUE,'Listas suspensas'!M8,\"Não confirmado\")","v":"Não confirmado"},null,"-",{"$f":"IF($C$6=\"< SELECIONAR TIPO >\",\"Tipo de sistema não selecionado\",\"Preenchimento obrigatório\")","v":"Tipo de sistema não selecionado"}]
[]
[]
[]
[{"$f":"RELATÓRIO!B88","v":"DECLARAÇÃO DE VERACIDADE DAS INFORMAÇÕES"},null,null,null,null,null,null,null,null,{"$f":"IF('Listas suspensas'!N10=TRUE,\"Confirmado\",\"Não confirmado\")","v":"Não confirmado"}]

{"sheet":"Listas suspensas","index":13,"n_rows":401,"n_cols":31,"rows_kept":401,"cut":false,"hidden":true,"merged":[[0,19,0,24]]}
[null,"Resíduos Objeto do Sistema",null,"Resíduos Destinados",null,"Tipos de Destinação",null,"CodIBGE","MUNICIPIO",null,"Status do ponto",null,"(CAIXA SELEÇÃO) ","RELATÓRIO - Item 2.1",null,"REPRESENTATIVIDADE",null,"DOCs COMPROBATÓRIOS",null,"PREENCHIMENTO DOS ANEXOS",null,null,null,null,null,null,"ANEXO F - TIPO DO OPERADOR",null,"ANEXO F - ORIGEM DOS RESÍDUOS",null,"Aplicabilidade do item ao Sistema"]
[null,"Agrotóxicos e seus resíduos e embalagens",null,"Selecione o resíduo",null,"Selecione o tipo de destinação",null,0,null,null,"Ativo (Fixo)",null,{"$f":"RELATÓRIO!C22","v":"Pontos de Coleta/Entrega/Recebimento"},false,null,"< SELECIONAR TIPO >",null,"Vou encaminhar o PDF 1 e PDF 2 via plataforma",null,"ANEXOS","Incompleto","Completo","CNPJ\n(True = inválido)","CEP\n(True = inválido)",null,null,"Entidade de catadores de materiais recicláveis",null,null,null,"Aplicável e implementado"]
[null,"Baterias de chumbo ácido",null,"15 01 06 Misturas de embalagens (inclui “embalagens em geral” sem triagem)",null,"Destino intermediário (Área de transbordo)",null,4100103,"Abatiá",null,"Ativo (Itinerante)",null,{"$f":"RELATÓRIO!C23","v":"Esquema de Coleta Itinerante"},false,null,"SISTEMA COLETIVO",null,"Vou declarar, de forma simplificada, o conteúdo que deve constar no PDF 1 no Item 5 desta planilha, e enviar a documentação comprobatória do PDF 2 via plataforma",null,"A",{"$f":"COUNTIF('A) Entidades Participantes'!L:L,\"Incompleto\")","v":0},{"$f":"COUNTIF('A) Entidades Participantes'!L:L,\"Completo\")","v":0},{"$f":"COUNTIF('A) Entidades Participantes'!M:M,\"Inválido\")","v":0},{"$f":"COUNTIF('A) Entidades Participantes'!N:N,\"Inválido\")","v":0},null,null,"Operador privado - Concessionária",null,"Coleta seletiva, ou triagem a partir de coleta regular, realizada pela Prefeitura",null,"Não aplicável ao Sistema"]
[null,"Eletroeletrônicos e seus componentes",null,"15 01 01 Embalagens de papel e cartão",null,"Destino intermediário (Aparista)",null,4100202,"Adrianópolis",null,"Desativado",null,{"$f":"RELATÓRIO!C26","v":"Outros - Descrever:"},false,null,"SISTEMA INDIVIDUAL",null,null,null,"B",{"$f":"COUNTIF('B) Empresas Aderentes'!N:N,\"Incompleto\")","v":0},{"$f":"COUNTIF('B) Empresas Aderentes'!N:N,\"Completo\")","v":0},{"$f":"COUNTIF('B) Empresas Aderentes'!O:O,\"Inválido\")","v":0},{"$f":"COUNTIF('B) Empresas Aderentes'!P:P,\"Inválido\")","v":0},null,null,"Operador privado - Intermediário",null,"Coleta seletiva, ou triagem a partir de coleta regular, realizada como parte das atividades concedidas pelo titular do serviço de limpeza pública",null,"Aplicável mas não implementado"]
[null,"Embalagens cartonadas longa vida",null,"15 01 02 Embalagens de plástico",null,"Destino intermediário (Central de triagem)",null,4100301,"Agudos do Sul",null,null,null,"Item","RELATÓRIO - Item 5",null,null,null,null,null,"C",{"$f":"COUNTIF('C) Parcerias com Prefeituras'!H:H,\"Incompleto\")","v":0},{"$f":"COUNTIF('C) Parcerias com Prefeituras'!H:H,\"Completo\")","v":0},"N/A","N/A",null,null,"Operador privado - Reciclador",null,"Entidades de catadores de materiais recicláveis que realizam a coleta do resíduo por conta própria",null,"Aplicável, em fase de implementação"]
[null,"Embalagens de aço",null,"15 01 03 Embalagens de madeira",null,"Destino intermediário (Entidade filantrópica)",null,4100400,"Almirante Tamandaré",null,null,null,{"$f":"RELATÓRIO!C54","v":"Declaro que vou encaminhar o PDF 1 via plataforma."},false,null,null,null,null,null,"D",{"$f":"COUNTIF('D) Pontos de ColetaEntregaReceb'!K:K,\"Incompleto\")","v":0},{"$f":"COUNTIF('D) Pontos de ColetaEntregaReceb'!K:K,\"Completo\")","v":0},{"$f":"COUNTIF('D) Pontos de ColetaEntregaReceb'!L:L,\"Inválido\")","v":0},{"$f":"COUNTIF('D) Pontos de ColetaEntregaReceb'!M:M,\"Inválido\")","v":0},null,null,"Operador privado - outros especificar",null,"Entidades de catadores de materiais recicláveis que recebem resíduos provenientes da coleta municipal"]
[null,"Embalagens de alumínio",null,"15 01 04 Embalagens de metal",null,"Destino intermediário (Sucateiro)",null,4100459,"Altamira do Paraná",null,null,null,{"$f":"RELATÓRIO!C55","v":"Vou declarar o conteúdo que deve constar no PDF 1 de forma simplificada nos Itens 5.1, 5.2 e 5.3."},false,null,null,null,null,null,"E",{"$f":"COUNTIF('E) Coleta Itinerante'!G:G,\"Incompleto\")","v":0},{"$f":"COUNTIF('E) Coleta Itinerante'!G:G,\"Completo\")","v":0},"N/A","N/A",null,null,null,null,"Sistema privado de coleta e triagem, por pontos de entrega"]
[null,"Embalagens de papel e papelão",null,"15 01 05 Embalagens longa-vida",null,"Outras destinações Descrever",null,4128625,"Alto Paraíso",null,null,null,{"$f":"RELATÓRIO!C63","v":"Declaro que vou encaminhar a documentação comprobatória referente ao PDF 2 via plataforma."},false,null,null,null,null,null,"H",{"$f":"COUNTIF('H) Operadores Logísticos '!J:J,\"Incompleto\")","v":0},{"$f":"COUNTIF('H) Operadores Logísticos '!J:J,\"Completo\")","v":0},{"$f":"COUNTIF('H) Operadores Logísticos '!K:K,\"Inválido\")","v":0},{"$f":"COUNTIF('H) Operadores Logísticos '!L:L,\"Inválido\")","v":0},null,null,null,null,"Empresas privadas que efetuam a reciclagem, a descaracterização ou tratamento das embalagens recicláveis pós-consumo, desde que forneçam a rastreabilidade das Notas Fiscais dos materiais recicláveis, a fim de demonstrar que não foram computados nas metas de logística reversa em etapas anteriores do fluxo de coleta, triagem e reciclagem;"]
[null,"Embalagens de vidro",null,"15 01 07 Embalagens de vidro",null,"Disposição final (Aterro Classe II - Resíduo não perigoso)",null,4100608,"Alto Paraná",null,null,null,"Item","DECLARAÇÃO DE VERACIDADE",null,null,null,null,null,"I",{"$f":"COUNTIF('I) Destinação'!O:O,\"Incompleto\")","v":0},{"$f":"COUNTIF('I) Destinação'!O:O,\"Completo\")","v":0},{"$f":"COUNTIF('I) Destinação'!P:P,\"Inválido\")","v":0},{"$f":"COUNTIF('I) Destinação'!Q:Q,\"Inválido\")","v":0}]
[null,"Embalagens em geral",null,"15 01 10A Embalagens contendo ou contaminadas por resíduos de substâncias perigosas (inclui Embalagem Vazia de Agrotóxico)",null,"Disposição final (Aterro Classe I - Resíduo perigoso)",null,4100707,"Alto Piquiri",null,null,null,{"$f":"RELATÓRIO!C90","v":"Declaro que as informações apresentadas são verdadeiras."},false,null,null,null,null,null,"F",{"$f":"COUNTIF('F) Centrais de Triagem'!M11:M499,\"Incompleto\")","v":0},{"$f":"COUNTIF('F) Centrais de Triagem'!M11:M499,\"Completo\")","v":0},{"$f":"COUNTIF('F) Centrais de Triagem'!N11:N499,\"Inválido\")","v":0},{"$f":"COUNTIF('F) Centrais de Triagem'!O11:O499,\"Inválido\")","v":0}]
[null,"Embalagens plásticas",null,"15 01 10B Embalagens contendo ou contaminadas por resíduos de substâncias perigosas (inclui Embalagem Plástica de Óleo Lubrificante)",null,"Recuperação (Coprocessamento - fornos de cimento)",null,4100509,"Altônia",null,null,null,"(CAIXA SELEÇÃO) ","RELATÓRIO - Item 2.1",null,null,null,null,null,"G",{"$f":"COUNTIF('G) Certificados de Reciclagem'!AD12:AD500,\"Incompleto\")","v":0},{"$f":"COUNTIF('G) Certificados de Reciclagem'!AD12:AD500,\"Completo\")","v":0},{"$f":"COUNTIF('G) Certificados de Reciclagem'!AE12:AE500,\"Inválido\")","v":0},{"$f":"COUNTIF('G) Certificados de Reciclagem'!AF12:AF500,\"Inválido\")","v":0}]
[null,"Embalagens plásticas usadas de lubrificantes",null,"20 01 01 Papel e cartão",null,"Recuperação (Compostagem)",null,4100806,"Alvorada do Sul",null,null,null,{"$f":"RELATÓRIO!C24","v":"Apoio às Centrais de Triagem de Materiais Recicláveis"},false,null,null,null,null,null,"J",{"$f":"COUNTIF('J) Municípios atendidos'!E11:E1000,\"Incompleto\")","v":0},{"$f":"COUNTIF('J) Municípios atendidos'!E11:E1000,\"Completo\")","v":0}]
[null,"Filtros de óleos lubrificantes automotivos",null,"20 01 02 Vidro",null,"Recuperação (Reciclagem)",null,4100905,"Amaporã",null,null,null,{"$f":"RELATÓRIO!C25","v":"Comprovação por meio dos Certificados de Reciclagem"},false]
[null,"Lâmpadas",null,"20 01 08 Resíduos biodegradáveis de cozinhas e cantinas",null,"Recuperação (Remanufatura)",null,4101002,"Ampére",null,null,null,"* Caixas de Seleção que não estão sendo usadas para a validação de dados no momento"]
[null,"Medicamentos de uso domiciliares humanos",null,"20 01 39 Plásticos ",null,"Recuperação (Reprocessamento de óleo lubrificante - inclui rerrefino)",null,4101051,"Anahy"]
[null,"Medicamentos de uso veterinário",null,"20 01 40 Metais",null,"Recuperação (Utilização em caldeira)",null,4101101,"Andirá"]
[null,"Óleos lubrificantes usados ou contaminados",null,"16 06 01 Bateria e acumuladores elétricos à base de chumbo e seus resíduos, incluindo os plásticos provenientes da carcaça externa da bateria",null,"Recuperação (Utilização em forno industrial exceto de cimento)",null,4101150,"Ângulo"]
[null,"Perfurocortantes do GRUPO E, incluindo seringas e canetas injetoras",null,"16 06 02 Bateria e acumuladores elétricos de níquel-cádmio e seus resíduos",null,"Reutilização",null,4101200,"Antonina"]
[null,"Pilhas e baterias portáteis",null,"16 06 03 Pilhas contendo mercúrio",null,"Tratamento biológico (Biopilhas)",null,4101309,"Antônio Olinto"]
[null,"Pneus inservíveis",null,"20 01 33 Pilhas e acumuladores abrangidos em 16 06 01, 16 06 02 ou 16 06 03 e pilhas e acumuladores não separados contendo essas pilhas ou acumuladores",null,"Tratamento térmico (Dessorção térmica)",null,4101408,"Apucarana"]
[null,"Produtos saneantes desinfestantes domissanitários vencidos ou não utilizados, seus resíduos e embalagens",null,"20 01 34 Pilhas e acumuladores não abrangidos em 20 01 33",null,"Tratamento térmico (Incinerador)",null,4101507,"Arapongas"]
[null,null,null,"20 01 21 Lâmpadas fluorescentes, de vapor de sódio e mercúrio e de luz mista",null,"Tratamento térmico sem combustão (Autoclave, microondas, ETD)",null,4101606,"Arapoti"]
[null,null,null,"20 01 23 Produtos eletroeletrônicos fora de uso contendo clorofluorcarbonetos",null,{"$f":"IF('I) Destinação'!D56=0,\"\",'I) Destinação'!D56)","v":""},null,4101655,"Arapuã"]
[null,null,null,"20 01 35 Produtos eletroeletrônicos e seus componentes fora de uso não abrangido em 20 01 21 ou 20 01 23 contendo componentes perigosos",null,{"$f":"IF('I) Destinação'!D57=0,\"\",'I) Destinação'!D57)","v":""},null,4101705,"Araruna"]
[null,null,null,"20 01 36 Produtos eletroeletrônicos e seus componentes fora de uso não abrangido em 20 01 21, 20 01 23 ou 20 01 35 ",null,{"$f":"IF('I) Destinação'!D58=0,\"\",'I) Destinação'!D58)","v":""},null,4101804,"Araucária"]
[null,null,null,"13 02 Óleos de motores, transmissões e lubrificação usados ou contaminados (OLUC)",null,{"$f":"IF('I) Destinação'!D59=0,\"\",'I) Destinação'!D59)","v":""},null,4101853,"Ariranha do Ivaí"]
[null,null,null,"16 01 07 Filtros de óleo automotivos",null,null,null,4101903,"Assaí"]
[null,null,null,"15 02 02 Absorventes, materiais filtrantes (incluindo filtros de óleo não anteriormente especificados), panos de limpeza e vestuário de proteção, contaminados por substâncias perigosas",null,null,null,4102000,"Assis Chateaubriand"]
[null,null,null,"20 01 25 Óleos e gorduras alimentares",null,null,null,4102109,"Astorga"]
[null,null,null,"Pneus inservíveis (incluindo fragmentos) – respectivo às categorias IBAMA de “16 01 23” a “16 01 29”",null,null,null,4102208,"Atalaia"]
[null,null,null,"20 01 31 Medicamentos citotóxicos e citostáticos",null,null,null,4102307,"Balsa Nova"]
[null,null,null,"20 01 32 Medicamentos não abrangidos em 20 01 31",null,null,null,4102406,"Bandeirantes"]
[null,null,null,"18 04 Materiais perfurocortantes ou escarificantes",null,null,null,4102505,"Barbosa Ferraz"]
[null,null,null,{"$f":"IF('I) Destinação'!B56=0,\"\",'I) Destinação'!B56)","v":""},null,null,null,4102703,"Barra do Jacaré"]
[null,null,null,{"$f":"IF('I) Destinação'!B57=0,\"\",'I) Destinação'!B57)","v":""},null,null,null,4102604,"Barracão"]
[null,null,null,{"$f":"IF('I) Destinação'!B58=0,\"\",'I) Destinação'!B58)","v":""},null,null,null,4102752,"Bela Vista da Caroba"]
[null,null,null,{"$f":"IF('I) Destinação'!B59=0,\"\",'I) Destinação'!B59)","v":""},null,null,null,4102802,"Bela Vista do Paraíso"]
[null,null,null,null,null,null,null,4102901,"Bituruna"]
[null,null,null,null,null,null,null,4103008,"Boa Esperança"]
[null,null,null,null,null,null,null,4103024,"Boa Esperança do Iguaçu"]
[null,null,null,null,null,null,null,4103040,"Boa Ventura de São Roque"]
[null,null,null,null,null,null,null,4103057,"Boa Vista da Aparecida"]
[null,null,null,null,null,null,null,4103107,"Bocaiúva do Sul"]
[null,null,null,null,null,null,null,4103156,"Bom Jesus do Sul"]
[null,null,null,null,null,null,null,4103206,"Bom Sucesso"]
[null,null,null,null,null,null,null,4103222,"Bom Sucesso do Sul"]
[null,null,null,null,null,null,null,4103305,"Borrazópolis"]
[null,null,null,null,null,null,null,4103354,"Braganey"]
[null,null,null,null,null,null,null,4103370,"Brasilândia do Sul"]
[null,null,null,null,null,null,null,4103404,"Cafeara"]
[null,null,null,null,null,null,null,4103453,"Cafelândia"]
[null,null,null,null,null,null,null,4103479,"Cafezal do Sul"]
[null,null,null,null,null,null,null,4103503,"Califórnia"]
[null,null,null,null,null,null,null,4103602,"Cambará"]
[null,null,null,null,null,null,null,4103701,"Cambé"]
[null,null,null,null,null,null,null,4103800,"Cambira"]
[null,null,null,null,null,null,null,4103909,"Campina da Lagoa"]
[null,null,null,null,null,null,null,4103958,"Campina do Simão"]
[null,null,null,null,null,null,null,4104006,"Campina Grande do Sul"]
[null,null,null,null,null,null,null,4104055,"Campo Bonito"]
[null,null,null,null,null,null,null,4104105,"Campo do Tenente"]
[null,null,null,null,null,null,null,4104204,"Campo Largo"]
[null,null,null,null,null,null,null,4104253,"Campo Magro"]
[null,null,null,null,null,null,null,4104303,"Campo Mourão"]
[null,null,null,null,null,null,null,4104402,"Cândido de Abreu"]
[null,null,null,null,null,null,null,4104428,"Candói"]
[null,null,null,null,null,null,null,4104451,"Cantagalo"]
[null,null,null,null,null,null,null,4104501,"Capanema"]
[null,null,null,null,null,null,null,4104600,"Capitão Leônidas Marques"]
[null,null,null,null,null,null,null,4104659,"Carambeí"]
[null,null,null,null,null,null,null,4104709,"Carlópolis"]
[null,null,null,null,null,null,null,4104808,"Cascavel"]
[null,null,null,null,null,null,null,4104907,"Castro"]
[null,null,null,null,null,null,null,4105003,"Catanduvas"]
[null,null,null,null,null,null,null,4105102,"Centenário do Sul"]
[null,null,null,null,null,null,null,4105201,"Cerro Azul"]
[null,null,null,null,null,null,null,4105300,"Céu Azul"]
[null,null,null,null,null,null,null,4105409,"Chopinzinho"]
[null,null,null,null,null,null,null,4105508,"Cianorte"]
[null,null,null,null,null,null,null,4105607,"Cidade Gaúcha"]
[null,null,null,null,null,null,null,4105706,"Clevelândia"]
[null,null,null,null,null,null,null,4105805,"Colombo"]
[null,null,null,null,null,null,null,4105904,"Colorado"]
[null,null,null,null,null,null,null,4106001,"Congonhinhas"]
[null,null,null,null,null,null,null,4106100,"Conselheiro Mairinck"]
[null,null,null,null,null,null,null,4106209,"Contenda"]
[null,null,null,null,null,null,null,4106308,"Corbélia"]
[null,null,null,null,null,null,null,4106407,"Cornélio Procópio"]
[null,null,null,null,null,null,null,4106456,"Coronel Domingos Soares"]
[null,null,null,null,null,null,null,4106506,"Coronel Vivida"]
[null,null,null,null,null,null,null,4106555,"Corumbataí do Sul"]
[null,null,null,null,null,null,null,4106803,"Cruz Machado"]
[null,null,null,null,null,null,null,4106571,"Cruzeiro do Iguaçu"]
[null,null,null,null,null,null,null,4106605,"Cruzeiro do Oeste"]
[null,null,null,null,null,null,null,4106704,"Cruzeiro do Sul"]
[null,null,null,null,null,null,null,4106852,"Cruzmaltina"]
[null,null,null,null,null,null,null,4106902,"Curitiba"]
[null,null,null,null,null,null,null,4107009,"Curiúva"]
[null,null,null,null,null,null,null,4107108,"Diamante do Norte"]
[null,null,null,null,null,null,null,4107124,"Diamante do Sul"]
[null,null,null,null,null,null,null,4107157,"Diamante D'Oeste"]
[null,null,null,null,null,null,null,4107207,"Dois Vizinhos"]
[null,null,null,null,null,null,null,4107256,"Douradina"]
[null,null,null,null,null,null,null,4107306,"Doutor Camargo"]
[null,null,null,null,null,null,null,4128633,"Doutor Ulysses"]
[null,null,null,null,null,null,null,4107405,"Enéas Marques"]
[null,null,null,null,null,null,null,4107504,"Engenheiro Beltrão"]
[null,null,null,null,null,null,null,4107538,"Entre Rios do Oeste"]
[null,null,null,null,null,null,null,4107520,"Esperança Nova"]
[null,null,null,null,null,null,null,4107546,"Espigão Alto do Iguaçu"]
[null,null,null,null,null,null,null,4107553,"Farol"]
[null,null,null,null,null,null,null,4107603,"Faxinal"]
[null,null,null,null,null,null,null,4107652,"Fazenda Rio Grande"]
[null,null,null,null,null,null,null,4107702,"Fênix"]
[null,null,null,null,null,null,null,4107736,"Fernandes Pinheiro"]
[null,null,null,null,null,null,null,4107751,"Figueira"]
[null,null,null,null,null,null,null,4107850,"Flor da Serra do Sul"]
[null,null,null,null,null,null,null,4107801,"Floraí"]
[null,null,null,null,null,null,null,4107900,"Floresta"]
[null,null,null,null,null,null,null,4108007,"Florestópolis"]
[null,null,null,null,null,null,null,4108106,"Flórida"]
[null,null,null,null,null,null,null,4108205,"Formosa do Oeste"]
[null,null,null,null,null,null,null,4108304,"Foz do Iguaçu"]
[null,null,null,null,null,null,null,4108452,"Foz do Jordão"]
[null,null,null,null,null,null,null,4108320,"Francisco Alves"]
[null,null,null,null,null,null,null,4108403,"Francisco Beltrão"]
[null,null,null,null,null,null,null,4108502,"General Carneiro"]
[null,null,null,null,null,null,null,4108551,"Godoy Moreira"]
[null,null,null,null,null,null,null,4108601,"Goioerê"]
[null,null,null,null,null,null,null,4108650,"Goioxim"]
[null,null,null,null,null,null,null,4108700,"Grandes Rios"]
[null,null,null,null,null,null,null,4108809,"Guaíra"]
[null,null,null,null,null,null,null,4108908,"Guairaçá"]
[null,null,null,null,null,null,null,4108957,"Guamiranga"]
[null,null,null,null,null,null,null,4109005,"Guapirama"]
[null,null,null,null,null,null,null,4109104,"Guaporema"]
[null,null,null,null,null,null,null,4109203,"Guaraci"]
[null,null,null,null,null,null,null,4109302,"Guaraniaçu"]
[null,null,null,null,null,null,null,4109401,"Guarapuava"]
[null,null,null,null,null,null,null,4109500,"Guaraqueçaba"]
[null,null,null,null,null,null,null,4109609,"Guaratuba"]
[null,null,null,null,null,null,null,4109658,"Honório Serpa"]
[null,null,null,null,null,null,null,4109708,"Ibaiti"]
[null,null,null,null,null,null,null,4109757,"Ibema"]
[null,null,null,null,null,null,null,4109807,"Ibiporã"]
[null,null,null,null,null,null,null,4109906,"Icaraíma"]
[null,null,null,null,null,null,null,4110003,"Iguaraçu"]
[null,null,null,null,null,null,null,4110052,"Iguatu"]
[null,null,null,null,null,null,null,4110078,"Imbaú"]
[null,null,null,null,null,null,null,4110102,"Imbituva"]
[null,null,null,null,null,null,null,4110201,"Inácio Martins"]
[null,null,null,null,null,null,null,4110300,"Inajá"]
[null,null,null,null,null,null,null,4110409,"Indianópolis"]
[null,null,null,null,null,null,null,4110508,"Ipiranga"]
[null,null,null,null,null,null,null,4110607,"Iporã"]
[null,null,null,null,null,null,null,4110656,"Iracema do Oeste"]
[null,null,null,null,null,null,null,4110706,"Irati"]
[null,null,null,null,null,null,null,4110805,"Iretama"]
[null,null,null,null,null,null,null,4110904,"Itaguajé"]
[null,null,null,null,null,null,null,4110953,"Itaipulândia"]
[null,null,null,null,null,null,null,4111001,"Itambaracá"]
[null,null,null,null,null,null,null,4111100,"Itambé"]
[null,null,null,null,null,null,null,4111209,"Itapejara d'Oeste"]
[null,null,null,null,null,null,null,4111258,"Itaperuçu"]
[null,null,null,null,null,null,null,4111308,"Itaúna do Sul"]
[null,null,null,null,null,null,null,4111407,"Ivaí"]
[null,null,null,null,null,null,null,4111506,"Ivaiporã"]
[null,null,null,null,null,null,null,4111555,"Ivaté"]
[null,null,null,null,null,null,null,4111605,"Ivatuba"]
[null,null,null,null,null,null,null,4111704,"Jaboti"]
[null,null,null,null,null,null,null,4111803,"Jacarezinho"]
[null,null,null,null,null,null,null,4111902,"Jaguapitã"]
[null,null,null,null,null,null,null,4112009,"Jaguariaíva"]
[null,null,null,null,null,null,null,4112108,"Jandaia do Sul"]
[null,null,null,null,null,null,null,4112207,"Janiópolis"]
[null,null,null,null,null,null,null,4112306,"Japira"]
[null,null,null,null,null,null,null,4112405,"Japurá"]
[null,null,null,null,null,null,null,4112504,"Jardim Alegre"]
[null,null,null,null,null,null,null,4112603,"Jardim Olinda"]
[null,null,null,null,null,null,null,4112702,"Jataizinho"]
[null,null,null,null,null,null,null,4112751,"Jesuítas"]
[null,null,null,null,null,null,null,4112801,"Joaquim Távora"]
[null,null,null,null,null,null,null,4112900,"Jundiaí do Sul"]
[null,null,null,null,null,null,null,4112959,"Juranda"]
[null,null,null,null,null,null,null,4113007,"Jussara"]
[null,null,null,null,null,null,null,4113106,"Kaloré"]
[null,null,null,null,null,null,null,4113205,"Lapa"]
[null,null,null,null,null,null,null,4113254,"Laranjal"]
[null,null,null,null,null,null,null,4113304,"Laranjeiras do Sul"]
[null,null,null,null,null,null,null,4113403,"Leópolis"]
[null,null,null,null,null,null,null,4113429,"Lidianópolis"]
[null,null,null,null,null,null,null,4113452,"Lindoeste"]
[null,null,null,null,null,null,null,4113502,"Loanda"]
[null,null,null,null,null,null,null,4113601,"Lobato"]
[null,null,null,null,null,null,null,4113700,"Londrina"]
[null,null,null,null,null,null,null,4113734,"Luiziana"]
[null,null,null,null,null,null,null,4113759,"Lunardelli"]
[null,null,null,null,null,null,null,4113809,"Lupionópolis"]
[null,null,null,null,null,null,null,4113908,"Mallet"]
[null,null,null,null,null,null,null,4114005,"Mamborê"]
[null,null,null,null,null,null,null,4114104,"Mandaguaçu"]
[null,null,null,null,null,null,null,4114203,"Mandaguari"]
[null,null,null,null,null,null,null,4114302,"Mandirituba"]
[null,null,null,null,null,null,null,4114351,"Manfrinópolis"]
[null,null,null,null,null,null,null,4114401,"Mangueirinha"]
[null,null,null,null,null,null,null,4114500,"Manoel Ribas"]
[null,null,null,null,null,null,null,4114609,"Marechal Cândido Rondon"]
[null,null,null,null,null,null,null,4114708,"Maria Helena"]
[null,null,null,null,null,null,null,4114807,"Marialva"]
[null,null,null,null,null,null,null,4114906,"Marilândia do Sul"]
[null,null,null,null,null,null,null,4115002,"Marilena"]
[null,null,null,null,null,null,null,4115101,"Mariluz"]
[null,null,null,null,null,null,null,4115200,"Maringá"]
[null,null,null,null,null,null,null,4115309,"Mariópolis"]
[null,null,null,null,null,null,null,4115358,"Maripá"]
[null,null,null,null,null,null,null,4115408,"Marmeleiro"]
[null,null,null,null,null,null,null,4115457,"Marquinho"]
[null,null,null,null,null,null,null,4115507,"Marumbi"]
[null,null,null,null,null,null,null,4115606,"Matelândia"]
[null,null,null,null,null,null,null,4115705,"Matinhos"]
[null,null,null,null,null,null,null,4115739,"Mato Rico"]
[null,null,null,null,null,null,null,4115754,"Mauá da Serra"]
[null,null,null,null,null,null,null,4115804,"Medianeira"]
[null,null,null,null,null,null,null,4115853,"Mercedes"]
[null,null,null,null,null,null,null,4115903,"Mirador"]
[null,null,null,null,null,null,null,4116000,"Miraselva"]
[null,null,null,null,null,null,null,4116059,"Missal"]
[null,null,null,null,null,null,null,4116109,"Moreira Sales"]
[null,null,null,null,null,null,null,4116208,"Morretes"]
[null,null,null,null,null,null,null,4116307,"Munhoz de Melo"]
[null,null,null,null,null,null,null,4116406,"Nossa Senhora das Graças"]
[null,null,null,null,null,null,null,4116505,"Nova Aliança do Ivaí"]
[null,null,null,null,null,null,null,4116604,"Nova América da Colina"]
[null,null,null,null,null,null,null,4116703,"Nova Aurora"]
[null,null,null,null,null,null,null,4116802,"Nova Cantu"]
[null,null,null,null,null,null,null,4116901,"Nova Esperança"]
[null,null,null,null,null,null,null,4116950,"Nova Esperança do Sudoeste"]
[null,null,null,null,null,null,null,4117008,"Nova Fátima"]
[null,null,null,null,null,null,null,4117057,"Nova Laranjeiras"]
[null,null,null,null,null,null,null,4117107,"Nova Londrina"]
[null,null,null,null,null,null,null,4117206,"Nova Olímpia"]
[null,null,null,null,null,null,null,4117255,"Nova Prata do Iguaçu"]
[null,null,null,null,null,null,null,4117214,"Nova Santa Bárbara"]
[null,null,null,null,null,null,null,4117222,"Nova Santa Rosa"]
[null,null,null,null,null,null,null,4117271,"Nova Tebas"]
[null,null,null,null,null,null,null,4117297,"Novo Itacolomi"]
[null,null,null,null,null,null,null,4117305,"Ortigueira"]
[null,null,null,null,null,null,null,4117404,"Ourizona"]
[null,null,null,null,null,null,null,4117453,"Ouro Verde do Oeste"]
[null,null,null,null,null,null,null,4117503,"Paiçandu"]
[null,null,null,null,null,null,null,4117602,"Palmas"]
[null,null,null,null,null,null,null,4117701,"Palmeira"]
[null,null,null,null,null,null,null,4117800,"Palmital"]
[null,null,null,null,null,null,null,4117909,"Palotina"]
[null,null,null,null,null,null,null,4118006,"Paraíso do Norte"]
[null,null,null,null,null,null,null,4118105,"Paranacity"]
[null,null,null,null,null,null,null,4118204,"Paranaguá"]
[null,null,null,null,null,null,null,4118303,"Paranapoema"]
[null,null,null,null,null,null,null,4118402,"Paranavaí"]
[null,null,null,null,null,null,null,4118451,"Pato Bragado"]
[null,null,null,null,null,null,null,4118501,"Pato Branco"]
[null,null,null,null,null,null,null,4118600,"Paula Freitas"]
[null,null,null,null,null,null,null,4118709,"Paulo Frontin"]
[null,null,null,null,null,null,null,4118808,"Peabiru"]
[null,null,null,null,null,null,null,4118857,"Perobal"]
[null,null,null,null,null,null,null,4118907,"Pérola"]
[null,null,null,null,null,null,null,4119004,"Pérola d'Oeste"]
[null,null,null,null,null,null,null,4119103,"Piên"]
[null,null,null,null,null,null,null,4119152,"Pinhais"]
[null,null,null,null,null,null,null,4119251,"Pinhal de São Bento"]
[null,null,null,null,null,null,null,4119202,"Pinhalão"]
[null,null,null,null,null,null,null,4119301,"Pinhão"]
[null,null,null,null,null,null,null,4119400,"Piraí do Sul"]
[null,null,null,null,null,null,null,4119509,"Piraquara"]
[null,null,null,null,null,null,null,4119608,"Pitanga"]
[null,null,null,null,null,null,null,4119657,"Pitangueiras"]
[null,null,null,null,null,null,null,4119707,"Planaltina do Paraná"]
[null,null,null,null,null,null,null,4119806,"Planalto"]
[null,null,null,null,null,null,null,4119905,"Ponta Grossa"]
[null,null,null,null,null,null,null,4119954,"Pontal do Paraná"]
[null,null,null,null,null,null,null,4120002,"Porecatu"]
[null,null,null,null,null,null,null,4120101,"Porto Amazonas"]
[null,null,null,null,null,null,null,4120150,"Porto Barreiro"]
[null,null,null,null,null,null,null,4120200,"Porto Rico"]
[null,null,null,null,null,null,null,4120309,"Porto Vitória"]
[null,null,null,null,null,null,null,4120333,"Prado Ferreira"]
[null,null,null,null,null,null,null,4120358,"Pranchita"]
[null,null,null,null,null,null,null,4120408,"Presidente Castelo Branco"]
[null,null,null,null,null,null,null,4120507,"Primeiro de Maio"]
[null,null,null,null,null,null,null,4120606,"Prudentópolis"]
[null,null,null,null,null,null,null,4120655,"Quarto Centenário"]
[null,null,null,null,null,null,null,4120705,"Quatiguá"]
[null,null,null,null,null,null,null,4120804,"Quatro Barras"]
[null,null,null,null,null,null,null,4120853,"Quatro Pontes"]
[null,null,null,null,null,null,null,4120903,"Quedas do Iguaçu"]
[null,null,null,null,null,null,null,4121000,"Querência do Norte"]
[null,null,null,null,null,null,null,4121109,"Quinta do Sol"]
[null,null,null,null,null,null,null,4121208,"Quitandinha"]
[null,null,null,null,null,null,null,4121257,"Ramilândia"]
[null,null,null,null,null,null,null,4121307,"Rancho Alegre"]
[null,null,null,null,null,null,null,4121356,"Rancho Alegre D'Oeste"]
[null,null,null,null,null,null,null,4121406,"Realeza"]
[null,null,null,null,null,null,null,4121505,"Rebouças"]
[null,null,null,null,null,null,null,4121604,"Renascença"]
[null,null,null,null,null,null,null,4121703,"Reserva"]
[null,null,null,null,null,null,null,4121752,"Reserva do Iguaçu"]
[null,null,null,null,null,null,null,4121802,"Ribeirão Claro"]
[null,null,null,null,null,null,null,4121901,"Ribeirão do Pinhal"]
[null,null,null,null,null,null,null,4122008,"Rio Azul"]
[null,null,null,null,null,null,null,4122107,"Rio Bom"]
[null,null,null,null,null,null,null,4122156,"Rio Bonito do Iguaçu"]
[null,null,null,null,null,null,null,4122172,"Rio Branco do Ivaí"]
[null,null,null,null,null,null,null,4122206,"Rio Branco do Sul"]
[null,null,null,null,null,null,null,4122305,"Rio Negro"]
[null,null,null,null,null,null,null,4122404,"Rolândia"]
[null,null,null,null,null,null,null,4122503,"Roncador"]
[null,null,null,null,null,null,null,4122602,"Rondon"]
[null,null,null,null,null,null,null,4122651,"Rosário do Ivaí"]
[null,null,null,null,null,null,null,4122701,"Sabáudia"]
[null,null,null,null,null,null,null,4122800,"Salgado Filho"]
[null,null,null,null,null,null,null,4122909,"Salto do Itararé"]
[null,null,null,null,null,null,null,4123006,"Salto do Lontra"]
[null,null,null,null,null,null,null,4123105,"Santa Amélia"]
[null,null,null,null,null,null,null,4123204,"Santa Cecília do Pavão"]
[null,null,null,null,null,null,null,4123303,"Santa Cruz de Monte Castelo"]
[null,null,null,null,null,null,null,4123402,"Santa Fé"]
[null,null,null,null,null,null,null,4123501,"Santa Helena"]
[null,null,null,null,null,null,null,4123600,"Santa Inês"]
[null,null,null,null,null,null,null,4123709,"Santa Isabel do Ivaí"]
[null,null,null,null,null,null,null,4123808,"Santa Izabel do Oeste"]
[null,null,null,null,null,null,null,4123824,"Santa Lúcia"]
[null,null,null,null,null,null,null,4123857,"Santa Maria do Oeste"]
[null,null,null,null,null,null,null,4123907,"Santa Mariana"]
[null,null,null,null,null,null,null,4123956,"Santa Mônica"]
[null,null,null,null,null,null,null,4124020,"Santa Tereza do Oeste"]
[null,null,null,null,null,null,null,4124053,"Santa Terezinha de Itaipu"]
[null,null,null,null,null,null,null,4124004,"Santana do Itararé"]
[null,null,null,null,null,null,null,4124103,"Santo Antônio da Platina"]
[null,null,null,null,null,null,null,4124202,"Santo Antônio do Caiuá"]
[null,null,null,null,null,null,null,4124301,"Santo Antônio do Paraíso"]
[null,null,null,null,null,null,null,4124400,"Santo Antônio do Sudoeste"]
[null,null,null,null,null,null,null,4124509,"Santo Inácio"]
[null,null,null,null,null,null,null,4124608,"São Carlos do Ivaí"]
[null,null,null,null,null,null,null,4124707,"São Jerônimo da Serra"]
[null,null,null,null,null,null,null,4124806,"São João"]
[null,null,null,null,null,null,null,4124905,"São João do Caiuá"]
[null,null,null,null,null,null,null,4125001,"São João do Ivaí"]
[null,null,null,null,null,null,null,4125100,"São João do Triunfo"]
[null,null,null,null,null,null,null,4125308,"São Jorge do Ivaí"]
[null,null,null,null,null,null,null,4125357,"São Jorge do Patrocínio"]
[null,null,null,null,null,null,null,4125209,"São Jorge d'Oeste"]
[null,null,null,null,null,null,null,4125407,"São José da Boa Vista"]
[null,null,null,null,null,null,null,4125456,"São José das Palmeiras"]
[null,null,null,null,null,null,null,4125506,"São José dos Pinhais"]
[null,null,null,null,null,null,null,4125555,"São Manoel do Paraná"]
[null,null,null,null,null,null,null,4125605,"São Mateus do Sul"]
[null,null,null,null,null,null,null,4125704,"São Miguel do Iguaçu"]
[null,null,null,null,null,null,null,4125753,"São Pedro do Iguaçu"]
[null,null,null,null,null,null,null,4125803,"São Pedro do Ivaí"]
[null,null,null,null,null,null,null,4125902,"São Pedro do Paraná"]
[null,null,null,null,null,null,null,4126009,"São Sebastião da Amoreira"]
[null,null,null,null,null,null,null,4126108,"São Tomé"]
[null,null,null,null,null,null,null,4126207,"Sapopema"]
[null,null,null,null,null,null,null,4126256,"Sarandi"]
[null,null,null,null,null,null,null,4126272,"Saudade do Iguaçu"]
[null,null,null,null,null,null,null,4126306,"Sengés"]
[null,null,null,null,null,null,null,4126355,"Serranópolis do Iguaçu"]
[null,null,null,null,null,null,null,4126405,"Sertaneja"]
[null,null,null,null,null,null,null,4126504,"Sertanópolis"]
[null,null,null,null,null,null,null,4126603,"Siqueira Campos"]
[null,null,null,null,null,null,null,4126652,"Sulina"]
[null,null,null,null,null,null,null,4126678,"Tamarana"]
[null,null,null,null,null,null,null,4126702,"Tamboara"]
[null,null,null,null,null,null,null,4126801,"Tapejara"]
[null,null,null,null,null,null,null,4126900,"Tapira"]
[null,null,null,null,null,null,null,4127007,"Teixeira Soares"]
[null,null,null,null,null,null,null,4127106,"Telêmaco Borba"]
[null,null,null,null,null,null,null,4127205,"Terra Boa"]
[null,null,null,null,null,null,null,4127304,"Terra Rica"]
[null,null,null,null,null,null,null,4127403,"Terra Roxa"]
[null,null,null,null,null,null,null,4127502,"Tibagi"]
[null,null,null,null,null,null,null,4127601,"Tijucas do Sul"]
[null,null,null,null,null,null,null,4127700,"Toledo"]
[null,null,null,null,null,null,null,4127809,"Tomazina"]
[null,null,null,null,null,null,null,4127858,"Três Barras do Paraná"]
[null,null,null,null,null,null,null,4127882,"Tunas do Paraná"]
[null,null,null,null,null,null,null,4127908,"Tuneiras do Oeste"]
[null,null,null,null,null,null,null,4127957,"Tupãssi"]
[null,null,null,null,null,null,null,4127965,"Turvo"]
[null,null,null,null,null,null,null,4128005,"Ubiratã"]
[null,null,null,null,null,null,null,4128104,"Umuarama"]
[null,null,null,null,null,null,null,4128203,"União da Vitória"]
[null,null,null,null,null,null,null,4128302,"Uniflor"]
[null,null,null,null,null,null,null,4128401,"Uraí"]
[null,null,null,null,null,null,null,4128534,"Ventania"]
[null,null,null,null,null,null,null,4128559,"Vera Cruz do Oeste"]
[null,null,null,null,null,null,null,4128609,"Verê"]
[null,null,null,null,null,null,null,4128658,"Virmond"]
[null,null,null,null,null,null,null,4128708,"Vitorino"]
[null,null,null,null,null,null,null,4128500,"Wenceslau Braz"]
[null,null,null,null,null,null,null,4128807,"Xambrê"]